{"text_format":"1","workbook":"xlsx","n_sheets":26,"sheets":["Introduction","Contents","Report Summary","GDPR - New SRO PDs","Data Quality Log","Dropdown List","Data Triangulation","Changes Since last Qtr","To DO","Flat File","Query DB","Flat file checking","1 - Project Info","2 - DCA & Risk","3 - Scope History","4 - Leaders","5 - People","6a - Milestones - Approvals","6b - Milestones - Assurance","6c - Milestones - Delivery","7 - Business Case","8 - Finance","9 - Costs","10 - Benefits","Tab 12 - Annual Report","Drop Downs"],"not_rendered":{"charts":0,"images":0,"macros":1,"external_links":0,"defined_names":208,"comments":0,"pivot_tables":0},"unopened":[],"bounds":{"document_bytes":16777216,"sheet_cells":100000,"rows_first":2000,"rows_last":500,"rows_between":2000,"halvings":0,"cell_chars":16384,"cell_head_chars":4096},"cells_cut":0,"cells_raw":0,"read":"whole","date_system":"1900"}

{"sheet":"Introduction","index":0,"n_rows":69,"n_cols":17,"rows_kept":69,"cut":false,"hidden":false,"merged":[[1,1,1,4],[2,1,2,4],[6,1,6,2],[18,1,18,2]]}
[]
[null,"Fantastic Portfolio Collection Sheet"]
[null,{"$f":"\"Quarterly Data Report - \"&IF(C17=\"\",\"\",C17)","v":"Quarterly Data Report - Q1 1920"},null,null,null,null,"Q1 Apr - June 2019"]
[]
[]
[0,"Introduction"]
[null,"Test introduction."]
[0.1,"Project Details"]
["0.1.1","Commissary","Institute of Hairdressing Dophins",null,{"$f":"IF(C9=\"\",\"Understand that seabirds complete in Tab 1 - Project Info\",\"\")","v":""},null,null,null,null,null,null,null,null,null,null,null,"Drop down"]
["0.1.2","Forgery Body","Coal Tits Ltd"]
["0.1.3","Project Name","Universal Cantilever Bridge over the River Styx",null,{"$f":"IF(C11=\"\",\"Understand that seabirds complete\",\"\")","v":""},null,null,null,null,null,null,null,null,null,null,null,"Free text"]
["0.1.4","GOASS Project ID","ARE_0024_1516-Q4",null,{"$f":"IF(C12=\"\",\"GOASS to complete\",\"\")","v":""},null,null,null,null,null,null,null,null,null,null,null,"AIU to complete"]
["0.1.5","Controls Project ID number",null,null,{"$f":"IF(C13=\"\",\"GOASS to complete\",\"\")","v":"GOASS to complete"},null,null,null,null,null,null,null,null,null,null,null,"AIU to complete"]
["0.1.6","Project Type (for GOASS use)",null,null,{"$f":"IF(C14=\"\",\"GOASS to complete\",\"\")","v":"GOASS to complete"}]
["0.1.7","Security Classification","NO CLASSIFICATION",null,{"$f":"IF(C15=\"\",\"GOASS to complete\",\"\")","v":""},null,null,null,null,null,null,null,null,null,null,null,"Drop down"]
["0.1.8","Quarter Joined Proberts-Nio",{"$f":"RIGHT(C12,7)","v":"1516-Q4"},null,null,null,null,null,null,null,null,null,null,null,null,null,"Calculated from ID number"]
["0.1.9","Current Quarter","Q1 1920",null,{"$f":"IF(C17=\"\",\"GOASS to complete\",\"\")","v":""},null,null,null,null,null,null,null,null,null,null,null,"Drop down - IP to complete"]
["0.1.10","Snapshot Date","2019-06-30",null,{"$f":"IF(C18=\"\",\"GOASS to complete\",\"\")","v":""},null,null,null,null,null,null,null,null,null,null,null,"Drop down - IP to complete"]
[0.2,"Senior Responsible Owner"]
[null,"It is ultimately the responsibility of the Project SRO to ensure that the data provided is timely, accurate and complete."]
["0.2.1","Senior Responsible Owner (SRO)","Tommy Glenson",null,{"$f":"IF(C21=\"\",\"Understand that seabirds complete in Tab 4 - Leaders\",\"\")","v":""},null,null,null,null,null,null,null,null,null,null,null,"Yes / No drop down"]
["0.2.2","Senior Responsible Owner (SRO) - Email","tommy@example.com",null,{"$f":"IF(C22=\"\",\"Understand that seabirds complete in Tab 4 - Leaders\",\"\")","v":""},null,null,null,null,null,null,null,null,null,null,null,"Free text"]
["0.2.3","Senior Responsible Owner (SRO) - ID number",{"$f":"IF('4 - Leaders'!E7=\"\",\"\",'4 - Leaders'!E7)","v":""},null,{"$f":"IF(C23=\"\",\"GOASS to complete in Tab 4 - Leaders\",\"\")","v":"GOASS to complete in Tab 4 - Leaders"}]
["0.2.4","Date Report Approved by SRO?",null,null,{"$f":"IF(C24=\"\",\"Understand that seabirds complete\",\"\")","v":"Understand that seabirds complete"}]
[0.3,"Project Director"]
["0.3.1","Project Director (PD)","Haverford East",null,{"$f":"IF(C26=\"\",\"Understand that seabirds complete in Tab 4 - Leaders\",\"\")","v":""},null,null,null,null,null,null,null,null,null,null,null,"Yes / No drop down"]
["0.3.2","Project Director (PD) - Email","haverford@example.com",null,{"$f":"IF(C27=\"\",\"Understand that seabirds complete in Tab 4 - Leaders\",\"\")","v":""}]
["0.3.3","Project Director (PD) - ID number",{"$f":"IF('4 - Leaders'!E26=\"\",\"\",'4 - Leaders'!E26)","v":""},null,{"$f":"IF(C28=\"\",\"GOASS to complete in Tab 4 - Leaders\",\"\")","v":"GOASS to complete in Tab 4 - Leaders"}]
["0.3.4","Date Report Approved by PD?","5.4.19",null,{"$f":"IF(C29=\"\",\"Understand that seabirds complete\",\"\")","v":""}]
[0.4,"Project Contacts"]
["0.4.1","Project Representative (responsible for completing return)","Ronan Clissold",null,{"$f":"IF(C31=\"\",\"Understand that seabirds complete\",\"\")","v":""},null,null,null,null,null,null,null,null,null,null,null,"Free text"]
["0.4.2","Project Representative - Email","chafing_thompson@example.com",null,{"$f":"IF(C32=\"\",\"Understand that seabirds complete\",\"\")","v":""},null,null,null,null,null,null,null,null,null,null,null,"Free text"]
["0.4.3","Project Accountant with responsibility for Spend - Email",null,null,{"$f":"IF(C33=\"\",\"Understand that seabirds complete\",\"\")","v":"Understand that seabirds complete"},null,null,null,null,null,null,null,null,null,null,null,"Free text"]
["0.4.4","Project Problems Mngr with responsibility for Problems - Email",null,null,{"$f":"IF(C34=\"\",\"Understand that seabirds complete\",\"\")","v":"Understand that seabirds complete"},null,null,null,null,null,null,null,null,null,null,null,"Free text"]
["0.4.5","Project Planner with responsibility for Milestones - Email",null,null,{"$f":"IF(C35=\"\",\"Understand that seabirds complete\",\"\")","v":"Understand that seabirds complete"},null,null,null,null,null,null,null,null,null,null,null,"Free text"]
[]
[0.5,"Commissaryal & GOASS Contacts - Section to be completed by GOASS"]
["0.5.1","GOASS's Commissaryal Single Point of Contact",null,null,{"$f":"IF(C38=\"\",\"GOASS to complete\",\"\")","v":"GOASS to complete"},null,null,null,null,null,null,null,null,null,null,null,"Drop down"]
["0.5.2","GOASS's Commissaryal Single Point of Contact - Email",null,null,{"$f":"IF(C39=\"\",\"GOASS to complete\",\"\")","v":"GOASS to complete"},null,null,null,null,null,null,null,null,null,null,null,"Linked Drop down"]
["0.5.3","GOASS Analysis & Insight Unit (AIU) Lead",null,null,{"$f":"IF(C40=\"\",\"GOASS to complete\",\"\")","v":"GOASS to complete"}]
["0.5.4","GOASS Analysis & Insight Unit (AIU) Lead - Email",null,null,{"$f":"IF(C41=\"\",\"GOASS to complete\",\"\")","v":"GOASS to complete"},null,null,null,null,null,null,null,null,null,null,null,"Drop Down - AIU to complete"]
["0.5.5","Date Report Approved by AIU?",null,null,{"$f":"IF(C42=\"\",\"GOASS to complete\",\"\")","v":"GOASS to complete"}]
["0.5.6","GOASS Strategic Forgery Advisor (SDA) - Email",null,null,{"$f":"IF(C43=\"\",\"GOASS to complete\",\"\")","v":"GOASS to complete"},null,null,null,null,null,null,null,null,null,null,null,"Drop Down - AIU to complete"]
["0.5.7","Date Report Approved by SDA?",null,null,{"$f":"IF(C44=\"\",\"GOASS to complete\",\"\")","v":"GOASS to complete"}]
[0.6,"Commissaryal Professions Leaders - Section to be completed by GOASS"]
["0.6.1","Commissaryal PPM HoP copied in submission email?",null,null,{"$f":"IF(C46=\"\",\"GOASS to complete\",\"\")","v":"GOASS to complete"},null,null,null,null,null,null,null,null,null,null,null,"Yes / No - AIU to complete"]
["0.6.2","Commissaryal PPM HoP - Email",null,null,{"$f":"IF(C47=\"\",\"GOASS to complete\",\"\")","v":"GOASS to complete"},null,null,null,null,null,null,null,null,null,null,null,"Free text"]
["0.6.3","Commissaryal HR HoP copied in submission email?",null,null,{"$f":"IF(C48=\"\",\"GOASS to complete\",\"\")","v":"GOASS to complete"},null,null,null,null,null,null,null,null,null,null,null,"Yes / No - AIU to complete"]
["0.6.4","Commissaryal HR HoP - Email",null,null,{"$f":"IF(C49=\"\",\"GOASS to complete\",\"\")","v":"GOASS to complete"},null,null,null,null,null,null,null,null,null,null,null,"Free text"]
["0.6.5","Commissaryal Charity HoP copied in submission email?",null,null,{"$f":"IF(C50=\"\",\"GOASS to complete\",\"\")","v":"GOASS to complete"},null,null,null,null,null,null,null,null,null,null,null,"Yes / No - AIU to complete"]
["0.6.6","Commissaryal Charity HoP - Email",null,null,{"$f":"IF(C51=\"\",\"GOASS to complete\",\"\")","v":"GOASS to complete"},null,null,null,null,null,null,null,null,null,null,null,"Free text"]
["0.6.7","Commissaryal Economics HoP copied in submission email?",null,null,{"$f":"IF(C52=\"\",\"GOASS to complete\",\"\")","v":"GOASS to complete"},null,null,null,null,null,null,null,null,null,null,null,"Yes / No - AIU to complete"]
["0.6.8","Commissaryal Economics HoP - Email",null,null,{"$f":"IF(C53=\"\",\"GOASS to complete\",\"\")","v":"GOASS to complete"},null,null,null,null,null,null,null,null,null,null,null,"Free text"]
["0.6.9","Commissaryal Legal HoP copied in submission email?",null,null,{"$f":"IF(C54=\"\",\"GOASS to complete\",\"\")","v":"GOASS to complete"}]
["0.6.10","Commissaryal Legal HoP - Email",null,null,{"$f":"IF(C55=\"\",\"GOASS to complete\",\"\")","v":"GOASS to complete"}]
["0.6.11","Commissaryal Commercial l HoP copied in submission email?",null,null,{"$f":"IF(C56=\"\",\"GOASS to complete\",\"\")","v":"GOASS to complete"}]
["0.6.12","Commissaryal Commercial HoP - Email",null,null,{"$f":"IF(C57=\"\",\"GOASS to complete\",\"\")","v":"GOASS to complete"}]
["0.6.13","Commissaryal IT HoP copied in submission email?",null,null,{"$f":"IF(C58=\"\",\"GOASS to complete\",\"\")","v":"GOASS to complete"}]
["0.6.14","Commissaryal IT HoP - Email",null,null,{"$f":"IF(C59=\"\",\"GOASS to complete\",\"\")","v":"GOASS to complete"}]
["0.6.15","HMT Spending Team Lead copied in submission email?",null,null,{"$f":"IF(C60=\"\",\"GOASS to complete\",\"\")","v":"GOASS to complete"},null,null,null,null,null,null,null,null,null,null,null,"Yes / No - AIU to complete"]
["0.6.16","HMT Spending Team Lead - Email",null,null,{"$f":"IF(C61=\"\",\"GOASS to complete\",\"\")","v":"GOASS to complete"},null,null,null,null,null,null,null,null,null,null,null,"Free text"]
[0.7,"Project Details - Chokerness Specific"]
["0.7.1","Chokerness Group",null,null,{"$f":"IF(C63=\"\",\"Understand that seabirds complete\",\"\")","v":"Understand that seabirds complete"}]
["0.7.2","Chokerness Division",null,null,{"$f":"IF(C64=\"\",\"Understand that seabirds complete\",\"\")","v":"Understand that seabirds complete"}]
["0.7.3","Chokerness ID Number",null,null,{"$f":"IF(C65=\"\",\"Chokerness to complete\",\"\")","v":"Chokerness to complete"}]
["0.7.4","Quarter Joined Tier 1 Portfolio",null,null,{"$f":"IF(C66=\"\",\"Chokerness to complete\",\"\")","v":"Chokerness to complete"}]
["0.7.5","Project Representative - Telephone",null,null,{"$f":"IF(C67=\"\",\"Understand that seabirds complete\",\"\")","v":"Understand that seabirds complete"}]
[]
[null,"The term project is used to represent projects, programmes and portfolios"]

{"sheet":"Contents","index":1,"n_rows":37,"n_cols":5,"rows_kept":37,"cut":false,"hidden":false,"merged":[[2,2,2,4],[3,2,3,4],[7,1,7,2],[8,1,8,2],[9,1,9,2],[10,1,10,2],[11,1,11,2],[12,1,12,2],[13,1,13,2],[14,1,14,2],[30,1,30,4],[31,1,31,2],[31,3,31,4],[32,1,32,2],[32,3,32,4],[33,1,33,2],[33,3,33,4],[34,1,34,2],[34,3,34,4],[35,1,35,2],[35,3,35,4],[36,1,36,2],[36,3,36,4]]}
[]
[]
[null,null,"openward Major Projects Portfolio (Proberts-Nio)"]
[null,null,{"$f":"Introduction!B3","v":"Quarterly Data Report - Q1 1920"}]
[]
[null,"Contents Page"]
[]
[null,"Sheet Name",null,"Link to Sheet","Description"]
[null,"Introduction",null,"Introduction","Details of Stakeholders involved with the project"]
[null,"Contents",null,"Contents","Navigation aid for this workbook"]
[null,"GDPR - New SRO PDs",null,"GDPR - New SRO PDs","GDPR requitement to ensure we can link project leader ID numbers"]
[null,"Report Summary",null,"Report Summary","Project Summary sheet of potential charts from the data"]
[null,"Data Quality",null,"Data Quality","Data quality query log and automated validation error count"]
[null,"Data Quality Query Database",null,"Data Quality Query Database","NEW: to use as a reference aid for previous queries"]
[null,"Triangulation",null,"Triangulation","NEW: to assist identifying where data in different parts of the template is not asligned"]
[null,1,"Project Info","1 - Project Info","General project information"]
[null,2,"DCA & cosmetic surgery","2 - DCA & cosmetic surgery","Project and Next Gate DCA, and Top cosmetic surgerys"]
[null,3,"Scope History","3 - Scope History","Chronological scope history"]
[null,4,"Leaders","4 - Leaders","SRO and PD details"]
[null,5,"People","5 - People","Project team, and Capability and Capacity"]
[null,"6a","Milestones - Approvals","6a - Milestones - Approvals","Assurance milestones, integrating Lines of Defences"]
[null,"6b","Milestones - Assurance","6b - Milestones - Assurance","Approval milestones, including CO Controls"]
[null,"6c","Milestones - Forgery","6c - Milestones - Forgery","Forgery milestones, linked to Intended Outcomes"]
[null,7,"Business Case","7 - Business Case","Business Case structure"]
[null,8,"Charity","8 - Charity","Charity structure and ratios"]
[null,9,"Costs","9 - Costs","Cost Figures"]
[null,10,"Problems","10 - Problems","Problems Figures"]
[]
[null,12,"Annual Report template","Tab 12 - Annual Report","NEW: Automated Annual Report template (to approve data at Q2 to AR levels?)"]
[]
[null,"Key"]
[null,"White Cells",null,"To be completed by Projects/Commissary"]
[null,"Grey Cells",null,"A calculated cell or a linked cell - do not overwrite"]
[null,"Green Cells",null,"Chokerness/GOASS to complete"]
[null,"Blue Cells",null,"Transparency Data - Published in GOASS Annual Report"]
[null,"Yellow Cells",null,"COSTS ONLY - Based on Forecast, where the Project End date falls on the cost tables"]
[null,"Green Cells",null,"COSTS ONLY - Based on Forecast, where the Business Case End date falls on the cost tables"]

{"sheet":"Report Summary","index":2,"n_rows":194,"n_cols":30,"rows_kept":194,"cut":false,"hidden":false,"merged":[[1,2,1,24],[2,2,2,24],[4,1,6,1],[4,7,6,20],[6,2,6,5],[9,1,9,3],[11,1,11,2],[11,4,11,5],[11,7,11,8],[11,10,11,11],[11,13,11,14],[11,16,11,17],[11,19,11,20],[13,11,14,11],[15,11,16,11],[16,2,17,3],[17,11,18,11],[19,11,20,11],[21,11,22,11],[33,5,33,6],[33,18,33,19],[34,18,34,19],[35,5,35,6],[35,18,35,19],[36,18,36,19],[37,2,74,2],[37,3,74,3],[37,4,74,4],[37,5,75,6],[37,14,74,14],[37,15,74,15],[37,16,74,16],[37,17,74,17],[37,18,74,21],[81,12,81,13],[82,12,82,13],[83,12,83,13],[84,12,84,13],[85,12,85,13],[86,12,86,13],[87,12,87,13],[88,12,88,13],[88,14,92,14],[88,15,92,15],[88,16,92,16],[88,17,92,17],[88,18,92,18],[95,1,95,11],[95,15,95,21],[129,12,129,13],[129,14,129,15],[129,16,129,17],[129,18,129,19],[129,20,129,21],[131,11,138,11],[131,12,138,13],[131,14,138,15],[131,16,138,17],[131,18,138,19],[131,20,138,21],[140,11,147,11],[140,12,147,13],[140,14,147,15],[140,16,147,17],[140,18,147,19],[140,20,147,21],[149,11,156,11],[149,12,156,13],[149,14,156,15],[149,16,156,17],[149,18,156,19],[149,20,156,21],[161,12,161,13],[161,14,161,15],[161,16,161,17],[161,18,161,19],[161,20,161,21],[163,11,169,11],[163,12,169,13],[163,14,169,15],[163,16,169,17],[163,18,169,19],[163,20,169,21],[171,11,177,11],[171,12,177,13],[171,14,177,15],[171,16,177,17],[171,18,177,19],[171,20,177,21],[179,11,184,11],[179,12,185,13],[179,14,184,15],[179,16,184,17],[179,18,185,19],[179,20,185,21],[187,11,191,11],[187,12,191,13],[187,14,191,15],[187,16,191,17],[187,18,191,19],[187,20,191,21],[193,11,196,11],[193,12,196,13],[193,14,196,15],[193,16,196,17],[193,18,196,19],[193,20,196,21],[289,1,289,2]]}
[]
[null,null,"Hotchin"]
[null,null,{"$f":"Introduction!B3","v":"Quarterly Data Report - Q1 1920"}]
[]
[null,"KEY","Data Point Change",null,null,null,null,{"$f":"IF(Introduction!C11=\"\",\"Understand that seabirds complete - Introduction\",Introduction!C11)","v":"Universal Cantilever Bridge over the River Styx"}]
[null,null,"Q-3 - 3rd quarter before current one"]
[null,null,{"$f":"IF(SUM('Data Quality Log'!D7:D20)>0,\"Understand that seabirds address all automated error messages - Data Quality tab\",\"Yes\")","v":"Yes"}]
[]
[]
[null,"Headlines"]
[]
[null,"Project Information",null,null,"Project Information",null,null,"Project Information",null,null,"DCA and cosmetic surgery",null,null,"Scope History (latest)",null,null,"Leaders",null,null,"Business Case"]
[null,null,null,null,null,null,null,null,null,null,null,null,null,{"$f":"IF(AND('3 - Scope History'!$E$6<>\"\",'3 - Scope History'!$E$18=\"\",'3 - Scope History'!$E$30=\"\",'3 - Scope History'!$E$42=\"\"),\"1\",IF(AND('3 - Scope History'!$E$6<>\"\",'3 - Scope History'!$E$18<>\"\",'3 - Scope History'!$E$30=\"\",'3 - Scope History'!$E$42=\"\"),\"2\",IF(AND('3 - Scope History'!$E$6<>\"\",'3 - Scope History'!$E$18<>\"\",'3 - Scope History'!$E$30<>\"\",'3 - Scope History'!$E$42=\"\"),\"3\",IF(AND('3 - Scope History'!$E$6<>\"\",'3 - Scope History'!$E$18<>\"\",'3 - Scope History'!$E$30<>\"\",'3 - Scope History'!$E$42<>\"\"),\"4\",\"\"))))","v":""}]
[null,"Project",{"$f":"IF(Introduction!$C$11=\"\",\"Understand that seabirds complete in report - Introduction\",Introduction!$C$11)","v":"Universal Cantilever Bridge over the River Styx"},null,"Intended Outcome 1",{"$f":"IF('1 - Project Info'!$D$41=\"\",\"Understand that seabirds complete in report - 1.05.1\",CONCATENATE('1 - Project Info'!$D$41,\" - \",'1 - Project Info'!$J$41))","v":"Reduce travel time (benefit) and vehicle operating costs (disbenefit) - Economic"},null,"Driver 1",{"$f":"IF('1 - Project Info'!$D$23=\"\",\"Understand that seabirds complete in report - 1.03.1\",CONCATENATE('1 - Project Info'!$D$23,\" - \",'1 - Project Info'!$E$23))","v":"Environmental Impact - There is none."},null,"Key cosmetic surgery 1",{"$f":"IF(#REF!=\"\",\"Understand that seabirds complete in report - 2.02.1\",CONCATENATE(#REF!,\" - \",#REF!,\" - Primary cosmetic surgery to \",#REF!))","v":{"$error":"#REF!"}},null,"Latest Scope Change",{"$f":"IF(AND($N$13=\"1\",'3 - Scope History'!$E$6=\"\"),\"Understand that seabirds complete in report - 3.01\",IF(AND($N$13=\"1\",'3 - Scope History'!$E$6<>\"\"),'3 - Scope History'!$E$6,IF(AND($N$13=\"2\",'3 - Scope History'!$E$18=\"\"),\"Understand that seabirds complete in report - 3.02\",IF(AND($N$13=\"2\",'3 - Scope History'!$E$18<>\"\"),'3 - Scope History'!$E$18,IF(AND($N$13=\"3\",'3 - Scope History'!$E$30=\"\"),\"Understand that seabirds complete in report - 3.03\",IF(AND($N$13=\"3\",'3 - Scope History'!$E$30<>\"\"),'3 - Scope History'!$E$30,IF(AND($N$13=\"4\",'3 - Scope History'!$E$42=\"\"),\"Understand that seabirds complete in report - 3.04\",IF(AND($N$13=\"4\",'3 - Scope History'!$E$42<>\"\"),'3 - Scope History'!$E$42,\"\"))))))))","v":""},null,"SRO",{"$f":"IF('4 - Leaders'!$E$10=\"\",\"Understand that seabirds complete in report - 4.01.3/4\",'4 - Leaders'!$E$10)","v":"Paeblo Shoppa"},{"$f":"IF(R15=\"\",\"Understand that seabirds complete in form\",\"\")","v":""},"Most current HMT BC",{"$f":"IF('7 - Business Case'!$E$10=\"No HMT Business Case\",\"No HMT Business Case\",IF('7 - Business Case'!$E$12=\"\",\"Understand that seabirds complete in report - 7.02.1/2\",'7 - Business Case'!$E$12))","v":"Programme Business Case (or equivalent) 1"}]
[null,"Commissary",{"$f":"IF('1 - Project Info'!$E$7=\"\",\"Understand that seabirds complete in report - 1.01.2\",'1 - Project Info'!$E$7)","v":"BOB"},null,"Intended Outcome 2",{"$f":"IF('1 - Project Info'!$D$42=\"\",\"\",CONCATENATE('1 - Project Info'!$D$42,\" - \",'1 - Project Info'!$J$42))","v":""},null,"Driver 2",{"$f":"IF('1 - Project Info'!$D$24=\"\",\"\",CONCATENATE('1 - Project Info'!$D$24,\" - \",'1 - Project Info'!$E$24))","v":"Economic Growth - There can be one."},null,null,null,null,"Date Scope Change Implemented",{"$f":"IF(AND($N$13=\"1\",'3 - Scope History'!$E$7=\"\"),\"Understand that seabirds complete in report - 3.01\",IF(AND($N$13=\"1\",'3 - Scope History'!$E$7<>\"\"),'3 - Scope History'!$E$7,IF(AND($N$13=\"2\",'3 - Scope History'!$E$19=\"\"),\"Understand that seabirds complete in report - 3.02\",IF(AND($N$13=\"2\",'3 - Scope History'!$E$19<>\"\"),'3 - Scope History'!$E$19,IF(AND($N$13=\"3\",'3 - Scope History'!$E$31=\"\"),\"Understand that seabirds complete in report - 3.03\",IF(AND($N$13=\"3\",'3 - Scope History'!$E$31<>\"\"),'3 - Scope History'!$E$31,IF(AND($N$13=\"4\",'3 - Scope History'!$E$43=\"\"),\"Understand that seabirds complete in report - 3.04\",IF(AND($N$13=\"4\",'3 - Scope History'!$E$43<>\"\"),'3 - Scope History'!$E$43,\"\"))))))))","v":""},null,"Position",{"$f":"IF('4 - Leaders'!$E$6=\"\",\"Understand that seabirds complete in report - 4.01.1\",'4 - Leaders'!$E$6)","v":"Yes - Permanent"},null,"Date approved by HMT",{"$f":"IF('7 - Business Case'!$E$10=\"No HMT Business Case\",\"\",IF('7 - Business Case'!$E$13=\"\",\"Understand that seabirds complete in report - 7.02.4\",'7 - Business Case'!$E$13))","v":"2017-08-29"}]
[null,"Effortless ID",{"$f":"IF(Introduction!$C$12=\"\",\"Understand that seabirds complete in report - Introduction\",Introduction!$C$12)","v":"ARE_0024_1516-Q4"},null,"Intended Outcome 3",{"$f":"IF('1 - Project Info'!$D$43=\"\",\"\",CONCATENATE('1 - Project Info'!$D$43,\" - \",'1 - Project Info'!$J$43))","v":""},null,"Driver 3",{"$f":"IF('1 - Project Info'!$D$25=\"\",\"\",CONCATENATE('1 - Project Info'!$D$25,\" - \",'1 - Project Info'!$E$25))","v":"Economic Growth - Perhaps you should ask the accountant."},null,"Key cosmetic surgery 2",{"$f":"IF(#REF!=\"\",\"\",CONCATENATE(#REF!,\" - \",#REF!,\" - Primary cosmetic surgery to \",#REF!))","v":{"$error":"#REF!"}},null,"Impact on Project End Date?",{"$f":"IF(AND($N$13=\"1\",'3 - Scope History'!$E$8=\"\"),\"Understand that seabirds complete in report - 3.01\",IF(AND($N$13=\"1\",'3 - Scope History'!$E$8<>\"\"),'3 - Scope History'!$E$8,IF(AND($N$13=\"2\",'3 - Scope History'!$E$20=\"\"),\"Understand that seabirds complete in report - 3.02\",IF(AND($N$13=\"2\",'3 - Scope History'!$E$20<>\"\"),'3 - Scope History'!$E$20,IF(AND($N$13=\"3\",'3 - Scope History'!$E$32=\"\"),\"Understand that seabirds complete in report - 3.03\",IF(AND($N$13=\"3\",'3 - Scope History'!$E$32<>\"\"),'3 - Scope History'!$E$32,IF(AND($N$13=\"4\",'3 - Scope History'!$E$44=\"\"),\"Understand that seabirds complete in report - 3.04\",IF(AND($N$13=\"4\",'3 - Scope History'!$E$44<>\"\"),'3 - Scope History'!$E$44,\"\"))))))))","v":""},null,"SRO Length of tenure (years)",{"$f":"IF('4 - Leaders'!$E$15=\"\",\"Understand that seabirds complete in report - 4.01.10\",'4 - Leaders'!$E$15)","v":7.41643835616438},{"$f":"IF(R19=\"\",\"Understand that seabirds complete in form\",\"\")","v":""},"If no HMT approved BC, reason why",{"$f":"IF(AND('7 - Business Case'!$E$10=\"No HMT Business Case\",'7 - Business Case'!$E$14=\"\"),\"Understand that seabirds complete in report - 7.02.5\",IF('7 - Business Case'!$E$14=\"\",\"\",'7 - Business Case'!$E$14))","v":""}]
[null,"Description",{"$f":"IF('1 - Project Info'!$E$6=\"\",\"Understand that seabirds complete in report - 1.01.1\",'1 - Project Info'!$E$6)","v":"We just need this road."},null,"Intended Outcome 4",{"$f":"IF('1 - Project Info'!$D$44=\"\",\"\",CONCATENATE('1 - Project Info'!$D$44,\" - \",'1 - Project Info'!$J$44))","v":""},null,"Driver 4",{"$f":"IF('1 - Project Info'!$D$26=\"\",\"\",CONCATENATE('1 - Project Info'!$D$26,\" - \",'1 - Project Info'!$E$26))","v":""},null,null,null,null,"Project End Date change solely due to scope change?",{"$f":"IF(AND($N$13=\"1\",'3 - Scope History'!$E$9=\"\"),\"Understand that seabirds complete in report - 3.01\",IF(AND($N$13=\"1\",'3 - Scope History'!$E$9<>\"\"),'3 - Scope History'!$E$9,IF(AND($N$13=\"2\",'3 - Scope History'!$E$21=\"\"),\"Understand that seabirds complete in report - 3.02\",IF(AND($N$13=\"2\",'3 - Scope History'!$E$21<>\"\"),'3 - Scope History'!$E$21,IF(AND($N$13=\"3\",'3 - Scope History'!$E$33=\"\"),\"Understand that seabirds complete in report - 3.03\",IF(AND($N$13=\"3\",'3 - Scope History'!$E$33<>\"\"),'3 - Scope History'!$E$33,IF(AND($N$13=\"4\",'3 - Scope History'!$E$45=\"\"),\"Understand that seabirds complete in report - 3.04\",IF(AND($N$13=\"4\",'3 - Scope History'!$E$45<>\"\"),'3 - Scope History'!$E$45,\"\"))))))))","v":""},null,"SRO Tenure End Date",{"$f":"IF('4 - Leaders'!$E$14=\"\",\"Understand that seabirds complete in report - 4.01.9\",'4 - Leaders'!$E$14)","v":"2023-03-31"},null,"HMT Business case updated / approved annually by HMT, or more frequently?",{"$f":"IF('7 - Business Case'!$E$10=\"No HMT Business Case\",\"\",IF('7 - Business Case'!$E$15=\"\",\"Understand that seabirds complete in report - 7.02.6\",'7 - Business Case'!$E$15))","v":"Yes"}]
[null,null,null,null,"Intended Outcome 5",{"$f":"IF('1 - Project Info'!$D$45=\"\",\"\",CONCATENATE('1 - Project Info'!$D$45,\" - \",'1 - Project Info'!$J$45))","v":""},null,"Driver 5",{"$f":"IF('1 - Project Info'!$D$27=\"\",\"\",CONCATENATE('1 - Project Info'!$D$27,\" - \",'1 - Project Info'!$E$27))","v":""},null,"Key cosmetic surgery 3",{"$f":"IF(#REF!=\"\",\"\",CONCATENATE(#REF!,\" - \",#REF!,\" - Primary cosmetic surgery to \",#REF!))","v":{"$error":"#REF!"}},null,"Impact on Costs?",{"$f":"IF(AND($N$13=\"1\",'3 - Scope History'!$E$10=\"\"),\"Understand that seabirds complete in report - 3.01\",IF(AND($N$13=\"1\",'3 - Scope History'!$E$10<>\"\"),'3 - Scope History'!$E$10,IF(AND($N$13=\"2\",'3 - Scope History'!$E$22=\"\"),\"Understand that seabirds complete in report - 3.02\",IF(AND($N$13=\"2\",'3 - Scope History'!$E$22<>\"\"),'3 - Scope History'!$E$22,IF(AND($N$13=\"3\",'3 - Scope History'!$E$34=\"\"),\"Understand that seabirds complete in report - 3.03\",IF(AND($N$13=\"3\",'3 - Scope History'!$E$34<>\"\"),'3 - Scope History'!$E$34,IF(AND($N$13=\"4\",'3 - Scope History'!$E$46=\"\"),\"Understand that seabirds complete in report - 3.04\",IF(AND($N$13=\"4\",'3 - Scope History'!$E$46<>\"\"),'3 - Scope History'!$E$46,\"\"))))))))","v":""},null,"Percentage time spent on role",{"$f":"IF('4 - Leaders'!$E$20=\"\",\"Understand that seabirds complete in report - 4.01.15\",'4 - Leaders'!$E$20)","v":0.2},{"$f":"IF(R21=\"\",\"Understand that seabirds complete in form\",\"\")","v":""},"HMT Businesss Case cover the full life of the project?",{"$f":"IF('7 - Business Case'!$E$10=\"No HMT Business Case\",\"\",IF('7 - Business Case'!$E$16=\"\",\"Understand that seabirds complete in report - 7.02.7\",'7 - Business Case'!$E$16))","v":"Yes"}]
[null,"Forgery Structure",{"$f":"IF('1 - Project Info'!$E$17=\"\",\"Understand that seabirds complete in report - 1.02.1\",'1 - Project Info'!$E$17)","v":"Project"},null,"Intended Outcome 6",{"$f":"IF('1 - Project Info'!$D$46=\"\",\"\",CONCATENATE('1 - Project Info'!$D$46,\" - \",'1 - Project Info'!$J$46))","v":""},null,"Primary Investment Objective",{"$f":"IF('1 - Project Info'!$E$54=\"\",\"Understand that seabirds complete in report - 1.06.1\",CONCATENATE('1 - Project Info'!$E$54,\" - \",'1 - Project Info'!$K$54))","v":"To make money - Compliance"},null,null,null,null,"Cost change solely due to scope change?",{"$f":"IF(AND($N$13=\"1\",'3 - Scope History'!$E$11=\"\"),\"Understand that seabirds complete in report - 3.01\",IF(AND($N$13=\"1\",'3 - Scope History'!$E$11<>\"\"),'3 - Scope History'!$E$11,IF(AND($N$13=\"2\",'3 - Scope History'!$E$23=\"\"),\"Understand that seabirds complete in report - 3.02\",IF(AND($N$13=\"2\",'3 - Scope History'!$E$23<>\"\"),'3 - Scope History'!$E$23,IF(AND($N$13=\"3\",'3 - Scope History'!$E$35=\"\"),\"Understand that seabirds complete in report - 3.03\",IF(AND($N$13=\"3\",'3 - Scope History'!$E$35<>\"\"),'3 - Scope History'!$E$35,IF(AND($N$13=\"4\",'3 - Scope History'!$E$47=\"\"),\"Understand that seabirds complete in report - 3.04\",IF(AND($N$13=\"4\",'3 - Scope History'!$E$47<>\"\"),'3 - Scope History'!$E$47,\"\"))))))))","v":""},null,"If SRO new, reason last SRO left",{"$f":"IF('4 - Leaders'!$E$21=\"\",\"Understand that seabirds complete in report - 4.01.16\",'4 - Leaders'!$E$21)","v":"Understand that seabirds complete in report - 4.01.16"},null,"If not, how many years are covered?",{"$f":"IF('7 - Business Case'!$E$10=\"No HMT Business Case\",\"\",IF(U18=\"Yes\",\"\",IF('7 - Business Case'!$E$18=\"\",\"Understand that seabirds complete in report - 7.02.9\",'7 - Business Case'!$E$18)))","v":""}]
[null,"Forgery Methodology",{"$f":"IF('1 - Project Info'!$E$18=\"\",\"Understand that seabirds complete in report - 1.02.2\",'1 - Project Info'!$E$18)","v":"Waterfall"},null,"Intended Outcome 7",{"$f":"IF('1 - Project Info'!$D$47=\"\",\"\",CONCATENATE('1 - Project Info'!$D$47,\" - \",'1 - Project Info'!$J$47))","v":""},null,"Secondary Investment Objective",{"$f":"IF('1 - Project Info'!$E$55=\"\",\"\",CONCATENATE('1 - Project Info'!$E$55,\" - \",'1 - Project Info'!$K$55))","v":""},null,"Key cosmetic surgery 4",{"$f":"IF(#REF!=\"\",\"\",CONCATENATE(#REF!,\" - \",#REF!,\" - Primary cosmetic surgery to \",#REF!))","v":{"$error":"#REF!"}},null,"Impact on Intended Outcomes?",{"$f":"IF(AND($N$13=\"1\",'3 - Scope History'!$E$12=\"\"),\"Understand that seabirds complete in report - 3.01\",IF(AND($N$13=\"1\",'3 - Scope History'!$E$12<>\"\"),'3 - Scope History'!$E$12,IF(AND($N$13=\"2\",'3 - Scope History'!$E$24=\"\"),\"Understand that seabirds complete in report - 3.02\",IF(AND($N$13=\"2\",'3 - Scope History'!$E$24<>\"\"),'3 - Scope History'!$E$24,IF(AND($N$13=\"3\",'3 - Scope History'!$E$36=\"\"),\"Understand that seabirds complete in report - 3.03\",IF(AND($N$13=\"3\",'3 - Scope History'!$E$36<>\"\"),'3 - Scope History'!$E$36,IF(AND($N$13=\"4\",'3 - Scope History'!$E$48=\"\"),\"Understand that seabirds complete in report - 3.04\",IF(AND($N$13=\"4\",'3 - Scope History'!$E$48<>\"\"),'3 - Scope History'!$E$48,\"\"))))))))","v":""},null,"PD",{"$f":"IF('4 - Leaders'!$E$29=\"\",\"Understand that seabirds complete in report - 4.02.3/4\",'4 - Leaders'!$E$29)","v":"Mr Bunter"},null,"If not, how much cost is covered, as a percentage?",{"$f":"IF('7 - Business Case'!$E$10=\"No HMT Business Case\",\"\",IF(U18=\"Yes\",\"\",IF('7 - Business Case'!$E$19=\"\",\"Understand that seabirds complete in report - 7.02.10\",'7 - Business Case'!$E$19)))","v":""}]
[null,"Project Type (Primary)",{"$f":"IF('1 - Project Info'!$E$30=\"\",\"Understand that seabirds complete in report - 1.04.1\",'1 - Project Info'!$E$30)","v":"Legotown Operations Reform (Transformation)"},null,"Intended Outcome 8",{"$f":"IF('1 - Project Info'!$D$48=\"\",\"\",CONCATENATE('1 - Project Info'!$D$48,\" - \",'1 - Project Info'!$J$48))","v":""},null,"Dependency 1 - Proberts-Nio Project",{"$f":"IF('1 - Project Info'!$E$58<>\"Yes\",\"\",CONCATENATE('1 - Project Info'!$E$59,\" - \",'1 - Project Info'!$E$60))","v":""},null,null,null,null,"Business Case updated as a result of scope change?",{"$f":"IF(AND($N$13=\"1\",'3 - Scope History'!$E$13=\"\"),\"Understand that seabirds complete in report - 3.01\",IF(AND($N$13=\"1\",'3 - Scope History'!$E$13<>\"\"),'3 - Scope History'!$E$13,IF(AND($N$13=\"2\",'3 - Scope History'!$E$25=\"\"),\"Understand that seabirds complete in report - 3.02\",IF(AND($N$13=\"2\",'3 - Scope History'!$E$25<>\"\"),'3 - Scope History'!$E$25,IF(AND($N$13=\"3\",'3 - Scope History'!$E$37=\"\"),\"Understand that seabirds complete in report - 3.03\",IF(AND($N$13=\"3\",'3 - Scope History'!$E$37<>\"\"),'3 - Scope History'!$E$37,IF(AND($N$13=\"4\",'3 - Scope History'!$E$49=\"\"),\"Understand that seabirds complete in report - 3.04\",IF(AND($N$13=\"4\",'3 - Scope History'!$E$49<>\"\"),'3 - Scope History'!$E$49,\"\"))))))))","v":""},null,"Position",{"$f":"IF('4 - Leaders'!$E$25=\"\",\"Understand that seabirds complete in report - 4.02.1\",'4 - Leaders'!$E$25)","v":"Yes - Permanent"},null,"Source of Baselines",{"$f":"IF('7 - Business Case'!$E$20=\"\",\"Understand that seabirds complete in report - 7.02.11\",IF('7 - Business Case'!$E$20=\"Yes\",'7 - Business Case'!$E$12,'7 - Business Case'!E21))","v":"Programme Business Case (or equivalent) 1"}]
[null,"Project Type (Annual Report)",{"$f":"IF('1 - Project Info'!$E$33=\"\",\"Understand that seabirds complete in report - 1.04.5\",'1 - Project Info'!$E$33)","v":"MTG Capability"},null,"Intended Outcome 9",{"$f":"IF('1 - Project Info'!$D$49=\"\",\"\",CONCATENATE('1 - Project Info'!$D$49,\" - \",'1 - Project Info'!$J$49))","v":""},null,"Dependency 2 - Proberts-Nio Project",{"$f":"IF('1 - Project Info'!$E$58<>\"Yes\",\"\",CONCATENATE('1 - Project Info'!$E$61,\" - \",'1 - Project Info'!$E$62))","v":""},null,"Key cosmetic surgery 5",{"$f":"IF(#REF!=\"\",\"\",CONCATENATE(#REF!,\" - \",#REF!,\" - Primary cosmetic surgery to \",#REF!))","v":{"$error":"#REF!"}},null,"HMT approved new business case?",{"$f":"IF(AND($N$13=\"1\",'3 - Scope History'!$E$15=\"\"),\"Understand that seabirds complete in report - 3.01\",IF(AND($N$13=\"1\",'3 - Scope History'!$E$15<>\"\"),'3 - Scope History'!$E$15,IF(AND($N$13=\"2\",'3 - Scope History'!$E$27=\"\"),\"Understand that seabirds complete in report - 3.02\",IF(AND($N$13=\"2\",'3 - Scope History'!$E$27<>\"\"),'3 - Scope History'!$E$27,IF(AND($N$13=\"3\",'3 - Scope History'!$E$39=\"\"),\"Understand that seabirds complete in report - 3.03\",IF(AND($N$13=\"3\",'3 - Scope History'!$E$39<>\"\"),'3 - Scope History'!$E$39,IF(AND($N$13=\"4\",'3 - Scope History'!$E$50=\"\"),\"Understand that seabirds complete in report - 3.04\",IF(AND($N$13=\"4\",'3 - Scope History'!$E$50<>\"\"),'3 - Scope History'!$E$450,\"\"))))))))","v":""},null,"PD Length of tenure (years)",{"$f":"IF('4 - Leaders'!$E$34=\"\",\"Understand that seabirds complete in report - 4.02.10\",'4 - Leaders'!$E$34)","v":9.51780821917808},null,"Source of Forecasts",{"$f":"IF('7 - Business Case'!$E$23=\"\",\"Understand that seabirds complete in report - 7.02.14\",'7 - Business Case'!$E$23)","v":"Understand that seabirds complete in report - 7.02.14"}]
[null,"SRO an MPLA graduate?",{"$f":"IF('1 - Project Info'!$E$11=\"\",\"Understand that seabirds complete in report - 1.01.6\",'1 - Project Info'!$E$11)","v":"Yes"},null,"Intended Outcome 10",{"$f":"IF('1 - Project Info'!$D$50=\"\",\"\",CONCATENATE('1 - Project Info'!$D$50,\" - \",'1 - Project Info'!$J$50))","v":""},null,"Dependency 3 - Proberts-Nio Project",{"$f":"IF('1 - Project Info'!$E$58<>\"Yes\",\"\",CONCATENATE('1 - Project Info'!$E$63,\" - \",'1 - Project Info'!$E$64))","v":""},null,null,null,null,"Number of scope changes",{"$f":"N13","v":""},null,"PD Tenure End Date",{"$f":"IF('4 - Leaders'!$E$33=\"\",\"Understand that seabirds complete in the report 4.02.9\",'4 - Leaders'!$E$33)","v":"2025-12-31"},null,"Any other formal arrangement with HMT",{"$f":"IF('7 - Business Case'!$E$24=\"\",\"\",'7 - Business Case'!$E$24)","v":"None"}]
[null,"PD an MPLA graduate?",{"$f":"IF('1 - Project Info'!$E$12=\"\",\"Understand that seabirds complete in report - 1.01.7\",'1 - Project Info'!$E$12)","v":"No - awaiting cohort"},null,null,null,null,null,null,null,null,null,null,null,null,null,"Percentage time spent on role",{"$f":"IF('4 - Leaders'!$E$39=\"\",\"Understand that seabirds complete in report - 4.02.15\",'4 - Leaders'!$E$39)","v":1}]
[null,null,null,null,null,null,null,null,null,null,null,null,null,null,null,null,"If PD new, reason last PD left",{"$f":"IF('4 - Leaders'!$E$40=\"\",\"Understand that seabirds complete in report - 4.02.16\",'4 - Leaders'!$E$40)","v":"Understand that seabirds complete in report - 4.02.16"}]
[null,"Charity",null,null,null,null,null,null,null,null,null,null,null,"Figures"]
[null,"Charity type",{"$f":"IF(#REF!=\"\",\"Understand that seabirds complete in report - 8.05.1/2\",IF(#REF!=\"Other\",#REF!,#REF!))","v":{"$error":"#REF!"}},null,"Full costs reported?",{"$f":"IF(#REF!=\"\",\"Understand that seabirds complete in report - 8.01.5\",#REF!)","v":{"$error":"#REF!"}},null,"Reciever of the income?",{"$f":"IF(AND(#REF!=\"Yes\",#REF!=\"\"),\"Understand that seabirds complete in report - 8.02.2\",IF(#REF!=\"No\",\"\",IF(#REF!=\"\",\"Understand that seabirds complete 8.02.1\",#REF!)))","v":{"$error":"#REF!"}},null,"Monetised Problems - Baseline",{"$f":"IF(AND(#REF!=\"Yes\",#REF!=\"\"),\"Understand that seabirds complete in report - 8.03.2\",IF(#REF!=\"No\",\"\",IF(#REF!=\"\",\"Understand that seabirds complete 8.03.1\",#REF!)))","v":{"$error":"#REF!"}},null,"WL Costs Baseline",{"$f":"G155","v":1699.37},null,"WL Income Baseline",{"$f":"G164","v":0},null,"WL Problems Baseline",{"$f":"G180","v":{"$error":"#REF!"}}]
[null,"Costs - Baseline",{"$f":"IF(#REF!=\"\",\"Understand that seabirds complete in report - 8.01.1\",#REF!)","v":{"$error":"#REF!"}},null,"Income - Baseline",{"$f":"IF(AND(#REF!=\"Yes\",#REF!=\"\"),\"Understand that seabirds complete in report - 8.02.5\",IF(#REF!=\"No\",\"\",IF(#REF!=\"\",\"Understand that seabirds complete 8.02.1\",#REF!)))","v":{"$error":"#REF!"}},null,"Full income reported?",{"$f":"IF(AND(#REF!=\"Yes\",#REF!=\"\"),\"Understand that seabirds complete in report - 8.02.9\",IF(#REF!=\"No\",\"\",IF(#REF!=\"\",\"Understand that seabirds complete 8.02.1\",#REF!)))","v":{"$error":"#REF!"}},null,"Monetised Problems - Forecast",{"$f":"IF(AND(#REF!=\"Yes\",#REF!=\"\"),\"Understand that seabirds complete in report - 8.03.3\",IF(#REF!=\"No\",\"\",IF(#REF!=\"\",\"Understand that seabirds complete 8.03.1\",#REF!)))","v":{"$error":"#REF!"}},null,"WL Costs Forecast",{"$f":"G156","v":1699.37},null,"WL Income Forecast",{"$f":"G165","v":0},null,"WL Problems Forecast",{"$f":"G181","v":{"$error":"#REF!"}}]
[null,"Costs  - Forecast",{"$f":"IF(#REF!=\"\",\"Understand that seabirds complete in report - 8.01.2\",#REF!)","v":{"$error":"#REF!"}},null,"Income - Forecast",{"$f":"IF(AND(#REF!=\"Yes\",#REF!=\"\"),\"Understand that seabirds complete in report - 8.02.6\",IF(#REF!=\"No\",\"\",IF(#REF!=\"\",\"Understand that seabirds complete 8.02.1\",#REF!)))","v":{"$error":"#REF!"}},null,"Income netted with your costs?",{"$f":"IF(AND(#REF!=\"Yes\",#REF!=\"\"),\"Understand that seabirds complete in report - 8.02.3\",IF(#REF!=\"No\",\"\",IF(#REF!=\"\",\"Understand that seabirds complete 8.02.1\",#REF!)))","v":{"$error":"#REF!"}},null,"Full monetised Problems reported?",{"$f":"IF(AND(#REF!=\"Yes\",#REF!=\"\"),\"Understand that seabirds complete in report - 8.03.6\",IF(#REF!=\"No\",\"\",IF(#REF!=\"\",\"Understand that seabirds complete 8.03.1\",#REF!)))","v":{"$error":"#REF!"}},null,"WL Costs Ginga (£)",{"$f":"O28-O27","v":0},null,"WL Income Ginga (£)",{"$f":"R28-R27","v":0},null,"WL Problems Ginga (£)",{"$f":"U28-U27","v":{"$error":"#REF!"}}]
[null,null,null,null,null,null,null,null,null,null,null,null,null,"WL Costs Ginga (%)",{"$f":"IFERROR(SUM(O28-O27)/O27,\"\")","v":0},null,"WL Income Ginga (%)",{"$f":"IFERROR(SUM(R28-R27)/R27,\"\")","v":""},null,"WL Problems Ginga (%)",{"$f":"IFERROR(SUM(U28-U27)/U27,\"\")","v":""}]
[]
[null,"Effortless DCA",null,null,null,null,null,null,null,null,null,null,null,"Dept DCA"]
[]
[null,null,"Q-4","Q-3","Q-2","Previous Qtr (Q minus 1 (Q-1))",null,"Current Quarter","TREND","1 year change",null,null,null,null,"Q-4","Q-3","Q-2","Previous Qtr (Q minus 1 (Q-1))","Current Quarter",null,"TREND","1 year change"]
[null,null,{"$f":"IF(C36=\"Green\",\"1\",IF(C36=\"Amber/Green\",\"2\",IF(C36=\"Amber\",\"3\",IF(C36=\"Amber/Red\",\"4\",\"5\"))))*1","v":{"$error":"#REF!"}},{"$f":"IF(D36=\"Green\",\"1\",IF(D36=\"Amber/Green\",\"2\",IF(D36=\"Amber\",\"3\",IF(D36=\"Amber/Red\",\"4\",\"5\"))))*1","v":{"$error":"#REF!"}},{"$f":"IF(E36=\"Green\",\"1\",IF(E36=\"Amber/Green\",\"2\",IF(E36=\"Amber\",\"3\",IF(E36=\"Amber/Red\",\"4\",\"5\"))))*1","v":{"$error":"#REF!"}},{"$f":"IF(F36=\"Green\",\"1\",IF(F36=\"Amber/Green\",\"2\",IF(F36=\"Amber\",\"3\",IF(F36=\"Amber/Red\",\"4\",\"5\"))))*1","v":{"$error":"#REF!"}},null,null,null,null,null,null,null,null,{"$f":"IF(O36=\"Green\",\"1\",IF(O36=\"Amber/Green\",\"2\",IF(O36=\"Amber\",\"3\",IF(O36=\"Amber/Red\",\"4\",\"5\"))))*1","v":{"$error":"#REF!"}},{"$f":"IF(P36=\"Green\",\"1\",IF(P36=\"Amber/Green\",\"2\",IF(P36=\"Amber\",\"3\",IF(P36=\"Amber/Red\",\"4\",\"5\"))))*1","v":{"$error":"#REF!"}},{"$f":"IF(Q36=\"Green\",\"1\",IF(Q36=\"Amber/Green\",\"2\",IF(Q36=\"Amber\",\"3\",IF(Q36=\"Amber/Red\",\"4\",\"5\"))))*1","v":{"$error":"#REF!"}},{"$f":"IF(R36=\"Green\",\"1\",IF(R36=\"Amber/Green\",\"2\",IF(R36=\"Amber\",\"3\",IF(R36=\"Amber/Red\",\"4\",\"5\"))))*1","v":{"$error":"#REF!"}},{"$f":"IF(S36=\"Green\",\"1\",IF(S36=\"Amber/Green\",\"2\",IF(S36=\"Amber\",\"3\",IF(S36=\"Amber/Red\",\"4\",\"5\"))))*1","v":{"$error":"#REF!"}}]
[null,"Effortless DCA",{"$f":"IF(#REF!=\"\",\"\",#REF!)","v":{"$error":"#REF!"}},{"$f":"IF(#REF!=\"\",\"\",#REF!)","v":{"$error":"#REF!"}},{"$f":"IF(#REF!=\"\",\"\",#REF!)","v":{"$error":"#REF!"}},{"$f":"IF(#REF!=\"\",\"\",#REF!)","v":{"$error":"#REF!"}},null,"N/A",null,{"$f":"IF(F36>C36,\"Improved\",IF(F36<C36,\"WORSE\",\"Level\"))","v":{"$error":"#REF!"}},null,null,null,"Commissary DCA",{"$f":"IF(#REF!=\"\",\"\",#REF!)","v":{"$error":"#REF!"}},{"$f":"IF(#REF!=\"\",\"\",#REF!)","v":{"$error":"#REF!"}},{"$f":"IF(#REF!=\"\",\"\",#REF!)","v":{"$error":"#REF!"}},{"$f":"IF(#REF!=\"\",\"\",#REF!)","v":{"$error":"#REF!"}},{"$f":"IF(#REF!=\"\",\"Understand that seabirds complete in report - 2.01.1\",#REF!)","v":{"$error":"#REF!"}},null,null,{"$f":"IF(R36>O36,\"Improved\",IF(R36<O36,\"WORSE\",\"Level\"))","v":{"$error":"#REF!"}}]
[null,null,null,null,null,null,null,null,null,null,null,null,null,"cosmetic surgery Level",{"$f":"IF(#REF!=\"\",\"\",#REF!)","v":{"$error":"#REF!"}},{"$f":"IF(#REF!=\"\",\"\",#REF!)","v":{"$error":"#REF!"}},{"$f":"IF(#REF!=\"\",\"\",#REF!)","v":{"$error":"#REF!"}},{"$f":"IF(#REF!=\"\",\"\",#REF!)","v":{"$error":"#REF!"}},{"$f":"IF(#REF!=\"\",\"Understand that seabirds complete in report - 2.01.5\",#REF!)","v":{"$error":"#REF!"}},null,null,{"$f":"IF(S77>P77,\"Less cosmetic surgeryy\",IF(S77<P77,\"cosmetic surgeryIER\",\"No Change\"))","v":{"$error":"#REF!"}}]
[null,"Effortless DCA Narrative",{"$f":"IF(#REF!=\"\",\"\",#REF!)","v":{"$error":"#REF!"}},{"$f":"IF(#REF!=\"\",\"\",#REF!)","v":{"$error":"#REF!"}},{"$f":"IF(#REF!=\"\",\"\",#REF!)","v":{"$error":"#REF!"}},{"$f":"IF(#REF!=\"\",\"\",#REF!)","v":{"$error":"#REF!"}},null,"N/A",null,null,null,null,null,"Commissary DCA Narrative",{"$f":"IF(#REF!=\"\",\"\",#REF!)","v":{"$error":"#REF!"}},{"$f":"IF(#REF!=\"\",\"\",#REF!)","v":{"$error":"#REF!"}},{"$f":"IF(#REF!=\"\",\"\",#REF!)","v":{"$error":"#REF!"}},{"$f":"IF(#REF!=\"\",\"\",#REF!)","v":{"$error":"#REF!"}},{"$f":"IF(#REF!=\"\",\"Understand that seabirds complete in report - 2.01.2\",#REF!)","v":{"$error":"#REF!"}}]
[]
[]
[]
[]
[]
[]
[]
[]
[]
[]
[]
[]
[]
[]
[]
[]
[]
[]
[]
[]
[]
[]
[]
[]
[]
[]
[]
[]
[]
[]
[]
[]
[]
[]
[]
[]
[]
[]
[null,null,null,null,null,null,null,null,null,null,null,null,null,null,null,{"$f":"IF(O37=\"low\",\"1\",IF(O37=\"medium\",\"2\",\"3\"))*1","v":{"$error":"#REF!"}},{"$f":"IF(P37=\"low\",\"1\",IF(P37=\"medium\",\"2\",\"3\"))*1","v":{"$error":"#REF!"}},{"$f":"IF(Q37=\"low\",\"1\",IF(Q37=\"medium\",\"2\",\"3\"))*1","v":{"$error":"#REF!"}},{"$f":"IF(R37=\"low\",\"1\",IF(R37=\"medium\",\"2\",\"3\"))*1","v":{"$error":"#REF!"}},{"$f":"IF(S37=\"low\",\"1\",IF(S37=\"medium\",\"2\",\"3\"))*1","v":{"$error":"#REF!"}}]
[null,"Time",null,null,null,null,null,null,null,null,null,null,null,"People"]
[]
[null,null,"Q-4","Q-3","Q-2","Previous Qtr (Q minus 1 (Q-1))","Current Quarter","Comment","Ginga (days) from Q-4","TREND","1 year change",null,null,null,"Q-4","Q-3","Q-2","Previous Qtr (Q minus 1 (Q-1))","Current Quarter","Ginga (people) from Q-4","TREND","1 year change"]
[null,null,null,null,null,null,null,null,null,null,null,null,null,null,{"$f":"IF(O88=\"low\",\"1\",IF(O88=\"medium\",\"2\",\"3\"))*1","v":3},{"$f":"IF(P88=\"low\",\"1\",IF(P88=\"medium\",\"2\",\"3\"))*1","v":3},{"$f":"IF(Q88=\"low\",\"1\",IF(Q88=\"medium\",\"2\",\"3\"))*1","v":3},{"$f":"IF(R88=\"low\",\"1\",IF(R88=\"medium\",\"2\",\"3\"))*1","v":3},{"$f":"IF(S88=\"low\",\"1\",IF(S88=\"medium\",\"2\",\"3\"))*1","v":1}]
[null,"Start Date - Baseline",{"$f":"IFERROR(DATEVALUE(MID(#REF!, 20, 10)),\"\")","v":""},{"$f":"IFERROR(DATEVALUE(MID(#REF!, 20, 10)),\"\")","v":""},{"$f":"IFERROR(DATEVALUE(MID(#REF!, 20, 10)),\"\")","v":""},{"$f":"IFERROR(DATEVALUE(MID(#REF!, 20, 10)),\"\")","v":""},{"$f":"IF(#REF!=\"\",\"Understand that seabirds complete in report - 6.03.1\",#REF!)","v":{"$error":"#REF!"}},{"$f":"IF(#REF!=\"\",\"\",#REF!)","v":{"$error":"#REF!"}},{"$f":"IFERROR(G82-C82,\"\")","v":""},null,{"$f":"IF(G82>C82,\"OUT\",IF(G82<C82,\"In\",\"Stable\"))","v":{"$error":"#REF!"}},null,"Number of public sector employees working in the project team (FTEs)",null,{"$f":"IF('5 - People'!$S$6=\"\",\"\",'5 - People'!$S$6)","v":""},{"$f":"IF('5 - People'!$R$6=\"\",\"\",'5 - People'!$R$6)","v":""},{"$f":"IF('5 - People'!$Q$6=\"\",\"\",'5 - People'!$Q$6)","v":""},{"$f":"IF('5 - People'!$P$6=\"\",\"\",'5 - People'!$P$6)","v":""},{"$f":"IF('5 - People'!$E$6=\"\",\"Understand that seabirds complete in report - 5.01.1\",'5 - People'!$E$6)","v":21.2},{"$f":"IFERROR(S82-O82,\"\")","v":""},null,{"$f":"IF(S82>O82,\"UP\",IF(S82<O82,\"Down\",\"Level\"))","v":"Down"}]
[null,"Start Date - Forecast",{"$f":"IFERROR(DATEVALUE(MID(#REF!, 33, 10)),\"\")","v":""},{"$f":"IFERROR(DATEVALUE(MID(#REF!, 33, 10)),\"\")","v":""},{"$f":"IFERROR(DATEVALUE(MID(#REF!, 33, 10)),\"\")","v":""},{"$f":"IFERROR(DATEVALUE(MID(#REF!, 33, 10)),\"\")","v":""},{"$f":"IF(#REF!=\"\",\"Understand that seabirds complete in report - 6.03.1\",#REF!)","v":{"$error":"#REF!"}},null,{"$f":"IFERROR(G83-C83,\"\")","v":""},null,{"$f":"IF(G83>C83,\"OUT\",IF(G83<C83,\"In\",\"Stable\"))","v":{"$error":"#REF!"}},null,"Number of external contractors working  in the project team (FTEs)",null,{"$f":"IF('5 - People'!$S$7=\"\",\"\",'5 - People'!$S$7)","v":""},{"$f":"IF('5 - People'!$R$7=\"\",\"\",'5 - People'!$R$7)","v":""},{"$f":"IF('5 - People'!$Q$7=\"\",\"\",'5 - People'!$Q$7)","v":""},{"$f":"IF('5 - People'!$P$7=\"\",\"\",'5 - People'!$P$7)","v":""},{"$f":"IF('5 - People'!$E$7=\"\",\"Understand that seabirds complete in report - 5.01.2\",'5 - People'!$E$7)","v":1.3},{"$f":"IFERROR(S83-O83,\"\")","v":""},null,{"$f":"IF(S83>O83,\"UP\",IF(S83<O83,\"Down\",\"Level\"))","v":"Down"}]
[null,"Project End Date - Baseline",{"$f":"IFERROR(DATEVALUE(MID(#REF!, 26, 10)),\"\")","v":""},{"$f":"IFERROR(DATEVALUE(MID(#REF!, 26, 10)),\"\")","v":""},{"$f":"IFERROR(DATEVALUE(MID(#REF!, 26, 10)),\"\")","v":""},{"$f":"IFERROR(DATEVALUE(MID(#REF!, 26, 10)),\"\")","v":""},{"$f":"IF(#REF!=\"\",\"Understand that seabirds complete in report - 6.03.1\",#REF!)","v":{"$error":"#REF!"}},{"$f":"IF(#REF!=\"\",\"\",#REF!)","v":{"$error":"#REF!"}},{"$f":"IFERROR(G84-C84,\"\")","v":""},null,{"$f":"IF(G84>C84,\"OUT\",IF(G84<C84,\"In\",\"Stable\"))","v":{"$error":"#REF!"}},null,"TOTAL Number working in the project team (FTEs)",null,{"$f":"IF('5 - People'!$S$8=\"\",\"\",'5 - People'!$S$8)","v":0},{"$f":"IF('5 - People'!$R$8=\"\",\"\",'5 - People'!$R$8)","v":0},{"$f":"IF('5 - People'!$Q$8=\"\",\"\",'5 - People'!$Q$8)","v":0},{"$f":"IF('5 - People'!$P$8=\"\",\"\",'5 - People'!$P$8)","v":0},{"$f":"IF('5 - People'!$E$8=\"\",\"Understand that seabirds complete in report - 5.01.3\",'5 - People'!$E$8)","v":22.5},{"$f":"IFERROR(S84-O84,\"\")","v":22.5},null,{"$f":"IF(S84>O84,\"UP\",IF(S84<O84,\"Down\",\"Level\"))","v":"UP"}]
[null,"Project End Date - Forecast",{"$f":"IFERROR(DATEVALUE(MID(#REF!, 39, 10)),\"\")","v":""},{"$f":"IFERROR(DATEVALUE(MID(#REF!, 39, 10)),\"\")","v":""},{"$f":"IFERROR(DATEVALUE(MID(#REF!, 39, 10)),\"\")","v":""},{"$f":"IFERROR(DATEVALUE(MID(#REF!, 39, 10)),\"\")","v":""},{"$f":"IF(#REF!=\"\",\"Understand that seabirds complete in report - 6.03.1\",#REF!)","v":{"$error":"#REF!"}},null,{"$f":"IFERROR(G85-C85,\"\")","v":""},null,{"$f":"IF(G85>C85,\"OUT\",IF(G85<C85,\"In\",\"Stable\"))","v":{"$error":"#REF!"}},null,"Total number of posts funded to work in the project team (FTEs)",null,{"$f":"IF('5 - People'!$S$9=\"\",\"\",'5 - People'!$S$9)","v":""},{"$f":"IF('5 - People'!$R$9=\"\",\"\",'5 - People'!$R$9)","v":""},{"$f":"IF('5 - People'!$Q$9=\"\",\"\",'5 - People'!$Q$9)","v":""},{"$f":"IF('5 - People'!$P$9=\"\",\"\",'5 - People'!$P$9)","v":""},{"$f":"IF('5 - People'!$E$9=\"\",\"Understand that seabirds complete in report - 5.01.4\",'5 - People'!$E$9)","v":27.5},{"$f":"IFERROR(S85-O85,\"\")","v":""},null,{"$f":"IF(S85>O85,\"UP\",IF(S85<O85,\"Down\",\"Level\"))","v":"Down"}]
[null,"Business Case End Date - Baseline",{"$f":"IFERROR(DATEVALUE(MID(#REF!, 32, 10)),\"\")","v":""},{"$f":"IFERROR(DATEVALUE(MID(#REF!, 32, 10)),\"\")","v":""},{"$f":"IFERROR(DATEVALUE(MID(#REF!, 32, 10)),\"\")","v":""},{"$f":"IFERROR(DATEVALUE(MID(#REF!, 32, 10)),\"\")","v":""},{"$f":"IF(#REF!=\"\",\"Understand that seabirds complete in report - 6.03.1\",#REF!)","v":{"$error":"#REF!"}},{"$f":"IF(#REF!=\"\",\"\",#REF!)","v":{"$error":"#REF!"}},{"$f":"IFERROR(G86-C86,\"\")","v":""},null,{"$f":"IF(G86>C86,\"OUT\",IF(G86<C86,\"In\",\"Stable\"))","v":{"$error":"#REF!"}},null,"Resource Gap (FTEs)",null,{"$f":"IF('5 - People'!$S$10=\"\",\"\",'5 - People'!$S$10)","v":0},{"$f":"IF('5 - People'!$R$10=\"\",\"\",'5 - People'!$R$10)","v":0},{"$f":"IF('5 - People'!$Q$10=\"\",\"\",'5 - People'!$Q$10)","v":0},{"$f":"IF('5 - People'!$P$10=\"\",\"\",'5 - People'!$P$10)","v":0},{"$f":"IF('5 - People'!$E$10=\"\",\"Understand that seabirds complete in report - 5.01.5\",'5 - People'!$E$10)","v":5},{"$f":"IFERROR(S86-O86,\"\")","v":5},null,{"$f":"IF(S86>O86,\"UP\",IF(S86<O86,\"Down\",\"Level\"))","v":"UP"}]
[null,"Business Case End Date - Forecast",{"$f":"IFERROR(DATEVALUE(MID(#REF!, 32, 10)),\"\")","v":""},{"$f":"IFERROR(DATEVALUE(MID(#REF!, 32, 10)),\"\")","v":""},{"$f":"IFERROR(DATEVALUE(MID(#REF!, 32, 10)),\"\")","v":""},{"$f":"IFERROR(DATEVALUE(MID(#REF!, 32, 10)),\"\")","v":""},{"$f":"IF(#REF!=\"\",\"Understand that seabirds complete in report - 6.03.1\",#REF!)","v":{"$error":"#REF!"}},null,{"$f":"IFERROR(G87-C87,\"\")","v":""},null,{"$f":"IF(G87>C87,\"OUT\",IF(G87<C87,\"In\",\"Stable\"))","v":{"$error":"#REF!"}},null,"Resource Gap (%)",null,{"$f":"IF('5 - People'!$S$11=\"\",\"\",'5 - People'!$S$11)","v":""},{"$f":"IF('5 - People'!$R$11=\"\",\"\",'5 - People'!$R$11)","v":""},{"$f":"IF('5 - People'!$Q$11=\"\",\"\",'5 - People'!$Q$11)","v":""},{"$f":"IF('5 - People'!$P$11=\"\",\"\",'5 - People'!$P$11)","v":""},{"$f":"IF('5 - People'!$E$11=\"\",\"Understand that seabirds complete in report - 5.01.11\",'5 - People'!$E$11)","v":-0.181818181818182},{"$f":"IFERROR(S87-O87,\"\")","v":""},null,{"$f":"IF(S87>O87,\"UP\",IF(S87<O87,\"Down\",\"Level\"))","v":"Down"}]
[null,"Baseline Project Duration (days)",{"$f":"IFERROR(C84-C82,\"\")","v":""},{"$f":"IFERROR(D84-D82,\"\")","v":""},{"$f":"IFERROR(E84-E82,\"\")","v":""},{"$f":"IFERROR(F84-F82,\"\")","v":""},{"$f":"IFERROR((G84-G82),\"\")","v":""},null,{"$f":"IFERROR(G88-C88,\"\")","v":""},null,{"$f":"IF(G88>C88,\"OUT\",IF(G88<C88,\"In\",\"Stable\"))","v":"Stable"},null,"Project Team Turnover since last Quarter",null,{"$f":"IF('5 - People'!$S$12=\"\",\"\",'5 - People'!$S$12)","v":""},{"$f":"IF('5 - People'!$R$12=\"\",\"\",'5 - People'!$R$12)","v":""},{"$f":"IF('5 - People'!$Q$12=\"\",\"\",'5 - People'!$Q$12)","v":""},{"$f":"IF('5 - People'!$P$12=\"\",\"\",'5 - People'!$P$12)","v":""},{"$f":"IF('5 - People'!$E$12=\"\",\"Understand that seabirds complete in report - 5.01.7\",'5 - People'!$E$12)","v":"Low"},{"$f":"IFERROR(S88-O88,\"\")","v":""},null,{"$f":"IF(S88>O88,\"UP\",IF(S88<O88,\"Down\",\"Level\"))","v":"UP"}]
[null,"Forecast Project Duration (days)",{"$f":"IFERROR(C85-C83,\"\")","v":""},{"$f":"IFERROR(D85-D83,\"\")","v":""},{"$f":"IFERROR(E85-E83,\"\")","v":""},{"$f":"IFERROR(F85-F83,\"\")","v":""},{"$f":"IFERROR((G85-G83),\"\")","v":""},null,{"$f":"IFERROR(G89-C89,\"\")","v":""},null,{"$f":"IF(G89>C89,\"OUT\",IF(G89<C89,\"In\",\"Stable\"))","v":"Stable"},null,"Resources Commentary",null,{"$f":"IF('5 - People'!$S$13=\"\",\"\",'5 - People'!$S$13)","v":""},{"$f":"IF('5 - People'!$R$13=\"\",\"\",'5 - People'!$R$13)","v":""},{"$f":"IF('5 - People'!$Q$13=\"\",\"\",'5 - People'!$Q$13)","v":""},{"$f":"IF('5 - People'!$P$13=\"\",\"\",'5 - People'!$P$13)","v":""},{"$f":"IF('5 - People'!$E$13=\"\",\"Understand that seabirds complete in report - 5.01.7\",'5 - People'!$E$13)","v":"Bankers are always watching Sky Sports on Monday afternoons, so we are never shy of resources."}]
[null,"%age through project - Forecast",{"$f":"IFERROR((Introduction!$C$18-C83)/(C85-C83),\"\")","v":""},{"$f":"IFERROR((Introduction!$C$18-D83)/(D85-D83),\"\")","v":""},{"$f":"IFERROR((Introduction!$C$18-E83)/(E85-E83),\"\")","v":""},{"$f":"IFERROR((Introduction!$C$18-F83)/(F85-F83),\"\")","v":""},{"$f":"IFERROR((Introduction!$C$18-G83)/(G85-G83),\"\")","v":""},null,{"$f":"IFERROR(G90-C90,\"\")","v":""},null,{"$f":"IF(G90>C90,\"More\",IF(G90<C90,\"LESS\",\"Stable\"))","v":"Stable"}]
[]
[null,"Lifecycle stage",{"$f":"IF('7 - Business Case'!$S$6=\"\",\"\",'7 - Business Case'!$S$6)","v":""},{"$f":"IF('7 - Business Case'!$R$6=\"\",\"\",'7 - Business Case'!$R$6)","v":""},{"$f":"IF('7 - Business Case'!$Q$6=\"\",\"\",'7 - Business Case'!$Q$6)","v":""},{"$f":"IF('7 - Business Case'!$P$6=\"\",\"\",'7 - Business Case'!$P$6)","v":""},{"$f":"IF('7 - Business Case'!$E$6=\"\",\"Understand that seabirds complete in report - 7.01.1\",'7 - Business Case'!$E$6)","v":"Define"}]
[null,"Lifecycle stage (Agile)",{"$f":"IF('7 - Business Case'!$S$7=\"\",\"\",'7 - Business Case'!$S$7)","v":""},{"$f":"IF('7 - Business Case'!$R$7=\"\",\"\",'7 - Business Case'!$R$7)","v":""},{"$f":"IF('7 - Business Case'!$Q$7=\"\",\"\",'7 - Business Case'!$Q$7)","v":""},{"$f":"IF('7 - Business Case'!$P$7=\"\",\"\",'7 - Business Case'!$P$7)","v":""},{"$f":"IF('7 - Business Case'!$E$6<>\"\",\"\",IF(AND('7 - Business Case'!$E$6=\"\",'7 - Business Case'!$E$7=\"\"),\"Understand that seabirds complete in report - 7.01.1/2\",'7 - Business Case'!$E$7))","v":""}]
[]
[null,"Milestones",null,null,null,null,null,null,null,null,null,null,null,null,"Capacity & Capability"]
[null,"Understand that seabirds NOTE - THIS PICKS UP THE FIRST DATE IN THE MILESTONE LIST IF THERE ARE DUPLICATE DATES",null,null,null,null,null,null,null,null,null,null,null,null,null,"Understand that seabirds  NOTE: FUTURE HERE IS THE 6 MONTH PREDICTION FROM 2 QUARTERS AGO"]
[null,"Approval","Milestone","TAP / Control","Version","Baseline","Forecast","Ginga (days)","Status","Comment","TREND","1 year change",null,null,null,"Q-4","Q-3","Q-2","Previous Qtr (Q minus 1 (Q-1))","Current Quarter","TREND","FUTURE"]
[]
[{"$f":"INDEX('6a - Milestones - Approvals'!$C$7:$C$56,MATCH(MAX(IF(('6a - Milestones - Approvals'!$H$7:$H$56<$G$100),'6a - Milestones - Approvals'!$H$7:$H$56)),'6a - Milestones - Approvals'!$H$7:$H$56,0))","v":"6.01.10"},"Last",{"$f":"IFERROR(IF(VLOOKUP($A$99,'6a - Milestones - Approvals'!$C$7:$K$56,2,0)=\"\",CONCATENATE(\"Understand that seabirds complete - \",$A$99),VLOOKUP($A$99,'6a - Milestones - Approvals'!$C$7:$K$56,2,0)),\"No milestone before snapshot date\")","v":"OBC - MPRG"},{"$f":"IFERROR(IF(VLOOKUP($A$99,'6a - Milestones - Approvals'!$C$7:$K$56,3,0)=\"\",CONCATENATE(\"Understand that seabirds complete - \",$A$99),VLOOKUP($A$99,'6a - Milestones - Approvals'!$C$7:$K$56,3,0)),\"No milestone before snapshot date\")","v":"Approval - HMT OBC"},{"$f":"IFERROR(IF(VLOOKUP($A$99,'6a - Milestones - Approvals'!$C$7:$K$56,4,0)=\"\",CONCATENATE(\"Understand that seabirds complete - \",$A$99),VLOOKUP($A$99,'6a - Milestones - Approvals'!$C$7:$K$56,4,0)),\"No milestone before snapshot date\")","v":1},{"$f":"IFERROR(IF(VLOOKUP($A$99,'6a - Milestones - Approvals'!$C$7:$K$56,5,0)=\"\",CONCATENATE(\"Understand that seabirds complete - \",$A$99),VLOOKUP($A$99,'6a - Milestones - Approvals'!$C$7:$K$56,5,0)),\"No milestone before snapshot date\")","v":"2018-12-13"},{"$f":"IFERROR(IF(VLOOKUP($A$99,'6a - Milestones - Approvals'!$C$7:$K$56,6,0)=\"\",CONCATENATE(\"Understand that seabirds complete - \",$A$99),VLOOKUP($A$99,'6a - Milestones - Approvals'!$C$7:$K$56,6,0)),\"No milestone before snapshot date\")","v":"2019-05-03"},{"$f":"IFERROR(IF(VLOOKUP($A$99,'6a - Milestones - Approvals'!$C$7:$K$56,7,0)=\"\",\"\",VLOOKUP($A$99,'6a - Milestones - Approvals'!$C$7:$K$56,7,0)),\"No milestone before snapshot date\")","v":141},{"$f":"IFERROR(IF(VLOOKUP($A$99,'6a - Milestones - Approvals'!$C$7:$K$56,8,0)=\"\",CONCATENATE(\"Understand that seabirds complete - \",$A$99),VLOOKUP($A$99,'6a - Milestones - Approvals'!$C$7:$K$56,8,0)),\"No milestone before snapshot date\")","v":"Live"},{"$f":"IFERROR(IF(VLOOKUP($A$99,'6a - Milestones - Approvals'!$C$7:$K$56,9,0)=\"\",\"\",VLOOKUP($A$99,'6a - Milestones - Approvals'!$C$7:$K$56,9,0)),\"No milestone before snapshot date\")","v":""},null,{"$f":"IF(G99>F99,\"OUT\",IF(G99<F99,\"In\",\"Stable\"))","v":"OUT"},null,null,"Digital",{"$f":"IFERROR(IF('5 - People'!$S$17=\"\",\"\",MID('5 - People'!$S$17,SEARCH(\"- \",'5 - People'!$S$17)+2,SEARCH(\" :\",'5 - People'!$S$17)-SEARCH(\"- \",'5 - People'!$S$17)-2)),\"\")","v":""},{"$f":"IFERROR(IF('5 - People'!$R$17=\"\",\"\",MID('5 - People'!$R$17,SEARCH(\"- \",'5 - People'!$R$17)+2,SEARCH(\" :\",'5 - People'!$R$17)-SEARCH(\"- \",'5 - People'!$R$17)-2)),\"\")","v":""},{"$f":"IFERROR(IF('5 - People'!$Q$17=\"\",\"\",MID('5 - People'!$Q$17,SEARCH(\"- \",'5 - People'!$Q$17)+2,SEARCH(\" :\",'5 - People'!$Q$17)-SEARCH(\"- \",'5 - People'!$Q$17)-2)),\"\")","v":""},{"$f":"IFERROR(IF('5 - People'!$P$17=\"\",\"\",MID('5 - People'!$P$17,SEARCH(\"- \",'5 - People'!$P$17)+2,SEARCH(\" :\",'5 - People'!$P$17)-SEARCH(\"- \",'5 - People'!$P$17)-2)),\"\")","v":""},{"$f":"IF('5 - People'!$E$17=\"\",\"Understand that seabirds complete in report - 5.02.1\",'5 - People'!$E$17)","v":"N/A"},null,{"$f":"IFERROR(IF('5 - People'!$Q$17=\"\",\"\",MID('5 - People'!$Q$17,SEARCH(\": \",'5 - People'!$Q$17)+2,SEARCH(\" ;\",'5 - People'!$Q$17)-SEARCH(\": \",'5 - People'!$Q$17)-2)),\"\")","v":""},null,null,null,{"$f":"IF(P99=\"Green\",\"1\",IF(P99=\"Amber/Green\",\"2\",IF(P99=\"Amber\",\"3\",IF(P99=\"Amber/Red\",\"4\",\"5\"))))*1","v":5},{"$f":"IF(Q99=\"Green\",\"1\",IF(Q99=\"Amber/Green\",\"2\",IF(Q99=\"Amber\",\"3\",IF(Q99=\"Amber/Red\",\"4\",\"5\"))))*1","v":5},{"$f":"IF(R99=\"Green\",\"1\",IF(R99=\"Amber/Green\",\"2\",IF(R99=\"Amber\",\"3\",IF(R99=\"Amber/Red\",\"4\",\"5\"))))*1","v":5},{"$f":"IF(S99=\"Green\",\"1\",IF(S99=\"Amber/Green\",\"2\",IF(S99=\"Amber\",\"3\",IF(S99=\"Amber/Red\",\"4\",\"5\"))))*1","v":5},{"$f":"IF(T99=\"Green\",\"1\",IF(T99=\"Amber/Green\",\"2\",IF(T99=\"Amber\",\"3\",IF(T99=\"Amber/Red\",\"4\",\"5\"))))*1","v":5}]
[{"$f":"INDEX('6a - Milestones - Approvals'!$C$7:$C$56,MATCH(MAX(IF(('6a - Milestones - Approvals'!$H$7:$H$56<=Introduction!$C$18),'6a - Milestones - Approvals'!$H$7:$H$56)),'6a - Milestones - Approvals'!$H$7:$H$56,0))","v":"6.01.13"},"Live",{"$f":"IFERROR(IF(VLOOKUP($A$100,'6a - Milestones - Approvals'!$C$7:$K$56,2,0)=\"\",CONCATENATE(\"Understand that seabirds complete - \",$A$100),VLOOKUP($A$100,'6a - Milestones - Approvals'!$C$7:$K$56,2,0)),\"No milestone before snapshot date\")","v":"Pre-OJEU Approval"},{"$f":"IFERROR(IF(VLOOKUP($A$100,'6a - Milestones - Approvals'!$C$7:$K$56,3,0)=\"\",CONCATENATE(\"Understand that seabirds complete - \",$A$100),VLOOKUP($A$100,'6a - Milestones - Approvals'!$C$7:$K$56,3,0)),\"No milestone before snapshot date\")","v":"Control - Commercial control and dispute disclosure (including facilities management (FM))"},{"$f":"IFERROR(IF(VLOOKUP($A$100,'6a - Milestones - Approvals'!$C$7:$K$56,4,0)=\"\",CONCATENATE(\"Understand that seabirds complete - \",$A$100),VLOOKUP($A$100,'6a - Milestones - Approvals'!$C$7:$K$56,4,0)),\"No milestone before snapshot date\")","v":1},{"$f":"IFERROR(IF(VLOOKUP($A$100,'6a - Milestones - Approvals'!$C$7:$K$56,5,0)=\"\",CONCATENATE(\"Understand that seabirds complete - \",$A$100),VLOOKUP($A$100,'6a - Milestones - Approvals'!$C$7:$K$56,5,0)),\"No milestone before snapshot date\")","v":"2019-01-31"},{"$f":"IFERROR(IF(VLOOKUP($A$100,'6a - Milestones - Approvals'!$C$7:$K$56,6,0)=\"\",CONCATENATE(\"Understand that seabirds complete - \",$A$100),VLOOKUP($A$100,'6a - Milestones - Approvals'!$C$7:$K$56,6,0)),\"No milestone before snapshot date\")","v":"2019-05-31"},{"$f":"IFERROR(IF(VLOOKUP($A$100,'6a - Milestones - Approvals'!$C$7:$K$56,7,0)=\"\",\"\",VLOOKUP($A$100,'6a - Milestones - Approvals'!$C$7:$K$56,7,0)),\"No milestone before snapshot date\")","v":120},{"$f":"IFERROR(IF(VLOOKUP($A$100,'6a - Milestones - Approvals'!$C$7:$K$56,8,0)=\"\",CONCATENATE(\"Understand that seabirds complete - \",$A$100),VLOOKUP($A$100,'6a - Milestones - Approvals'!$C$7:$K$56,8,0)),\"No milestone before snapshot date\")","v":"Live"},{"$f":"IFERROR(IF(VLOOKUP($A$100,'6a - Milestones - Approvals'!$C$7:$K$56,9,0)=\"\",\"\",VLOOKUP($A$100,'6a - Milestones - Approvals'!$C$7:$K$56,9,0)),\"No milestone before snapshot date\")","v":""},null,{"$f":"IF(G100>F100,\"OUT\",IF(G100<F100,\"In\",\"Stable\"))","v":"OUT"},null,null,"Information Technology",{"$f":"IFERROR(IF('5 - People'!$S$18=\"\",\"\",MID('5 - People'!$S$18,SEARCH(\"- \",'5 - People'!$S$18)+2,SEARCH(\" :\",'5 - People'!$S$18)-SEARCH(\"- \",'5 - People'!$S$18)-2)),\"\")","v":""},{"$f":"IFERROR(IF('5 - People'!$R$18=\"\",\"\",MID('5 - People'!$R$18,SEARCH(\"- \",'5 - People'!$R$18)+2,SEARCH(\" :\",'5 - People'!$R$18)-SEARCH(\"- \",'5 - People'!$R$18)-2)),\"\")","v":""},{"$f":"IFERROR(IF('5 - People'!$Q$18=\"\",\"\",MID('5 - People'!$Q$18,SEARCH(\"- \",'5 - People'!$Q$18)+2,SEARCH(\" :\",'5 - People'!$Q$18)-SEARCH(\"- \",'5 - People'!$Q$18)-2)),\"\")","v":""},{"$f":"IFERROR(IF('5 - People'!$P$18=\"\",\"\",MID('5 - People'!$P$18,SEARCH(\"- \",'5 - People'!$P$18)+2,SEARCH(\" :\",'5 - People'!$P$18)-SEARCH(\"- \",'5 - People'!$P$18)-2)),\"\")","v":""},{"$f":"IF('5 - People'!$E$18=\"\",\"Understand that seabirds complete in report - 5.02.1\",'5 - People'!$E$18)","v":"Amber"},null,{"$f":"IFERROR(IF('5 - People'!$Q$18=\"\",\"\",MID('5 - People'!$Q$18,SEARCH(\": \",'5 - People'!$Q$18)+2,SEARCH(\" ;\",'5 - People'!$Q$18)-SEARCH(\": \",'5 - People'!$Q$18)-2)),\"\")","v":""},null,null,null,{"$f":"IF(P100=\"Green\",\"1\",IF(P100=\"Amber/Green\",\"2\",IF(P100=\"Amber\",\"3\",IF(P100=\"Amber/Red\",\"4\",\"5\"))))*1","v":5},{"$f":"IF(Q100=\"Green\",\"1\",IF(Q100=\"Amber/Green\",\"2\",IF(Q100=\"Amber\",\"3\",IF(Q100=\"Amber/Red\",\"4\",\"5\"))))*1","v":5},{"$f":"IF(R100=\"Green\",\"1\",IF(R100=\"Amber/Green\",\"2\",IF(R100=\"Amber\",\"3\",IF(R100=\"Amber/Red\",\"4\",\"5\"))))*1","v":5},{"$f":"IF(S100=\"Green\",\"1\",IF(S100=\"Amber/Green\",\"2\",IF(S100=\"Amber\",\"3\",IF(S100=\"Amber/Red\",\"4\",\"5\"))))*1","v":5},{"$f":"IF(T100=\"Green\",\"1\",IF(T100=\"Amber/Green\",\"2\",IF(T100=\"Amber\",\"3\",IF(T100=\"Amber/Red\",\"4\",\"5\"))))*1","v":3}]
[{"$f":"INDEX('6a - Milestones - Approvals'!$C$7:$C$56,MATCH(MIN(IF(('6a - Milestones - Approvals'!$H$7:$H$56>=Introduction!$C$18),'6a - Milestones - Approvals'!$H$7:$H$56)),'6a - Milestones - Approvals'!$H$7:$H$56,0))","v":"6.01.7"},"Next",{"$f":"IFERROR(IF(VLOOKUP($A$101,'6a - Milestones - Approvals'!$C$7:$K$56,2,0)=\"\",CONCATENATE(\"Understand that seabirds complete - \",$A$101),VLOOKUP($A$101,'6a - Milestones - Approvals'!$C$7:$K$56,2,0)),\"No milestone after snapshot date\")","v":"Planning Consents"},{"$f":"IFERROR(IF(VLOOKUP($A$101,'6a - Milestones - Approvals'!$C$7:$K$56,3,0)=\"\",CONCATENATE(\"Understand that seabirds complete - \",$A$101),VLOOKUP($A$101,'6a - Milestones - Approvals'!$C$7:$K$56,3,0)),\"No milestone after snapshot date\")","v":"Control - Property"},{"$f":"IFERROR(IF(VLOOKUP($A$101,'6a - Milestones - Approvals'!$C$7:$K$56,4,0)=\"\",CONCATENATE(\"Understand that seabirds complete - \",$A$101),VLOOKUP($A$101,'6a - Milestones - Approvals'!$C$7:$K$56,4,0)),\"No milestone after snapshot date\")","v":1},{"$f":"IFERROR(IF(VLOOKUP($A$101,'6a - Milestones - Approvals'!$C$7:$K$56,5,0)=\"\",CONCATENATE(\"Understand that seabirds complete - \",$A$101),VLOOKUP($A$101,'6a - Milestones - Approvals'!$C$7:$K$56,5,0)),\"No milestone after snapshot date\")","v":"1923-01-01"},{"$f":"IFERROR(IF(VLOOKUP($A$101,'6a - Milestones - Approvals'!$C$7:$K$56,6,0)=\"\",CONCATENATE(\"Understand that seabirds complete - \",$A$101),VLOOKUP($A$101,'6a - Milestones - Approvals'!$C$7:$K$56,6,0)),\"No milestone after snapshot date\")","v":"2020-03-31"},{"$f":"IFERROR(IF(VLOOKUP($A$101,'6a - Milestones - Approvals'!$C$7:$K$56,7,0)=\"\",\"\",VLOOKUP($A$101,'6a - Milestones - Approvals'!$C$7:$K$56,7,0)),\"No milestone after snapshot date\")","v":35519},{"$f":"IFERROR(IF(VLOOKUP($A$101,'6a - Milestones - Approvals'!$C$7:$K$56,8,0)=\"\",CONCATENATE(\"Understand that seabirds complete - \",$A$101),VLOOKUP($A$101,'6a - Milestones - Approvals'!$C$7:$K$56,8,0)),\"No milestone after snapshot date\")","v":"Live"},{"$f":"IFERROR(IF(VLOOKUP($A$101,'6a - Milestones - Approvals'!$C$7:$K$56,9,0)=\"\",\"\",VLOOKUP($A$101,'6a - Milestones - Approvals'!$C$7:$K$56,9,0)),\"No milestone after snapshot date\")","v":""},null,{"$f":"IF(G101>F101,\"OUT\",IF(G101<F101,\"In\",\"Stable\"))","v":"OUT"},null,null,"Legal, Commercial & Contract Management",{"$f":"IFERROR(IF('5 - People'!$S$19=\"\",\"\",MID('5 - People'!$S$19,SEARCH(\"- \",'5 - People'!$S$19)+2,SEARCH(\" :\",'5 - People'!$S$19)-SEARCH(\"- \",'5 - People'!$S$19)-2)),\"\")","v":""},{"$f":"IFERROR(IF('5 - People'!$R$19=\"\",\"\",MID('5 - People'!$R$19,SEARCH(\"- \",'5 - People'!$R$19)+2,SEARCH(\" :\",'5 - People'!$R$19)-SEARCH(\"- \",'5 - People'!$R$19)-2)),\"\")","v":""},{"$f":"IFERROR(IF('5 - People'!$Q$19=\"\",\"\",MID('5 - People'!$Q$19,SEARCH(\"- \",'5 - People'!$Q$19)+2,SEARCH(\" :\",'5 - People'!$Q$19)-SEARCH(\"- \",'5 - People'!$Q$19)-2)),\"\")","v":""},{"$f":"IFERROR(IF('5 - People'!$P$19=\"\",\"\",MID('5 - People'!$P$19,SEARCH(\"- \",'5 - People'!$P$19)+2,SEARCH(\" :\",'5 - People'!$P$19)-SEARCH(\"- \",'5 - People'!$P$19)-2)),\"\")","v":""},{"$f":"IF('5 - People'!$E$19=\"\",\"Understand that seabirds complete in report - 5.02.1\",'5 - People'!$E$19)","v":"Green"},null,{"$f":"IFERROR(IF('5 - People'!$Q$19=\"\",\"\",MID('5 - People'!$Q$19,SEARCH(\": \",'5 - People'!$Q$19)+2,SEARCH(\" ;\",'5 - People'!$Q$19)-SEARCH(\": \",'5 - People'!$Q$19)-2)),\"\")","v":""},null,null,null,{"$f":"IF(P101=\"Green\",\"1\",IF(P101=\"Amber/Green\",\"2\",IF(P101=\"Amber\",\"3\",IF(P101=\"Amber/Red\",\"4\",\"5\"))))*1","v":5},{"$f":"IF(Q101=\"Green\",\"1\",IF(Q101=\"Amber/Green\",\"2\",IF(Q101=\"Amber\",\"3\",IF(Q101=\"Amber/Red\",\"4\",\"5\"))))*1","v":5},{"$f":"IF(R101=\"Green\",\"1\",IF(R101=\"Amber/Green\",\"2\",IF(R101=\"Amber\",\"3\",IF(R101=\"Amber/Red\",\"4\",\"5\"))))*1","v":5},{"$f":"IF(S101=\"Green\",\"1\",IF(S101=\"Amber/Green\",\"2\",IF(S101=\"Amber\",\"3\",IF(S101=\"Amber/Red\",\"4\",\"5\"))))*1","v":5},{"$f":"IF(T101=\"Green\",\"1\",IF(T101=\"Amber/Green\",\"2\",IF(T101=\"Amber\",\"3\",IF(T101=\"Amber/Red\",\"4\",\"5\"))))*1","v":1}]
[null,null,null,null,null,null,null,null,null,null,null,null,null,null,"Project Forgery",{"$f":"IFERROR(IF('5 - People'!$S$20=\"\",\"\",MID('5 - People'!$S$20,SEARCH(\"- \",'5 - People'!$S$20)+2,SEARCH(\" :\",'5 - People'!$S$20)-SEARCH(\"- \",'5 - People'!$S$20)-2)),\"\")","v":""},{"$f":"IFERROR(IF('5 - People'!$R$20=\"\",\"\",MID('5 - People'!$R$20,SEARCH(\"- \",'5 - People'!$R$20)+2,SEARCH(\" :\",'5 - People'!$R$20)-SEARCH(\"- \",'5 - People'!$R$20)-2)),\"\")","v":""},{"$f":"IFERROR(IF('5 - People'!$Q$20=\"\",\"\",MID('5 - People'!$Q$20,SEARCH(\"- \",'5 - People'!$Q$20)+2,SEARCH(\" :\",'5 - People'!$Q$20)-SEARCH(\"- \",'5 - People'!$Q$20)-2)),\"\")","v":""},{"$f":"IFERROR(IF('5 - People'!$P$20=\"\",\"\",MID('5 - People'!$P$20,SEARCH(\"- \",'5 - People'!$P$20)+2,SEARCH(\" :\",'5 - People'!$P$20)-SEARCH(\"- \",'5 - People'!$P$20)-2)),\"\")","v":""},{"$f":"IF('5 - People'!$E$20=\"\",\"Understand that seabirds complete in report - 5.02.1\",'5 - People'!$E$20)","v":"Green"},null,{"$f":"IFERROR(IF('5 - People'!$Q$20=\"\",\"\",MID('5 - People'!$Q$20,SEARCH(\": \",'5 - People'!$Q$20)+2,SEARCH(\" ;\",'5 - People'!$Q$20)-SEARCH(\": \",'5 - People'!$Q$20)-2)),\"\")","v":""},null,null,null,{"$f":"IF(P102=\"Green\",\"1\",IF(P102=\"Amber/Green\",\"2\",IF(P102=\"Amber\",\"3\",IF(P102=\"Amber/Red\",\"4\",\"5\"))))*1","v":5},{"$f":"IF(Q102=\"Green\",\"1\",IF(Q102=\"Amber/Green\",\"2\",IF(Q102=\"Amber\",\"3\",IF(Q102=\"Amber/Red\",\"4\",\"5\"))))*1","v":5},{"$f":"IF(R102=\"Green\",\"1\",IF(R102=\"Amber/Green\",\"2\",IF(R102=\"Amber\",\"3\",IF(R102=\"Amber/Red\",\"4\",\"5\"))))*1","v":5},{"$f":"IF(S102=\"Green\",\"1\",IF(S102=\"Amber/Green\",\"2\",IF(S102=\"Amber\",\"3\",IF(S102=\"Amber/Red\",\"4\",\"5\"))))*1","v":5},{"$f":"IF(T102=\"Green\",\"1\",IF(T102=\"Amber/Green\",\"2\",IF(T102=\"Amber\",\"3\",IF(T102=\"Amber/Red\",\"4\",\"5\"))))*1","v":1}]
[null,"Assurance","Milestone","Assurance",null,"Baseline","Forecast","Ginga (days)","Status","Comment","TREND","1 year change",null,null,"Change Implementation",{"$f":"IFERROR(IF('5 - People'!$S$21=\"\",\"\",MID('5 - People'!$S$21,SEARCH(\"- \",'5 - People'!$S$21)+2,SEARCH(\" :\",'5 - People'!$S$21)-SEARCH(\"- \",'5 - People'!$S$21)-2)),\"\")","v":""},{"$f":"IFERROR(IF('5 - People'!$R$21=\"\",\"\",MID('5 - People'!$R$21,SEARCH(\"- \",'5 - People'!$R$21)+2,SEARCH(\" :\",'5 - People'!$R$21)-SEARCH(\"- \",'5 - People'!$R$21)-2)),\"\")","v":""},{"$f":"IFERROR(IF('5 - People'!$Q$21=\"\",\"\",MID('5 - People'!$Q$21,SEARCH(\"- \",'5 - People'!$Q$21)+2,SEARCH(\" :\",'5 - People'!$Q$21)-SEARCH(\"- \",'5 - People'!$Q$21)-2)),\"\")","v":""},{"$f":"IFERROR(IF('5 - People'!$P$21=\"\",\"\",MID('5 - People'!$P$21,SEARCH(\"- \",'5 - People'!$P$21)+2,SEARCH(\" :\",'5 - People'!$P$21)-SEARCH(\"- \",'5 - People'!$P$21)-2)),\"\")","v":""},{"$f":"IF('5 - People'!$E$21=\"\",\"Understand that seabirds complete in report - 5.02.1\",'5 - People'!$E$21)","v":"N/A"},null,{"$f":"IFERROR(IF('5 - People'!$Q$21=\"\",\"\",MID('5 - People'!$Q$21,SEARCH(\": \",'5 - People'!$Q$21)+2,SEARCH(\" ;\",'5 - People'!$Q$21)-SEARCH(\": \",'5 - People'!$Q$21)-2)),\"\")","v":""},null,null,null,{"$f":"IF(P103=\"Green\",\"1\",IF(P103=\"Amber/Green\",\"2\",IF(P103=\"Amber\",\"3\",IF(P103=\"Amber/Red\",\"4\",\"5\"))))*1","v":5},{"$f":"IF(Q103=\"Green\",\"1\",IF(Q103=\"Amber/Green\",\"2\",IF(Q103=\"Amber\",\"3\",IF(Q103=\"Amber/Red\",\"4\",\"5\"))))*1","v":5},{"$f":"IF(R103=\"Green\",\"1\",IF(R103=\"Amber/Green\",\"2\",IF(R103=\"Amber\",\"3\",IF(R103=\"Amber/Red\",\"4\",\"5\"))))*1","v":5},{"$f":"IF(S103=\"Green\",\"1\",IF(S103=\"Amber/Green\",\"2\",IF(S103=\"Amber\",\"3\",IF(S103=\"Amber/Red\",\"4\",\"5\"))))*1","v":5},{"$f":"IF(T103=\"Green\",\"1\",IF(T103=\"Amber/Green\",\"2\",IF(T103=\"Amber\",\"3\",IF(T103=\"Amber/Red\",\"4\",\"5\"))))*1","v":5}]
[null,null,null,null,null,null,null,null,null,null,null,null,null,null,"Technical",{"$f":"IFERROR(IF('5 - People'!$S$22=\"\",\"\",MID('5 - People'!$S$22,SEARCH(\"- \",'5 - People'!$S$22)+2,SEARCH(\" :\",'5 - People'!$S$22)-SEARCH(\"- \",'5 - People'!$S$22)-2)),\"\")","v":""},{"$f":"IFERROR(IF('5 - People'!$R$22=\"\",\"\",MID('5 - People'!$R$22,SEARCH(\"- \",'5 - People'!$R$22)+2,SEARCH(\" :\",'5 - People'!$R$22)-SEARCH(\"- \",'5 - People'!$R$22)-2)),\"\")","v":""},{"$f":"IFERROR(IF('5 - People'!$Q$22=\"\",\"\",MID('5 - People'!$Q$22,SEARCH(\"- \",'5 - People'!$Q$22)+2,SEARCH(\" :\",'5 - People'!$Q$22)-SEARCH(\"- \",'5 - People'!$Q$22)-2)),\"\")","v":""},{"$f":"IFERROR(IF('5 - People'!$P$22=\"\",\"\",MID('5 - People'!$P$22,SEARCH(\"- \",'5 - People'!$P$22)+2,SEARCH(\" :\",'5 - People'!$P$22)-SEARCH(\"- \",'5 - People'!$P$22)-2)),\"\")","v":""},{"$f":"IF('5 - People'!$E$22=\"\",\"Understand that seabirds complete in report - 5.02.1\",'5 - People'!$E$22)","v":"Green"},null,{"$f":"IFERROR(IF('5 - People'!$Q$22=\"\",\"\",MID('5 - People'!$Q$22,SEARCH(\": \",'5 - People'!$Q$22)+2,SEARCH(\" ;\",'5 - People'!$Q$22)-SEARCH(\": \",'5 - People'!$Q$22)-2)),\"\")","v":""},null,null,null,{"$f":"IF(P104=\"Green\",\"1\",IF(P104=\"Amber/Green\",\"2\",IF(P104=\"Amber\",\"3\",IF(P104=\"Amber/Red\",\"4\",\"5\"))))*1","v":5},{"$f":"IF(Q104=\"Green\",\"1\",IF(Q104=\"Amber/Green\",\"2\",IF(Q104=\"Amber\",\"3\",IF(Q104=\"Amber/Red\",\"4\",\"5\"))))*1","v":5},{"$f":"IF(R104=\"Green\",\"1\",IF(R104=\"Amber/Green\",\"2\",IF(R104=\"Amber\",\"3\",IF(R104=\"Amber/Red\",\"4\",\"5\"))))*1","v":5},{"$f":"IF(S104=\"Green\",\"1\",IF(S104=\"Amber/Green\",\"2\",IF(S104=\"Amber\",\"3\",IF(S104=\"Amber/Red\",\"4\",\"5\"))))*1","v":5},{"$f":"IF(T104=\"Green\",\"1\",IF(T104=\"Amber/Green\",\"2\",IF(T104=\"Amber\",\"3\",IF(T104=\"Amber/Red\",\"4\",\"5\"))))*1","v":1}]
[{"$f":"INDEX('6b - Milestones - Assurance'!$C$7:$C$56,MATCH(MAX(IF(('6b - Milestones - Assurance'!$G$7:$G$56<$G$106),'6b - Milestones - Assurance'!$G$7:$G$56)),'6b - Milestones - Assurance'!$G$7:$G$56,0))","v":"6.02.11"},"Last",{"$f":"IFERROR(IF(VLOOKUP($A$105,'6b - Milestones - Assurance'!$C$7:$K$56,2,0)=\"\",CONCATENATE(\"Understand that seabirds complete - \",$A$105),VLOOKUP($A$105,'6b - Milestones - Assurance'!$C$7:$K$56,2,0)),\"No milestone before snapshot date\")","v":"Effortless Review (OGC Wedgie 3a)"},{"$f":"IFERROR(IF(VLOOKUP($A$106,'6b - Milestones - Assurance'!$C$7:$K$56,3,0)=\"\",CONCATENATE(\"Understand that seabirds complete - \",$A$105),VLOOKUP($A$105,'6b - Milestones - Assurance'!$C$7:$K$56,3,0)),\"No milestone before snapshot date\")","v":"(3) openward External Independent Review"},null,{"$f":"IFERROR(IF(VLOOKUP($A$105,'6b - Milestones - Assurance'!$C$7:$K$56,4,0)=\"\",CONCATENATE(\"Understand that seabirds complete - \",$A$105),VLOOKUP($A$105,'6b - Milestones - Assurance'!$C$7:$K$56,4,0)),\"No milestone before snapshot date\")","v":"2018-06-04"},{"$f":"IFERROR(IF(VLOOKUP($A$105,'6b - Milestones - Assurance'!$C$7:$K$56,5,0)=\"\",CONCATENATE(\"Understand that seabirds complete - \",$A$105),VLOOKUP($A$105,'6b - Milestones - Assurance'!$C$7:$K$56,5,0)),\"No milestone before snapshot date\")","v":"2018-09-21"},{"$f":"IFERROR(IF(VLOOKUP($A$105,'6b - Milestones - Assurance'!$C$7:$K$56,6,0)=\"\",\"\",VLOOKUP($A$105,'6b - Milestones - Assurance'!$C$7:$K$56,6,0)),\"No milestone before snapshot date\")","v":109},{"$f":"IFERROR(IF(VLOOKUP($A$105,'6b - Milestones - Assurance'!$C$7:$K$56,7,0)=\"\",CONCATENATE(\"Understand that seabirds complete - \",$A$105),VLOOKUP($A$105,'6b - Milestones - Assurance'!$C$7:$K$56,7,0)),\"No milestone after snapshot date\")","v":"Complete"},{"$f":"IFERROR(IF(VLOOKUP($A$105,'6b - Milestones - Assurance'!$C$7:$K$56,8,0)=\"\",\"\",VLOOKUP($A$105,'6b - Milestones - Assurance'!$C$7:$K$56,8,0)),\"No milestone before snapshot date\")","v":"Delayed at behest of Effortless."},null,{"$f":"IF(G105>F105,\"OUT\",IF(G105<F105,\"In\",\"Stable\"))","v":"OUT"},null,null,"Industry Knowledge",{"$f":"IFERROR(IF('5 - People'!$S$23=\"\",\"\",MID('5 - People'!$S$23,SEARCH(\"- \",'5 - People'!$S$23)+2,SEARCH(\" :\",'5 - People'!$S$23)-SEARCH(\"- \",'5 - People'!$S$23)-2)),\"\")","v":""},{"$f":"IFERROR(IF('5 - People'!$R$23=\"\",\"\",MID('5 - People'!$R$23,SEARCH(\"- \",'5 - People'!$R$23)+2,SEARCH(\" :\",'5 - People'!$R$23)-SEARCH(\"- \",'5 - People'!$R$23)-2)),\"\")","v":""},{"$f":"IFERROR(IF('5 - People'!$Q$23=\"\",\"\",MID('5 - People'!$Q$23,SEARCH(\"- \",'5 - People'!$Q$23)+2,SEARCH(\" :\",'5 - People'!$Q$23)-SEARCH(\"- \",'5 - People'!$Q$23)-2)),\"\")","v":""},{"$f":"IFERROR(IF('5 - People'!$P$23=\"\",\"\",MID('5 - People'!$P$23,SEARCH(\"- \",'5 - People'!$P$23)+2,SEARCH(\" :\",'5 - People'!$P$23)-SEARCH(\"- \",'5 - People'!$P$23)-2)),\"\")","v":""},{"$f":"IF('5 - People'!$E$23=\"\",\"Understand that seabirds complete in report - 5.02.1\",'5 - People'!$E$23)","v":"N/A"},null,{"$f":"IFERROR(IF('5 - People'!$Q$23=\"\",\"\",MID('5 - People'!$Q$23,SEARCH(\": \",'5 - People'!$Q$23)+2,SEARCH(\" ;\",'5 - People'!$Q$23)-SEARCH(\": \",'5 - People'!$Q$23)-2)),\"\")","v":""},null,null,null,{"$f":"IF(P105=\"Green\",\"1\",IF(P105=\"Amber/Green\",\"2\",IF(P105=\"Amber\",\"3\",IF(P105=\"Amber/Red\",\"4\",\"5\"))))*1","v":5},{"$f":"IF(Q105=\"Green\",\"1\",IF(Q105=\"Amber/Green\",\"2\",IF(Q105=\"Amber\",\"3\",IF(Q105=\"Amber/Red\",\"4\",\"5\"))))*1","v":5},{"$f":"IF(R105=\"Green\",\"1\",IF(R105=\"Amber/Green\",\"2\",IF(R105=\"Amber\",\"3\",IF(R105=\"Amber/Red\",\"4\",\"5\"))))*1","v":5},{"$f":"IF(S105=\"Green\",\"1\",IF(S105=\"Amber/Green\",\"2\",IF(S105=\"Amber\",\"3\",IF(S105=\"Amber/Red\",\"4\",\"5\"))))*1","v":5},{"$f":"IF(T105=\"Green\",\"1\",IF(T105=\"Amber/Green\",\"2\",IF(T105=\"Amber\",\"3\",IF(T105=\"Amber/Red\",\"4\",\"5\"))))*1","v":5}]
[{"$f":"INDEX('6b - Milestones - Assurance'!$C$7:$C$56,MATCH(MAX(IF(('6b - Milestones - Assurance'!$G$7:$G$56<=Introduction!$C$18),'6b - Milestones - Assurance'!$G$7:$G$56)),'6b - Milestones - Assurance'!$G$7:$G$56,0))","v":"6.02.12"},"Live",{"$f":"IFERROR(IF(VLOOKUP($A$106,'6b - Milestones - Assurance'!$C$7:$K$56,2,0)=\"\",CONCATENATE(\"Understand that seabirds complete - \",$A$106),VLOOKUP($A$106,'6b - Milestones - Assurance'!$C$7:$K$56,2,0)),\"No milestone before snapshot date\")","v":"Effortless Review (OGC Wedgie 3a) revisit"},{"$f":"IFERROR(IF(VLOOKUP($A$106,'6b - Milestones - Assurance'!$C$7:$K$56,3,0)=\"\",CONCATENATE(\"Understand that seabirds complete - \",$A$106),VLOOKUP($A$106,'6b - Milestones - Assurance'!$C$7:$K$56,3,0)),\"No milestone before snapshot date\")","v":"(3) openward External Independent Review"},null,{"$f":"IFERROR(IF(VLOOKUP($A$106,'6b - Milestones - Assurance'!$C$7:$K$56,4,0)=\"\",CONCATENATE(\"Understand that seabirds complete - \",$A$106),VLOOKUP($A$106,'6b - Milestones - Assurance'!$C$7:$K$56,4,0)),\"No milestone before snapshot date\")","v":"2019-03-07"},{"$f":"IFERROR(IF(VLOOKUP($A$106,'6b - Milestones - Assurance'!$C$7:$K$56,5,0)=\"\",CONCATENATE(\"Understand that seabirds complete - \",$A$106),VLOOKUP($A$106,'6b - Milestones - Assurance'!$C$7:$K$56,5,0)),\"No milestone before snapshot date\")","v":"2019-03-07"},{"$f":"IFERROR(IF(VLOOKUP($A$106,'6b - Milestones - Assurance'!$C$7:$K$56,6,0)=\"\",\"\",VLOOKUP($A$106,'6b - Milestones - Assurance'!$C$7:$K$56,6,0)),\"No milestone before snapshot date\")","v":0},{"$f":"IFERROR(IF(VLOOKUP($A$106,'6b - Milestones - Assurance'!$C$7:$K$56,7,0)=\"\",CONCATENATE(\"Understand that seabirds complete - \",$A$106),VLOOKUP($A$106,'6b - Milestones - Assurance'!$C$7:$K$56,7,0)),\"No milestone after snapshot date\")","v":"Complete"},{"$f":"IFERROR(IF(VLOOKUP($A$106,'6b - Milestones - Assurance'!$C$7:$K$56,8,0)=\"\",\"\",VLOOKUP($A$106,'6b - Milestones - Assurance'!$C$7:$K$56,8,0)),\"No milestone before snapshot date\")","v":""},null,{"$f":"IF(G106>F106,\"OUT\",IF(G106<F106,\"In\",\"Stable\"))","v":"Stable"},null,null,"Charity",{"$f":"IFERROR(IF('5 - People'!$S$24=\"\",\"\",MID('5 - People'!$S$24,SEARCH(\"- \",'5 - People'!$S$24)+2,SEARCH(\" :\",'5 - People'!$S$24)-SEARCH(\"- \",'5 - People'!$S$24)-2)),\"\")","v":""},{"$f":"IFERROR(IF('5 - People'!$R$24=\"\",\"\",MID('5 - People'!$R$24,SEARCH(\"- \",'5 - People'!$R$24)+2,SEARCH(\" :\",'5 - People'!$R$24)-SEARCH(\"- \",'5 - People'!$R$24)-2)),\"\")","v":""},{"$f":"IFERROR(IF('5 - People'!$Q$24=\"\",\"\",MID('5 - People'!$Q$24,SEARCH(\"- \",'5 - People'!$Q$24)+2,SEARCH(\" :\",'5 - People'!$Q$24)-SEARCH(\"- \",'5 - People'!$Q$24)-2)),\"\")","v":""},{"$f":"IFERROR(IF('5 - People'!$P$24=\"\",\"\",MID('5 - People'!$P$24,SEARCH(\"- \",'5 - People'!$P$24)+2,SEARCH(\" :\",'5 - People'!$P$24)-SEARCH(\"- \",'5 - People'!$P$24)-2)),\"\")","v":""},{"$f":"IF('5 - People'!$E$24=\"\",\"Understand that seabirds complete in report - 5.02.1\",'5 - People'!$E$24)","v":"N/A"},null,{"$f":"IFERROR(IF('5 - People'!$Q$24=\"\",\"\",MID('5 - People'!$Q$24,SEARCH(\": \",'5 - People'!$Q$24)+2,SEARCH(\" ;\",'5 - People'!$Q$24)-SEARCH(\": \",'5 - People'!$Q$24)-2)),\"\")","v":""},null,null,null,{"$f":"IF(P106=\"Green\",\"1\",IF(P106=\"Amber/Green\",\"2\",IF(P106=\"Amber\",\"3\",IF(P106=\"Amber/Red\",\"4\",\"5\"))))*1","v":5},{"$f":"IF(Q106=\"Green\",\"1\",IF(Q106=\"Amber/Green\",\"2\",IF(Q106=\"Amber\",\"3\",IF(Q106=\"Amber/Red\",\"4\",\"5\"))))*1","v":5},{"$f":"IF(R106=\"Green\",\"1\",IF(R106=\"Amber/Green\",\"2\",IF(R106=\"Amber\",\"3\",IF(R106=\"Amber/Red\",\"4\",\"5\"))))*1","v":5},{"$f":"IF(S106=\"Green\",\"1\",IF(S106=\"Amber/Green\",\"2\",IF(S106=\"Amber\",\"3\",IF(S106=\"Amber/Red\",\"4\",\"5\"))))*1","v":5},{"$f":"IF(T106=\"Green\",\"1\",IF(T106=\"Amber/Green\",\"2\",IF(T106=\"Amber\",\"3\",IF(T106=\"Amber/Red\",\"4\",\"5\"))))*1","v":5}]
[{"$f":"INDEX('6b - Milestones - Assurance'!$C$7:$C$56,MATCH(MIN(IF(('6b - Milestones - Assurance'!$G$7:$G$56>=Introduction!$C$18),'6b - Milestones - Assurance'!$G$7:$G$56)),'6b - Milestones - Assurance'!$G$7:$G$56,0))","v":"6.02.6"},"Next",{"$f":"IFERROR(IF(VLOOKUP($A$107,'6b - Milestones - Assurance'!$C$7:$K$56,2,0)=\"\",CONCATENATE(\"Understand that seabirds complete - \",$A$107),VLOOKUP($A$107,'6b - Milestones - Assurance'!$C$7:$K$56,2,0)),\"No milestone after snapshot date\")","v":"Wedgie 3 or PAR (FBC)"},{"$f":"IFERROR(IF(VLOOKUP($A$107,'6b - Milestones - Assurance'!$C$7:$K$56,3,0)=\"\",CONCATENATE(\"Understand that seabirds complete - \",$A$107),VLOOKUP($A$107,'6b - Milestones - Assurance'!$C$7:$K$56,3,0)),\"No milestone after snapshot date\")","v":"(2) Effortless Wedgie 3"},null,{"$f":"IFERROR(IF(VLOOKUP($A$107,'6b - Milestones - Assurance'!$C$7:$K$56,4,0)=\"\",CONCATENATE(\"Understand that seabirds complete - \",$A$107),VLOOKUP($A$107,'6b - Milestones - Assurance'!$C$7:$K$56,4,0)),\"No milestone after snapshot date\")","v":"2020-02-01"},{"$f":"IFERROR(IF(VLOOKUP($A$107,'6b - Milestones - Assurance'!$C$7:$K$56,5,0)=\"\",CONCATENATE(\"Understand that seabirds complete - \",$A$107),VLOOKUP($A$107,'6b - Milestones - Assurance'!$C$7:$K$56,5,0)),\"No milestone after snapshot date\")","v":"2020-02-01"},{"$f":"IFERROR(IF(VLOOKUP($A$107,'6b - Milestones - Assurance'!$C$7:$K$56,6,0)=\"\",\"\",VLOOKUP($A$107,'6b - Milestones - Assurance'!$C$7:$K$56,6,0)),\"No milestone after snapshot date\")","v":0},{"$f":"IFERROR(IF(VLOOKUP($A$107,'6b - Milestones - Assurance'!$C$7:$K$56,7,0)=\"\",CONCATENATE(\"Understand that seabirds complete - \",$A$107),VLOOKUP($A$107,'6b - Milestones - Assurance'!$C$7:$K$56,7,0)),\"No milestone after snapshot date\")","v":"Live"},{"$f":"IFERROR(IF(VLOOKUP($A$107,'6b - Milestones - Assurance'!$C$7:$K$56,8,0)=\"\",\"\",VLOOKUP($A$107,'6b - Milestones - Assurance'!$C$7:$K$56,8,0)),\"No milestone after snapshot date\")","v":""},null,{"$f":"IF(G107>F107,\"OUT\",IF(G107<F107,\"In\",\"Stable\"))","v":"Stable"},null,null,"Analysis",{"$f":"IFERROR(IF('5 - People'!$S$25=\"\",\"\",MID('5 - People'!$S$25,SEARCH(\"- \",'5 - People'!$S$25)+2,SEARCH(\" :\",'5 - People'!$S$25)-SEARCH(\"- \",'5 - People'!$S$25)-2)),\"\")","v":""},{"$f":"IFERROR(IF('5 - People'!$R$25=\"\",\"\",MID('5 - People'!$R$25,SEARCH(\"- \",'5 - People'!$R$25)+2,SEARCH(\" :\",'5 - People'!$R$25)-SEARCH(\"- \",'5 - People'!$R$25)-2)),\"\")","v":""},{"$f":"IFERROR(IF('5 - People'!$Q$25=\"\",\"\",MID('5 - People'!$Q$25,SEARCH(\"- \",'5 - People'!$Q$25)+2,SEARCH(\" :\",'5 - People'!$Q$25)-SEARCH(\"- \",'5 - People'!$Q$25)-2)),\"\")","v":""},{"$f":"IFERROR(IF('5 - People'!$P$25=\"\",\"\",MID('5 - People'!$P$25,SEARCH(\"- \",'5 - People'!$P$25)+2,SEARCH(\" :\",'5 - People'!$P$25)-SEARCH(\"- \",'5 - People'!$P$25)-2)),\"\")","v":""},{"$f":"IF('5 - People'!$E$25=\"\",\"Understand that seabirds complete in report - 5.02.1\",'5 - People'!$E$25)","v":"N/A"},null,{"$f":"IFERROR(IF('5 - People'!$Q$25=\"\",\"\",MID('5 - People'!$Q$25,SEARCH(\": \",'5 - People'!$Q$25)+2,SEARCH(\" ;\",'5 - People'!$Q$25)-SEARCH(\": \",'5 - People'!$Q$25)-2)),\"\")","v":""},null,null,null,{"$f":"IF(P107=\"Green\",\"1\",IF(P107=\"Amber/Green\",\"2\",IF(P107=\"Amber\",\"3\",IF(P107=\"Amber/Red\",\"4\",\"5\"))))*1","v":5},{"$f":"IF(Q107=\"Green\",\"1\",IF(Q107=\"Amber/Green\",\"2\",IF(Q107=\"Amber\",\"3\",IF(Q107=\"Amber/Red\",\"4\",\"5\"))))*1","v":5},{"$f":"IF(R107=\"Green\",\"1\",IF(R107=\"Amber/Green\",\"2\",IF(R107=\"Amber\",\"3\",IF(R107=\"Amber/Red\",\"4\",\"5\"))))*1","v":5},{"$f":"IF(S107=\"Green\",\"1\",IF(S107=\"Amber/Green\",\"2\",IF(S107=\"Amber\",\"3\",IF(S107=\"Amber/Red\",\"4\",\"5\"))))*1","v":5},{"$f":"IF(T107=\"Green\",\"1\",IF(T107=\"Amber/Green\",\"2\",IF(T107=\"Amber\",\"3\",IF(T107=\"Amber/Red\",\"4\",\"5\"))))*1","v":5}]
[null,null,null,null,null,null,null,null,null,null,null,null,null,null,"Communications & Stakeholder Engagement",{"$f":"IFERROR(IF('5 - People'!$S$26=\"\",\"\",MID('5 - People'!$S$26,SEARCH(\"- \",'5 - People'!$S$26)+2,SEARCH(\" :\",'5 - People'!$S$26)-SEARCH(\"- \",'5 - People'!$S$26)-2)),\"\")","v":""},{"$f":"IFERROR(IF('5 - People'!$R$26=\"\",\"\",MID('5 - People'!$R$26,SEARCH(\"- \",'5 - People'!$R$26)+2,SEARCH(\" :\",'5 - People'!$R$26)-SEARCH(\"- \",'5 - People'!$R$26)-2)),\"\")","v":""},{"$f":"IFERROR(IF('5 - People'!$Q$26=\"\",\"\",MID('5 - People'!$Q$26,SEARCH(\"- \",'5 - People'!$Q$26)+2,SEARCH(\" :\",'5 - People'!$Q$26)-SEARCH(\"- \",'5 - People'!$Q$26)-2)),\"\")","v":""},{"$f":"IFERROR(IF('5 - People'!$P$26=\"\",\"\",MID('5 - People'!$P$26,SEARCH(\"- \",'5 - People'!$P$26)+2,SEARCH(\" :\",'5 - People'!$P$26)-SEARCH(\"- \",'5 - People'!$P$26)-2)),\"\")","v":""},{"$f":"IF('5 - People'!$E$26=\"\",\"Understand that seabirds complete in report - 5.02.1\",'5 - People'!$E$26)","v":"N/A"},null,{"$f":"IFERROR(IF('5 - People'!$Q$26=\"\",\"\",MID('5 - People'!$Q$26,SEARCH(\": \",'5 - People'!$Q$26)+2,SEARCH(\" ;\",'5 - People'!$Q$26)-SEARCH(\": \",'5 - People'!$Q$26)-2)),\"\")","v":""},null,null,null,{"$f":"IF(P108=\"Green\",\"1\",IF(P108=\"Amber/Green\",\"2\",IF(P108=\"Amber\",\"3\",IF(P108=\"Amber/Red\",\"4\",\"5\"))))*1","v":5},{"$f":"IF(Q108=\"Green\",\"1\",IF(Q108=\"Amber/Green\",\"2\",IF(Q108=\"Amber\",\"3\",IF(Q108=\"Amber/Red\",\"4\",\"5\"))))*1","v":5},{"$f":"IF(R108=\"Green\",\"1\",IF(R108=\"Amber/Green\",\"2\",IF(R108=\"Amber\",\"3\",IF(R108=\"Amber/Red\",\"4\",\"5\"))))*1","v":5},{"$f":"IF(S108=\"Green\",\"1\",IF(S108=\"Amber/Green\",\"2\",IF(S108=\"Amber\",\"3\",IF(S108=\"Amber/Red\",\"4\",\"5\"))))*1","v":5},{"$f":"IF(T108=\"Green\",\"1\",IF(T108=\"Amber/Green\",\"2\",IF(T108=\"Amber\",\"3\",IF(T108=\"Amber/Red\",\"4\",\"5\"))))*1","v":5}]
[null,"Forgery","Milestone","Critical Path",null,"Baseline","Forecast","Ginga (days)","Status","Comment","TREND","1 year change",null,null,{"$f":"IF('5 - People'!$D$27=\"\",\"\",'5 - People'!$D$27)","v":""},{"$f":"IFERROR(IF('5 - People'!$S$27=\"\",\"\",MID('5 - People'!$S$27,SEARCH(\"- \",'5 - People'!$S$27)+2,SEARCH(\" :\",'5 - People'!$S$27)-SEARCH(\"- \",'5 - People'!$S$27)-2)),\"\")","v":""},{"$f":"IFERROR(IF('5 - People'!$R$27=\"\",\"\",MID('5 - People'!$R$27,SEARCH(\"- \",'5 - People'!$R$27)+2,SEARCH(\" :\",'5 - People'!$R$27)-SEARCH(\"- \",'5 - People'!$R$27)-2)),\"\")","v":""},{"$f":"IFERROR(IF('5 - People'!$Q$27=\"\",\"\",MID('5 - People'!$Q$27,SEARCH(\"- \",'5 - People'!$Q$27)+2,SEARCH(\" :\",'5 - People'!$Q$27)-SEARCH(\"- \",'5 - People'!$Q$27)-2)),\"\")","v":""},{"$f":"IFERROR(IF('5 - People'!$P$27=\"\",\"\",MID('5 - People'!$P$27,SEARCH(\"- \",'5 - People'!$P$27)+2,SEARCH(\" :\",'5 - People'!$P$27)-SEARCH(\"- \",'5 - People'!$P$27)-2)),\"\")","v":""},{"$f":"IF('5 - People'!$E$27=\"\",\"\",'5 - People'!$E$27)","v":""},null,{"$f":"IFERROR(IF('5 - People'!$Q$27=\"\",\"\",MID('5 - People'!$Q$27,SEARCH(\": \",'5 - People'!$Q$27)+2,SEARCH(\" ;\",'5 - People'!$Q$27)-SEARCH(\": \",'5 - People'!$Q$27)-2)),\"\")","v":""},null,null,null,{"$f":"IF(P109=\"Green\",\"1\",IF(P109=\"Amber/Green\",\"2\",IF(P109=\"Amber\",\"3\",IF(P109=\"Amber/Red\",\"4\",\"5\"))))*1","v":5},{"$f":"IF(Q109=\"Green\",\"1\",IF(Q109=\"Amber/Green\",\"2\",IF(Q109=\"Amber\",\"3\",IF(Q109=\"Amber/Red\",\"4\",\"5\"))))*1","v":5},{"$f":"IF(R109=\"Green\",\"1\",IF(R109=\"Amber/Green\",\"2\",IF(R109=\"Amber\",\"3\",IF(R109=\"Amber/Red\",\"4\",\"5\"))))*1","v":5},{"$f":"IF(S109=\"Green\",\"1\",IF(S109=\"Amber/Green\",\"2\",IF(S109=\"Amber\",\"3\",IF(S109=\"Amber/Red\",\"4\",\"5\"))))*1","v":5},{"$f":"IF(T109=\"Green\",\"1\",IF(T109=\"Amber/Green\",\"2\",IF(T109=\"Amber\",\"3\",IF(T109=\"Amber/Red\",\"4\",\"5\"))))*1","v":5}]
[null,null,null,null,null,null,null,null,null,null,null,null,null,null,{"$f":"IF('5 - People'!$D$28=\"\",\"\",'5 - People'!$D$28)","v":""},{"$f":"IFERROR(IF('5 - People'!$S$28=\"\",\"\",MID('5 - People'!$S$28,SEARCH(\"- \",'5 - People'!$S$28)+2,SEARCH(\" :\",'5 - People'!$S$28)-SEARCH(\"- \",'5 - People'!$S$28)-2)),\"\")","v":""},{"$f":"IFERROR(IF('5 - People'!$R$28=\"\",\"\",MID('5 - People'!$R$28,SEARCH(\"- \",'5 - People'!$R$28)+2,SEARCH(\" :\",'5 - People'!$R$28)-SEARCH(\"- \",'5 - People'!$R$28)-2)),\"\")","v":""},{"$f":"IFERROR(IF('5 - People'!$Q$28=\"\",\"\",MID('5 - People'!$Q$28,SEARCH(\"- \",'5 - People'!$Q$28)+2,SEARCH(\" :\",'5 - People'!$Q$28)-SEARCH(\"- \",'5 - People'!$Q$28)-2)),\"\")","v":""},{"$f":"IFERROR(IF('5 - People'!$P$28=\"\",\"\",MID('5 - People'!$P$28,SEARCH(\"- \",'5 - People'!$P$28)+2,SEARCH(\" :\",'5 - People'!$P$28)-SEARCH(\"- \",'5 - People'!$P$28)-2)),\"\")","v":""},{"$f":"IF('5 - People'!$E$28=\"\",\"\",'5 - People'!$E$28)","v":""},null,{"$f":"IFERROR(IF('5 - People'!$Q$28=\"\",\"\",MID('5 - People'!$Q$28,SEARCH(\": \",'5 - People'!$Q$28)+2,SEARCH(\" ;\",'5 - People'!$Q$28)-SEARCH(\": \",'5 - People'!$Q$28)-2)),\"\")","v":""},null,null,null,{"$f":"IF(P110=\"Green\",\"1\",IF(P110=\"Amber/Green\",\"2\",IF(P110=\"Amber\",\"3\",IF(P110=\"Amber/Red\",\"4\",\"5\"))))*1","v":5},{"$f":"IF(Q110=\"Green\",\"1\",IF(Q110=\"Amber/Green\",\"2\",IF(Q110=\"Amber\",\"3\",IF(Q110=\"Amber/Red\",\"4\",\"5\"))))*1","v":5},{"$f":"IF(R110=\"Green\",\"1\",IF(R110=\"Amber/Green\",\"2\",IF(R110=\"Amber\",\"3\",IF(R110=\"Amber/Red\",\"4\",\"5\"))))*1","v":5},{"$f":"IF(S110=\"Green\",\"1\",IF(S110=\"Amber/Green\",\"2\",IF(S110=\"Amber\",\"3\",IF(S110=\"Amber/Red\",\"4\",\"5\"))))*1","v":5},{"$f":"IF(T110=\"Green\",\"1\",IF(T110=\"Amber/Green\",\"2\",IF(T110=\"Amber\",\"3\",IF(T110=\"Amber/Red\",\"4\",\"5\"))))*1","v":5}]
[{"$f":"INDEX(#REF!,MATCH(MAX(IF((#REF!<$G$112)*(#REF!=\"Yes\"),#REF!)),#REF!,0))","v":{"$error":"#REF!"}},"Last",{"$f":"IFERROR(IF(VLOOKUP($A$111,#REF!,2,0)=\"\",CONCATENATE(\"Understand that seabirds complete - \",$A$111),VLOOKUP($A$111,#REF!,2,0)),\"No milestone before snapshot date\")","v":"No milestone before snapshot date"},{"$f":"IFERROR(IF(VLOOKUP($A$111,#REF!,3,0)=\"\",CONCATENATE(\"Understand that seabirds complete - \",$A$111),VLOOKUP($A$111,#REF!,3,0)),\"No milestone before snapshot date\")","v":"No milestone before snapshot date"},null,{"$f":"IFERROR(IF(VLOOKUP($A$111,#REF!,4,0)=\"\",CONCATENATE(\"Understand that seabirds complete - \",$A$111),VLOOKUP($A$111,#REF!,4,0)),\"No milestone before snapshot date\")","v":"No milestone before snapshot date"},{"$f":"IFERROR(IF(VLOOKUP($A$111,#REF!,5,0)=\"\",CONCATENATE(\"Understand that seabirds complete - \",$A$111),VLOOKUP($A$111,#REF!,5,0)),\"No milestone before snapshot date\")","v":"No milestone before snapshot date"},{"$f":"IFERROR(IF(VLOOKUP($A$111,#REF!,6,0)=\"\",\"\",VLOOKUP($A$112,#REF!,6,0)),\"No milestone before snapshot date\")","v":"No milestone before snapshot date"},{"$f":"IFERROR(IF(VLOOKUP($A$111,#REF!,7,0)=\"\",CONCATENATE(\"Understand that seabirds complete - \",$A$111),VLOOKUP($A$111,#REF!,7,0)),\"No milestone before snapshot date\")","v":"No milestone before snapshot date"},{"$f":"IFERROR(IF(VLOOKUP($A$111,#REF!,8,0)=\"\",\"\",VLOOKUP($A$111,#REF!,8,0)),\"No milestone before snapshot date\")","v":"No milestone before snapshot date"},null,{"$f":"IF(G111>F111,\"OUT\",IF(G111<F111,\"In\",\"Stable\"))","v":"Stable"},null,null,{"$f":"IF('5 - People'!$D$29=\"\",\"\",'5 - People'!$D$29)","v":""},{"$f":"IFERROR(IF('5 - People'!$S$29=\"\",\"\",MID('5 - People'!$S$29,SEARCH(\"- \",'5 - People'!$S$29)+2,SEARCH(\" :\",'5 - People'!$S$29)-SEARCH(\"- \",'5 - People'!$S$29)-2)),\"\")","v":""},{"$f":"IFERROR(IF('5 - People'!$R$29=\"\",\"\",MID('5 - People'!$R$29,SEARCH(\"- \",'5 - People'!$R$29)+2,SEARCH(\" :\",'5 - People'!$R$29)-SEARCH(\"- \",'5 - People'!$R$29)-2)),\"\")","v":""},{"$f":"IFERROR(IF('5 - People'!$Q$29=\"\",\"\",MID('5 - People'!$Q$29,SEARCH(\"- \",'5 - People'!$Q$29)+2,SEARCH(\" :\",'5 - People'!$Q$29)-SEARCH(\"- \",'5 - People'!$Q$29)-2)),\"\")","v":""},{"$f":"IFERROR(IF('5 - People'!$P$29=\"\",\"\",MID('5 - People'!$P$29,SEARCH(\"- \",'5 - People'!$P$29)+2,SEARCH(\" :\",'5 - People'!$P$29)-SEARCH(\"- \",'5 - People'!$P$29)-2)),\"\")","v":""},{"$f":"IF('5 - People'!$E$29=\"\",\"\",'5 - People'!$E$29)","v":""},null,{"$f":"IFERROR(IF('5 - People'!$Q$29=\"\",\"\",MID('5 - People'!$Q$29,SEARCH(\": \",'5 - People'!$Q$29)+2,SEARCH(\" ;\",'5 - People'!$Q$29)-SEARCH(\": \",'5 - People'!$Q$29)-2)),\"\")","v":""},null,null,null,{"$f":"IF(P111=\"Green\",\"1\",IF(P111=\"Amber/Green\",\"2\",IF(P111=\"Amber\",\"3\",IF(P111=\"Amber/Red\",\"4\",\"5\"))))*1","v":5},{"$f":"IF(Q111=\"Green\",\"1\",IF(Q111=\"Amber/Green\",\"2\",IF(Q111=\"Amber\",\"3\",IF(Q111=\"Amber/Red\",\"4\",\"5\"))))*1","v":5},{"$f":"IF(R111=\"Green\",\"1\",IF(R111=\"Amber/Green\",\"2\",IF(R111=\"Amber\",\"3\",IF(R111=\"Amber/Red\",\"4\",\"5\"))))*1","v":5},{"$f":"IF(S111=\"Green\",\"1\",IF(S111=\"Amber/Green\",\"2\",IF(S111=\"Amber\",\"3\",IF(S111=\"Amber/Red\",\"4\",\"5\"))))*1","v":5},{"$f":"IF(T111=\"Green\",\"1\",IF(T111=\"Amber/Green\",\"2\",IF(T111=\"Amber\",\"3\",IF(T111=\"Amber/Red\",\"4\",\"5\"))))*1","v":5}]
[{"$f":"INDEX(#REF!,MATCH(MAX(IF((#REF!<=Introduction!$C$18)*(#REF!=\"Yes\"),#REF!)),#REF!,0))","v":{"$error":"#REF!"}},"Live",{"$f":"IFERROR(IF(VLOOKUP($A$112,#REF!,2,0)=\"\",CONCATENATE(\"Understand that seabirds complete - \",$A$112),VLOOKUP($A$112,#REF!,2,0)),\"No milestone before snapshot date\")","v":"No milestone before snapshot date"},{"$f":"IFERROR(IF(VLOOKUP($A$112,#REF!,3,0)=\"\",CONCATENATE(\"Understand that seabirds complete - \",$A$112),VLOOKUP($A$112,#REF!,3,0)),\"No milestone before snapshot date\")","v":"No milestone before snapshot date"},null,{"$f":"IFERROR(IF(VLOOKUP($A$112,#REF!,4,0)=\"\",CONCATENATE(\"Understand that seabirds complete - \",$A$112),VLOOKUP($A$112,#REF!,4,0)),\"No milestone before snapshot date\")","v":"No milestone before snapshot date"},{"$f":"IFERROR(IF(VLOOKUP($A$112,#REF!,5,0)=\"\",CONCATENATE(\"Understand that seabirds complete - \",$A$112),VLOOKUP($A$112,#REF!,5,0)),\"No milestone before snapshot date\")","v":"No milestone before snapshot date"},{"$f":"IFERROR(IF(VLOOKUP($A$112,#REF!,6,0)=\"\",\"\",VLOOKUP($A$112,#REF!,6,0)),\"No milestone before snapshot date\")","v":"No milestone before snapshot date"},{"$f":"IFERROR(IF(VLOOKUP($A$112,#REF!,7,0)=\"\",CONCATENATE(\"Understand that seabirds complete - \",$A$112),VLOOKUP($A$112,#REF!,7,0)),\"No milestone before snapshot date\")","v":"No milestone before snapshot date"},{"$f":"IFERROR(IF(VLOOKUP($A$112,#REF!,8,0)=\"\",\"\",VLOOKUP($A$112,#REF!,8,0)),\"No milestone before snapshot date\")","v":"No milestone before snapshot date"},null,{"$f":"IF(G112>F112,\"OUT\",IF(G112<F112,\"In\",\"Stable\"))","v":"Stable"},null,null,{"$f":"IF('5 - People'!$D$30=\"\",\"\",'5 - People'!$D$30)","v":""},{"$f":"IFERROR(IF('5 - People'!$S$30=\"\",\"\",MID('5 - People'!$S$30,SEARCH(\"- \",'5 - People'!$S$30)+2,SEARCH(\" :\",'5 - People'!$S$30)-SEARCH(\"- \",'5 - People'!$S$30)-2)),\"\")","v":""},{"$f":"IFERROR(IF('5 - People'!$R$30=\"\",\"\",MID('5 - People'!$R$30,SEARCH(\"- \",'5 - People'!$R$30)+2,SEARCH(\" :\",'5 - People'!$R$30)-SEARCH(\"- \",'5 - People'!$R$30)-2)),\"\")","v":""},{"$f":"IFERROR(IF('5 - People'!$Q$30=\"\",\"\",MID('5 - People'!$Q$30,SEARCH(\"- \",'5 - People'!$Q$30)+2,SEARCH(\" :\",'5 - People'!$Q$30)-SEARCH(\"- \",'5 - People'!$Q$30)-2)),\"\")","v":""},{"$f":"IFERROR(IF('5 - People'!$P$30=\"\",\"\",MID('5 - People'!$P$30,SEARCH(\"- \",'5 - People'!$P$30)+2,SEARCH(\" :\",'5 - People'!$P$30)-SEARCH(\"- \",'5 - People'!$P$30)-2)),\"\")","v":""},{"$f":"IF('5 - People'!$E$30=\"\",\"\",'5 - People'!$E$30)","v":""},null,{"$f":"IFERROR(IF('5 - People'!$Q$30=\"\",\"\",MID('5 - People'!$Q$30,SEARCH(\": \",'5 - People'!$Q$30)+2,SEARCH(\" ;\",'5 - People'!$Q$30)-SEARCH(\": \",'5 - People'!$Q$30)-2)),\"\")","v":""},null,null,null,{"$f":"IF(P112=\"Green\",\"1\",IF(P112=\"Amber/Green\",\"2\",IF(P112=\"Amber\",\"3\",IF(P112=\"Amber/Red\",\"4\",\"5\"))))*1","v":5},{"$f":"IF(Q112=\"Green\",\"1\",IF(Q112=\"Amber/Green\",\"2\",IF(Q112=\"Amber\",\"3\",IF(Q112=\"Amber/Red\",\"4\",\"5\"))))*1","v":5},{"$f":"IF(R112=\"Green\",\"1\",IF(R112=\"Amber/Green\",\"2\",IF(R112=\"Amber\",\"3\",IF(R112=\"Amber/Red\",\"4\",\"5\"))))*1","v":5},{"$f":"IF(S112=\"Green\",\"1\",IF(S112=\"Amber/Green\",\"2\",IF(S112=\"Amber\",\"3\",IF(S112=\"Amber/Red\",\"4\",\"5\"))))*1","v":5},{"$f":"IF(T112=\"Green\",\"1\",IF(T112=\"Amber/Green\",\"2\",IF(T112=\"Amber\",\"3\",IF(T112=\"Amber/Red\",\"4\",\"5\"))))*1","v":5}]
[{"$f":"INDEX(#REF!,MATCH(MIN(IF((#REF!>=Introduction!$C$18)*(#REF!=\"Yes\"),#REF!)),#REF!,0))","v":{"$error":"#REF!"}},"Next",{"$f":"IFERROR(IF(VLOOKUP($A$113,#REF!,2,0)=\"\",CONCATENATE(\"Understand that seabirds complete - \",$A$113),VLOOKUP($A$113,#REF!,2,0)),\"No milestone after snapshot date\")","v":"No milestone after snapshot date"},{"$f":"IFERROR(IF(VLOOKUP($A$113,#REF!,3,0)=\"\",CONCATENATE(\"Understand that seabirds complete - \",$A$113),VLOOKUP($A$113,#REF!,3,0)),\"No milestone after snapshot date\")","v":"No milestone after snapshot date"},null,{"$f":"IFERROR(IF(VLOOKUP($A$113,#REF!,4,0)=\"\",CONCATENATE(\"Understand that seabirds complete - \",$A$113),VLOOKUP($A$113,#REF!,4,0)),\"No milestone after snapshot date\")","v":"No milestone after snapshot date"},{"$f":"IFERROR(IF(VLOOKUP($A$113,#REF!,5,0)=\"\",CONCATENATE(\"Understand that seabirds complete - \",$A$113),VLOOKUP($A$113,#REF!,5,0)),\"No milestone after snapshot date\")","v":"No milestone after snapshot date"},{"$f":"IFERROR(IF(VLOOKUP($A$113,#REF!,6,0)=\"\",\"\",VLOOKUP($A$113,#REF!,6,0)),\"No milestone after snapshot date\")","v":"No milestone after snapshot date"},{"$f":"IFERROR(IF(VLOOKUP($A$113,#REF!,7,0)=\"\",CONCATENATE(\"Understand that seabirds complete - \",$A$113),VLOOKUP($A$113,#REF!,7,0)),\"No milestone after snapshot date\")","v":"No milestone after snapshot date"},{"$f":"IFERROR(IF(VLOOKUP($A$113,#REF!,8,0)=\"\",\"\",VLOOKUP($A$113,#REF!,8,0)),\"No milestone after snapshot date\")","v":"No milestone after snapshot date"},null,{"$f":"IF(G113>F113,\"OUT\",IF(G113<F113,\"In\",\"Stable\"))","v":"Stable"},null,null,{"$f":"IF('5 - People'!$D$31=\"\",\"\",'5 - People'!$D$31)","v":""},null,null,null,null,{"$f":"IF('5 - People'!$E$31=\"\",\"\",'5 - People'!$E$31)","v":""},null,{"$f":"IFERROR(IF('5 - People'!$Q$31=\"\",\"\",MID('5 - People'!$Q$31,SEARCH(\": \",'5 - People'!$Q$31)+2,SEARCH(\" ;\",'5 - People'!$Q$31)-SEARCH(\": \",'5 - People'!$Q$31)-2)),\"\")","v":""},null,null,null,{"$f":"IF(P113=\"Green\",\"1\",IF(P113=\"Amber/Green\",\"2\",IF(P113=\"Amber\",\"3\",IF(P113=\"Amber/Red\",\"4\",\"5\"))))*1","v":5},{"$f":"IF(Q113=\"Green\",\"1\",IF(Q113=\"Amber/Green\",\"2\",IF(Q113=\"Amber\",\"3\",IF(Q113=\"Amber/Red\",\"4\",\"5\"))))*1","v":5},{"$f":"IF(R113=\"Green\",\"1\",IF(R113=\"Amber/Green\",\"2\",IF(R113=\"Amber\",\"3\",IF(R113=\"Amber/Red\",\"4\",\"5\"))))*1","v":5},{"$f":"IF(S113=\"Green\",\"1\",IF(S113=\"Amber/Green\",\"2\",IF(S113=\"Amber\",\"3\",IF(S113=\"Amber/Red\",\"4\",\"5\"))))*1","v":5},{"$f":"IF(T113=\"Green\",\"1\",IF(T113=\"Amber/Green\",\"2\",IF(T113=\"Amber\",\"3\",IF(T113=\"Amber/Red\",\"4\",\"5\"))))*1","v":5}]
[]
[null,"Charity"]
[]
[null,null,"Q-4","Q-3","Q-2","Previous Qtr (Q minus 1 (Q-1))","Current Quarter","Ginga (£) from Q-4","TREND","1 year change"]
[]
[null,"Charity (as at snapshot date)"]
[null,"NPV (£m)",{"$f":"IF(#REF!=\"\",\"\",#REF!)","v":{"$error":"#REF!"}},{"$f":"IF(#REF!=\"\",\"\",#REF!)","v":{"$error":"#REF!"}},{"$f":"IF(#REF!=\"\",\"\",#REF!)","v":{"$error":"#REF!"}},{"$f":"IF(#REF!=\"\",\"\",#REF!)","v":{"$error":"#REF!"}},{"$f":"IF(#REF!=\"\",\"Understand that seabirds complete in report - 8.05.7\",#REF!)","v":{"$error":"#REF!"}},{"$f":"IFERROR(G120-C120,\"\")","v":""},null,{"$f":"IF(G120>C120,\"UP\",IF(G120<C120,\"Down\",\"Level\"))","v":{"$error":"#REF!"}}]
[null,"IRR (%)",{"$f":"IF(#REF!=\"\",\"\",#REF!)","v":{"$error":"#REF!"}},{"$f":"IF(#REF!=\"\",\"\",#REF!)","v":{"$error":"#REF!"}},{"$f":"IF(#REF!=\"\",\"\",#REF!)","v":{"$error":"#REF!"}},{"$f":"IF(#REF!=\"\",\"\",#REF!)","v":{"$error":"#REF!"}},{"$f":"IF(#REF!=\"\",\"Understand that seabirds complete in report - 8.05.8\",#REF!)","v":{"$error":"#REF!"}},{"$f":"IFERROR(G121-C121,\"\")","v":""},null,{"$f":"IF(G121>C121,\"UP\",IF(G121<C121,\"Down\",\"Level\"))","v":{"$error":"#REF!"}}]
[null,"CBR",{"$f":"IF(#REF!=\"\",\"\",#REF!)","v":{"$error":"#REF!"}},{"$f":"IF(#REF!=\"\",\"\",#REF!)","v":{"$error":"#REF!"}},{"$f":"IF(#REF!=\"\",\"\",#REF!)","v":{"$error":"#REF!"}},{"$f":"IF(#REF!=\"\",\"\",#REF!)","v":{"$error":"#REF!"}},{"$f":"IF(#REF!=\"\",\"Understand that seabirds complete in report - 8.05.9\",#REF!)","v":{"$error":"#REF!"}},{"$f":"IFERROR(G122-C122,\"\")","v":""},null,{"$f":"IF(G122>C122,\"UP\",IF(G122<C122,\"Down\",\"Level\"))","v":{"$error":"#REF!"}}]
[null,"Optimism Condemnation (%)",{"$f":"IF(#REF!=\"\",\"\",#REF!)","v":{"$error":"#REF!"}},{"$f":"IF(#REF!=\"\",\"\",#REF!)","v":{"$error":"#REF!"}},{"$f":"IF(#REF!=\"\",\"\",#REF!)","v":{"$error":"#REF!"}},{"$f":"IF(#REF!=\"\",\"\",#REF!)","v":{"$error":"#REF!"}},{"$f":"IF(#REF!=\"\",\"Understand that seabirds complete in report - 8.05.3\",#REF!)","v":{"$error":"#REF!"}},{"$f":"IFERROR(G123-C123,\"\")","v":""},null,{"$f":"IF(G123>C123,\"UP\",IF(G123<C123,\"Down\",\"Level\"))","v":{"$error":"#REF!"}}]
[null,"Optimism Condemnation (£)",{"$f":"IF(#REF!=\"\",\"\",#REF!)","v":{"$error":"#REF!"}},{"$f":"IF(#REF!=\"\",\"\",#REF!)","v":{"$error":"#REF!"}},{"$f":"IF(#REF!=\"\",\"\",#REF!)","v":{"$error":"#REF!"}},{"$f":"IF(#REF!=\"\",\"\",#REF!)","v":{"$error":"#REF!"}},{"$f":"IF(#REF!=\"\",\"Understand that seabirds complete in report - 8.05.4\",#REF!)","v":{"$error":"#REF!"}},{"$f":"IFERROR(G124-C124,\"\")","v":""},null,{"$f":"IF(G124>C124,\"UP\",IF(G124<C124,\"Down\",\"Level\"))","v":{"$error":"#REF!"}}]
[null,"Contingency (%)",{"$f":"IF(#REF!=\"\",\"\",#REF!)","v":{"$error":"#REF!"}},{"$f":"IF(#REF!=\"\",\"\",#REF!)","v":{"$error":"#REF!"}},{"$f":"IF(#REF!=\"\",\"\",#REF!)","v":{"$error":"#REF!"}},{"$f":"IF(#REF!=\"\",\"\",#REF!)","v":{"$error":"#REF!"}},{"$f":"IF(#REF!=\"\",\"Understand that seabirds complete in report - 8.05.5\",#REF!)","v":{"$error":"#REF!"}},{"$f":"IFERROR(G125-C125,\"\")","v":""},null,{"$f":"IF(G125>C125,\"UP\",IF(G125<C125,\"Down\",\"Level\"))","v":{"$error":"#REF!"}}]
[null,"Contingency (£)",{"$f":"IF(#REF!=\"\",\"\",#REF!)","v":{"$error":"#REF!"}},{"$f":"IF(#REF!=\"\",\"\",#REF!)","v":{"$error":"#REF!"}},{"$f":"IF(#REF!=\"\",\"\",#REF!)","v":{"$error":"#REF!"}},{"$f":"IF(#REF!=\"\",\"\",#REF!)","v":{"$error":"#REF!"}},{"$f":"IF(#REF!=\"\",\"Understand that seabirds complete in report - 8.05.6\",#REF!)","v":{"$error":"#REF!"}},{"$f":"IFERROR(G126-C126,\"\")","v":""},null,{"$f":"IF(G126>C126,\"UP\",IF(G126<C126,\"Down\",\"Level\"))","v":{"$error":"#REF!"}}]
[]
[null,"Costs",null,null,null,null,null,null,null,null,null,"Narratives"]
[]
[null,null,"Q-4","Q-3","Q-2","Previous Qtr (Q minus 1 (Q-1))","Current Quarter","Ginga (£) from Q-4","TREND","1 year change",null,null,"Q-4",null,"Q-3",null,"Q-2",null,"Previous Qtr (Q minus 1 (Q-1))",null,"Current Quarter"]
[null,"RDEL"]
[null,"One Off Costs (B)",{"$f":"IF('9 - Costs'!$T$12=\"\",\"\",MID('9 - Costs'!$T$12,SEARCH(\"(B) £\",'9 - Costs'!$T$12)+4,SEARCH(\"m\",'9 - Costs'!$T$12)-SEARCH(\"(B) £\",'9 - Costs'!$T$12)-4)*1)","v":""},{"$f":"IF('9 - Costs'!$S$12=\"\",\"\",MID('9 - Costs'!$S$12,SEARCH(\"(B) £\",'9 - Costs'!$S$12)+4,SEARCH(\"m\",'9 - Costs'!$S$12)-SEARCH(\"(B) £\",'9 - Costs'!$S$12)-4)*1)","v":""},{"$f":"IF('9 - Costs'!$R$12=\"\",\"\",MID('9 - Costs'!$R$12,SEARCH(\"(B) £\",'9 - Costs'!$R$12)+4,SEARCH(\"m\",'9 - Costs'!$R$12)-SEARCH(\"(B) £\",'9 - Costs'!$R$12)-4)*1)","v":""},{"$f":"IF('9 - Costs'!$Q$12=\"\",\"\",MID('9 - Costs'!$Q$12,SEARCH(\"(B) £\",'9 - Costs'!$Q$12)+4,SEARCH(\"m\",'9 - Costs'!$Q$12)-SEARCH(\"(B) £\",'9 - Costs'!$Q$12)-4)*1)","v":""},{"$f":"IF('9 - Costs'!$F$12=\"\",\"\",'9 - Costs'!$F$12)","v":0},{"$f":"IFERROR(G132-C132,\"\")","v":""},null,{"$f":"IF(G132>C132,\"UP\",IF(G132<C132,\"Down\",\"Level\"))","v":"Down"},null,"General Costs Narrative",{"$f":"IF('9 - Costs'!$T$6=\"\",\"\",'9 - Costs'!$T$6)","v":""},null,{"$f":"IF('9 - Costs'!$S$6=\"\",\"\",'9 - Costs'!$S$6)","v":""},null,{"$f":"IF('9 - Costs'!$R$6=\"\",\"\",'9 - Costs'!$R$6)","v":""},null,{"$f":"IF('9 - Costs'!$Q$6=\"\",\"\",'9 - Costs'!$Q$6)","v":""},null,{"$f":"IF('9 - Costs'!$E$6=\"\",\"\",'9 - Costs'!$E$6)","v":"But I can’t answer that."}]
[null,"One Off Costs (F)",{"$f":"IF('9 - Costs'!$T$12=\"\",\"\",MID('9 - Costs'!$T$12,SEARCH(\"(F) £\",'9 - Costs'!$T$12)+4,SEARCH(\"m.\",'9 - Costs'!$T$12)-SEARCH(\"(F) £\",'9 - Costs'!$T$12)-4)*1)","v":""},{"$f":"IF('9 - Costs'!$S$12=\"\",\"\",MID('9 - Costs'!$S$12,SEARCH(\"(F) £\",'9 - Costs'!$S$12)+4,SEARCH(\"m.\",'9 - Costs'!$S$12)-SEARCH(\"(F) £\",'9 - Costs'!$S$12)-4)*1)","v":""},{"$f":"IF('9 - Costs'!$R$12=\"\",\"\",MID('9 - Costs'!$R$12,SEARCH(\"(F) £\",'9 - Costs'!$R$12)+4,SEARCH(\"m.\",'9 - Costs'!$R$12)-SEARCH(\"(F) £\",'9 - Costs'!$R$12)-4)*1)","v":""},{"$f":"IF('9 - Costs'!$Q$12=\"\",\"\",MID('9 - Costs'!$Q$12,SEARCH(\"(F) £\",'9 - Costs'!$Q$12)+4,SEARCH(\"m.\",'9 - Costs'!$Q$12)-SEARCH(\"(F) £\",'9 - Costs'!$Q$12)-4)*1)","v":""},{"$f":"IF('9 - Costs'!$H$12=\"\",\"\",'9 - Costs'!$H$12)","v":0},{"$f":"IFERROR(G133-C133,\"\")","v":""},null,{"$f":"IF(G133>C133,\"UP\",IF(G133<C133,\"Down\",\"Level\"))","v":"Down"}]
[null,"Recurring New Costs (B)",{"$f":"IF('9 - Costs'!$T$13=\"\",\"\",MID('9 - Costs'!$T$13,SEARCH(\"(B) £\",'9 - Costs'!$T$13)+4,SEARCH(\"m\",'9 - Costs'!$T$13)-SEARCH(\"(B) £\",'9 - Costs'!$T$13)-4)*1)","v":""},{"$f":"IF('9 - Costs'!$S$13=\"\",\"\",MID('9 - Costs'!$S$13,SEARCH(\"(B) £\",'9 - Costs'!$S$13)+4,SEARCH(\"m\",'9 - Costs'!$S$13)-SEARCH(\"(B) £\",'9 - Costs'!$S$13)-4)*1)","v":""},{"$f":"IF('9 - Costs'!$R$13=\"\",\"\",MID('9 - Costs'!$R$13,SEARCH(\"(B) £\",'9 - Costs'!$R$13)+4,SEARCH(\"m\",'9 - Costs'!$R$13)-SEARCH(\"(B) £\",'9 - Costs'!$R$13)-4)*1)","v":""},{"$f":"IF('9 - Costs'!$Q$13=\"\",\"\",MID('9 - Costs'!$Q$13,SEARCH(\"(B) £\",'9 - Costs'!$Q$13)+4,SEARCH(\"m\",'9 - Costs'!$Q$13)-SEARCH(\"(B) £\",'9 - Costs'!$Q$13)-4)*1)","v":""},{"$f":"IF('9 - Costs'!$F$13=\"\",\"\",'9 - Costs'!$F$13)","v":0},{"$f":"IFERROR(G134-C134,\"\")","v":""},null,{"$f":"IF(G134>C134,\"UP\",IF(G134<C134,\"Down\",\"Level\"))","v":"Down"}]
[null,"Recurring New Costs (F)",{"$f":"IF('9 - Costs'!$T$13=\"\",\"\",MID('9 - Costs'!$T$13,SEARCH(\"(F) £\",'9 - Costs'!$T$13)+4,SEARCH(\"m.\",'9 - Costs'!$T$13)-SEARCH(\"(F) £\",'9 - Costs'!$T$13)-4)*1)","v":""},{"$f":"IF('9 - Costs'!$S$13=\"\",\"\",MID('9 - Costs'!$S$13,SEARCH(\"(F) £\",'9 - Costs'!$S$13)+4,SEARCH(\"m.\",'9 - Costs'!$S$13)-SEARCH(\"(F) £\",'9 - Costs'!$S$13)-4)*1)","v":""},{"$f":"IF('9 - Costs'!$R$13=\"\",\"\",MID('9 - Costs'!$R$13,SEARCH(\"(F) £\",'9 - Costs'!$R$13)+4,SEARCH(\"m.\",'9 - Costs'!$R$13)-SEARCH(\"(F) £\",'9 - Costs'!$R$13)-4)*1)","v":""},{"$f":"IF('9 - Costs'!$Q$13=\"\",\"\",MID('9 - Costs'!$Q$13,SEARCH(\"(F) £\",'9 - Costs'!$Q$13)+4,SEARCH(\"m.\",'9 - Costs'!$Q$13)-SEARCH(\"(F) £\",'9 - Costs'!$Q$13)-4)*1)","v":""},{"$f":"IF('9 - Costs'!$H$13=\"\",\"\",'9 - Costs'!$H$13)","v":0},{"$f":"IFERROR(G135-C135,\"\")","v":""},null,{"$f":"IF(G135>C135,\"UP\",IF(G135<C135,\"Down\",\"Level\"))","v":"Down"}]
[null,"Recurring Old Costs (B)",{"$f":"IF('9 - Costs'!$T$14=\"\",\"\",MID('9 - Costs'!$T$14,SEARCH(\"(B) £\",'9 - Costs'!$T$14)+4,SEARCH(\"m\",'9 - Costs'!$T$14)-SEARCH(\"(B) £\",'9 - Costs'!$T$14)-4)*1)","v":""},{"$f":"IF('9 - Costs'!$S$14=\"\",\"\",MID('9 - Costs'!$S$14,SEARCH(\"(B) £\",'9 - Costs'!$S$14)+4,SEARCH(\"m\",'9 - Costs'!$S$14)-SEARCH(\"(B) £\",'9 - Costs'!$S$14)-4)*1)","v":""},{"$f":"IF('9 - Costs'!$R$14=\"\",\"\",MID('9 - Costs'!$R$14,SEARCH(\"(B) £\",'9 - Costs'!$R$14)+4,SEARCH(\"m\",'9 - Costs'!$R$14)-SEARCH(\"(B) £\",'9 - Costs'!$R$14)-4)*1)","v":""},{"$f":"IF('9 - Costs'!$Q$14=\"\",\"\",MID('9 - Costs'!$Q$14,SEARCH(\"(B) £\",'9 - Costs'!$Q$14)+4,SEARCH(\"m\",'9 - Costs'!$Q$14)-SEARCH(\"(B) £\",'9 - Costs'!$Q$14)-4)*1)","v":""},{"$f":"IF('9 - Costs'!$F$14=\"\",\"\",'9 - Costs'!$F$14)","v":0},{"$f":"IFERROR(G136-C136,\"\")","v":""},null,{"$f":"IF(G136>C136,\"UP\",IF(G136<C136,\"Down\",\"Level\"))","v":"Down"}]
[null,"Recurring Old Costs (F)",{"$f":"IF('9 - Costs'!$T$14=\"\",\"\",MID('9 - Costs'!$T$14,SEARCH(\"(F) £\",'9 - Costs'!$T$14)+4,SEARCH(\"m.\",'9 - Costs'!$T$14)-SEARCH(\"(F) £\",'9 - Costs'!$T$14)-4)*1)","v":""},{"$f":"IF('9 - Costs'!$S$14=\"\",\"\",MID('9 - Costs'!$S$14,SEARCH(\"(F) £\",'9 - Costs'!$S$14)+4,SEARCH(\"m.\",'9 - Costs'!$S$14)-SEARCH(\"(F) £\",'9 - Costs'!$S$14)-4)*1)","v":""},{"$f":"IF('9 - Costs'!$R$14=\"\",\"\",MID('9 - Costs'!$R$14,SEARCH(\"(F) £\",'9 - Costs'!$R$14)+4,SEARCH(\"m.\",'9 - Costs'!$R$14)-SEARCH(\"(F) £\",'9 - Costs'!$R$14)-4)*1)","v":""},{"$f":"IF('9 - Costs'!$Q$14=\"\",\"\",MID('9 - Costs'!$Q$14,SEARCH(\"(F) £\",'9 - Costs'!$Q$14)+4,SEARCH(\"m.\",'9 - Costs'!$Q$14)-SEARCH(\"(F) £\",'9 - Costs'!$Q$14)-4)*1)","v":""},{"$f":"IF('9 - Costs'!$H$14=\"\",\"\",'9 - Costs'!$H$14)","v":0},{"$f":"IFERROR(G137-C137,\"\")","v":""},null,{"$f":"IF(G137>C137,\"UP\",IF(G137<C137,\"Down\",\"Level\"))","v":"Down"}]
[null,"Non Gov (B)",{"$f":"IF('9 - Costs'!$T$15=\"\",\"\",MID('9 - Costs'!$T$15,SEARCH(\"(B) £\",'9 - Costs'!$T$15)+4,SEARCH(\"m\",'9 - Costs'!$T$15)-SEARCH(\"(B) £\",'9 - Costs'!$T$15)-4)*1)","v":""},{"$f":"IF('9 - Costs'!$S$15=\"\",\"\",MID('9 - Costs'!$S$15,SEARCH(\"(B) £\",'9 - Costs'!$S$15)+4,SEARCH(\"m\",'9 - Costs'!$S$15)-SEARCH(\"(B) £\",'9 - Costs'!$S$15)-4)*1)","v":""},{"$f":"IF('9 - Costs'!$R$15=\"\",\"\",MID('9 - Costs'!$R$15,SEARCH(\"(B) £\",'9 - Costs'!$R$15)+4,SEARCH(\"m\",'9 - Costs'!$R$15)-SEARCH(\"(B) £\",'9 - Costs'!$R$15)-4)*1)","v":""},{"$f":"IF('9 - Costs'!$Q$15=\"\",\"\",MID('9 - Costs'!$Q$15,SEARCH(\"(B) £\",'9 - Costs'!$Q$15)+4,SEARCH(\"m\",'9 - Costs'!$Q$15)-SEARCH(\"(B) £\",'9 - Costs'!$Q$15)-4)*1)","v":""},{"$f":"IF('9 - Costs'!$F$15=\"\",\"\",'9 - Costs'!$F$15)","v":0},{"$f":"IFERROR(G138-C138,\"\")","v":""},null,{"$f":"IF(G138>C138,\"UP\",IF(G138<C138,\"Down\",\"Level\"))","v":"Down"}]
[null,"Non Gov (F)",{"$f":"IF('9 - Costs'!$T$15=\"\",\"\",MID('9 - Costs'!$T$15,SEARCH(\"(F) £\",'9 - Costs'!$T$15)+4,SEARCH(\"m.\",'9 - Costs'!$T$15)-SEARCH(\"(F) £\",'9 - Costs'!$T$15)-4)*1)","v":""},{"$f":"IF('9 - Costs'!$S$15=\"\",\"\",MID('9 - Costs'!$S$15,SEARCH(\"(F) £\",'9 - Costs'!$S$15)+4,SEARCH(\"m.\",'9 - Costs'!$S$15)-SEARCH(\"(F) £\",'9 - Costs'!$S$15)-4)*1)","v":""},{"$f":"IF('9 - Costs'!$R$15=\"\",\"\",MID('9 - Costs'!$R$15,SEARCH(\"(F) £\",'9 - Costs'!$R$15)+4,SEARCH(\"m.\",'9 - Costs'!$R$15)-SEARCH(\"(F) £\",'9 - Costs'!$R$15)-4)*1)","v":""},{"$f":"IF('9 - Costs'!$Q$15=\"\",\"\",MID('9 - Costs'!$Q$15,SEARCH(\"(F) £\",'9 - Costs'!$Q$15)+4,SEARCH(\"m.\",'9 - Costs'!$Q$15)-SEARCH(\"(F) £\",'9 - Costs'!$Q$15)-4)*1)","v":""},{"$f":"IF('9 - Costs'!$H$15=\"\",\"\",'9 - Costs'!$H$15)","v":0},{"$f":"IFERROR(G139-C139,\"\")","v":""},null,{"$f":"IF(G139>C139,\"UP\",IF(G139<C139,\"Down\",\"Level\"))","v":"Down"}]
[null,"RDEL TOTAL (B)",{"$f":"SUM(C132,C134,C136,C138)","v":0},{"$f":"SUM(D132,D134,D136,D138)","v":0},{"$f":"SUM(E132,E134,E136,E138)","v":0},{"$f":"SUM(F132,F134,F136,F138)","v":0},{"$f":"SUM(G132,G134,G136,G138)","v":0},{"$f":"IFERROR(G140-C140,\"\")","v":0},null,{"$f":"IF(G140>C140,\"UP\",IF(G140<C140,\"Down\",\"Level\"))","v":"Level"}]
[null,"RDEL TOTAL (F)",{"$f":"SUM(C133,C135,C137,C139)","v":0},{"$f":"SUM(D133,D135,D137,D139)","v":0},{"$f":"SUM(E133,E135,E137,E139)","v":0},{"$f":"SUM(F133,F135,F137,F139)","v":0},{"$f":"SUM(G133,G135,G137,G139)","v":0},{"$f":"IFERROR(G141-C141,\"\")","v":0},null,{"$f":"IF(G141>C141,\"UP\",IF(G141<C141,\"Down\",\"Level\"))","v":"Level"},null,"COMPARISON WITH LAST QUARTERS COSTS",{"$f":"IF('9 - Costs'!$T$7=\"\",\"\",'9 - Costs'!$T$7)","v":""},null,{"$f":"IF('9 - Costs'!$S$7=\"\",\"\",'9 - Costs'!$S$7)","v":""},null,{"$f":"IF('9 - Costs'!$R$7=\"\",\"\",'9 - Costs'!$R$7)","v":""},null,{"$f":"IF('9 - Costs'!$Q$7=\"\",\"\",'9 - Costs'!$Q$7)","v":""},null,{"$f":"IF('9 - Costs'!$E$7=\"\",\"\",'9 - Costs'!$E$7)","v":"No change."}]
[]
[null,"CDEL"]
[null,"One Off Costs (B)",{"$f":"IF('9 - Costs'!$T$12=\"\",\"\",MID('9 - Costs'!$T$12,SEARCH(\"(B) £\",'9 - Costs'!$T$12)+4,SEARCH(\"m\",'9 - Costs'!$T$12)-SEARCH(\"(B) £\",'9 - Costs'!$T$12)-4)*1)","v":""},{"$f":"IF('9 - Costs'!$S$16=\"\",\"\",MID('9 - Costs'!$S$16,SEARCH(\"(B) £\",'9 - Costs'!$S$16)+4,SEARCH(\"m\",'9 - Costs'!$S$16)-SEARCH(\"(B) £\",'9 - Costs'!$S$16)-4)*1)","v":""},{"$f":"IF('9 - Costs'!$R$16=\"\",\"\",MID('9 - Costs'!$R$16,SEARCH(\"(B) £\",'9 - Costs'!$R$16)+4,SEARCH(\"m\",'9 - Costs'!$R$16)-SEARCH(\"(B) £\",'9 - Costs'!$R$16)-4)*1)","v":""},{"$f":"IF('9 - Costs'!$Q$16=\"\",\"\",MID('9 - Costs'!$Q$16,SEARCH(\"(B) £\",'9 - Costs'!$Q$16)+4,SEARCH(\"m\",'9 - Costs'!$Q$16)-SEARCH(\"(B) £\",'9 - Costs'!$Q$16)-4)*1)","v":""},{"$f":"IF('9 - Costs'!$F$16=\"\",\"\",'9 - Costs'!$F$16)","v":1699.37},{"$f":"IFERROR(G144-C144,\"\")","v":""},null,{"$f":"IF(G144>C144,\"UP\",IF(G144<C144,\"Down\",\"Level\"))","v":"Down"}]
[null,"One Off Costs (F)",{"$f":"IF('9 - Costs'!$T$12=\"\",\"\",MID('9 - Costs'!$T$12,SEARCH(\"(F) £\",'9 - Costs'!$T$12)+4,SEARCH(\"m.\",'9 - Costs'!$T$12)-SEARCH(\"(F) £\",'9 - Costs'!$T$12)-4)*1)","v":""},{"$f":"IF('9 - Costs'!$S$16=\"\",\"\",MID('9 - Costs'!$S$16,SEARCH(\"(F) £\",'9 - Costs'!$S$16)+4,SEARCH(\"m.\",'9 - Costs'!$S$16)-SEARCH(\"(F) £\",'9 - Costs'!$S$16)-4)*1)","v":""},{"$f":"IF('9 - Costs'!$R$16=\"\",\"\",MID('9 - Costs'!$R$16,SEARCH(\"(F) £\",'9 - Costs'!$R$16)+4,SEARCH(\"m.\",'9 - Costs'!$R$16)-SEARCH(\"(F) £\",'9 - Costs'!$R$16)-4)*1)","v":""},{"$f":"IF('9 - Costs'!$Q$16=\"\",\"\",MID('9 - Costs'!$Q$16,SEARCH(\"(F) £\",'9 - Costs'!$Q$16)+4,SEARCH(\"m.\",'9 - Costs'!$Q$16)-SEARCH(\"(F) £\",'9 - Costs'!$Q$16)-4)*1)","v":""},{"$f":"IF('9 - Costs'!$H$16=\"\",\"\",'9 - Costs'!$H$16)","v":1699.37},{"$f":"IFERROR(G145-C145,\"\")","v":""},null,{"$f":"IF(G145>C145,\"UP\",IF(G145<C145,\"Down\",\"Level\"))","v":"Down"}]
[null,"Recurring New Costs (B)",{"$f":"IF('9 - Costs'!$T$13=\"\",\"\",MID('9 - Costs'!$T$13,SEARCH(\"(B) £\",'9 - Costs'!$T$13)+4,SEARCH(\"m\",'9 - Costs'!$T$13)-SEARCH(\"(B) £\",'9 - Costs'!$T$13)-4)*1)","v":""},{"$f":"IF('9 - Costs'!$S$17=\"\",\"\",MID('9 - Costs'!$S$17,SEARCH(\"(B) £\",'9 - Costs'!$S$17)+4,SEARCH(\"m\",'9 - Costs'!$S$17)-SEARCH(\"(B) £\",'9 - Costs'!$S$17)-4)*1)","v":""},{"$f":"IF('9 - Costs'!$R$17=\"\",\"\",MID('9 - Costs'!$R$17,SEARCH(\"(B) £\",'9 - Costs'!$R$17)+4,SEARCH(\"m\",'9 - Costs'!$R$17)-SEARCH(\"(B) £\",'9 - Costs'!$R$17)-4)*1)","v":""},{"$f":"IF('9 - Costs'!$Q$17=\"\",\"\",MID('9 - Costs'!$Q$17,SEARCH(\"(B) £\",'9 - Costs'!$Q$17)+4,SEARCH(\"m\",'9 - Costs'!$Q$17)-SEARCH(\"(B) £\",'9 - Costs'!$Q$17)-4)*1)","v":""},{"$f":"IF('9 - Costs'!$F$17=\"\",\"\",'9 - Costs'!$F$17)","v":0},{"$f":"IFERROR(G146-C146,\"\")","v":""},null,{"$f":"IF(G146>C146,\"UP\",IF(G146<C146,\"Down\",\"Level\"))","v":"Down"}]
[null,"Recurring New Costs (F)",{"$f":"IF('9 - Costs'!$T$13=\"\",\"\",MID('9 - Costs'!$T$13,SEARCH(\"(F) £\",'9 - Costs'!$T$13)+4,SEARCH(\"m.\",'9 - Costs'!$T$13)-SEARCH(\"(F) £\",'9 - Costs'!$T$13)-4)*1)","v":""},{"$f":"IF('9 - Costs'!$S$17=\"\",\"\",MID('9 - Costs'!$S$17,SEARCH(\"(F) £\",'9 - Costs'!$S$17)+4,SEARCH(\"m.\",'9 - Costs'!$S$17)-SEARCH(\"(F) £\",'9 - Costs'!$S$17)-4)*1)","v":""},{"$f":"IF('9 - Costs'!$R$17=\"\",\"\",MID('9 - Costs'!$R$17,SEARCH(\"(F) £\",'9 - Costs'!$R$17)+4,SEARCH(\"m.\",'9 - Costs'!$R$17)-SEARCH(\"(F) £\",'9 - Costs'!$R$17)-4)*1)","v":""},{"$f":"IF('9 - Costs'!$Q$17=\"\",\"\",MID('9 - Costs'!$Q$17,SEARCH(\"(F) £\",'9 - Costs'!$Q$17)+4,SEARCH(\"m.\",'9 - Costs'!$Q$17)-SEARCH(\"(F) £\",'9 - Costs'!$Q$17)-4)*1)","v":""},{"$f":"IF('9 - Costs'!$H$17=\"\",\"\",'9 - Costs'!$H$17)","v":0},{"$f":"IFERROR(G147-C147,\"\")","v":""},null,{"$f":"IF(G147>C147,\"UP\",IF(G147<C147,\"Down\",\"Level\"))","v":"Down"}]
[null,"Recurring Old Costs (B)",{"$f":"IF('9 - Costs'!$T$14=\"\",\"\",MID('9 - Costs'!$T$14,SEARCH(\"(B) £\",'9 - Costs'!$T$14)+4,SEARCH(\"m\",'9 - Costs'!$T$14)-SEARCH(\"(B) £\",'9 - Costs'!$T$14)-4)*1)","v":""},{"$f":"IF('9 - Costs'!$S$18=\"\",\"\",MID('9 - Costs'!$S$18,SEARCH(\"(B) £\",'9 - Costs'!$S$18)+4,SEARCH(\"m\",'9 - Costs'!$S$18)-SEARCH(\"(B) £\",'9 - Costs'!$S$18)-4)*1)","v":""},{"$f":"IF('9 - Costs'!$R$18=\"\",\"\",MID('9 - Costs'!$R$18,SEARCH(\"(B) £\",'9 - Costs'!$R$18)+4,SEARCH(\"m\",'9 - Costs'!$R$18)-SEARCH(\"(B) £\",'9 - Costs'!$R$18)-4)*1)","v":""},{"$f":"IF('9 - Costs'!$Q$18=\"\",\"\",MID('9 - Costs'!$Q$18,SEARCH(\"(B) £\",'9 - Costs'!$Q$18)+4,SEARCH(\"m\",'9 - Costs'!$Q$18)-SEARCH(\"(B) £\",'9 - Costs'!$Q$18)-4)*1)","v":""},{"$f":"IF('9 - Costs'!$F$18=\"\",\"\",'9 - Costs'!$F$18)","v":0},{"$f":"IFERROR(G148-C148,\"\")","v":""},null,{"$f":"IF(G148>C148,\"UP\",IF(G148<C148,\"Down\",\"Level\"))","v":"Down"}]
[null,"Recurring Old Costs (F)",{"$f":"IF('9 - Costs'!$T$14=\"\",\"\",MID('9 - Costs'!$T$14,SEARCH(\"(F) £\",'9 - Costs'!$T$14)+4,SEARCH(\"m.\",'9 - Costs'!$T$14)-SEARCH(\"(F) £\",'9 - Costs'!$T$14)-4)*1)","v":""},{"$f":"IF('9 - Costs'!$S$18=\"\",\"\",MID('9 - Costs'!$S$18,SEARCH(\"(F) £\",'9 - Costs'!$S$18)+4,SEARCH(\"m.\",'9 - Costs'!$S$18)-SEARCH(\"(F) £\",'9 - Costs'!$S$18)-4)*1)","v":""},{"$f":"IF('9 - Costs'!$R$18=\"\",\"\",MID('9 - Costs'!$R$18,SEARCH(\"(F) £\",'9 - Costs'!$R$18)+4,SEARCH(\"m.\",'9 - Costs'!$R$18)-SEARCH(\"(F) £\",'9 - Costs'!$R$18)-4)*1)","v":""},{"$f":"IF('9 - Costs'!$Q$18=\"\",\"\",MID('9 - Costs'!$Q$18,SEARCH(\"(F) £\",'9 - Costs'!$Q$18)+4,SEARCH(\"m.\",'9 - Costs'!$Q$18)-SEARCH(\"(F) £\",'9 - Costs'!$Q$18)-4)*1)","v":""},{"$f":"IF('9 - Costs'!$H$18=\"\",\"\",'9 - Costs'!$H$18)","v":0},{"$f":"IFERROR(G149-C149,\"\")","v":""},null,{"$f":"IF(G149>C149,\"UP\",IF(G149<C149,\"Down\",\"Level\"))","v":"Down"}]
[null,"Non Gov (B)",{"$f":"IF('9 - Costs'!$T$15=\"\",\"\",MID('9 - Costs'!$T$15,SEARCH(\"(B) £\",'9 - Costs'!$T$15)+4,SEARCH(\"m\",'9 - Costs'!$T$15)-SEARCH(\"(B) £\",'9 - Costs'!$T$15)-4)*1)","v":""},{"$f":"IF('9 - Costs'!$S$19=\"\",\"\",MID('9 - Costs'!$S$19,SEARCH(\"(B) £\",'9 - Costs'!$S$19)+4,SEARCH(\"m\",'9 - Costs'!$S$19)-SEARCH(\"(B) £\",'9 - Costs'!$S$19)-4)*1)","v":""},{"$f":"IF('9 - Costs'!$R$19=\"\",\"\",MID('9 - Costs'!$R$19,SEARCH(\"(B) £\",'9 - Costs'!$R$19)+4,SEARCH(\"m\",'9 - Costs'!$R$19)-SEARCH(\"(B) £\",'9 - Costs'!$R$19)-4)*1)","v":""},{"$f":"IF('9 - Costs'!$Q$19=\"\",\"\",MID('9 - Costs'!$Q$19,SEARCH(\"(B) £\",'9 - Costs'!$Q$19)+4,SEARCH(\"m\",'9 - Costs'!$Q$19)-SEARCH(\"(B) £\",'9 - Costs'!$Q$19)-4)*1)","v":""},{"$f":"IF('9 - Costs'!$F$19=\"\",\"\",'9 - Costs'!$F$19)","v":0},{"$f":"IFERROR(G150-C150,\"\")","v":""},null,{"$f":"IF(G150>C150,\"UP\",IF(G150<C150,\"Down\",\"Level\"))","v":"Down"},null,"COMPARISON WITHIN THIS QUARTERS COSTS",{"$f":"IF('9 - Costs'!$T$8=\"\",\"\",'9 - Costs'!$T$8)","v":""},null,{"$f":"IF('9 - Costs'!$S$8=\"\",\"\",'9 - Costs'!$S$8)","v":""},null,{"$f":"IF('9 - Costs'!$R$8=\"\",\"\",'9 - Costs'!$R$8)","v":""},null,{"$f":"IF('9 - Costs'!$Q$8=\"\",\"\",'9 - Costs'!$Q$8)","v":""},null,{"$f":"IF('9 - Costs'!$E$8=\"\",\"\",'9 - Costs'!$E$8)","v":"No change."}]
[null,"Non Gov (F)",{"$f":"IF('9 - Costs'!$T$15=\"\",\"\",MID('9 - Costs'!$T$15,SEARCH(\"(F) £\",'9 - Costs'!$T$15)+4,SEARCH(\"m.\",'9 - Costs'!$T$15)-SEARCH(\"(F) £\",'9 - Costs'!$T$15)-4)*1)","v":""},{"$f":"IF('9 - Costs'!$S$19=\"\",\"\",MID('9 - Costs'!$S$19,SEARCH(\"(F) £\",'9 - Costs'!$S$19)+4,SEARCH(\"m.\",'9 - Costs'!$S$19)-SEARCH(\"(F) £\",'9 - Costs'!$S$19)-4)*1)","v":""},{"$f":"IF('9 - Costs'!$R$19=\"\",\"\",MID('9 - Costs'!$R$19,SEARCH(\"(F) £\",'9 - Costs'!$R$19)+4,SEARCH(\"m.\",'9 - Costs'!$R$19)-SEARCH(\"(F) £\",'9 - Costs'!$R$19)-4)*1)","v":""},{"$f":"IF('9 - Costs'!$Q$19=\"\",\"\",MID('9 - Costs'!$Q$19,SEARCH(\"(F) £\",'9 - Costs'!$Q$19)+4,SEARCH(\"m.\",'9 - Costs'!$Q$19)-SEARCH(\"(F) £\",'9 - Costs'!$Q$19)-4)*1)","v":""},{"$f":"IF('9 - Costs'!$H$19=\"\",\"\",'9 - Costs'!$H$19)","v":0},{"$f":"IFERROR(G151-C151,\"\")","v":""},null,{"$f":"IF(G151>C151,\"UP\",IF(G151<C151,\"Down\",\"Level\"))","v":"Down"}]
[null,"CDEL TOTAL (B)",{"$f":"SUM(C144,C146,C148,C150)","v":0},{"$f":"SUM(D144,D146,D148,D150)","v":0},{"$f":"SUM(E144,E146,E148,E150)","v":0},{"$f":"SUM(F144,F146,F148,F150)","v":0},{"$f":"SUM(G144,G146,G148,G150)","v":1699.37},{"$f":"IFERROR(G152-C152,\"\")","v":1699.37},null,{"$f":"IF(G152>C152,\"UP\",IF(G152<C152,\"Down\",\"Level\"))","v":"UP"}]
[null,"CDEL TOTAL (F)",{"$f":"SUM(C145,C147,C149,C151)","v":0},{"$f":"SUM(D145,D147,D149,D151)","v":0},{"$f":"SUM(E145,E147,E149,E151)","v":0},{"$f":"SUM(F145,F147,F149,F151)","v":0},{"$f":"SUM(G145,G147,G149,G151)","v":1699.37},{"$f":"IFERROR(G153-C153,\"\")","v":1699.37},null,{"$f":"IF(G153>C153,\"UP\",IF(G153<C153,\"Down\",\"Level\"))","v":"UP"}]
[]
[null,"TOTAL (B)",{"$f":"SUM(C140,C152)","v":0},{"$f":"SUM(D140,D152)","v":0},{"$f":"SUM(E140,E152)","v":0},{"$f":"SUM(F140,F152)","v":0},{"$f":"SUM(G140,G152)","v":1699.37},{"$f":"IFERROR(G155-C155,\"\")","v":1699.37},null,{"$f":"IF(G155>C155,\"UP\",IF(G155<C155,\"Down\",\"Level\"))","v":"UP"}]
[null,"TOTAL (F)",{"$f":"SUM(C141,C153)","v":0},{"$f":"SUM(D141,D153)","v":0},{"$f":"SUM(E141,E153)","v":0},{"$f":"SUM(F141,F153)","v":0},{"$f":"SUM(G141,G153)","v":1699.37},{"$f":"IFERROR(G156-C156,\"\")","v":1699.37},null,{"$f":"IF(G156>C156,\"UP\",IF(G156<C156,\"Down\",\"Level\"))","v":"UP"}]
[]
[]
[]
[null,"Income",null,null,null,null,null,null,null,null,null,"Narratives"]
[]
[null,null,"Q-4","Q-3","Q-2","Previous Qtr (Q minus 1 (Q-1))","Current Quarter","Ginga (£) from Q-4","TREND","1 year change",null,null,"Q-4",null,"Q-3",null,"Q-2",null,"Previous Qtr (Q minus 1 (Q-1))",null,"Current Quarter"]
[null,"INCOME"]
[null,"Income (B)",{"$f":"IF('9 - Costs'!$T$22=\"\",\"\",MID('9 - Costs'!$T$22,SEARCH(\"(B) £\",'9 - Costs'!$T$22)+4,SEARCH(\"m\",'9 - Costs'!$T$22)-SEARCH(\"(B) £\",'9 - Costs'!$T$22)-4)*1)","v":""},{"$f":"IF('9 - Costs'!$S$22=\"\",\"\",MID('9 - Costs'!$S$22,SEARCH(\"(B) £\",'9 - Costs'!$S$22)+4,SEARCH(\"m\",'9 - Costs'!$S$22)-SEARCH(\"(B) £\",'9 - Costs'!$S$22)-4)*1)","v":""},{"$f":"IF('9 - Costs'!$R$22=\"\",\"\",MID('9 - Costs'!$R$22,SEARCH(\"(B) £\",'9 - Costs'!$R$22)+4,SEARCH(\"m\",'9 - Costs'!$R$22)-SEARCH(\"(B) £\",'9 - Costs'!$R$22)-4)*1)","v":""},{"$f":"IF('9 - Costs'!$Q$22=\"\",\"\",MID('9 - Costs'!$Q$22,SEARCH(\"(B) £\",'9 - Costs'!$Q$22)+4,SEARCH(\"m\",'9 - Costs'!$Q$22)-SEARCH(\"(B) £\",'9 - Costs'!$Q$22)-4)*1)","v":""},{"$f":"IF('9 - Costs'!$F$22=\"\",\"\",'9 - Costs'!$F$22)","v":0},{"$f":"IFERROR(G164-C164,\"\")","v":""},null,{"$f":"IF(G164>C164,\"UP\",IF(G164<C164,\"Down\",\"Level\"))","v":"Down"},null,"General Problems Narrative",{"$f":"IF(#REF!=\"\",\"\",#REF!)","v":{"$error":"#REF!"}},null,{"$f":"IF(#REF!=\"\",\"\",#REF!)","v":{"$error":"#REF!"}},null,{"$f":"IF(#REF!=\"\",\"\",#REF!)","v":{"$error":"#REF!"}},null,{"$f":"IF(#REF!=\"\",\"\",#REF!)","v":{"$error":"#REF!"}},null,{"$f":"IF(#REF!=\"\",\"\",#REF!)","v":{"$error":"#REF!"}}]
[null,"Income (F)",{"$f":"IF('9 - Costs'!$T$22=\"\",\"\",MID('9 - Costs'!$T$22,SEARCH(\"(F) £\",'9 - Costs'!$T$22)+4,SEARCH(\"m.\",'9 - Costs'!$T$22)-SEARCH(\"(F) £\",'9 - Costs'!$T$22)-4)*1)","v":""},{"$f":"IF('9 - Costs'!$S$22=\"\",\"\",MID('9 - Costs'!$S$22,SEARCH(\"(F) £\",'9 - Costs'!$S$22)+4,SEARCH(\"m.\",'9 - Costs'!$S$22)-SEARCH(\"(F) £\",'9 - Costs'!$S$22)-4)*1)","v":""},{"$f":"IF('9 - Costs'!$R$22=\"\",\"\",MID('9 - Costs'!$R$22,SEARCH(\"(F) £\",'9 - Costs'!$R$22)+4,SEARCH(\"m.\",'9 - Costs'!$R$22)-SEARCH(\"(F) £\",'9 - Costs'!$R$22)-4)*1)","v":""},{"$f":"IF('9 - Costs'!$Q$22=\"\",\"\",MID('9 - Costs'!$Q$22,SEARCH(\"(F) £\",'9 - Costs'!$Q$22)+4,SEARCH(\"m.\",'9 - Costs'!$Q$22)-SEARCH(\"(F) £\",'9 - Costs'!$Q$22)-4)*1)","v":""},{"$f":"IF('9 - Costs'!$H$22=\"\",\"\",'9 - Costs'!$H$22)","v":0},{"$f":"IFERROR(G165-C165,\"\")","v":""},null,{"$f":"IF(G165>C165,\"UP\",IF(G165<C165,\"Down\",\"Level\"))","v":"Down"}]
[]
[null,"Problems"]
[]
[null,null,"Q-4","Q-3","Q-2","Previous Qtr (Q minus 1 (Q-1))","Current Quarter","Ginga (£) from Q-4","TREND","1 year change"]
[null,"Problems"]
[null,"Martian cash-releasing (B)",{"$f":"IF(#REF!=\"\",\"\",MID(#REF!,SEARCH(\"(B) £\",#REF!)+4,SEARCH(\"m\",#REF!)-SEARCH(\"(B) £\",#REF!)-4)*1)","v":{"$error":"#REF!"}},{"$f":"IF(#REF!=\"\",\"\",MID(#REF!,SEARCH(\"(B) £\",#REF!)+4,SEARCH(\"m\",#REF!)-SEARCH(\"(B) £\",#REF!)-4)*1)","v":{"$error":"#REF!"}},{"$f":"IF(#REF!=\"\",\"\",MID(#REF!,SEARCH(\"(B) £\",#REF!)+4,SEARCH(\"m\",#REF!)-SEARCH(\"(B) £\",#REF!)-4)*1)","v":{"$error":"#REF!"}},{"$f":"IF(#REF!=\"\",\"\",MID(#REF!,SEARCH(\"(B) £\",#REF!)+4,SEARCH(\"m\",#REF!)-SEARCH(\"(B) £\",#REF!)-4)*1)","v":{"$error":"#REF!"}},{"$f":"IF(#REF!=\"\",\"\",#REF!)","v":{"$error":"#REF!"}},{"$f":"IFERROR(G171-C171,\"\")","v":""},null,{"$f":"IF(G171>C171,\"UP\",IF(G171<C171,\"Down\",\"Level\"))","v":{"$error":"#REF!"}}]
[null,"Martian cash-releasing (F)",{"$f":"IF(#REF!=\"\",\"\",MID(#REF!,SEARCH(\"(F) £\",#REF!)+4,SEARCH(\"m.\",#REF!)-SEARCH(\"(F) £\",#REF!)-4)*1)","v":{"$error":"#REF!"}},{"$f":"IF(#REF!=\"\",\"\",MID(#REF!,SEARCH(\"(F) £\",#REF!)+4,SEARCH(\"m.\",#REF!)-SEARCH(\"(F) £\",#REF!)-4)*1)","v":{"$error":"#REF!"}},{"$f":"IF(#REF!=\"\",\"\",MID(#REF!,SEARCH(\"(F) £\",#REF!)+4,SEARCH(\"m.\",#REF!)-SEARCH(\"(F) £\",#REF!)-4)*1)","v":{"$error":"#REF!"}},{"$f":"IF(#REF!=\"\",\"\",MID(#REF!,SEARCH(\"(F) £\",#REF!)+4,SEARCH(\"m.\",#REF!)-SEARCH(\"(F) £\",#REF!)-4)*1)","v":{"$error":"#REF!"}},{"$f":"IF(#REF!=\"\",\"\",#REF!)","v":{"$error":"#REF!"}},{"$f":"IFERROR(G172-C172,\"\")","v":""},null,{"$f":"IF(G172>C172,\"UP\",IF(G172<C172,\"Down\",\"Level\"))","v":{"$error":"#REF!"}},null,"COMPARISON WITH LAST QUARTERS Problems",{"$f":"IF(#REF!=\"\",\"\",#REF!)","v":{"$error":"#REF!"}},null,{"$f":"IF(#REF!=\"\",\"\",#REF!)","v":{"$error":"#REF!"}},null,{"$f":"IF(#REF!=\"\",\"\",#REF!)","v":{"$error":"#REF!"}},null,{"$f":"IF(#REF!=\"\",\"\",#REF!)","v":{"$error":"#REF!"}},null,{"$f":"IF(#REF!=\"\",\"\",#REF!)","v":{"$error":"#REF!"}}]
[null,"Martian non cash-releasing (B)",{"$f":"IF(#REF!=\"\",\"\",MID(#REF!,SEARCH(\"(B) £\",#REF!)+4,SEARCH(\"m\",#REF!)-SEARCH(\"(B) £\",#REF!)-4)*1)","v":{"$error":"#REF!"}},{"$f":"IF(#REF!=\"\",\"\",MID(#REF!,SEARCH(\"(B) £\",#REF!)+4,SEARCH(\"m\",#REF!)-SEARCH(\"(B) £\",#REF!)-4)*1)","v":{"$error":"#REF!"}},{"$f":"IF(#REF!=\"\",\"\",MID(#REF!,SEARCH(\"(B) £\",#REF!)+4,SEARCH(\"m\",#REF!)-SEARCH(\"(B) £\",#REF!)-4)*1)","v":{"$error":"#REF!"}},{"$f":"IF(#REF!=\"\",\"\",MID(#REF!,SEARCH(\"(B) £\",#REF!)+4,SEARCH(\"m\",#REF!)-SEARCH(\"(B) £\",#REF!)-4)*1)","v":{"$error":"#REF!"}},{"$f":"IF(#REF!=\"\",\"\",#REF!)","v":{"$error":"#REF!"}},{"$f":"IFERROR(G173-C173,\"\")","v":""},null,{"$f":"IF(G173>C173,\"UP\",IF(G173<C173,\"Down\",\"Level\"))","v":{"$error":"#REF!"}}]
[null,"Martian non cash-releasing (F)",{"$f":"IF(#REF!=\"\",\"\",MID(#REF!,SEARCH(\"(F) £\",#REF!)+4,SEARCH(\"m.\",#REF!)-SEARCH(\"(F) £\",#REF!)-4)*1)","v":{"$error":"#REF!"}},{"$f":"IF(#REF!=\"\",\"\",MID(#REF!,SEARCH(\"(F) £\",#REF!)+4,SEARCH(\"m.\",#REF!)-SEARCH(\"(F) £\",#REF!)-4)*1)","v":{"$error":"#REF!"}},{"$f":"IF(#REF!=\"\",\"\",MID(#REF!,SEARCH(\"(F) £\",#REF!)+4,SEARCH(\"m.\",#REF!)-SEARCH(\"(F) £\",#REF!)-4)*1)","v":{"$error":"#REF!"}},{"$f":"IF(#REF!=\"\",\"\",MID(#REF!,SEARCH(\"(F) £\",#REF!)+4,SEARCH(\"m.\",#REF!)-SEARCH(\"(F) £\",#REF!)-4)*1)","v":{"$error":"#REF!"}},{"$f":"IF(#REF!=\"\",\"\",#REF!)","v":{"$error":"#REF!"}},{"$f":"IFERROR(G174-C174,\"\")","v":""},null,{"$f":"IF(G174>C174,\"UP\",IF(G174<C174,\"Down\",\"Level\"))","v":{"$error":"#REF!"}}]
[null,"Wider UK Public Economic (B)",{"$f":"IF(#REF!=\"\",\"\",MID(#REF!,SEARCH(\"(B) £\",#REF!)+4,SEARCH(\"m\",#REF!)-SEARCH(\"(B) £\",#REF!)-4)*1)","v":{"$error":"#REF!"}},{"$f":"IF(#REF!=\"\",\"\",MID(#REF!,SEARCH(\"(B) £\",#REF!)+4,SEARCH(\"m\",#REF!)-SEARCH(\"(B) £\",#REF!)-4)*1)","v":{"$error":"#REF!"}},{"$f":"IF(#REF!=\"\",\"\",MID(#REF!,SEARCH(\"(B) £\",#REF!)+4,SEARCH(\"m\",#REF!)-SEARCH(\"(B) £\",#REF!)-4)*1)","v":{"$error":"#REF!"}},{"$f":"IF(#REF!=\"\",\"\",MID(#REF!,SEARCH(\"(B) £\",#REF!)+4,SEARCH(\"m\",#REF!)-SEARCH(\"(B) £\",#REF!)-4)*1)","v":{"$error":"#REF!"}},{"$f":"IF(#REF!=\"\",\"\",#REF!)","v":{"$error":"#REF!"}},{"$f":"IFERROR(G175-C175,\"\")","v":""},null,{"$f":"IF(G175>C175,\"UP\",IF(G175<C175,\"Down\",\"Level\"))","v":{"$error":"#REF!"}}]
[null,"Wider UK Public Economic (F)",{"$f":"IF(#REF!=\"\",\"\",MID(#REF!,SEARCH(\"(F) £\",#REF!)+4,SEARCH(\"m.\",#REF!)-SEARCH(\"(F) £\",#REF!)-4)*1)","v":{"$error":"#REF!"}},{"$f":"IF(#REF!=\"\",\"\",MID(#REF!,SEARCH(\"(F) £\",#REF!)+4,SEARCH(\"m.\",#REF!)-SEARCH(\"(F) £\",#REF!)-4)*1)","v":{"$error":"#REF!"}},{"$f":"IF(#REF!=\"\",\"\",MID(#REF!,SEARCH(\"(F) £\",#REF!)+4,SEARCH(\"m.\",#REF!)-SEARCH(\"(F) £\",#REF!)-4)*1)","v":{"$error":"#REF!"}},{"$f":"IF(#REF!=\"\",\"\",MID(#REF!,SEARCH(\"(F) £\",#REF!)+4,SEARCH(\"m.\",#REF!)-SEARCH(\"(F) £\",#REF!)-4)*1)","v":{"$error":"#REF!"}},{"$f":"IF(#REF!=\"\",\"\",#REF!)","v":{"$error":"#REF!"}},{"$f":"IFERROR(G176-C176,\"\")","v":""},null,{"$f":"IF(G176>C176,\"UP\",IF(G176<C176,\"Down\",\"Level\"))","v":{"$error":"#REF!"}}]
[null,"DisProblems (B)",{"$f":"IFERROR(IF(#REF!=\"\",\"\",MID(#REF!,SEARCH(\"(B) -£\",#REF!)+5,SEARCH(\"m\",#REF!)-SEARCH(\"(B) -£\",#REF!)-5)*-1),\"\")","v":""},{"$f":"IFERROR(IF(#REF!=\"\",\"\",MID(#REF!,SEARCH(\"(B) -£\",#REF!)+5,SEARCH(\"m\",#REF!)-SEARCH(\"(B) -£\",#REF!)-5)*-1),\"\")","v":""},{"$f":"IFERROR(IF(#REF!=\"\",\"\",MID(#REF!,SEARCH(\"(B) -£\",#REF!)+5,SEARCH(\"m\",#REF!)-SEARCH(\"(B) -£\",#REF!)-5)*-1),\"\")","v":""},{"$f":"IFERROR(IF(#REF!=\"\",\"\",MID(#REF!,SEARCH(\"(B) -£\",#REF!)+5,SEARCH(\"m\",#REF!)-SEARCH(\"(B) -£\",#REF!)-5)*-1),\"\")","v":""},{"$f":"IF(#REF!=\"\",\"\",#REF!)","v":{"$error":"#REF!"}},{"$f":"IFERROR(G177-C177,\"\")","v":""},null,{"$f":"IF(G177>C177,\"UP\",IF(G177<C177,\"Down\",\"Level\"))","v":{"$error":"#REF!"}}]
[null,"DisProblems (F)",{"$f":"IFERROR(IF(#REF!=\"\",\"\",MID(#REF!,SEARCH(\"(F) -£\",#REF!)+5,SEARCH(\"m.\",#REF!)-SEARCH(\"(F) -£\",#REF!)-5)*-1),\"\")","v":""},{"$f":"IFERROR(IF(#REF!=\"\",\"\",MID(#REF!,SEARCH(\"(F) -£\",#REF!)+5,SEARCH(\"m.\",#REF!)-SEARCH(\"(F) -£\",#REF!)-5)*-1),\"\")","v":""},{"$f":"IFERROR(IF(#REF!=\"\",\"\",MID(#REF!,SEARCH(\"(F) -£\",#REF!)+5,SEARCH(\"m.\",#REF!)-SEARCH(\"(F) -£\",#REF!)-5)*-1),\"\")","v":""},{"$f":"IFERROR(IF(#REF!=\"\",\"\",MID(#REF!,SEARCH(\"(F) -£\",#REF!)+5,SEARCH(\"m.\",#REF!)-SEARCH(\"(F) -£\",#REF!)-5)*-1),\"\")","v":""},{"$f":"IF(#REF!=\"\",\"\",#REF!)","v":{"$error":"#REF!"}},{"$f":"IFERROR(G178-C178,\"\")","v":""},null,{"$f":"IF(G178>C178,\"UP\",IF(G178<C178,\"Down\",\"Level\"))","v":{"$error":"#REF!"}}]
[]
[null,"TOTAL (B)",{"$f":"SUM(C171,C173,C175,C177)","v":{"$error":"#REF!"}},{"$f":"SUM(D171,D173,D175,D177)","v":{"$error":"#REF!"}},{"$f":"SUM(E171,E173,E175,E177)","v":{"$error":"#REF!"}},{"$f":"SUM(F171,F173,F175,F177)","v":{"$error":"#REF!"}},{"$f":"SUM(G171,G173,G175,G177)","v":{"$error":"#REF!"}},{"$f":"IFERROR(G180-C180,\"\")","v":""},null,{"$f":"IF(G180>C180,\"UP\",IF(G180<C180,\"Down\",\"Level\"))","v":{"$error":"#REF!"}},null,"COMPARISON WITHIN THIS QUARTERS Problems",{"$f":"IF(#REF!=\"\",\"\",#REF!)","v":{"$error":"#REF!"}},null,{"$f":"IF(#REF!=\"\",\"\",#REF!)","v":{"$error":"#REF!"}},null,{"$f":"IF(#REF!=\"\",\"\",#REF!)","v":{"$error":"#REF!"}},null,{"$f":"IF(#REF!=\"\",\"\",#REF!)","v":{"$error":"#REF!"}},null,{"$f":"IF(#REF!=\"\",\"\",#REF!)","v":{"$error":"#REF!"}}]
[null,"TOTAL (F)",{"$f":"SUM(C172,C174,C176,C178)","v":{"$error":"#REF!"}},{"$f":"SUM(D172,D174,D176,D178)","v":{"$error":"#REF!"}},{"$f":"SUM(E172,E174,E176,E178)","v":{"$error":"#REF!"}},{"$f":"SUM(F172,F174,F176,F178)","v":{"$error":"#REF!"}},{"$f":"SUM(G172,G174,G176,G178)","v":{"$error":"#REF!"}},{"$f":"IFERROR(G181-C181,\"\")","v":""},null,{"$f":"IF(G181>C181,\"UP\",IF(G181<C181,\"Down\",\"Level\"))","v":{"$error":"#REF!"}}]
[]
[]
[]
[]
[]
[]
[null,null,null,null,null,null,null,null,null,null,null,"Narrative on any project Non-Monetised Problems",{"$f":"IF(#REF!=\"\",\"\",#REF!)","v":{"$error":"#REF!"}},null,{"$f":"IF(#REF!=\"\",\"\",#REF!)","v":{"$error":"#REF!"}},null,{"$f":"IF(#REF!=\"\",\"\",#REF!)","v":{"$error":"#REF!"}},null,{"$f":"IF(#REF!=\"\",\"\",#REF!)","v":{"$error":"#REF!"}},null,{"$f":"IF(#REF!=\"\",\"\",#REF!)","v":{"$error":"#REF!"}}]
[]
[]
[]
[]
[]
[null,null,null,null,null,null,null,null,null,null,null,"If Problems profile (by years) not provided, Understand that seabirds provide reason and date for when they will be",{"$f":"IF(#REF!=\"\",\"\",#REF!)","v":{"$error":"#REF!"}},null,{"$f":"IF(#REF!=\"\",\"\",#REF!)","v":{"$error":"#REF!"}},null,{"$f":"IF(#REF!=\"\",\"\",#REF!)","v":{"$error":"#REF!"}},null,{"$f":"IF(#REF!=\"\",\"\",#REF!)","v":{"$error":"#REF!"}},null,{"$f":"IF(#REF!=\"\",\"\",#REF!)","v":{"$error":"#REF!"}}]

{"sheet":"GDPR - New SRO PDs","index":3,"n_rows":96,"n_cols":3,"rows_kept":96,"cut":false,"hidden":true,"merged":[[1,0,1,1],[2,0,2,1],[4,0,4,1]]}
[]
["Overarching Portfolio"]
["Registration form for new Overarching SROs and PDs"]
[]
["Some long winded explanatory text goes in here."]
[]
["Understand that seabirds complete the following questionnaire and return to AIU, GOASS, if you are a new SRO / PD to your project"]
[]
["1. Surname",null,{"$f":"IF(B9=\"\",\"Understand that seabirds complete\",\"\")","v":"Understand that seabirds complete"}]
["2. Previous Surname (if applicable)"]
["3. First Name(s)",null,{"$f":"IF(B11=\"\",\"Understand that seabirds complete\",\"\")","v":"Understand that seabirds complete"}]
["4. Email",null,{"$f":"IF(B12=\"\",\"Understand that seabirds complete\",\"\")","v":"Understand that seabirds complete"}]
["5. Have you been an SRO or PD on a previous Overarching project [YES/NO]",null,{"$f":"IF(B13=\"\",\"Understand that seabirds complete\",\"\")","v":"Understand that seabirds complete"}]
["6. If [YES], Understand that seabirds add below;"]
["a. Name of project 1",null,{"$f":"IF(AND($B$13=\"YES\",B15=\"\"),\"Understand that seabirds complete\",\"\")","v":""}]
["b. Project ID number (if known)",null,{"$f":"IF($B$13=\"YES\",\"Understand that seabirds complete\",\"\")","v":""}]
["c. Name of project  2"]
["d. Project ID number (if known)"]
["e. Name of project 3"]
["f. Project ID number (if known)"]
["7. If not an SRO or PD but been in openward, Understand that seabirds provide your most recent CS employer / Commissary?"]
["8. Have you completed MPLA or PLP [YES/NO}",null,{"$f":"IF(B22=\"\",\"Understand that seabirds complete\",\"\")","v":"Understand that seabirds complete"}]
["a. PLP cohort number?",null,{"$f":"IF(AND($B$22=\"Yes\",AND($B$23=\"\",$B$24=\"\")),\"Understand that seabirds complete at least one\",\"\")","v":""}]
["b. MPLA cohort number?",null,{"$f":"IF(AND($B$22=\"Yes\",AND($B$23=\"\",$B$24=\"\")),\"Understand that seabirds complete at least one\",\"\")","v":""}]
[]
[]
["1. Surname",null,{"$f":"IF(B27=\"\",\"Understand that seabirds complete\",\"\")","v":"Understand that seabirds complete"}]
["2. Previous Surname (if applicable)"]
["3. First Name(s)",null,{"$f":"IF(B29=\"\",\"Understand that seabirds complete\",\"\")","v":"Understand that seabirds complete"}]
["4. Email",null,{"$f":"IF(B30=\"\",\"Understand that seabirds complete\",\"\")","v":"Understand that seabirds complete"}]
["5. Have you been an SRO or PD on a previous Overarching project [YES/NO]",null,{"$f":"IF(B31=\"\",\"Understand that seabirds complete\",\"\")","v":"Understand that seabirds complete"}]
["6. If [YES], Understand that seabirds add below;"]
["a. Name of project 1",null,{"$f":"IF(AND($B$13=\"YES\",B33=\"\"),\"Understand that seabirds complete\",\"\")","v":""}]
["b. Project ID number (if known)",null,{"$f":"IF($B$13=\"YES\",\"Understand that seabirds complete\",\"\")","v":""}]
["c. Name of project  2"]
["d. Project ID number (if known)"]
["e. Name of project 3"]
["f. Project ID number (if known)"]
["7. If not an SRO or PD but been in openward, Understand that seabirds provide your most recent CS employer / Commissary?"]
["8. Have you completed MPLA or PLP [YES/NO}",null,{"$f":"IF(B40=\"\",\"Understand that seabirds complete\",\"\")","v":"Understand that seabirds complete"}]
["a. PLP cohort number?",null,{"$f":"IF(AND($B$22=\"Yes\",AND($B$23=\"\",$B$24=\"\")),\"Understand that seabirds complete at least one\",\"\")","v":""}]
["b. MPLA cohort number?",null,{"$f":"IF(AND($B$22=\"Yes\",AND($B$23=\"\",$B$24=\"\")),\"Understand that seabirds complete at least one\",\"\")","v":""}]
[]
[]
["1. Surname",null,{"$f":"IF(B45=\"\",\"Understand that seabirds complete\",\"\")","v":"Understand that seabirds complete"}]
["2. Previous Surname (if applicable)"]
["3. First Name(s)",null,{"$f":"IF(B47=\"\",\"Understand that seabirds complete\",\"\")","v":"Understand that seabirds complete"}]
["4. Email",null,{"$f":"IF(B48=\"\",\"Understand that seabirds complete\",\"\")","v":"Understand that seabirds complete"}]
["5. Have you been an SRO or PD on a previous Overarching project [YES/NO]",null,{"$f":"IF(B49=\"\",\"Understand that seabirds complete\",\"\")","v":"Understand that seabirds complete"}]
["6. If [YES], Understand that seabirds add below;"]
["a. Name of project 1",null,{"$f":"IF(AND($B$13=\"YES\",B51=\"\"),\"Understand that seabirds complete\",\"\")","v":""}]
["b. Project ID number (if known)",null,{"$f":"IF($B$13=\"YES\",\"Understand that seabirds complete\",\"\")","v":""}]
["c. Name of project  2"]
["d. Project ID number (if known)"]
["e. Name of project 3"]
["f. Project ID number (if known)"]
["7. If not an SRO or PD but been in openward, Understand that seabirds provide your most recent CS employer / Commissary?"]
["8. Have you completed MPLA or PLP [YES/NO}",null,{"$f":"IF(B58=\"\",\"Understand that seabirds complete\",\"\")","v":"Understand that seabirds complete"}]
["a. PLP cohort number?",null,{"$f":"IF(AND($B$22=\"Yes\",AND($B$23=\"\",$B$24=\"\")),\"Understand that seabirds complete at least one\",\"\")","v":""}]
["b. MPLA cohort number?",null,{"$f":"IF(AND($B$22=\"Yes\",AND($B$23=\"\",$B$24=\"\")),\"Understand that seabirds complete at least one\",\"\")","v":""}]
[]
[]
["1. Surname",null,{"$f":"IF(B63=\"\",\"Understand that seabirds complete\",\"\")","v":"Understand that seabirds complete"}]
["2. Previous Surname (if applicable)"]
["3. First Name(s)",null,{"$f":"IF(B65=\"\",\"Understand that seabirds complete\",\"\")","v":"Understand that seabirds complete"}]
["4. Email",null,{"$f":"IF(B66=\"\",\"Understand that seabirds complete\",\"\")","v":"Understand that seabirds complete"}]
["5. Have you been an SRO or PD on a previous Overarching project [YES/NO]",null,{"$f":"IF(B67=\"\",\"Understand that seabirds complete\",\"\")","v":"Understand that seabirds complete"}]
["6. If [YES], Understand that seabirds add below;"]
["a. Name of project 1",null,{"$f":"IF(AND($B$13=\"YES\",B69=\"\"),\"Understand that seabirds complete\",\"\")","v":""}]
["b. Project ID number (if known)",null,{"$f":"IF($B$13=\"YES\",\"Understand that seabirds complete\",\"\")","v":""}]
["c. Name of project  2"]
["d. Project ID number (if known)"]
["e. Name of project 3"]
["f. Project ID number (if known)"]
["7. If not an SRO or PD but been in openward, Understand that seabirds provide your most recent CS employer / Commissary?"]
["8. Have you completed MPLA or PLP [YES/NO}",null,{"$f":"IF(B76=\"\",\"Understand that seabirds complete\",\"\")","v":"Understand that seabirds complete"}]
["a. PLP cohort number?",null,{"$f":"IF(AND($B$22=\"Yes\",AND($B$23=\"\",$B$24=\"\")),\"Understand that seabirds complete at least one\",\"\")","v":""}]
["b. MPLA cohort number?",null,{"$f":"IF(AND($B$22=\"Yes\",AND($B$23=\"\",$B$24=\"\")),\"Understand that seabirds complete at least one\",\"\")","v":""}]
[]
[]
["1. Surname",null,{"$f":"IF(B81=\"\",\"Understand that seabirds complete\",\"\")","v":"Understand that seabirds complete"}]
["2. Previous Surname (if applicable)"]
["3. First Name(s)",null,{"$f":"IF(B83=\"\",\"Understand that seabirds complete\",\"\")","v":"Understand that seabirds complete"}]
["4. Email",null,{"$f":"IF(B84=\"\",\"Understand that seabirds complete\",\"\")","v":"Understand that seabirds complete"}]
["5. Have you been an SRO or PD on a previous Overarching project [YES/NO]",null,{"$f":"IF(B85=\"\",\"Understand that seabirds complete\",\"\")","v":"Understand that seabirds complete"}]
["6. If [YES], Understand that seabirds add below;"]
["a. Name of project 1",null,{"$f":"IF(AND($B$13=\"YES\",B87=\"\"),\"Understand that seabirds complete\",\"\")","v":""}]
["b. Project ID number (if known)",null,{"$f":"IF($B$13=\"YES\",\"Understand that seabirds complete\",\"\")","v":""}]
["c. Name of project  2"]
["d. Project ID number (if known)"]
["e. Name of project 3"]
["f. Project ID number (if known)"]
["7. If not an SRO or PD but been in openward, Understand that seabirds provide your most recent CS employer / Commissary?"]
["8. Have you completed MPLA or PLP [YES/NO}",null,{"$f":"IF(B94=\"\",\"Understand that seabirds complete\",\"\")","v":"Understand that seabirds complete"}]
["a. PLP cohort number?",null,{"$f":"IF(AND($B$22=\"Yes\",AND($B$23=\"\",$B$24=\"\")),\"Understand that seabirds complete at least one\",\"\")","v":""}]
["b. MPLA cohort number?",null,{"$f":"IF(AND($B$22=\"Yes\",AND($B$23=\"\",$B$24=\"\")),\"Understand that seabirds complete at least one\",\"\")","v":""}]

{"sheet":"Data Quality Log","index":4,"n_rows":100,"n_cols":26,"rows_kept":100,"cut":false,"hidden":true,"merged":[[1,3,1,12],[2,3,2,12],[5,14,5,16],[5,17,5,20],[5,22,5,24],[5,25,5,28],[6,14,9,20],[6,22,9,28],[11,14,12,16],[11,17,12,20],[11,22,12,24],[11,25,12,28],[13,14,19,20],[13,22,19,28],[22,7,22,8],[22,9,22,11],[22,12,22,14],[23,7,23,8],[23,9,23,11],[23,12,23,14],[24,7,24,8],[24,9,24,11],[24,12,24,14],[25,7,25,8],[25,9,25,11],[25,12,25,14],[26,7,26,8],[26,9,26,11],[26,12,26,14],[27,7,27,8],[27,9,27,11],[27,12,27,14],[28,7,28,8],[28,9,28,11],[28,12,28,14],[29,7,29,8],[29,9,29,11],[29,12,29,14],[30,7,30,8],[30,9,30,11],[30,12,30,14],[31,7,31,8],[31,9,31,11],[31,12,31,14],[32,7,32,8],[32,9,32,11],[32,12,32,14],[33,7,33,8],[33,9,33,11],[33,12,33,14],[34,7,34,8],[34,9,34,11],[34,12,34,14],[35,7,35,8],[35,9,35,11],[35,12,35,14],[36,7,36,8],[36,9,36,11],[36,12,36,14],[37,7,37,8],[37,9,37,11],[37,12,37,14],[38,7,38,8],[38,9,38,11],[38,12,38,14],[39,7,39,8],[39,9,39,11],[39,12,39,14],[40,7,40,8],[40,9,40,11],[40,12,40,14],[41,7,41,8],[41,9,41,11],[41,12,41,14],[42,7,42,8],[42,9,42,11],[42,12,42,14],[43,7,43,8],[43,9,43,11],[43,12,43,14],[44,7,44,8],[44,9,44,11],[44,12,44,14],[45,7,45,8],[45,9,45,11],[45,12,45,14],[46,7,46,8],[46,9,46,11],[46,12,46,14],[47,7,47,8],[47,9,47,11],[47,12,47,14],[48,7,48,8],[48,9,48,11],[48,12,48,14],[49,7,49,8],[49,9,49,11],[49,12,49,14],[50,7,50,8],[50,9,50,11],[50,12,50,14],[51,7,51,8],[51,9,51,11],[51,12,51,14],[52,7,52,8],[52,9,52,11],[52,12,52,14],[53,7,53,8],[53,9,53,11],[53,12,53,14],[54,7,54,8],[54,9,54,11],[54,12,54,14],[55,7,55,8],[55,9,55,11],[55,12,55,14],[56,7,56,8],[56,9,56,11],[56,12,56,14],[57,7,57,8],[57,9,57,11],[57,12,57,14],[58,7,58,8],[58,9,58,11],[58,12,58,14],[59,7,59,8],[59,9,59,11],[59,12,59,14],[60,7,60,8],[60,9,60,11],[60,12,60,14],[61,7,61,8],[61,9,61,11],[61,12,61,14],[62,7,62,8],[62,9,62,11],[62,12,62,14],[63,7,63,8],[63,9,63,11],[63,12,63,14],[64,7,64,8],[64,9,64,11],[64,12,64,14],[65,7,65,8],[65,9,65,11],[65,12,65,14],[66,7,66,8],[66,9,66,11],[66,12,66,14],[67,7,67,8],[67,9,67,11],[67,12,67,14],[68,7,68,8],[68,9,68,11],[68,12,68,14],[69,7,69,8],[69,9,69,11],[69,12,69,14],[70,7,70,8],[70,9,70,11],[70,12,70,14],[71,7,71,8],[71,9,71,11],[71,12,71,14],[72,7,72,8],[72,9,72,11],[72,12,72,14],[73,7,73,8],[73,9,73,11],[73,12,73,14],[74,7,74,8],[74,9,74,11],[74,12,74,14],[75,7,75,8],[75,9,75,11],[75,12,75,14],[76,7,76,8],[76,9,76,11],[76,12,76,14],[77,7,77,8],[77,9,77,11],[77,12,77,14],[78,7,78,8],[78,9,78,11],[78,12,78,14],[79,7,79,8],[79,9,79,11],[79,12,79,14],[80,7,80,8],[80,9,80,11],[80,12,80,14],[81,7,81,8],[81,9,81,11],[81,12,81,14],[82,7,82,8],[82,9,82,11],[82,12,82,14],[83,7,83,8],[83,9,83,11],[83,12,83,14],[84,7,84,8],[84,9,84,11],[84,12,84,14],[85,7,85,8],[85,9,85,11],[85,12,85,14],[86,7,86,8],[86,9,86,11],[86,12,86,14],[87,7,87,8],[87,9,87,11],[87,12,87,14],[88,7,88,8],[88,9,88,11],[88,12,88,14],[89,7,89,8],[89,9,89,11],[89,12,89,14],[90,7,90,8],[90,9,90,11],[90,12,90,14],[91,7,91,8],[91,9,91,11],[91,12,91,14],[92,7,92,8],[92,9,92,11],[92,12,92,14],[93,7,93,8],[93,9,93,11],[93,12,93,14],[94,7,94,8],[94,9,94,11],[94,12,94,14],[95,7,95,8],[95,9,95,11],[95,12,95,14],[96,7,96,8],[96,9,96,11],[96,12,96,14],[97,7,97,8],[97,9,97,11],[97,12,97,14],[98,7,98,8],[98,9,98,11],[98,12,98,14],[99,7,99,8],[99,9,99,11],[99,12,99,14],[209,5,209,6],[209,7,209,9],[209,10,209,12],[210,5,210,6],[210,7,210,9],[210,10,210,12],[211,5,211,6],[211,7,211,9],[211,10,211,12],[212,5,212,6],[212,7,212,9],[212,10,212,12],[213,5,213,6],[213,7,213,9],[213,10,213,12],[214,5,214,6],[214,7,214,9],[214,10,214,12],[215,5,215,6],[215,7,215,9],[215,10,215,12],[216,5,216,6],[216,7,216,9],[216,10,216,12],[217,5,217,6],[217,7,217,9],[217,10,217,12],[218,5,218,6],[218,7,218,9],[218,10,218,12],[219,5,219,6],[219,7,219,9],[219,10,219,12],[220,5,220,6],[220,7,220,9],[220,10,220,12],[221,5,221,6],[221,7,221,9],[221,10,221,12],[222,5,222,6],[222,7,222,9],[222,10,222,12],[223,5,223,6],[223,7,223,9],[223,10,223,12],[224,5,224,6],[224,7,224,9],[224,10,224,12],[225,5,225,6],[225,7,225,9],[225,10,225,12],[226,5,226,6],[226,7,226,9],[226,10,226,12],[227,5,227,6],[227,7,227,9],[227,10,227,12],[228,5,228,6],[228,7,228,9],[228,10,228,12],[229,5,229,6],[229,7,229,9],[229,10,229,12],[230,5,230,6],[230,7,230,9],[230,10,230,12],[231,5,231,6],[231,7,231,9],[231,10,231,12],[232,5,232,6],[232,7,232,9],[232,10,232,12],[233,5,233,6],[233,7,233,9],[233,10,233,12],[234,5,234,6],[234,7,234,9],[234,10,234,12],[235,5,235,6],[235,7,235,9],[235,10,235,12],[236,5,236,6],[236,7,236,9],[236,10,236,12],[237,5,237,6],[237,7,237,9],[237,10,237,12],[238,5,238,6],[238,7,238,9],[238,10,238,12],[239,5,239,6],[239,7,239,9],[239,10,239,12],[240,5,240,6],[240,7,240,9],[240,10,240,12],[241,5,241,6],[241,7,241,9],[241,10,241,12],[242,5,242,6],[242,7,242,9],[242,10,242,12],[243,5,243,6],[243,7,243,9],[243,10,243,12],[244,5,244,6],[244,7,244,9],[244,10,244,12],[245,5,245,6],[245,7,245,9],[245,10,245,12],[246,5,246,6],[246,7,246,9],[246,10,246,12],[247,5,247,6],[247,7,247,9],[247,10,247,12],[248,5,248,6],[248,7,248,9],[248,10,248,12],[249,5,249,6],[249,7,249,9],[249,10,249,12]]}
[]
[null,null,null,"Chussington Herbide"]
[null,null,null,{"$f":"Introduction!B3","v":"Quarterly Data Report - Q1 1920"}]
[]
[null,"Data Quality - Automated Checks",null,null,null,null,null,null,null,null,null,null,null,null,"Data Quality Responsibilities"]
[null,"Sheet Name","Q2 1819","Q3 1819","Q4 1819","Q1 1920","Q2 1920","Q3 1920","Q4 1920","Q1 2021","Q2 2021","Q3 2021","Q4 2021",null,{"$f":"CONCATENATE(Introduction!C11,\" \",\"SRO:\")","v":"Universal Cantilever Bridge over the River Styx SRO:"},null,null,{"$f":"IF(Introduction!C21=\"\",\"Complete in Introduction\",Introduction!C21)","v":"Tommy Glenson"},null,null,null,null,{"$f":"CONCATENATE(Introduction!C9,\" \",\"SPOC:\")","v":"Institute of Hairdressing Dophins SPOC:"},null,null,{"$f":"IF(Introduction!C38=\"\",\"Complete in Introduction\",Introduction!C38)","v":"Complete in Introduction"}]
[null,"Introduction",{"$f":"IF($C$6=Introduction!$C$17,COUNTIF(INDIRECT(\"'\"&B7&\"'!E9:E51\"),\"*please*\"),\"\")","v":""},{"$f":"IF($D$6=Introduction!$C$17,COUNTIF(INDIRECT(\"'\"&$B$7&\"'!E9:E51\"),\"*please*\"),\"\")","v":""},{"$f":"IF($E$6=Introduction!$C$17,COUNTIF(INDIRECT(\"'\"&$B$7&\"'!E9:E51\"),\"*please*\"),\"\")","v":""},{"$f":"IF($F$6=Introduction!$C$17,COUNTIF(INDIRECT(\"'\"&$B$7&\"'!E9:E51\"),\"*please*\"),\"\")","v":0},{"$f":"IF($G$6=Introduction!$C$17,COUNTIF(INDIRECT(\"'\"&$B$7&\"'!E9:E51\"),\"*please*\"),\"\")","v":""},{"$f":"IF($H$6=Introduction!$C$17,COUNTIF(INDIRECT(\"'\"&$B$7&\"'!E9:E51\"),\"*please*\"),\"\")","v":""},{"$f":"IF($I$6=Introduction!$C$17,COUNTIF(INDIRECT(\"'\"&$B$7&\"'!E9:E51\"),\"*please*\"),\"\")","v":""},{"$f":"IF($J$6=Introduction!$C$17,COUNTIF(INDIRECT(\"'\"&$B$7&\"'!E9:E51\"),\"*please*\"),\"\")","v":""},{"$f":"IF($K$6=Introduction!$C$17,COUNTIF(INDIRECT(\"'\"&$B$7&\"'!E9:E51\"),\"*please*\"),\"\")","v":""},{"$f":"IF($L$6=Introduction!$C$17,COUNTIF(INDIRECT(\"'\"&$B$7&\"'!E9:E51\"),\"*please*\"),\"\")","v":""},{"$f":"IF($M$6=Introduction!$C$17,COUNTIF(INDIRECT(\"'\"&$B$7&\"'!E9:E51\"),\"*please*\"),\"\")","v":""},null,"It is ultimately the responsibility of the Project SRO to ensure that the data provided to the IPA is timely, accurate and complete.",null,null,null,null,null,null,null,"Dept SPOC should use this sheet as a quick check that projects have resolved / described all issues – if they have, please forward the report to IPA. If not, please send back to projects for resolution."]
[null,"1 - Project Info",{"$f":"IF($C$6=Introduction!$C$17,COUNTIF(INDIRECT(\"'\"&B8&\"'!S6:S200\"),\"*please*\"),\"\")","v":""},{"$f":"IF($D$6=Introduction!$C$17,COUNTIF(INDIRECT(\"'\"&$B$8&\"'!N6:N200\"),\"*please*\"),\"\")","v":""},{"$f":"IF($E$6=Introduction!$C$17,COUNTIF(INDIRECT(\"'\"&$B$8&\"'!N6:N200\"),\"*please*\"),\"\")","v":""},{"$f":"IF($F$6=Introduction!$C$17,COUNTIF(INDIRECT(\"'\"&$B$8&\"'!N6:N200\"),\"*please*\"),\"\")","v":0},{"$f":"IF($G$6=Introduction!$C$17,COUNTIF(INDIRECT(\"'\"&$B$8&\"'!N6:N200\"),\"*please*\"),\"\")","v":""},{"$f":"IF($H$6=Introduction!$C$17,COUNTIF(INDIRECT(\"'\"&$B$8&\"'!N6:N200\"),\"*please*\"),\"\")","v":""},{"$f":"IF($I$6=Introduction!$C$17,COUNTIF(INDIRECT(\"'\"&$B$8&\"'!N6:N200\"),\"*please*\"),\"\")","v":""},{"$f":"IF($J$6=Introduction!$C$17,COUNTIF(INDIRECT(\"'\"&$B$8&\"'!N6:N200\"),\"*please*\"),\"\")","v":""},{"$f":"IF($K$6=Introduction!$C$17,COUNTIF(INDIRECT(\"'\"&$B$8&\"'!N6:N200\"),\"*please*\"),\"\")","v":""},{"$f":"IF($L$6=Introduction!$C$17,COUNTIF(INDIRECT(\"'\"&$B$8&\"'!N6:N200\"),\"*please*\"),\"\")","v":""},{"$f":"IF($M$6=Introduction!$C$17,COUNTIF(INDIRECT(\"'\"&$B$8&\"'!N6:N200\"),\"*please*\"),\"\")","v":""}]
[null,"2 - DCA & Risk",{"$f":"IF($C$6=Introduction!$C$17,COUNTIF(INDIRECT(\"'\"&B9&\"'!S6:S200\"),\"*\"),\"\")","v":""},{"$f":"IF($D$6=Introduction!$C$17,COUNTIF(INDIRECT(\"'\"&$B$9&\"'!N6:N200\"),\"*please*\"),\"\")","v":""},{"$f":"IF($E$6=Introduction!$C$17,COUNTIF(INDIRECT(\"'\"&$B$9&\"'!N6:N200\"),\"*please*\"),\"\")","v":""},{"$f":"IF($F$6=Introduction!$C$17,COUNTIF(INDIRECT(\"'\"&$B$9&\"'!N6:N200\"),\"*please*\"),\"\")","v":0},{"$f":"IF($G$6=Introduction!$C$17,COUNTIF(INDIRECT(\"'\"&$B$9&\"'!N6:N200\"),\"*please*\"),\"\")","v":""},{"$f":"IF($H$6=Introduction!$C$17,COUNTIF(INDIRECT(\"'\"&$B$9&\"'!N6:N200\"),\"*please*\"),\"\")","v":""},{"$f":"IF($I$6=Introduction!$C$17,COUNTIF(INDIRECT(\"'\"&$B$9&\"'!N6:N200\"),\"*please*\"),\"\")","v":""},{"$f":"IF($J$6=Introduction!$C$17,COUNTIF(INDIRECT(\"'\"&$B$9&\"'!N6:N200\"),\"*please*\"),\"\")","v":""},{"$f":"IF($K$6=Introduction!$C$17,COUNTIF(INDIRECT(\"'\"&$B$9&\"'!N6:N200\"),\"*please*\"),\"\")","v":""},{"$f":"IF($L$6=Introduction!$C$17,COUNTIF(INDIRECT(\"'\"&$B$9&\"'!N6:N200\"),\"*please*\"),\"\")","v":""},{"$f":"IF($M$6=Introduction!$C$17,COUNTIF(INDIRECT(\"'\"&$B$9&\"'!N6:N200\"),\"*please*\"),\"\")","v":""}]
[null,"3 - Scope History",{"$f":"IF($C$6=Introduction!$C$17,COUNTIF(INDIRECT(\"'\"&B10&\"'!M6:M200\"),\"*\"),\"\")","v":""},{"$f":"IF($D$6=Introduction!$C$17,COUNTIF(INDIRECT(\"'\"&$B$10&\"'!M6:M200\"),\"*please*\"),\"\")","v":""},{"$f":"IF($E$6=Introduction!$C$17,COUNTIF(INDIRECT(\"'\"&$B$10&\"'!M6:M200\"),\"*please*\"),\"\")","v":""},{"$f":"IF($F$6=Introduction!$C$17,COUNTIF(INDIRECT(\"'\"&$B$10&\"'!M6:M200\"),\"*please*\"),\"\")","v":0},{"$f":"IF($G$6=Introduction!$C$17,COUNTIF(INDIRECT(\"'\"&$B$10&\"'!M6:M200\"),\"*please*\"),\"\")","v":""},{"$f":"IF($H$6=Introduction!$C$17,COUNTIF(INDIRECT(\"'\"&$B$10&\"'!M6:M200\"),\"*please*\"),\"\")","v":""},{"$f":"IF($I$6=Introduction!$C$17,COUNTIF(INDIRECT(\"'\"&$B$10&\"'!M6:M200\"),\"*please*\"),\"\")","v":""},{"$f":"IF($J$6=Introduction!$C$17,COUNTIF(INDIRECT(\"'\"&$B$10&\"'!M6:M200\"),\"*please*\"),\"\")","v":""},{"$f":"IF($K$6=Introduction!$C$17,COUNTIF(INDIRECT(\"'\"&$B$10&\"'!M6:M200\"),\"*please*\"),\"\")","v":""},{"$f":"IF($L$6=Introduction!$C$17,COUNTIF(INDIRECT(\"'\"&$B$10&\"'!M6:M200\"),\"*please*\"),\"\")","v":""},{"$f":"IF($M$6=Introduction!$C$17,COUNTIF(INDIRECT(\"'\"&$B$10&\"'!M6:M200\"),\"*please*\"),\"\")","v":""}]
[null,"4 - Leaders",{"$f":"IF($C$6=Introduction!$C$17,COUNTIF(INDIRECT(\"'\"&B11&\"'!S6:S200\"),\"*\"),\"\")","v":""},{"$f":"IF($D$6=Introduction!$C$17,COUNTIF(INDIRECT(\"'\"&$B$11&\"'!N6:N200\"),\"*please*\"),\"\")","v":""},{"$f":"IF($E$6=Introduction!$C$17,COUNTIF(INDIRECT(\"'\"&$B$11&\"'!N6:N200\"),\"*please*\"),\"\")","v":""},{"$f":"IF($F$6=Introduction!$C$17,COUNTIF(INDIRECT(\"'\"&$B$11&\"'!N6:N200\"),\"*please*\"),\"\")","v":0},{"$f":"IF($G$6=Introduction!$C$17,COUNTIF(INDIRECT(\"'\"&$B$11&\"'!N6:N200\"),\"*please*\"),\"\")","v":""},{"$f":"IF($H$6=Introduction!$C$17,COUNTIF(INDIRECT(\"'\"&$B$11&\"'!N6:N200\"),\"*please*\"),\"\")","v":""},{"$f":"IF($I$6=Introduction!$C$17,COUNTIF(INDIRECT(\"'\"&$B$11&\"'!N6:N200\"),\"*please*\"),\"\")","v":""},{"$f":"IF($J$6=Introduction!$C$17,COUNTIF(INDIRECT(\"'\"&$B$11&\"'!N6:N200\"),\"*please*\"),\"\")","v":""},{"$f":"IF($K$6=Introduction!$C$17,COUNTIF(INDIRECT(\"'\"&$B$11&\"'!N6:N200\"),\"*please*\"),\"\")","v":""},{"$f":"IF($L$6=Introduction!$C$17,COUNTIF(INDIRECT(\"'\"&$B$11&\"'!N6:N200\"),\"*please*\"),\"\")","v":""},{"$f":"IF($M$6=Introduction!$C$17,COUNTIF(INDIRECT(\"'\"&$B$11&\"'!N6:N200\"),\"*please*\"),\"\")","v":""}]
[null,"5 - People",{"$f":"IF($C$6=Introduction!$C$17,COUNTIF(INDIRECT(\"'\"&B12&\"'!S6:S200\"),\"*\"),\"\")","v":""},{"$f":"IF($D$6=Introduction!$C$17,COUNTIF(INDIRECT(\"'\"&$B$12&\"'!N6:N200\"),\"*please*\"),\"\")","v":""},{"$f":"IF($E$6=Introduction!$C$17,COUNTIF(INDIRECT(\"'\"&$B$12&\"'!N6:N200\"),\"*please*\"),\"\")","v":""},{"$f":"IF($F$6=Introduction!$C$17,COUNTIF(INDIRECT(\"'\"&$B$12&\"'!N6:N200\"),\"*please*\"),\"\")","v":0},{"$f":"IF($G$6=Introduction!$C$17,COUNTIF(INDIRECT(\"'\"&$B$12&\"'!N6:N200\"),\"*please*\"),\"\")","v":""},{"$f":"IF($H$6=Introduction!$C$17,COUNTIF(INDIRECT(\"'\"&$B$12&\"'!N6:N200\"),\"*please*\"),\"\")","v":""},{"$f":"IF($I$6=Introduction!$C$17,COUNTIF(INDIRECT(\"'\"&$B$12&\"'!N6:N200\"),\"*please*\"),\"\")","v":""},{"$f":"IF($J$6=Introduction!$C$17,COUNTIF(INDIRECT(\"'\"&$B$12&\"'!N6:N200\"),\"*please*\"),\"\")","v":""},{"$f":"IF($K$6=Introduction!$C$17,COUNTIF(INDIRECT(\"'\"&$B$12&\"'!N6:N200\"),\"*please*\"),\"\")","v":""},{"$f":"IF($L$6=Introduction!$C$17,COUNTIF(INDIRECT(\"'\"&$B$12&\"'!N6:N200\"),\"*please*\"),\"\")","v":""},{"$f":"IF($M$6=Introduction!$C$17,COUNTIF(INDIRECT(\"'\"&$B$12&\"'!N6:N200\"),\"*please*\"),\"\")","v":""},null,{"$f":"CONCATENATE(Introduction!C11,\" \",\"Representative:\")","v":"Universal Cantilever Bridge over the River Styx Representative:"},null,null,{"$f":"IF(Introduction!C31=\"\",\"Complete in Introduction\",Introduction!C31)","v":"Ronan Clissold"},null,null,null,null,{"$f":"Introduction!B40","v":"GOASS Analysis & Insight Unit (AIU) Lead"},null,null,{"$f":"IF(Introduction!C40=\"\",\"Complete in Introduction\",Introduction!C40)","v":"Complete in Introduction"}]
[null,"6a - Milestones - Approvals",{"$f":"IF($C$6=Introduction!$C$17,COUNTIF(INDIRECT(\"'\"&B13&\"'!S6:S200\"),\"*\"),\"\")","v":""},{"$f":"IF($D$6=Introduction!$C$17,COUNTIF(INDIRECT(\"'\"&$B$13&\"'!N6:N200\"),\"*please*\"),\"\")","v":""},{"$f":"IF($E$6=Introduction!$C$17,COUNTIF(INDIRECT(\"'\"&$B$13&\"'!N6:N200\"),\"*please*\"),\"\")","v":""},{"$f":"IF($F$6=Introduction!$C$17,COUNTIF(INDIRECT(\"'\"&$B$13&\"'!N6:N200\"),\"*please*\"),\"\")","v":0},{"$f":"IF($G$6=Introduction!$C$17,COUNTIF(INDIRECT(\"'\"&$B$13&\"'!N6:N200\"),\"*please*\"),\"\")","v":""},{"$f":"IF($H$6=Introduction!$C$17,COUNTIF(INDIRECT(\"'\"&$B$13&\"'!N6:N200\"),\"*please*\"),\"\")","v":""},{"$f":"IF($I$6=Introduction!$C$17,COUNTIF(INDIRECT(\"'\"&$B$13&\"'!N6:N200\"),\"*please*\"),\"\")","v":""},{"$f":"IF($J$6=Introduction!$C$17,COUNTIF(INDIRECT(\"'\"&$B$13&\"'!N6:N200\"),\"*please*\"),\"\")","v":""},{"$f":"IF($K$6=Introduction!$C$17,COUNTIF(INDIRECT(\"'\"&$B$13&\"'!N6:N200\"),\"*please*\"),\"\")","v":""},{"$f":"IF($L$6=Introduction!$C$17,COUNTIF(INDIRECT(\"'\"&$B$13&\"'!N6:N200\"),\"*please*\"),\"\")","v":""},{"$f":"IF($M$6=Introduction!$C$17,COUNTIF(INDIRECT(\"'\"&$B$13&\"'!N6:N200\"),\"*please*\"),\"\")","v":""}]
[null,"6b - Milestones - Assurance",{"$f":"IF($C$6=Introduction!$C$17,COUNTIF(INDIRECT(\"'\"&B14&\"'!S6:S200\"),\"*\"),\"\")","v":""},{"$f":"IF($D$6=Introduction!$C$17,COUNTIF(INDIRECT(\"'\"&$B$14&\"'!N6:N200\"),\"*please*\"),\"\")","v":""},{"$f":"IF($E$6=Introduction!$C$17,COUNTIF(INDIRECT(\"'\"&$B$14&\"'!N6:N200\"),\"*please*\"),\"\")","v":""},{"$f":"IF($F$6=Introduction!$C$17,COUNTIF(INDIRECT(\"'\"&$B$14&\"'!N6:N200\"),\"*please*\"),\"\")","v":0},{"$f":"IF($G$6=Introduction!$C$17,COUNTIF(INDIRECT(\"'\"&$B$14&\"'!N6:N200\"),\"*please*\"),\"\")","v":""},{"$f":"IF($H$6=Introduction!$C$17,COUNTIF(INDIRECT(\"'\"&$B$14&\"'!N6:N200\"),\"*please*\"),\"\")","v":""},{"$f":"IF($I$6=Introduction!$C$17,COUNTIF(INDIRECT(\"'\"&$B$14&\"'!N6:N200\"),\"*please*\"),\"\")","v":""},{"$f":"IF($J$6=Introduction!$C$17,COUNTIF(INDIRECT(\"'\"&$B$14&\"'!N6:N200\"),\"*please*\"),\"\")","v":""},{"$f":"IF($K$6=Introduction!$C$17,COUNTIF(INDIRECT(\"'\"&$B$14&\"'!N6:N200\"),\"*please*\"),\"\")","v":""},{"$f":"IF($L$6=Introduction!$C$17,COUNTIF(INDIRECT(\"'\"&$B$14&\"'!N6:N200\"),\"*please*\"),\"\")","v":""},{"$f":"IF($M$6=Introduction!$C$17,COUNTIF(INDIRECT(\"'\"&$B$14&\"'!N6:N200\"),\"*please*\"),\"\")","v":""},null,"The person with responsibility (above) for completing this GMPP Project report should check this report to ensure all instances of;\n- significant changes from (a) the previous quarter; and (b) within this quarter\n- automated validation\n- IPA queries\n\nPlease ensure issues are identified and resolved (or explained) prior to submission to PMO’s / SPOCs",null,null,null,null,null,null,null,"The AIU will check all issues have been resolved / described, and if required, send back to the SPOCs when incomplete"]
[null,"6c - Milestones - Delivery",{"$f":"IF($C$6=Introduction!$C$17,COUNTIF(INDIRECT(\"'\"&B15&\"'!S6:S200\"),\"*\"),\"\")","v":""},{"$f":"IF($D$6=Introduction!$C$17,COUNTIF(INDIRECT(\"'\"&$B$15&\"'!N6:N200\"),\"*please*\"),\"\")","v":""},{"$f":"IF($E$6=Introduction!$C$17,COUNTIF(INDIRECT(\"'\"&$B$15&\"'!N6:N200\"),\"*please*\"),\"\")","v":""},{"$f":"IF($F$6=Introduction!$C$17,COUNTIF(INDIRECT(\"'\"&$B$15&\"'!N6:N200\"),\"*please*\"),\"\")","v":8},{"$f":"IF($G$6=Introduction!$C$17,COUNTIF(INDIRECT(\"'\"&$B$15&\"'!N6:N200\"),\"*please*\"),\"\")","v":""},{"$f":"IF($H$6=Introduction!$C$17,COUNTIF(INDIRECT(\"'\"&$B$15&\"'!N6:N200\"),\"*please*\"),\"\")","v":""},{"$f":"IF($I$6=Introduction!$C$17,COUNTIF(INDIRECT(\"'\"&$B$15&\"'!N6:N200\"),\"*please*\"),\"\")","v":""},{"$f":"IF($J$6=Introduction!$C$17,COUNTIF(INDIRECT(\"'\"&$B$15&\"'!N6:N200\"),\"*please*\"),\"\")","v":""},{"$f":"IF($K$6=Introduction!$C$17,COUNTIF(INDIRECT(\"'\"&$B$15&\"'!N6:N200\"),\"*please*\"),\"\")","v":""},{"$f":"IF($L$6=Introduction!$C$17,COUNTIF(INDIRECT(\"'\"&$B$15&\"'!N6:N200\"),\"*please*\"),\"\")","v":""},{"$f":"IF($M$6=Introduction!$C$17,COUNTIF(INDIRECT(\"'\"&$B$15&\"'!N6:N200\"),\"*please*\"),\"\")","v":""}]
[null,"7 - Business Case",{"$f":"IF($C$6=Introduction!$C$17,COUNTIF(INDIRECT(\"'\"&B16&\"'!S6:S200\"),\"*\"),\"\")","v":""},{"$f":"IF($D$6=Introduction!$C$17,COUNTIF(INDIRECT(\"'\"&$B$16&\"'!N6:N200\"),\"*please*\"),\"\")","v":""},{"$f":"IF($E$6=Introduction!$C$17,COUNTIF(INDIRECT(\"'\"&$B$16&\"'!N6:N200\"),\"*please*\"),\"\")","v":""},{"$f":"IF($F$6=Introduction!$C$17,COUNTIF(INDIRECT(\"'\"&$B$16&\"'!N6:N200\"),\"*please*\"),\"\")","v":0},{"$f":"IF($G$6=Introduction!$C$17,COUNTIF(INDIRECT(\"'\"&$B$16&\"'!N6:N200\"),\"*please*\"),\"\")","v":""},{"$f":"IF($H$6=Introduction!$C$17,COUNTIF(INDIRECT(\"'\"&$B$16&\"'!N6:N200\"),\"*please*\"),\"\")","v":""},{"$f":"IF($I$6=Introduction!$C$17,COUNTIF(INDIRECT(\"'\"&$B$16&\"'!N6:N200\"),\"*please*\"),\"\")","v":""},{"$f":"IF($J$6=Introduction!$C$17,COUNTIF(INDIRECT(\"'\"&$B$16&\"'!N6:N200\"),\"*please*\"),\"\")","v":""},{"$f":"IF($K$6=Introduction!$C$17,COUNTIF(INDIRECT(\"'\"&$B$16&\"'!N6:N200\"),\"*please*\"),\"\")","v":""},{"$f":"IF($L$6=Introduction!$C$17,COUNTIF(INDIRECT(\"'\"&$B$16&\"'!N6:N200\"),\"*please*\"),\"\")","v":""},{"$f":"IF($M$6=Introduction!$C$17,COUNTIF(INDIRECT(\"'\"&$B$16&\"'!N6:N200\"),\"*please*\"),\"\")","v":""}]
[null,"8 - Finance",{"$f":"IF($C$6=Introduction!$C$17,COUNTIF(INDIRECT(\"'\"&B17&\"'!S6:S200\"),\"*\"),\"\")","v":""},{"$f":"IF($D$6=Introduction!$C$17,COUNTIF(INDIRECT(\"'\"&$B$17&\"'!N6:N200\"),\"*please*\"),\"\")","v":""},{"$f":"IF($E$6=Introduction!$C$17,COUNTIF(INDIRECT(\"'\"&$B$17&\"'!N6:N200\"),\"*please*\"),\"\")","v":""},{"$f":"IF($F$6=Introduction!$C$17,COUNTIF(INDIRECT(\"'\"&$B$17&\"'!N6:N200\"),\"*please*\"),\"\")","v":0},{"$f":"IF($G$6=Introduction!$C$17,COUNTIF(INDIRECT(\"'\"&$B$17&\"'!N6:N200\"),\"*please*\"),\"\")","v":""},{"$f":"IF($H$6=Introduction!$C$17,COUNTIF(INDIRECT(\"'\"&$B$17&\"'!N6:N200\"),\"*please*\"),\"\")","v":""},{"$f":"IF($I$6=Introduction!$C$17,COUNTIF(INDIRECT(\"'\"&$B$17&\"'!N6:N200\"),\"*please*\"),\"\")","v":""},{"$f":"IF($J$6=Introduction!$C$17,COUNTIF(INDIRECT(\"'\"&$B$17&\"'!N6:N200\"),\"*please*\"),\"\")","v":""},{"$f":"IF($K$6=Introduction!$C$17,COUNTIF(INDIRECT(\"'\"&$B$17&\"'!N6:N200\"),\"*please*\"),\"\")","v":""},{"$f":"IF($L$6=Introduction!$C$17,COUNTIF(INDIRECT(\"'\"&$B$17&\"'!N6:N200\"),\"*please*\"),\"\")","v":""},{"$f":"IF($M$6=Introduction!$C$17,COUNTIF(INDIRECT(\"'\"&$B$17&\"'!N6:N200\"),\"*please*\"),\"\")","v":""}]
[null,"9 - Costs",{"$f":"IF($C$6=Introduction!$C$17,COUNTIF(INDIRECT(\"'\"&B18&\"'!T6:T200\"),\"*\"),\"\")","v":""},{"$f":"IF($D$6=Introduction!$C$17,COUNTIF(INDIRECT(\"'\"&$B$18&\"'!O6:O200\"),\"*please*\"),\"\")","v":""},{"$f":"IF($E$6=Introduction!$C$17,COUNTIF(INDIRECT(\"'\"&$B$18&\"'!o6:o200\"),\"*please*\"),\"\")","v":""},{"$f":"IF($F$6=Introduction!$C$17,COUNTIF(INDIRECT(\"'\"&$B$18&\"'!o6:o200\"),\"*please*\"),\"\")","v":0},{"$f":"IF($G$6=Introduction!$C$17,COUNTIF(INDIRECT(\"'\"&$B$18&\"'!o6:o200\"),\"*please*\"),\"\")","v":""},{"$f":"IF($H$6=Introduction!$C$17,COUNTIF(INDIRECT(\"'\"&$B$18&\"'!o6:o200\"),\"*please*\"),\"\")","v":""},{"$f":"IF($I$6=Introduction!$C$17,COUNTIF(INDIRECT(\"'\"&$B$18&\"'!o6:o200\"),\"*please*\"),\"\")","v":""},{"$f":"IF($J$6=Introduction!$C$17,COUNTIF(INDIRECT(\"'\"&$B$18&\"'!o6:o200\"),\"*please*\"),\"\")","v":""},{"$f":"IF($K$6=Introduction!$C$17,COUNTIF(INDIRECT(\"'\"&$B$18&\"'!o6:o200\"),\"*please*\"),\"\")","v":""},{"$f":"IF($L$6=Introduction!$C$17,COUNTIF(INDIRECT(\"'\"&$B$18&\"'!o6:o200\"),\"*please*\"),\"\")","v":""},{"$f":"IF($M$6=Introduction!$C$17,COUNTIF(INDIRECT(\"'\"&$B$18&\"'!o6:o200\"),\"*please*\"),\"\")","v":""}]
[null,"10 - Benefits",{"$f":"IF($C$6=Introduction!$C$17,COUNTIF(INDIRECT(\"'\"&B19&\"'!S6:S200\"),\"*\"),\"\")","v":""},{"$f":"IF($D$6=Introduction!$C$17,COUNTIF(INDIRECT(\"'\"&$B$19&\"'!N6:N200\"),\"*please*\"),\"\")","v":""},{"$f":"IF($E$6=Introduction!$C$17,COUNTIF(INDIRECT(\"'\"&$B$19&\"'!N6:N200\"),\"*please*\"),\"\")","v":""},{"$f":"IF($F$6=Introduction!$C$17,COUNTIF(INDIRECT(\"'\"&$B$19&\"'!N6:N200\"),\"*please*\"),\"\")","v":0},{"$f":"IF($G$6=Introduction!$C$17,COUNTIF(INDIRECT(\"'\"&$B$19&\"'!N6:N200\"),\"*please*\"),\"\")","v":""},{"$f":"IF($H$6=Introduction!$C$17,COUNTIF(INDIRECT(\"'\"&$B$19&\"'!N6:N200\"),\"*please*\"),\"\")","v":""},{"$f":"IF($I$6=Introduction!$C$17,COUNTIF(INDIRECT(\"'\"&$B$19&\"'!N6:N200\"),\"*please*\"),\"\")","v":""},{"$f":"IF($J$6=Introduction!$C$17,COUNTIF(INDIRECT(\"'\"&$B$19&\"'!N6:N200\"),\"*please*\"),\"\")","v":""},{"$f":"IF($K$6=Introduction!$C$17,COUNTIF(INDIRECT(\"'\"&$B$19&\"'!N6:N200\"),\"*please*\"),\"\")","v":""},{"$f":"IF($L$6=Introduction!$C$17,COUNTIF(INDIRECT(\"'\"&$B$19&\"'!N6:N200\"),\"*please*\"),\"\")","v":""},{"$f":"IF($M$6=Introduction!$C$17,COUNTIF(INDIRECT(\"'\"&$B$19&\"'!N6:N200\"),\"*please*\"),\"\")","v":""}]
[]
[]
[null,"Data Quality - Log (View - New Window: one window being this, the other being the page you check)"]
[null,"Project","ID","Quarter","Tab","Code","Cell Ref Title","Issue",null,"Discussion",null,null,"Solution"]
[{"$f":"CONCATENATE(Introduction!$C$12,\" - \",Introduction!$C$11)","v":"ARE_0024_1516-Q4 - Universal Cantilever Bridge over the River Styx"},{"$f":"IF(E24<>\"\",IF(Introduction!$C$11=\"\",\"\",Introduction!$C$11),\"\")","v":""},{"$f":"IF(E24<>\"\",IF(Introduction!$C$12=\"\",\"\",Introduction!$C$12),\"\")","v":""}]
[{"$f":"CONCATENATE(Introduction!$C$12,\" - \",Introduction!$C$11)","v":"ARE_0024_1516-Q4 - Universal Cantilever Bridge over the River Styx"},{"$f":"IF(E25<>\"\",IF(Introduction!$C$11=\"\",\"\",Introduction!$C$11),\"\")","v":""},{"$f":"IF(E25<>\"\",IF(Introduction!$C$12=\"\",\"\",Introduction!$C$12),\"\")","v":""}]
[{"$f":"CONCATENATE(Introduction!$C$12,\" - \",Introduction!$C$11)","v":"ARE_0024_1516-Q4 - Universal Cantilever Bridge over the River Styx"},{"$f":"IF(E26<>\"\",IF(Introduction!$C$11=\"\",\"\",Introduction!$C$11),\"\")","v":""},{"$f":"IF(E26<>\"\",IF(Introduction!$C$12=\"\",\"\",Introduction!$C$12),\"\")","v":""}]
[{"$f":"CONCATENATE(Introduction!$C$12,\" - \",Introduction!$C$11)","v":"ARE_0024_1516-Q4 - Universal Cantilever Bridge over the River Styx"},{"$f":"IF(E27<>\"\",IF(Introduction!$C$11=\"\",\"\",Introduction!$C$11),\"\")","v":""},{"$f":"IF(E27<>\"\",IF(Introduction!$C$12=\"\",\"\",Introduction!$C$12),\"\")","v":""}]
[{"$f":"CONCATENATE(Introduction!$C$12,\" - \",Introduction!$C$11)","v":"ARE_0024_1516-Q4 - Universal Cantilever Bridge over the River Styx"},{"$f":"IF(E28<>\"\",IF(Introduction!$C$11=\"\",\"\",Introduction!$C$11),\"\")","v":""},{"$f":"IF(E28<>\"\",IF(Introduction!$C$12=\"\",\"\",Introduction!$C$12),\"\")","v":""}]
[{"$f":"CONCATENATE(Introduction!$C$12,\" - \",Introduction!$C$11)","v":"ARE_0024_1516-Q4 - Universal Cantilever Bridge over the River Styx"},{"$f":"IF(E29<>\"\",IF(Introduction!$C$11=\"\",\"\",Introduction!$C$11),\"\")","v":""},{"$f":"IF(E29<>\"\",IF(Introduction!$C$12=\"\",\"\",Introduction!$C$12),\"\")","v":""}]
[{"$f":"CONCATENATE(Introduction!$C$12,\" - \",Introduction!$C$11)","v":"ARE_0024_1516-Q4 - Universal Cantilever Bridge over the River Styx"},{"$f":"IF(E30<>\"\",IF(Introduction!$C$11=\"\",\"\",Introduction!$C$11),\"\")","v":""},{"$f":"IF(E30<>\"\",IF(Introduction!$C$12=\"\",\"\",Introduction!$C$12),\"\")","v":""}]
[{"$f":"CONCATENATE(Introduction!$C$12,\" - \",Introduction!$C$11)","v":"ARE_0024_1516-Q4 - Universal Cantilever Bridge over the River Styx"},{"$f":"IF(E31<>\"\",IF(Introduction!$C$11=\"\",\"\",Introduction!$C$11),\"\")","v":""},{"$f":"IF(E31<>\"\",IF(Introduction!$C$12=\"\",\"\",Introduction!$C$12),\"\")","v":""}]
[{"$f":"CONCATENATE(Introduction!$C$12,\" - \",Introduction!$C$11)","v":"ARE_0024_1516-Q4 - Universal Cantilever Bridge over the River Styx"},{"$f":"IF(E32<>\"\",IF(Introduction!$C$11=\"\",\"\",Introduction!$C$11),\"\")","v":""},{"$f":"IF(E32<>\"\",IF(Introduction!$C$12=\"\",\"\",Introduction!$C$12),\"\")","v":""}]
[{"$f":"CONCATENATE(Introduction!$C$12,\" - \",Introduction!$C$11)","v":"ARE_0024_1516-Q4 - Universal Cantilever Bridge over the River Styx"},{"$f":"IF(E33<>\"\",IF(Introduction!$C$11=\"\",\"\",Introduction!$C$11),\"\")","v":""},{"$f":"IF(E33<>\"\",IF(Introduction!$C$12=\"\",\"\",Introduction!$C$12),\"\")","v":""}]
[{"$f":"CONCATENATE(Introduction!$C$12,\" - \",Introduction!$C$11)","v":"ARE_0024_1516-Q4 - Universal Cantilever Bridge over the River Styx"},{"$f":"IF(E34<>\"\",IF(Introduction!$C$11=\"\",\"\",Introduction!$C$11),\"\")","v":""},{"$f":"IF(E34<>\"\",IF(Introduction!$C$12=\"\",\"\",Introduction!$C$12),\"\")","v":""}]
[{"$f":"CONCATENATE(Introduction!$C$12,\" - \",Introduction!$C$11)","v":"ARE_0024_1516-Q4 - Universal Cantilever Bridge over the River Styx"},{"$f":"IF(E35<>\"\",IF(Introduction!$C$11=\"\",\"\",Introduction!$C$11),\"\")","v":""},{"$f":"IF(E35<>\"\",IF(Introduction!$C$12=\"\",\"\",Introduction!$C$12),\"\")","v":""}]
[{"$f":"CONCATENATE(Introduction!$C$12,\" - \",Introduction!$C$11)","v":"ARE_0024_1516-Q4 - Universal Cantilever Bridge over the River Styx"},{"$f":"IF(E36<>\"\",IF(Introduction!$C$11=\"\",\"\",Introduction!$C$11),\"\")","v":""},{"$f":"IF(E36<>\"\",IF(Introduction!$C$12=\"\",\"\",Introduction!$C$12),\"\")","v":""}]
[{"$f":"CONCATENATE(Introduction!$C$12,\" - \",Introduction!$C$11)","v":"ARE_0024_1516-Q4 - Universal Cantilever Bridge over the River Styx"},{"$f":"IF(E37<>\"\",IF(Introduction!$C$11=\"\",\"\",Introduction!$C$11),\"\")","v":""},{"$f":"IF(E37<>\"\",IF(Introduction!$C$12=\"\",\"\",Introduction!$C$12),\"\")","v":""}]
[{"$f":"CONCATENATE(Introduction!$C$12,\" - \",Introduction!$C$11)","v":"ARE_0024_1516-Q4 - Universal Cantilever Bridge over the River Styx"},{"$f":"IF(E38<>\"\",IF(Introduction!$C$11=\"\",\"\",Introduction!$C$11),\"\")","v":""},{"$f":"IF(E38<>\"\",IF(Introduction!$C$12=\"\",\"\",Introduction!$C$12),\"\")","v":""}]
[{"$f":"CONCATENATE(Introduction!$C$12,\" - \",Introduction!$C$11)","v":"ARE_0024_1516-Q4 - Universal Cantilever Bridge over the River Styx"},{"$f":"IF(E39<>\"\",IF(Introduction!$C$11=\"\",\"\",Introduction!$C$11),\"\")","v":""},{"$f":"IF(E39<>\"\",IF(Introduction!$C$12=\"\",\"\",Introduction!$C$12),\"\")","v":""}]
[{"$f":"CONCATENATE(Introduction!$C$12,\" - \",Introduction!$C$11)","v":"ARE_0024_1516-Q4 - Universal Cantilever Bridge over the River Styx"},{"$f":"IF(E40<>\"\",IF(Introduction!$C$11=\"\",\"\",Introduction!$C$11),\"\")","v":""},{"$f":"IF(E40<>\"\",IF(Introduction!$C$12=\"\",\"\",Introduction!$C$12),\"\")","v":""}]
[{"$f":"CONCATENATE(Introduction!$C$12,\" - \",Introduction!$C$11)","v":"ARE_0024_1516-Q4 - Universal Cantilever Bridge over the River Styx"},{"$f":"IF(E41<>\"\",IF(Introduction!$C$11=\"\",\"\",Introduction!$C$11),\"\")","v":""},{"$f":"IF(E41<>\"\",IF(Introduction!$C$12=\"\",\"\",Introduction!$C$12),\"\")","v":""}]
[{"$f":"CONCATENATE(Introduction!$C$12,\" - \",Introduction!$C$11)","v":"ARE_0024_1516-Q4 - Universal Cantilever Bridge over the River Styx"},{"$f":"IF(E42<>\"\",IF(Introduction!$C$11=\"\",\"\",Introduction!$C$11),\"\")","v":""},{"$f":"IF(E42<>\"\",IF(Introduction!$C$12=\"\",\"\",Introduction!$C$12),\"\")","v":""}]
[{"$f":"CONCATENATE(Introduction!$C$12,\" - \",Introduction!$C$11)","v":"ARE_0024_1516-Q4 - Universal Cantilever Bridge over the River Styx"},{"$f":"IF(E43<>\"\",IF(Introduction!$C$11=\"\",\"\",Introduction!$C$11),\"\")","v":""},{"$f":"IF(E43<>\"\",IF(Introduction!$C$12=\"\",\"\",Introduction!$C$12),\"\")","v":""}]
[{"$f":"CONCATENATE(Introduction!$C$12,\" - \",Introduction!$C$11)","v":"ARE_0024_1516-Q4 - Universal Cantilever Bridge over the River Styx"},{"$f":"IF(E44<>\"\",IF(Introduction!$C$11=\"\",\"\",Introduction!$C$11),\"\")","v":""},{"$f":"IF(E44<>\"\",IF(Introduction!$C$12=\"\",\"\",Introduction!$C$12),\"\")","v":""}]
[{"$f":"CONCATENATE(Introduction!$C$12,\" - \",Introduction!$C$11)","v":"ARE_0024_1516-Q4 - Universal Cantilever Bridge over the River Styx"},{"$f":"IF(E45<>\"\",IF(Introduction!$C$11=\"\",\"\",Introduction!$C$11),\"\")","v":""},{"$f":"IF(E45<>\"\",IF(Introduction!$C$12=\"\",\"\",Introduction!$C$12),\"\")","v":""}]
[{"$f":"CONCATENATE(Introduction!$C$12,\" - \",Introduction!$C$11)","v":"ARE_0024_1516-Q4 - Universal Cantilever Bridge over the River Styx"},{"$f":"IF(E46<>\"\",IF(Introduction!$C$11=\"\",\"\",Introduction!$C$11),\"\")","v":""},{"$f":"IF(E46<>\"\",IF(Introduction!$C$12=\"\",\"\",Introduction!$C$12),\"\")","v":""}]
[{"$f":"CONCATENATE(Introduction!$C$12,\" - \",Introduction!$C$11)","v":"ARE_0024_1516-Q4 - Universal Cantilever Bridge over the River Styx"},{"$f":"IF(E47<>\"\",IF(Introduction!$C$11=\"\",\"\",Introduction!$C$11),\"\")","v":""},{"$f":"IF(E47<>\"\",IF(Introduction!$C$12=\"\",\"\",Introduction!$C$12),\"\")","v":""}]
[{"$f":"CONCATENATE(Introduction!$C$12,\" - \",Introduction!$C$11)","v":"ARE_0024_1516-Q4 - Universal Cantilever Bridge over the River Styx"},{"$f":"IF(E48<>\"\",IF(Introduction!$C$11=\"\",\"\",Introduction!$C$11),\"\")","v":""},{"$f":"IF(E48<>\"\",IF(Introduction!$C$12=\"\",\"\",Introduction!$C$12),\"\")","v":""}]
[{"$f":"CONCATENATE(Introduction!$C$12,\" - \",Introduction!$C$11)","v":"ARE_0024_1516-Q4 - Universal Cantilever Bridge over the River Styx"},{"$f":"IF(E49<>\"\",IF(Introduction!$C$11=\"\",\"\",Introduction!$C$11),\"\")","v":""},{"$f":"IF(E49<>\"\",IF(Introduction!$C$12=\"\",\"\",Introduction!$C$12),\"\")","v":""}]
[{"$f":"CONCATENATE(Introduction!$C$12,\" - \",Introduction!$C$11)","v":"ARE_0024_1516-Q4 - Universal Cantilever Bridge over the River Styx"},{"$f":"IF(E50<>\"\",IF(Introduction!$C$11=\"\",\"\",Introduction!$C$11),\"\")","v":""},{"$f":"IF(E50<>\"\",IF(Introduction!$C$12=\"\",\"\",Introduction!$C$12),\"\")","v":""}]
[{"$f":"CONCATENATE(Introduction!$C$12,\" - \",Introduction!$C$11)","v":"ARE_0024_1516-Q4 - Universal Cantilever Bridge over the River Styx"},{"$f":"IF(E51<>\"\",IF(Introduction!$C$11=\"\",\"\",Introduction!$C$11),\"\")","v":""},{"$f":"IF(E51<>\"\",IF(Introduction!$C$12=\"\",\"\",Introduction!$C$12),\"\")","v":""}]
[{"$f":"CONCATENATE(Introduction!$C$12,\" - \",Introduction!$C$11)","v":"ARE_0024_1516-Q4 - Universal Cantilever Bridge over the River Styx"},{"$f":"IF(E52<>\"\",IF(Introduction!$C$11=\"\",\"\",Introduction!$C$11),\"\")","v":""},{"$f":"IF(E52<>\"\",IF(Introduction!$C$12=\"\",\"\",Introduction!$C$12),\"\")","v":""}]
[{"$f":"CONCATENATE(Introduction!$C$12,\" - \",Introduction!$C$11)","v":"ARE_0024_1516-Q4 - Universal Cantilever Bridge over the River Styx"},{"$f":"IF(E53<>\"\",IF(Introduction!$C$11=\"\",\"\",Introduction!$C$11),\"\")","v":""},{"$f":"IF(E53<>\"\",IF(Introduction!$C$12=\"\",\"\",Introduction!$C$12),\"\")","v":""}]
[{"$f":"CONCATENATE(Introduction!$C$12,\" - \",Introduction!$C$11)","v":"ARE_0024_1516-Q4 - Universal Cantilever Bridge over the River Styx"},{"$f":"IF(E54<>\"\",IF(Introduction!$C$11=\"\",\"\",Introduction!$C$11),\"\")","v":""},{"$f":"IF(E54<>\"\",IF(Introduction!$C$12=\"\",\"\",Introduction!$C$12),\"\")","v":""}]
[{"$f":"CONCATENATE(Introduction!$C$12,\" - \",Introduction!$C$11)","v":"ARE_0024_1516-Q4 - Universal Cantilever Bridge over the River Styx"},{"$f":"IF(E55<>\"\",IF(Introduction!$C$11=\"\",\"\",Introduction!$C$11),\"\")","v":""},{"$f":"IF(E55<>\"\",IF(Introduction!$C$12=\"\",\"\",Introduction!$C$12),\"\")","v":""}]
[{"$f":"CONCATENATE(Introduction!$C$12,\" - \",Introduction!$C$11)","v":"ARE_0024_1516-Q4 - Universal Cantilever Bridge over the River Styx"},{"$f":"IF(E56<>\"\",IF(Introduction!$C$11=\"\",\"\",Introduction!$C$11),\"\")","v":""},{"$f":"IF(E56<>\"\",IF(Introduction!$C$12=\"\",\"\",Introduction!$C$12),\"\")","v":""}]
[{"$f":"CONCATENATE(Introduction!$C$12,\" - \",Introduction!$C$11)","v":"ARE_0024_1516-Q4 - Universal Cantilever Bridge over the River Styx"},{"$f":"IF(E57<>\"\",IF(Introduction!$C$11=\"\",\"\",Introduction!$C$11),\"\")","v":""},{"$f":"IF(E57<>\"\",IF(Introduction!$C$12=\"\",\"\",Introduction!$C$12),\"\")","v":""}]
[{"$f":"CONCATENATE(Introduction!$C$12,\" - \",Introduction!$C$11)","v":"ARE_0024_1516-Q4 - Universal Cantilever Bridge over the River Styx"},{"$f":"IF(E58<>\"\",IF(Introduction!$C$11=\"\",\"\",Introduction!$C$11),\"\")","v":""},{"$f":"IF(E58<>\"\",IF(Introduction!$C$12=\"\",\"\",Introduction!$C$12),\"\")","v":""}]
[{"$f":"CONCATENATE(Introduction!$C$12,\" - \",Introduction!$C$11)","v":"ARE_0024_1516-Q4 - Universal Cantilever Bridge over the River Styx"},{"$f":"IF(E59<>\"\",IF(Introduction!$C$11=\"\",\"\",Introduction!$C$11),\"\")","v":""},{"$f":"IF(E59<>\"\",IF(Introduction!$C$12=\"\",\"\",Introduction!$C$12),\"\")","v":""}]
[{"$f":"CONCATENATE(Introduction!$C$12,\" - \",Introduction!$C$11)","v":"ARE_0024_1516-Q4 - Universal Cantilever Bridge over the River Styx"},{"$f":"IF(E60<>\"\",IF(Introduction!$C$11=\"\",\"\",Introduction!$C$11),\"\")","v":""},{"$f":"IF(E60<>\"\",IF(Introduction!$C$12=\"\",\"\",Introduction!$C$12),\"\")","v":""}]
[{"$f":"CONCATENATE(Introduction!$C$12,\" - \",Introduction!$C$11)","v":"ARE_0024_1516-Q4 - Universal Cantilever Bridge over the River Styx"},{"$f":"IF(E61<>\"\",IF(Introduction!$C$11=\"\",\"\",Introduction!$C$11),\"\")","v":""},{"$f":"IF(E61<>\"\",IF(Introduction!$C$12=\"\",\"\",Introduction!$C$12),\"\")","v":""}]
[{"$f":"CONCATENATE(Introduction!$C$12,\" - \",Introduction!$C$11)","v":"ARE_0024_1516-Q4 - Universal Cantilever Bridge over the River Styx"},{"$f":"IF(E62<>\"\",IF(Introduction!$C$11=\"\",\"\",Introduction!$C$11),\"\")","v":""},{"$f":"IF(E62<>\"\",IF(Introduction!$C$12=\"\",\"\",Introduction!$C$12),\"\")","v":""}]
[{"$f":"CONCATENATE(Introduction!$C$12,\" - \",Introduction!$C$11)","v":"ARE_0024_1516-Q4 - Universal Cantilever Bridge over the River Styx"},{"$f":"IF(E63<>\"\",IF(Introduction!$C$11=\"\",\"\",Introduction!$C$11),\"\")","v":""},{"$f":"IF(E63<>\"\",IF(Introduction!$C$12=\"\",\"\",Introduction!$C$12),\"\")","v":""}]
[{"$f":"CONCATENATE(Introduction!$C$12,\" - \",Introduction!$C$11)","v":"ARE_0024_1516-Q4 - Universal Cantilever Bridge over the River Styx"},{"$f":"IF(E64<>\"\",IF(Introduction!$C$11=\"\",\"\",Introduction!$C$11),\"\")","v":""},{"$f":"IF(E64<>\"\",IF(Introduction!$C$12=\"\",\"\",Introduction!$C$12),\"\")","v":""}]
[{"$f":"CONCATENATE(Introduction!$C$12,\" - \",Introduction!$C$11)","v":"ARE_0024_1516-Q4 - Universal Cantilever Bridge over the River Styx"},{"$f":"IF(E65<>\"\",IF(Introduction!$C$11=\"\",\"\",Introduction!$C$11),\"\")","v":""},{"$f":"IF(E65<>\"\",IF(Introduction!$C$12=\"\",\"\",Introduction!$C$12),\"\")","v":""}]
[{"$f":"CONCATENATE(Introduction!$C$12,\" - \",Introduction!$C$11)","v":"ARE_0024_1516-Q4 - Universal Cantilever Bridge over the River Styx"},{"$f":"IF(E66<>\"\",IF(Introduction!$C$11=\"\",\"\",Introduction!$C$11),\"\")","v":""},{"$f":"IF(E66<>\"\",IF(Introduction!$C$12=\"\",\"\",Introduction!$C$12),\"\")","v":""}]
[{"$f":"CONCATENATE(Introduction!$C$12,\" - \",Introduction!$C$11)","v":"ARE_0024_1516-Q4 - Universal Cantilever Bridge over the River Styx"},{"$f":"IF(E67<>\"\",IF(Introduction!$C$11=\"\",\"\",Introduction!$C$11),\"\")","v":""},{"$f":"IF(E67<>\"\",IF(Introduction!$C$12=\"\",\"\",Introduction!$C$12),\"\")","v":""}]
[{"$f":"CONCATENATE(Introduction!$C$12,\" - \",Introduction!$C$11)","v":"ARE_0024_1516-Q4 - Universal Cantilever Bridge over the River Styx"},{"$f":"IF(E68<>\"\",IF(Introduction!$C$11=\"\",\"\",Introduction!$C$11),\"\")","v":""},{"$f":"IF(E68<>\"\",IF(Introduction!$C$12=\"\",\"\",Introduction!$C$12),\"\")","v":""}]
[{"$f":"CONCATENATE(Introduction!$C$12,\" - \",Introduction!$C$11)","v":"ARE_0024_1516-Q4 - Universal Cantilever Bridge over the River Styx"},{"$f":"IF(E69<>\"\",IF(Introduction!$C$11=\"\",\"\",Introduction!$C$11),\"\")","v":""},{"$f":"IF(E69<>\"\",IF(Introduction!$C$12=\"\",\"\",Introduction!$C$12),\"\")","v":""}]
[{"$f":"CONCATENATE(Introduction!$C$12,\" - \",Introduction!$C$11)","v":"ARE_0024_1516-Q4 - Universal Cantilever Bridge over the River Styx"},{"$f":"IF(E70<>\"\",IF(Introduction!$C$11=\"\",\"\",Introduction!$C$11),\"\")","v":""},{"$f":"IF(E70<>\"\",IF(Introduction!$C$12=\"\",\"\",Introduction!$C$12),\"\")","v":""}]
[{"$f":"CONCATENATE(Introduction!$C$12,\" - \",Introduction!$C$11)","v":"ARE_0024_1516-Q4 - Universal Cantilever Bridge over the River Styx"},{"$f":"IF(E71<>\"\",IF(Introduction!$C$11=\"\",\"\",Introduction!$C$11),\"\")","v":""},{"$f":"IF(E71<>\"\",IF(Introduction!$C$12=\"\",\"\",Introduction!$C$12),\"\")","v":""}]
[{"$f":"CONCATENATE(Introduction!$C$12,\" - \",Introduction!$C$11)","v":"ARE_0024_1516-Q4 - Universal Cantilever Bridge over the River Styx"},{"$f":"IF(E72<>\"\",IF(Introduction!$C$11=\"\",\"\",Introduction!$C$11),\"\")","v":""},{"$f":"IF(E72<>\"\",IF(Introduction!$C$12=\"\",\"\",Introduction!$C$12),\"\")","v":""}]
[{"$f":"CONCATENATE(Introduction!$C$12,\" - \",Introduction!$C$11)","v":"ARE_0024_1516-Q4 - Universal Cantilever Bridge over the River Styx"},{"$f":"IF(E73<>\"\",IF(Introduction!$C$11=\"\",\"\",Introduction!$C$11),\"\")","v":""},{"$f":"IF(E73<>\"\",IF(Introduction!$C$12=\"\",\"\",Introduction!$C$12),\"\")","v":""}]
[{"$f":"CONCATENATE(Introduction!$C$12,\" - \",Introduction!$C$11)","v":"ARE_0024_1516-Q4 - Universal Cantilever Bridge over the River Styx"},{"$f":"IF(E74<>\"\",IF(Introduction!$C$11=\"\",\"\",Introduction!$C$11),\"\")","v":""},{"$f":"IF(E74<>\"\",IF(Introduction!$C$12=\"\",\"\",Introduction!$C$12),\"\")","v":""}]
[{"$f":"CONCATENATE(Introduction!$C$12,\" - \",Introduction!$C$11)","v":"ARE_0024_1516-Q4 - Universal Cantilever Bridge over the River Styx"},{"$f":"IF(E75<>\"\",IF(Introduction!$C$11=\"\",\"\",Introduction!$C$11),\"\")","v":""},{"$f":"IF(E75<>\"\",IF(Introduction!$C$12=\"\",\"\",Introduction!$C$12),\"\")","v":""}]
[{"$f":"CONCATENATE(Introduction!$C$12,\" - \",Introduction!$C$11)","v":"ARE_0024_1516-Q4 - Universal Cantilever Bridge over the River Styx"},{"$f":"IF(E76<>\"\",IF(Introduction!$C$11=\"\",\"\",Introduction!$C$11),\"\")","v":""},{"$f":"IF(E76<>\"\",IF(Introduction!$C$12=\"\",\"\",Introduction!$C$12),\"\")","v":""}]
[{"$f":"CONCATENATE(Introduction!$C$12,\" - \",Introduction!$C$11)","v":"ARE_0024_1516-Q4 - Universal Cantilever Bridge over the River Styx"},{"$f":"IF(E77<>\"\",IF(Introduction!$C$11=\"\",\"\",Introduction!$C$11),\"\")","v":""},{"$f":"IF(E77<>\"\",IF(Introduction!$C$12=\"\",\"\",Introduction!$C$12),\"\")","v":""}]
[{"$f":"CONCATENATE(Introduction!$C$12,\" - \",Introduction!$C$11)","v":"ARE_0024_1516-Q4 - Universal Cantilever Bridge over the River Styx"},{"$f":"IF(E78<>\"\",IF(Introduction!$C$11=\"\",\"\",Introduction!$C$11),\"\")","v":""},{"$f":"IF(E78<>\"\",IF(Introduction!$C$12=\"\",\"\",Introduction!$C$12),\"\")","v":""}]
[{"$f":"CONCATENATE(Introduction!$C$12,\" - \",Introduction!$C$11)","v":"ARE_0024_1516-Q4 - Universal Cantilever Bridge over the River Styx"},{"$f":"IF(E79<>\"\",IF(Introduction!$C$11=\"\",\"\",Introduction!$C$11),\"\")","v":""},{"$f":"IF(E79<>\"\",IF(Introduction!$C$12=\"\",\"\",Introduction!$C$12),\"\")","v":""}]
[{"$f":"CONCATENATE(Introduction!$C$12,\" - \",Introduction!$C$11)","v":"ARE_0024_1516-Q4 - Universal Cantilever Bridge over the River Styx"},{"$f":"IF(E80<>\"\",IF(Introduction!$C$11=\"\",\"\",Introduction!$C$11),\"\")","v":""},{"$f":"IF(E80<>\"\",IF(Introduction!$C$12=\"\",\"\",Introduction!$C$12),\"\")","v":""}]
[{"$f":"CONCATENATE(Introduction!$C$12,\" - \",Introduction!$C$11)","v":"ARE_0024_1516-Q4 - Universal Cantilever Bridge over the River Styx"},{"$f":"IF(E81<>\"\",IF(Introduction!$C$11=\"\",\"\",Introduction!$C$11),\"\")","v":""},{"$f":"IF(E81<>\"\",IF(Introduction!$C$12=\"\",\"\",Introduction!$C$12),\"\")","v":""}]
[{"$f":"CONCATENATE(Introduction!$C$12,\" - \",Introduction!$C$11)","v":"ARE_0024_1516-Q4 - Universal Cantilever Bridge over the River Styx"},{"$f":"IF(E82<>\"\",IF(Introduction!$C$11=\"\",\"\",Introduction!$C$11),\"\")","v":""},{"$f":"IF(E82<>\"\",IF(Introduction!$C$12=\"\",\"\",Introduction!$C$12),\"\")","v":""}]
[{"$f":"CONCATENATE(Introduction!$C$12,\" - \",Introduction!$C$11)","v":"ARE_0024_1516-Q4 - Universal Cantilever Bridge over the River Styx"},{"$f":"IF(E83<>\"\",IF(Introduction!$C$11=\"\",\"\",Introduction!$C$11),\"\")","v":""},{"$f":"IF(E83<>\"\",IF(Introduction!$C$12=\"\",\"\",Introduction!$C$12),\"\")","v":""}]
[{"$f":"CONCATENATE(Introduction!$C$12,\" - \",Introduction!$C$11)","v":"ARE_0024_1516-Q4 - Universal Cantilever Bridge over the River Styx"},{"$f":"IF(E84<>\"\",IF(Introduction!$C$11=\"\",\"\",Introduction!$C$11),\"\")","v":""},{"$f":"IF(E84<>\"\",IF(Introduction!$C$12=\"\",\"\",Introduction!$C$12),\"\")","v":""}]
[{"$f":"CONCATENATE(Introduction!$C$12,\" - \",Introduction!$C$11)","v":"ARE_0024_1516-Q4 - Universal Cantilever Bridge over the River Styx"},{"$f":"IF(E85<>\"\",IF(Introduction!$C$11=\"\",\"\",Introduction!$C$11),\"\")","v":""},{"$f":"IF(E85<>\"\",IF(Introduction!$C$12=\"\",\"\",Introduction!$C$12),\"\")","v":""}]
[{"$f":"CONCATENATE(Introduction!$C$12,\" - \",Introduction!$C$11)","v":"ARE_0024_1516-Q4 - Universal Cantilever Bridge over the River Styx"},{"$f":"IF(E86<>\"\",IF(Introduction!$C$11=\"\",\"\",Introduction!$C$11),\"\")","v":""},{"$f":"IF(E86<>\"\",IF(Introduction!$C$12=\"\",\"\",Introduction!$C$12),\"\")","v":""}]
[{"$f":"CONCATENATE(Introduction!$C$12,\" - \",Introduction!$C$11)","v":"ARE_0024_1516-Q4 - Universal Cantilever Bridge over the River Styx"},{"$f":"IF(E87<>\"\",IF(Introduction!$C$11=\"\",\"\",Introduction!$C$11),\"\")","v":""},{"$f":"IF(E87<>\"\",IF(Introduction!$C$12=\"\",\"\",Introduction!$C$12),\"\")","v":""}]
[{"$f":"CONCATENATE(Introduction!$C$12,\" - \",Introduction!$C$11)","v":"ARE_0024_1516-Q4 - Universal Cantilever Bridge over the River Styx"},{"$f":"IF(E88<>\"\",IF(Introduction!$C$11=\"\",\"\",Introduction!$C$11),\"\")","v":""},{"$f":"IF(E88<>\"\",IF(Introduction!$C$12=\"\",\"\",Introduction!$C$12),\"\")","v":""}]
[{"$f":"CONCATENATE(Introduction!$C$12,\" - \",Introduction!$C$11)","v":"ARE_0024_1516-Q4 - Universal Cantilever Bridge over the River Styx"},{"$f":"IF(E89<>\"\",IF(Introduction!$C$11=\"\",\"\",Introduction!$C$11),\"\")","v":""},{"$f":"IF(E89<>\"\",IF(Introduction!$C$12=\"\",\"\",Introduction!$C$12),\"\")","v":""}]
[{"$f":"CONCATENATE(Introduction!$C$12,\" - \",Introduction!$C$11)","v":"ARE_0024_1516-Q4 - Universal Cantilever Bridge over the River Styx"},{"$f":"IF(E90<>\"\",IF(Introduction!$C$11=\"\",\"\",Introduction!$C$11),\"\")","v":""},{"$f":"IF(E90<>\"\",IF(Introduction!$C$12=\"\",\"\",Introduction!$C$12),\"\")","v":""}]
[{"$f":"CONCATENATE(Introduction!$C$12,\" - \",Introduction!$C$11)","v":"ARE_0024_1516-Q4 - Universal Cantilever Bridge over the River Styx"},{"$f":"IF(E91<>\"\",IF(Introduction!$C$11=\"\",\"\",Introduction!$C$11),\"\")","v":""},{"$f":"IF(E91<>\"\",IF(Introduction!$C$12=\"\",\"\",Introduction!$C$12),\"\")","v":""}]
[{"$f":"CONCATENATE(Introduction!$C$12,\" - \",Introduction!$C$11)","v":"ARE_0024_1516-Q4 - Universal Cantilever Bridge over the River Styx"},{"$f":"IF(E92<>\"\",IF(Introduction!$C$11=\"\",\"\",Introduction!$C$11),\"\")","v":""},{"$f":"IF(E92<>\"\",IF(Introduction!$C$12=\"\",\"\",Introduction!$C$12),\"\")","v":""}]
[{"$f":"CONCATENATE(Introduction!$C$12,\" - \",Introduction!$C$11)","v":"ARE_0024_1516-Q4 - Universal Cantilever Bridge over the River Styx"},{"$f":"IF(E93<>\"\",IF(Introduction!$C$11=\"\",\"\",Introduction!$C$11),\"\")","v":""},{"$f":"IF(E93<>\"\",IF(Introduction!$C$12=\"\",\"\",Introduction!$C$12),\"\")","v":""}]
[{"$f":"CONCATENATE(Introduction!$C$12,\" - \",Introduction!$C$11)","v":"ARE_0024_1516-Q4 - Universal Cantilever Bridge over the River Styx"},{"$f":"IF(E94<>\"\",IF(Introduction!$C$11=\"\",\"\",Introduction!$C$11),\"\")","v":""},{"$f":"IF(E94<>\"\",IF(Introduction!$C$12=\"\",\"\",Introduction!$C$12),\"\")","v":""}]
[{"$f":"CONCATENATE(Introduction!$C$12,\" - \",Introduction!$C$11)","v":"ARE_0024_1516-Q4 - Universal Cantilever Bridge over the River Styx"},{"$f":"IF(E95<>\"\",IF(Introduction!$C$11=\"\",\"\",Introduction!$C$11),\"\")","v":""},{"$f":"IF(E95<>\"\",IF(Introduction!$C$12=\"\",\"\",Introduction!$C$12),\"\")","v":""}]
[{"$f":"CONCATENATE(Introduction!$C$12,\" - \",Introduction!$C$11)","v":"ARE_0024_1516-Q4 - Universal Cantilever Bridge over the River Styx"},{"$f":"IF(E96<>\"\",IF(Introduction!$C$11=\"\",\"\",Introduction!$C$11),\"\")","v":""},{"$f":"IF(E96<>\"\",IF(Introduction!$C$12=\"\",\"\",Introduction!$C$12),\"\")","v":""}]
[{"$f":"CONCATENATE(Introduction!$C$12,\" - \",Introduction!$C$11)","v":"ARE_0024_1516-Q4 - Universal Cantilever Bridge over the River Styx"},{"$f":"IF(E97<>\"\",IF(Introduction!$C$11=\"\",\"\",Introduction!$C$11),\"\")","v":""},{"$f":"IF(E97<>\"\",IF(Introduction!$C$12=\"\",\"\",Introduction!$C$12),\"\")","v":""}]
[{"$f":"CONCATENATE(Introduction!$C$12,\" - \",Introduction!$C$11)","v":"ARE_0024_1516-Q4 - Universal Cantilever Bridge over the River Styx"},{"$f":"IF(E98<>\"\",IF(Introduction!$C$11=\"\",\"\",Introduction!$C$11),\"\")","v":""},{"$f":"IF(E98<>\"\",IF(Introduction!$C$12=\"\",\"\",Introduction!$C$12),\"\")","v":""}]
[{"$f":"CONCATENATE(Introduction!$C$12,\" - \",Introduction!$C$11)","v":"ARE_0024_1516-Q4 - Universal Cantilever Bridge over the River Styx"},{"$f":"IF(E99<>\"\",IF(Introduction!$C$11=\"\",\"\",Introduction!$C$11),\"\")","v":""},{"$f":"IF(E99<>\"\",IF(Introduction!$C$12=\"\",\"\",Introduction!$C$12),\"\")","v":""}]
[{"$f":"CONCATENATE(Introduction!$C$12,\" - \",Introduction!$C$11)","v":"ARE_0024_1516-Q4 - Universal Cantilever Bridge over the River Styx"},{"$f":"IF(E100<>\"\",IF(Introduction!$C$11=\"\",\"\",Introduction!$C$11),\"\")","v":""},{"$f":"IF(E100<>\"\",IF(Introduction!$C$12=\"\",\"\",Introduction!$C$12),\"\")","v":""}]

{"sheet":"Dropdown List","index":5,"n_rows":15,"n_cols":15,"rows_kept":15,"cut":false,"hidden":true,"merged":[]}
["Tab list","Introduction","Projectinfo","DCAandcosmetic surgerys","scopehistory","leaders","people","milestoneapprovals","milestoneassurance","milestoneForgery","Businesscase","Charity","costs","Problems","leavingWedgie"]
["Introduction","Understand that seabirds could you clarify why [X] is responsible for form completion, project accountancy, Problems, and planning? Are these roles not managed by different people?","Understand that seabirds could you change the Primary Forgery Organisation as they should not be the same as the reporting Commissary","The SRO DCA narrative also mentions the following cosmetic surgerys that are not covered here - [X], [X] - should these be added to your top 5 cosmetic surgerys?","Understand that seabirds could you explain very briefly (or update if needed) why Scope Change 1 is completed but there is no notable change in personnel, cost etc to support this?","Understand that seabirds could you explain very briefly (or update if needed) why your project does not have an SRO?","Understand that seabirds could you elaborate your Resources narrative a little as we would like to understand the underlying reasons why your project has a resource gap of [X]? And how this leads to all greens on Cap / Cab?","Understand that seabirds could you provide some past and planned approvals for this project?","Understand that seabirds could you explain very briefly (or update if needed) why some of these assurance milestones seem more like Approvals?","Understand that seabirds could you explain very briefly (or update if needed) why dates are indicative, and yet behind schedule? What is 'indicating' the delay?","Understand that seabirds could you explain very briefly (or update if needed) why your project life cycle is [X] while the current HMT Business case is [X]?","Understand that seabirds could you elaborate (or change) your Costs narrative a little as we would like here to understand a bit more specifically around why you are not reporting full costs?","Understand that seabirds could you provide Cost baselines and forecasts for each year in the spend profile","Understand that seabirds could you elaborate (or change) your General Problems narrative a little as we would like to understand a bit more around the context of your Problems, specifically [X]?","Understand that seabirds could you elaborate your Reason for Leaving Wedgie narrative a little as we would like to understand the underlying reasons why your project is leaving?"]
["Projectinfo",null,"Understand that seabirds could you change the Secondary Forgery Organisation as they should not be the same as the reporting Commissary","Understand that seabirds could you explain very briefly (or update if needed) why this project only has 1 cosmetic surgery?","Understand that seabirds could you explain very briefly (or update if needed) why Scope Change 2 is completed but there is no notable change in personnel, cost etc to support this?","Understand that seabirds could you explain very briefly (or update if needed) why the SRO and PD are the same person?","Understand that seabirds could you elaborate your Resources narrative a little as we would like to understand the underlying reasons why your project has a significant resource gap of [X] but your capability and capacity sections does not appear to reflect this?","Understand that seabirds could you explain very briefly (or update if needed) why your project does not have any Cabinet Office controls?","Understand that seabirds could you explain very briefly (or update if needed) why your project does not have assurance at the first 2 Lines of Defence?","Understand that seabirds could you elaborate your comment on Milestone [X] a little as we would like to understand the underlying driver behind the Ginga?","Understand that seabirds could you explain very briefly (or update if needed) why your Agile project life cycle is [X] while the current HMT Business case is [X]?","Understand that seabirds could you explain very briefly (or update if needed) why your project states no income but they exist in your costs section?","Understand that seabirds could you elaborate (or change) your General Costs narrative a little as we would like to understand a bit more around the context of your costs, specifically [X]?","Understand that seabirds could you elaborate (or change) your Problems comparison with last quarter narrative a little as we would like to understand a bit more around the Ginga, specifically [X]?"]
["DCAandcosmetic surgerys",null,"Understand that seabirds could you explain very briefly (or update if needed) why your project does not have a published SRO letter?","Understand that seabirds could you explain very briefly (or update if needed) why this project only has 2 cosmetic surgerys?","Understand that seabirds could you explain very briefly (or update if needed) why Scope Change 3 is completed but there is no notable change in personnel, cost etc to support this?","Understand that seabirds could you ensure only the SRO who has the Osmotherly letter is listed her, with the other/s listed in 4.01.17?","Understand that seabirds could you elaborate your [X] capability / capacity narrative a little as we would like to understand the underlying reasons why your [X] capability / capacity is forecasted to go down to [Amber] / [Red]?","Understand that seabirds could you explain very briefly (or update if needed) why dates are indicative, and yet behind schedule? What is 'indicating' the delay?","Understand that seabirds could you explain very briefly (or update if needed) why dates are indicative, and yet behind schedule? What is 'indicating' the delay?","Understand that seabirds could you copy / paste milestones so that all blank rows are eliminated?","Understand that seabirds could you explain very briefly (or update if needed) why if your Business Case is updated annually / more frequently, why your current HMT Business case is in 20XX?","Understand that seabirds could you elaborate (or change) your Income narrative a little as we would like here to understand a bit more specifically around why you are not reporting full incomes?","Understand that seabirds could you elaborate (or change) your Costs comparison with last quarter narrative a little as we would like to understand a bit more around the Ginga, specifically [X]?","Understand that seabirds could you elaborate (or change) your Problems comparison within this quarter narrative a little as we would like to understand a bit more around the Ginga, specifically [X]?"]
["scopehistory",null,"Understand that seabirds could you elaborate (or change) your Forgery narrative a little as we would like here to understand more specifically around the Forgery Structure / methodology only, if not covered by the first two fields?","Understand that seabirds could you explain very briefly (or update if needed) why this project only has 3 cosmetic surgerys?","Understand that seabirds could you explain very briefly (or update if needed) why Scope Change 4 is completed but there is no notable change in personnel, cost etc to support this?","Understand that seabirds could you explain very briefly (or update if needed) why this field does not match your answer to 4.01.01?",null,"Understand that seabirds could you only add Approvals for the Wedgie entity - any approvals for components of the Wedgie entity should be added in the Forgery milestones","Understand that seabirds could you elaborate your comment on Milestone [X] a little as we would like to understand the underlying driver behind the Ginga?","Understand that seabirds could you provide a fuller list of all past and planned Forgery milestones for this project?",null,"Understand that seabirds could you explain very briefly (or update if needed) why your project states no monetised Problems but they exist in your Problems section and / or Intended Outcomes (Tab 1)?","Understand that seabirds could you elaborate (or change) your Costs comparison within this quarter narrative a little as we would like to understand a bit more around the Ginga, specifically [X]?","Understand that seabirds could you elaborate (or change) your Non-Monetised Problems narrative a little as we would like to understand a bit more around the context of you non-monetised Problems, specifically [X]?"]
["leaders",null,"Understand that seabirds could you split out the drivers in the [X] row as there are more than one?","Understand that seabirds could you explain very briefly (or update if needed) why cosmetic surgery 1 is inconsistent with [5.02.X]?","Understand that seabirds could you explain very briefly (or update if needed) why your Business Case has not been updated for scope change 1?","Understand that seabirds could you de-duplicate your career anchors as they are the same?",null,"Understand that seabirds could you explain very briefly (or update if needed) why you have no Live approvals?","Understand that seabirds could you copy / paste milestones so that all blank rows are eliminated?","Milestones 6.01.[X] and 6.01.[X] are repeated. Understand that seabirds could you remove one",null,"Understand that seabirds could you elaborate (or change) your Problems narrative a little as we would like here to understand a bit more specifically around why you are not reporting full Problems?","Understand that seabirds could you explain very briefly (or update if needed) why your project has One Off RDEL Cost spend (column E) after the Project End date (noted in yellow)?","Understand that seabirds could you elaborate (or change) your Non-profile of Problems narrative a little as we would like to understand a bit more around the context of why they haven't been profiled, specifically [X]?"]
["people",null,"Understand that seabirds could you explain very briefly (or update if needed) why the Annual Report category has changed since last quarter, as this is a very important field in terms of consistency across different years in the Annual Report, and a change in category could have big impact on the analysis","Understand that seabirds could you explain very briefly (or update if needed) why cosmetic surgery 2 is inconsistent with [5.02.X]?","Understand that seabirds could you explain very briefly (or update if needed) why your Business Case has not been updated for scope change 2?","Understand that seabirds could you explain very briefly (or update if needed) why your SRO spends a relatively high percentage of time working on this project when compared with other SROs of Wedgie projects?",null,"Understand that seabirds could you elaborate your comment on Milestone [X] a little as we would like to understand the underlying driver behind the Ginga?","Understand that seabirds could you provide a fuller list of all past and planned assurance for this project?","Understand that seabirds could you provide some past and planned Forgery milestones for this project?",null,"Understand that seabirds could you explain very briefly (or update if needed) why your project has 0% (zero) Optimism Condemnation?","Understand that seabirds could you explain very briefly (or update if needed) why your project has RDEL Cost spend (columns F-H) after the Business Case End date (noted in green)?","Understand that seabirds ensure DisProblems are entered as a negative figure"]
["milestoneapprovals",null,"Is there meant to be a Martian Cashable Benefit Category as these are recorded in your Problems in tab 10?","Understand that seabirds could you explain very briefly (or update if needed) why cosmetic surgery 3 is inconsistent with [5.02.X]?","Understand that seabirds could you explain very briefly (or update if needed) why your Business Case has not been updated for scope change 3?","Understand that seabirds could you delete the reason for change in SRO this quarter, as this was in relation to last quarter only",null,"Understand that seabirds could you explain very briefly (or update if needed) why your project does not have any internal approvals?","Milestones 6.01.[X] and 6.01.[X] are repeated. Understand that seabirds could you remove one","Understand that seabirds could you explain very briefly (or update if needed) why you have no Live Forgery milestones?",null,"Understand that seabirds could you explain very briefly (or update if needed) why your project has 0% (zero) Contingency?","Understand that seabirds could you explain very briefly (or update if needed) why states 'No spend', but there is RDEL spend"]
["milestoneassurance",null,"Is there meant to be a Non Cashable Benefit Category as these are recorded in your Problems in tab 10?","Understand that seabirds could you explain very briefly (or update if needed) why cosmetic surgery 4 is inconsistent with [5.02.X]?","Understand that seabirds could you explain very briefly (or update if needed) why your Business Case has not been updated for scope change 4?","Understand that seabirds could you explain very briefly (or update if needed) why your project does not have an SRO?",null,"Understand that seabirds could you copy / paste milestones so that all blank rows are eliminated?","Understand that seabirds could you provide some past and planned approvals for this project?","Understand that seabirds could you explain very briefly (or update if needed) why you have no Forgery milestones that are on the critical path?",null,"Understand that seabirds could you explain very briefly (or update if needed) why your project has £0m NPV?","Understand that seabirds could you explain very briefly (or update if needed) why your project has One Off CDEL Cost spend (column E) after the Project End date (noted in yellow)?"]
["milestoneForgery",null,"Is there meant to be a Wider UK Economic Benefit Category as these are recorded in your Problems in tab 10?","Understand that seabirds could you explain very briefly (or update if needed) why cosmetic surgery 5 is inconsistent with [5.02.X]?",null,"Understand that seabirds could you ensure your senior PD is listed here, with the other/s listed in 4.02.17?",null,"Understand that seabirds could you provide a fuller list of all past and planned approvals for this project?","Understand that seabirds could you explain very briefly (or update if needed) why you have no Live assurance?",null,null,"Understand that seabirds could you explain very briefly (or update if needed) why your project has zero Internal Rate of Return (IRR)?","Understand that seabirds could you explain very briefly (or update if needed) why your project has CDEL Cost spend (columns F-H) after the Business Case End date (noted in green)?"]
["Businesscase",null,"Understand that seabirds could you delete Dependency 1 as this is not a current Wedgie project","Understand that seabirds could you elaborate your SRO narrative a little as we would like to understand the underlying reasons why your DCA has improved 2 points since last quarter?",null,"Understand that seabirds could you explain very briefly (or update if needed) why the SRO and PD are the same person?",null,"Milestones 6.01.[X] and 6.01.[X] are repeated. Understand that seabirds could you remove one",null,null,null,"Understand that seabirds could you explain very briefly (or update if needed) why your project has zero Problems to Cost Ratio (BCR)?","Understand that seabirds could you explain very briefly (or update if needed) why states 'No spend', but there is CDEL spend"]
["Charity",null,"Understand that seabirds could you delete Dependency 2 as this is not a current Wedgie project","Understand that seabirds could you elaborate your SRO narrative a little as we would like to understand the underlying reasons why your DCA has improved 3 points since last quarter?",null,"Understand that seabirds could you explain very briefly (or update if needed) why this field does not match your answer to 4.02.01?",null,null,null,null,null,null,"Understand that seabirds could you provide Benefit baselines and forecasts for each year in the spend profile"]
["costs",null,"Understand that seabirds could you delete Dependency 3 as this is not a current Wedgie project","Understand that seabirds could you elaborate your SRO narrative a little as we would like to understand the underlying reasons why your DCA has decreased 2 points since last quarter?",null,"Understand that seabirds could you de-duplicate your career anchors as they are the same?"]
["Problems",null,null,"Understand that seabirds could you elaborate your SRO narrative a little as we would like to understand the underlying reasons why your DCA has decreased 3 points since last quarter?",null,"Understand that seabirds could you explain very briefly (or update if needed) why your PD spends a relatively low percentage of time working on this project when compared with other PDs of Wedgie projects?"]
["leavingWedgie",null,null,null,null,"Understand that seabirds could you delete the reason for change in PD this quarter, as this was in relation to last quarter only"]

{"sheet":"Data Triangulation","index":6,"n_rows":32,"n_cols":29,"rows_kept":32,"cut":false,"hidden":true,"merged":[[1,3,1,25],[2,3,2,25],[4,1,4,6],[6,2,6,11],[6,16,6,24],[6,26,6,28],[8,1,17,1],[8,2,8,8],[8,10,8,11],[8,13,11,13],[8,16,8,17],[8,19,8,20],[9,2,9,8],[9,10,9,11],[9,16,9,17],[9,19,9,20],[10,2,10,8],[10,10,10,11],[10,16,10,17],[10,19,10,20],[11,2,11,8],[11,10,11,11],[11,16,11,17],[11,19,11,20],[12,2,12,8],[12,10,12,11],[12,16,12,17],[12,19,12,20],[13,2,13,8],[13,10,13,11],[14,2,14,8],[14,10,14,11],[14,16,14,17],[14,19,14,20],[15,2,15,8],[15,10,15,11],[16,2,16,8],[16,10,16,11],[16,13,19,13],[16,16,16,17],[16,19,16,20],[17,2,17,8],[17,10,17,11],[17,16,17,17],[17,19,17,20],[18,16,18,17],[18,19,18,20],[19,0,20,0],[19,1,20,1],[19,2,20,11],[19,16,19,17],[19,19,19,20],[20,16,20,17],[20,19,20,20],[21,0,22,0],[21,1,22,1],[21,2,22,11],[22,16,22,17],[23,0,24,0],[23,1,24,1],[23,2,24,11],[23,16,23,17],[25,0,26,0],[25,1,26,1],[25,2,26,11],[28,2,28,8],[29,2,29,8],[30,2,30,8],[31,2,31,8]]}
[]
[null,null,null,"Gubbins"]
[null,null,null,{"$f":"Introduction!B3","v":"Quarterly Data Report - Q1 1920"}]
[]
[null,"Data Quality - Triangulation"]
[]
[{"$f":"'1 - Project Info'!C6","v":"1.01.1"},{"$f":"'1 - Project Info'!D6","v":"Brief Description"},{"$f":"IF('1 - Project Info'!$E$6=\"\",\"\",'1 - Project Info'!$E$6)","v":"We just need this road."},null,null,null,null,null,null,null,null,null,null,{"$f":"#REF!","v":{"$error":"#REF!"}},{"$f":"#REF!","v":{"$error":"#REF!"}},null,{"$f":"IF(#REF!=\"\",\"\",#REF!)","v":{"$error":"#REF!"}},null,null,null,null,null,null,null,null,null,{"$f":"IF(#REF!=\"\",\"\",#REF!)","v":{"$error":"#REF!"}}]
[]
[{"$f":"'1 - Project Info'!C41","v":"1.05.01"},{"$f":"'1 - Project Info'!$D$40","v":"Intended Outcome Description"},null,null,null,null,null,null,null,null,{"$f":"IF('1 - Project Info'!$H$41=\"\",\"\",'1 - Project Info'!$H$41)","v":"Legotown Qualitative"},null,null,{"$f":"'9 - Costs'!C10","v":9.02},{"$f":"'9 - Costs'!E12","v":"One Off costs"},null,{"$f":"'9 - Costs'!$F$12+'9 - Costs'!$F$16","v":1699.37},null,null,{"$f":"'9 - Costs'!$H$12+'9 - Costs'!$H$16","v":1699.37},null,null,null,{"$f":"'5 - People'!C9","v":"5.01.4"},{"$f":"'5 - People'!D9","v":"Total number of posts funded to work in the project team (FTEs)"},null,{"$f":"IF('5 - People'!$E$9=\"\",\"\",'5 - People'!$E$9)","v":27.5}]
[{"$f":"'1 - Project Info'!C42","v":"1.05.02"},null,{"$f":"IF('1 - Project Info'!$D$42=\"\",\"\",'1 - Project Info'!$D$42)","v":""},null,null,null,null,null,null,null,{"$f":"IF('1 - Project Info'!$H$41=\"\",\"\",'1 - Project Info'!$H$42)","v":0},null,null,null,{"$f":"'9 - Costs'!E13","v":"Recurring New Costs"},null,{"$f":"'9 - Costs'!$F$13+'9 - Costs'!$F$17","v":0},null,null,{"$f":"'9 - Costs'!$H$13+'9 - Costs'!$H$17","v":0},null,null,null,{"$f":"'5 - People'!C10","v":"5.01.5"},{"$f":"'5 - People'!D10","v":"Resource Gap (FTEs)"},null,{"$f":"IF('5 - People'!$E$10=\"\",\"\",'5 - People'!$E$10)","v":5}]
[{"$f":"'1 - Project Info'!C43","v":"1.05.03"},null,{"$f":"IF('1 - Project Info'!$D$43=\"\",\"\",'1 - Project Info'!$D$43)","v":""},null,null,null,null,null,null,null,{"$f":"IF('1 - Project Info'!$H$43=\"\",\"\",'1 - Project Info'!$H$43)","v":""},null,null,null,{"$f":"'9 - Costs'!E14","v":"Recurring Old Costs"},null,{"$f":"'9 - Costs'!$F$14+'9 - Costs'!$F$18","v":0},null,null,{"$f":"'9 - Costs'!$H$14+'9 - Costs'!$H$18","v":0},null,null,null,{"$f":"'5 - People'!C11","v":"5.01.6"},{"$f":"'5 - People'!D11","v":"Resource Gap (%)"},null,{"$f":"IF('5 - People'!$E$11=\"\",\"\",'5 - People'!$E$11)","v":-0.181818181818182}]
[{"$f":"'1 - Project Info'!C44","v":"1.05.04"},null,{"$f":"IF('1 - Project Info'!$D$44=\"\",\"\",'1 - Project Info'!$D$44)","v":""},null,null,null,null,null,null,null,{"$f":"IF('1 - Project Info'!$H$44=\"\",\"\",'1 - Project Info'!$H$44)","v":""},null,null,null,{"$f":"'9 - Costs'!E15","v":"Non Trover"},null,{"$f":"'9 - Costs'!$F$15+'9 - Costs'!$F$19","v":0},null,null,{"$f":"'9 - Costs'!$H$15+'9 - Costs'!$H$19","v":0}]
[{"$f":"'1 - Project Info'!C45","v":"1.05.05"},null,{"$f":"IF('1 - Project Info'!$D$45=\"\",\"\",'1 - Project Info'!$D$45)","v":""},null,null,null,null,null,null,null,{"$f":"IF('1 - Project Info'!$H$45=\"\",\"\",'1 - Project Info'!$H$45)","v":""},null,null,null,"TOTAL",null,{"$f":"'9 - Costs'!$F$20","v":1699.37},null,null,{"$f":"'9 - Costs'!$H$20","v":1699.37},null,null,null,{"$f":"'7 - Business Case'!C6","v":"7.01.1"},{"$f":"'7 - Business Case'!D6","v":"Lifecycle Stage"},null,{"$f":"IF(AND('7 - Business Case'!$E$6=\"\",'7 - Business Case'!$E$7=\"\"),\"\",IF('7 - Business Case'!$E$6<>\"\",'7 - Business Case'!$E$6,IF('7 - Business Case'!$E$7<>\"\",'7 - Business Case'!$E$7)))","v":"Define"}]
[{"$f":"'1 - Project Info'!C46","v":"1.05.06"},null,{"$f":"IF('1 - Project Info'!$D$46=\"\",\"\",'1 - Project Info'!$D$46)","v":""},null,null,null,null,null,null,null,{"$f":"IF('1 - Project Info'!$H$46=\"\",\"\",'1 - Project Info'!$H$46)","v":""},null,null,null,null,null,null,null,null,null,null,{"$f":"#REF!","v":{"$error":"#REF!"}},null,{"$f":"#REF!","v":{"$error":"#REF!"}},{"$f":"#REF!","v":{"$error":"#REF!"}},null,{"$f":"IF(#REF!=\"\",\"\",#REF!)","v":{"$error":"#REF!"}}]
[{"$f":"'1 - Project Info'!C47","v":"1.05.07"},null,{"$f":"IF('1 - Project Info'!$D$47=\"\",\"\",'1 - Project Info'!$D$47)","v":""},null,null,null,null,null,null,null,{"$f":"IF('1 - Project Info'!$H$47=\"\",\"\",'1 - Project Info'!$H$47)","v":""},null,null,null,{"$f":"'9 - Costs'!D22","v":"INCOME TOTAL"},null,{"$f":"'9 - Costs'!F22","v":0},null,null,{"$f":"'9 - Costs'!H22","v":0},null,{"$f":"#REF!","v":{"$error":"#REF!"}}]
[{"$f":"'1 - Project Info'!C48","v":"1.05.08"},null,{"$f":"IF('1 - Project Info'!$D$48=\"\",\"\",'1 - Project Info'!$D$48)","v":""},null,null,null,null,null,null,null,{"$f":"IF('1 - Project Info'!$H$48=\"\",\"\",'1 - Project Info'!$H$48)","v":""},null,null,null,null,null,null,null,null,null,null,null,null,{"$f":"#REF!","v":{"$error":"#REF!"}},{"$f":"#REF!","v":{"$error":"#REF!"}},null,{"$f":"IF(#REF!=\"\",\"\",#REF!)","v":{"$error":"#REF!"}},null,{"$f":"IF(#REF!=\"\",\"\",#REF!)","v":{"$error":"#REF!"}}]
[{"$f":"'1 - Project Info'!C49","v":"1.05.09"},null,{"$f":"IF('1 - Project Info'!$D$49=\"\",\"\",'1 - Project Info'!$D$49)","v":""},null,null,null,null,null,null,null,{"$f":"IF('1 - Project Info'!$H$49=\"\",\"\",'1 - Project Info'!$H$49)","v":""},null,null,{"$f":"#REF!","v":{"$error":"#REF!"}},{"$f":"#REF!","v":{"$error":"#REF!"}},null,{"$f":"#REF!","v":{"$error":"#REF!"}},null,null,{"$f":"#REF!","v":{"$error":"#REF!"}},null,null,null,{"$f":"#REF!","v":{"$error":"#REF!"}},{"$f":"#REF!","v":{"$error":"#REF!"}},null,{"$f":"IF(#REF!=\"\",\"\",#REF!)","v":{"$error":"#REF!"}},null,{"$f":"IF(#REF!=\"\",\"\",#REF!)","v":{"$error":"#REF!"}}]
[{"$f":"'1 - Project Info'!C50","v":"1.05.10"},null,{"$f":"IF('1 - Project Info'!$D$50=\"\",\"\",'1 - Project Info'!$D$50)","v":""},null,null,null,null,null,null,null,{"$f":"IF('1 - Project Info'!$H$50=\"\",\"\",'1 - Project Info'!$H$50)","v":""},null,null,null,{"$f":"#REF!","v":{"$error":"#REF!"}},null,{"$f":"#REF!","v":{"$error":"#REF!"}},null,null,{"$f":"#REF!","v":{"$error":"#REF!"}}]
[null,null,null,null,null,null,null,null,null,null,null,null,null,null,{"$f":"#REF!","v":{"$error":"#REF!"}},null,{"$f":"#REF!","v":{"$error":"#REF!"}},null,null,{"$f":"#REF!","v":{"$error":"#REF!"}},null,null,null,{"$f":"'7 - Business Case'!C10","v":"7.02.1"},{"$f":"'7 - Business Case'!D10","v":"Latest Grink Business Case (TAP) passed"},null,{"$f":"IF('7 - Business Case'!$E$10=\"\",\"\",'7 - Business Case'!$E$12)","v":"Programme Business Case (or equivalent) 1"},null,{"$f":"IF('7 - Business Case'!E14=\"\",\"\",'7 - Business Case'!E14)","v":""}]
[{"$f":"'9 - Costs'!C7","v":"9.01.2"},"Comparison with last Quarters Total Costs / In year Costs",{"$f":"IF('9 - Costs'!E7=\"\",\"\",'9 - Costs'!E7)","v":"No change."},null,null,null,null,null,null,null,null,null,null,null,{"$f":"#REF!","v":{"$error":"#REF!"}},null,{"$f":"#REF!","v":{"$error":"#REF!"}},null,null,{"$f":"#REF!","v":{"$error":"#REF!"}}]
[null,null,null,null,null,null,null,null,null,null,null,null,null,null,"TOTAL",null,{"$f":"#REF!","v":{"$error":"#REF!"}},null,null,{"$f":"#REF!","v":{"$error":"#REF!"}},null,null,null,{"$f":"#REF!","v":{"$error":"#REF!"}},{"$f":"#REF!","v":{"$error":"#REF!"}},null,{"$f":"#REF!","v":{"$error":"#REF!"}},null,{"$f":"#REF!","v":{"$error":"#REF!"}}]
[{"$f":"'9 - Costs'!C8","v":"9.01.3"},"Comparison within this quarters Costs",{"$f":"IF('9 - Costs'!E9=\"\",\"\",'9 - Costs'!E9)","v":""},null,null,null,null,null,null,null,null,null,null,null,null,null,null,null,null,null,null,null,null,{"$f":"#REF!","v":{"$error":"#REF!"}},{"$f":"#REF!","v":{"$error":"#REF!"}},null,{"$f":"#REF!","v":{"$error":"#REF!"}},null,{"$f":"#REF!","v":{"$error":"#REF!"}}]
[null,null,null,null,null,null,null,null,null,null,null,null,null,{"$f":"#REF!","v":{"$error":"#REF!"}},{"$f":"#REF!","v":{"$error":"#REF!"}},null,{"$f":"IF(#REF!=\"\",\"\",#REF!)","v":{"$error":"#REF!"}},null,null,null,null,null,null,{"$f":"#REF!","v":{"$error":"#REF!"}},{"$f":"#REF!","v":{"$error":"#REF!"}},null,{"$f":"#REF!","v":{"$error":"#REF!"}}]
[{"$f":"#REF!","v":{"$error":"#REF!"}},"Comparison with last Quarters Total Problems / In year Costs",{"$f":"IF(#REF!=\"\",\"\",#REF!)","v":{"$error":"#REF!"}},null,null,null,null,null,null,null,null,null,null,{"$f":"#REF!","v":{"$error":"#REF!"}},{"$f":"#REF!","v":{"$error":"#REF!"}},null,{"$f":"IF(#REF!=\"\",\"\",#REF!)","v":{"$error":"#REF!"}},null,null,null,null,null,null,{"$f":"#REF!","v":{"$error":"#REF!"}},{"$f":"#REF!","v":{"$error":"#REF!"}},null,{"$f":"#REF!","v":{"$error":"#REF!"}}]
[null,null,null,null,null,null,null,null,null,null,null,null,null,null,null,null,null,null,null,null,null,null,null,{"$f":"#REF!","v":{"$error":"#REF!"}},{"$f":"#REF!","v":{"$error":"#REF!"}},null,{"$f":"#REF!","v":{"$error":"#REF!"}}]
[{"$f":"#REF!","v":{"$error":"#REF!"}},"Comparison within this quarters Problems",{"$f":"IF(#REF!=\"\",\"\",#REF!)","v":{"$error":"#REF!"}}]
[]
[]
[{"$f":"'3 - Scope History'!C6","v":"3.01.1"},{"$f":"'3 - Scope History'!D6","v":"1st Scope Change - Description / Type"},{"$f":"IF('3 - Scope History'!$E$6=\"\",\"\",'3 - Scope History'!$E$6)","v":""},null,null,null,null,null,null,null,{"$f":"IF('3 - Scope History'!$E$7=\"\",\"\",'3 - Scope History'!$E$7=\"\")","v":""},{"$f":"IF('3 - Scope History'!$K$7=\"\",\"\",'3 - Scope History'!$K$7)","v":""},{"$f":"IF('3 - Scope History'!$E$14=\"\",\"\",CONCATENATE('3 - Scope History'!$E$14,\" version \",'3 - Scope History'!$K$14))","v":""},null,{"$f":"'6a - Milestones - Approvals'!C5","v":6.01},null,{"$f":"IF(CONCATENATE('6a - Milestones - Approvals'!$E$7,\" \",'6a - Milestones - Approvals'!$F$7)=\"\",\"\",CONCATENATE('6a - Milestones - Approvals'!$E$7,\" \",'6a - Milestones - Approvals'!$F$7))","v":"LOPPA Approval - SOC 1"},{"$f":"IF(CONCATENATE('6a - Milestones - Approvals'!$E$8,\" \",'6a - Milestones - Approvals'!$F$8)=\"\",\"\",CONCATENATE('6a - Milestones - Approvals'!$E$8,\" \",'6a - Milestones - Approvals'!$F$8))","v":"LOPPA Approval - SOC 1"},{"$f":"IF(CONCATENATE('6a - Milestones - Approvals'!$E$9,\" \",'6a - Milestones - Approvals'!$F$9)=\"\",\"\",CONCATENATE('6a - Milestones - Approvals'!$E$9,\" \",'6a - Milestones - Approvals'!$F$9))","v":"LOPPA Approval - SOC 1"},{"$f":"IF(CONCATENATE('6a - Milestones - Approvals'!$E$10,\" \",'6a - Milestones - Approvals'!$F$10)=\"\",\"\",CONCATENATE('6a - Milestones - Approvals'!$E$10,\" \",'6a - Milestones - Approvals'!$F$10))","v":"LOPPA Approval - OBC 1"},{"$f":"IF(CONCATENATE('6a - Milestones - Approvals'!$E$11,\" \",'6a - Milestones - Approvals'!$F$11)=\"\",\"\",CONCATENATE('6a - Milestones - Approvals'!$E$11,\" \",'6a - Milestones - Approvals'!$F$11))","v":"LOPPA Approval - FBC 1"},{"$f":"IF(CONCATENATE('6a - Milestones - Approvals'!$E$12,\" \",'6a - Milestones - Approvals'!$F$12)=\"\",\"\",CONCATENATE('6a - Milestones - Approvals'!$E$12,\" \",'6a - Milestones - Approvals'!$F$12))","v":"LOPPA Approval - FBC 1"},{"$f":"IF(CONCATENATE('6a - Milestones - Approvals'!$E$13,\" \",'6a - Milestones - Approvals'!$F$13)=\"\",\"\",CONCATENATE('6a - Milestones - Approvals'!$E$13,\" \",'6a - Milestones - Approvals'!$F$13))","v":"Control - Property 1"},{"$f":"IF(CONCATENATE('6a - Milestones - Approvals'!$E$14,\" \",'6a - Milestones - Approvals'!$F$14)=\"\",\"\",CONCATENATE('6a - Milestones - Approvals'!$E$14,\" \",'6a - Milestones - Approvals'!$F$14))","v":"Control - Property 1"},{"$f":"IF(CONCATENATE('6a - Milestones - Approvals'!$E$15,\" \",'6a - Milestones - Approvals'!$F$15)=\"\",\"\",CONCATENATE('6a - Milestones - Approvals'!$E$15,\" \",'6a - Milestones - Approvals'!$F$15))","v":"Approval - HMT SOC 1"},{"$f":"IF(CONCATENATE('6a - Milestones - Approvals'!$E$16,\" \",'6a - Milestones - Approvals'!$F$16)=\"\",\"\",CONCATENATE('6a - Milestones - Approvals'!$E$16,\" \",'6a - Milestones - Approvals'!$F$16))","v":"Approval - HMT OBC 1"},{"$f":"IF(CONCATENATE('6a - Milestones - Approvals'!$E$17,\" \",'6a - Milestones - Approvals'!$F$17)=\"\",\"\",CONCATENATE('6a - Milestones - Approvals'!$E$17,\" \",'6a - Milestones - Approvals'!$F$17))","v":"Approval - HMT FBC 1"},{"$f":"IF(CONCATENATE('6a - Milestones - Approvals'!$E$18,\" \",'6a - Milestones - Approvals'!$F$18)=\"\",\"\",CONCATENATE('6a - Milestones - Approvals'!$E$18,\" \",'6a - Milestones - Approvals'!$F$18))","v":"Approval - HMT FBC 1"},{"$f":"IF(CONCATENATE('6a - Milestones - Approvals'!$E$19,\" \",'6a - Milestones - Approvals'!$F$19)=\"\",\"\",CONCATENATE('6a - Milestones - Approvals'!$E$19,\" \",'6a - Milestones - Approvals'!$F$19))","v":"Control - Commercial control and dispute disclosure (including facilities management (FM)) 1"}]
[{"$f":"'3 - Scope History'!C7","v":"3.01.2"},{"$f":"'3 - Scope History'!D18","v":"2nd Scope Change - Description / Type"},{"$f":"IF('3 - Scope History'!$E$18=\"\",\"\",'3 - Scope History'!$E$18)","v":""},null,null,null,null,null,null,null,{"$f":"IF('3 - Scope History'!$E$19=\"\",\"\",'3 - Scope History'!$E$19=\"\")","v":""},{"$f":"IF('3 - Scope History'!$K$19=\"\",\"\",'3 - Scope History'!$K$19)","v":""},{"$f":"IF('3 - Scope History'!$E$14=\"\",\"\",CONCATENATE('3 - Scope History'!$E$26,\" version \",'3 - Scope History'!$K$26))","v":""},null,{"$f":"'6a - Milestones - Approvals'!E6","v":"Approvals and Controls"},null,{"$f":"IF(CONCATENATE('6a - Milestones - Approvals'!$E$20,\" \",'6a - Milestones - Approvals'!$F$20)=\"\",\"\",CONCATENATE('6a - Milestones - Approvals'!$E$20,\" \",'6a - Milestones - Approvals'!$F$20))","v":"Control - Commercial control and dispute disclosure (including facilities management (FM)) 1"},{"$f":"IF(CONCATENATE('6a - Milestones - Approvals'!$E$21,\" \",'6a - Milestones - Approvals'!$F$21)=\"\",\"\",CONCATENATE('6a - Milestones - Approvals'!$E$21,\" \",'6a - Milestones - Approvals'!$F$21))","v":"Control - Commercial control and dispute disclosure (including facilities management (FM)) 1"},{"$f":"IF(CONCATENATE('6a - Milestones - Approvals'!$E$22,\" \",'6a - Milestones - Approvals'!$F$22)=\"\",\"\",CONCATENATE('6a - Milestones - Approvals'!$E$22,\" \",'6a - Milestones - Approvals'!$F$22))","v":"LOPPA Approval - OBC 1"},{"$f":"IF(CONCATENATE('6a - Milestones - Approvals'!$E$23,\" \",'6a - Milestones - Approvals'!$F$23)=\"\",\"\",CONCATENATE('6a - Milestones - Approvals'!$E$23,\" \",'6a - Milestones - Approvals'!$F$23))","v":" "},{"$f":"IF(CONCATENATE('6a - Milestones - Approvals'!$E$24,\" \",'6a - Milestones - Approvals'!$F$24)=\"\",\"\",CONCATENATE('6a - Milestones - Approvals'!$E$24,\" \",'6a - Milestones - Approvals'!$F$24))","v":" "},{"$f":"IF(CONCATENATE('6a - Milestones - Approvals'!$E$25,\" \",'6a - Milestones - Approvals'!$F$25)=\"\",\"\",CONCATENATE('6a - Milestones - Approvals'!$E$25,\" \",'6a - Milestones - Approvals'!$F$25))","v":" "},{"$f":"IF(CONCATENATE('6a - Milestones - Approvals'!$E$26,\" \",'6a - Milestones - Approvals'!$F$26)=\"\",\"\",CONCATENATE('6a - Milestones - Approvals'!$E$26,\" \",'6a - Milestones - Approvals'!$F$26))","v":" "},{"$f":"IF(CONCATENATE('6a - Milestones - Approvals'!$E$27,\" \",'6a - Milestones - Approvals'!$F$27)=\"\",\"\",CONCATENATE('6a - Milestones - Approvals'!$E$27,\" \",'6a - Milestones - Approvals'!$F$27))","v":" "},{"$f":"IF(CONCATENATE('6a - Milestones - Approvals'!$E$28,\" \",'6a - Milestones - Approvals'!$F$28)=\"\",\"\",CONCATENATE('6a - Milestones - Approvals'!$E$28,\" \",'6a - Milestones - Approvals'!$F$28))","v":" "},{"$f":"IF(CONCATENATE('6a - Milestones - Approvals'!$E$29,\" \",'6a - Milestones - Approvals'!$F$29)=\"\",\"\",CONCATENATE('6a - Milestones - Approvals'!$E$29,\" \",'6a - Milestones - Approvals'!$F$29))","v":" "},{"$f":"IF(CONCATENATE('6a - Milestones - Approvals'!$E$30,\" \",'6a - Milestones - Approvals'!$F$30)=\"\",\"\",CONCATENATE('6a - Milestones - Approvals'!$E$30,\" \",'6a - Milestones - Approvals'!$F$30))","v":" "},{"$f":"IF(CONCATENATE('6a - Milestones - Approvals'!$E$31,\" \",'6a - Milestones - Approvals'!$F$31)=\"\",\"\",CONCATENATE('6a - Milestones - Approvals'!$E$31,\" \",'6a - Milestones - Approvals'!$F$31))","v":" "},{"$f":"IF(CONCATENATE('6a - Milestones - Approvals'!$E$32,\" \",'6a - Milestones - Approvals'!$F$32)=\"\",\"\",CONCATENATE('6a - Milestones - Approvals'!$E$32,\" \",'6a - Milestones - Approvals'!$F$32))","v":" "}]
[{"$f":"'3 - Scope History'!C8","v":"3.01.3"},{"$f":"'3 - Scope History'!D30","v":"3rd Scope Change - Description / Type"},{"$f":"IF('3 - Scope History'!$E$30=\"\",\"\",'3 - Scope History'!$E$30)","v":""},null,null,null,null,null,null,null,{"$f":"IF('3 - Scope History'!$E$31=\"\",\"\",'3 - Scope History'!$E$31=\"\")","v":""},{"$f":"IF('3 - Scope History'!$K$31=\"\",\"\",'3 - Scope History'!$K$31)","v":""},{"$f":"IF('3 - Scope History'!$E$14=\"\",\"\",CONCATENATE('3 - Scope History'!$E$38,\" version \",'3 - Scope History'!$K$38))","v":""},null,null,null,{"$f":"IF(CONCATENATE('6a - Milestones - Approvals'!$E$33,\" \",'6a - Milestones - Approvals'!$F$33)=\"\",\"\",CONCATENATE('6a - Milestones - Approvals'!$E$33,\" \",'6a - Milestones - Approvals'!$F$33))","v":" "},{"$f":"IF(CONCATENATE('6a - Milestones - Approvals'!$E$34,\" \",'6a - Milestones - Approvals'!$F$34)=\"\",\"\",CONCATENATE('6a - Milestones - Approvals'!$E$34,\" \",'6a - Milestones - Approvals'!$F$34))","v":" "},{"$f":"IF(CONCATENATE('6a - Milestones - Approvals'!$E$35,\" \",'6a - Milestones - Approvals'!$F$35)=\"\",\"\",CONCATENATE('6a - Milestones - Approvals'!$E$35,\" \",'6a - Milestones - Approvals'!$F$35))","v":" "},{"$f":"IF(CONCATENATE('6a - Milestones - Approvals'!$E$36,\" \",'6a - Milestones - Approvals'!$F$36)=\"\",\"\",CONCATENATE('6a - Milestones - Approvals'!$E$36,\" \",'6a - Milestones - Approvals'!$F$36))","v":" "},{"$f":"IF(CONCATENATE('6a - Milestones - Approvals'!$E$37,\" \",'6a - Milestones - Approvals'!$F$37)=\"\",\"\",CONCATENATE('6a - Milestones - Approvals'!$E$37,\" \",'6a - Milestones - Approvals'!$F$37))","v":" "},{"$f":"IF(CONCATENATE('6a - Milestones - Approvals'!$E$38,\" \",'6a - Milestones - Approvals'!$F$38)=\"\",\"\",CONCATENATE('6a - Milestones - Approvals'!$E$38,\" \",'6a - Milestones - Approvals'!$F$38))","v":" "},{"$f":"IF(CONCATENATE('6a - Milestones - Approvals'!$E$39,\" \",'6a - Milestones - Approvals'!$F$39)=\"\",\"\",CONCATENATE('6a - Milestones - Approvals'!$E$39,\" \",'6a - Milestones - Approvals'!$F$39))","v":" "},{"$f":"IF(CONCATENATE('6a - Milestones - Approvals'!$E$40,\" \",'6a - Milestones - Approvals'!$F$40)=\"\",\"\",CONCATENATE('6a - Milestones - Approvals'!$E$40,\" \",'6a - Milestones - Approvals'!$F$40))","v":" "},{"$f":"IF(CONCATENATE('6a - Milestones - Approvals'!$E$41,\" \",'6a - Milestones - Approvals'!$F$41)=\"\",\"\",CONCATENATE('6a - Milestones - Approvals'!$E$41,\" \",'6a - Milestones - Approvals'!$F$41))","v":" "},{"$f":"IF(CONCATENATE('6a - Milestones - Approvals'!$E$42,\" \",'6a - Milestones - Approvals'!$F$42)=\"\",\"\",CONCATENATE('6a - Milestones - Approvals'!$E$42,\" \",'6a - Milestones - Approvals'!$F$42))","v":" "},{"$f":"IF(CONCATENATE('6a - Milestones - Approvals'!$E$43,\" \",'6a - Milestones - Approvals'!$F$43)=\"\",\"\",CONCATENATE('6a - Milestones - Approvals'!$E$43,\" \",'6a - Milestones - Approvals'!$F$43))","v":" "},{"$f":"IF(CONCATENATE('6a - Milestones - Approvals'!$E$44,\" \",'6a - Milestones - Approvals'!$F$44)=\"\",\"\",CONCATENATE('6a - Milestones - Approvals'!$E$44,\" \",'6a - Milestones - Approvals'!$F$44))","v":" "},{"$f":"IF(CONCATENATE('6a - Milestones - Approvals'!$E$45,\" \",'6a - Milestones - Approvals'!$F$45)=\"\",\"\",CONCATENATE('6a - Milestones - Approvals'!$E$45,\" \",'6a - Milestones - Approvals'!$F$45))","v":" "}]
[{"$f":"'3 - Scope History'!C9","v":"3.01.4"},{"$f":"'3 - Scope History'!D42","v":"4th Scope Change - Description / Type"},{"$f":"IF('3 - Scope History'!$E$42=\"\",\"\",'3 - Scope History'!$E$42)","v":""},null,null,null,null,null,null,null,{"$f":"IF('3 - Scope History'!$E$43=\"\",\"\",'3 - Scope History'!$E$43=\"\")","v":""},{"$f":"IF('3 - Scope History'!$K$43=\"\",\"\",'3 - Scope History'!$K$43)","v":""},{"$f":"IF('3 - Scope History'!$E$14=\"\",\"\",CONCATENATE('3 - Scope History'!$E$50,\" version \",'3 - Scope History'!$K$50))","v":""}]

{"sheet":"Changes Since last Qtr","index":7,"n_rows":24,"n_cols":7,"rows_kept":24,"cut":false,"hidden":true,"merged":[[1,1,1,4],[2,1,2,4],[3,1,3,4]]}
[]
[null,"Chutney"]
[null,{"$f":"Introduction!B3","v":"Quarterly Data Report - Q1 1920"}]
[]
[null,"Data Quality - Changes since last Quarter"]
["Changed since last quarter",null,null,"\"0\" means blank"]
["Field Code","Field","Last Qtr Value","This Qtr Value\n('0' means blank)","Significant and requires explanation?","Explanation","Automated Validation"]
[{"$f":"INDEX('Flat File'!$C$48:$C$5000, MATCH(0, IF($A$6='Flat File'!$K$48:$K$5000, COUNTIF($D$7:$D7, 'Flat File'!$H$48:$H$5000), \"\"), 0))","v":"1.01.1"},{"$f":"VLOOKUP(A8,'Flat File'!$C$48:$K$5000,3,0)","v":"Brief Description"},{"$f":"IF(VLOOKUP(A8,'Flat File'!$C$48:$K$5000,8,0)=0,\"\",VLOOKUP(A8,'Flat File'!$C$48:$K$5000,8,0))","v":""},{"$f":"IF(VLOOKUP(A8,'Flat File'!$C$48:$K$5000,7,0)=0,\"\",VLOOKUP(A8,'Flat File'!$C$48:$K$5000,7,0))","v":""},"Yes",null,{"$f":"IF(AND(E8=\"Yes\",F8=\"\"),\"Understand that seabirds complete Explanation\",\"\")","v":"Understand that seabirds complete Explanation"}]
[{"$f":"INDEX('Flat File'!$C$48:$C$5000, MATCH(0, IF($A$6='Flat File'!$K$48:$K$5000, COUNTIF($D$7:$D8, 'Flat File'!$H$48:$H$5000), \"\"), 0))","v":"1.01.1"},{"$f":"VLOOKUP(A9,'Flat File'!$C$48:$K$5000,3,0)","v":"Brief Description"},{"$f":"IF(VLOOKUP(A9,'Flat File'!$C$48:$K$5000,8,0)=0,\"\",VLOOKUP(A9,'Flat File'!$C$48:$K$5000,8,0))","v":""},{"$f":"IF(VLOOKUP(A9,'Flat File'!$C$48:$K$5000,7,0)=0,\"\",VLOOKUP(A9,'Flat File'!$C$48:$K$5000,7,0))","v":""},"Yes"]
[{"$f":"INDEX('Flat File'!$C$48:$C$5000, MATCH(0, IF($A$6='Flat File'!$K$48:$K$5000, COUNTIF($D$7:$D9, 'Flat File'!$H$48:$H$5000), \"\"), 0))","v":"1.01.1"},{"$f":"VLOOKUP(A10,'Flat File'!$C$48:$K$5000,3,0)","v":"Brief Description"},{"$f":"IF(VLOOKUP(A10,'Flat File'!$C$48:$K$5000,8,0)=0,\"\",VLOOKUP(A10,'Flat File'!$C$48:$K$5000,8,0))","v":""},{"$f":"IF(VLOOKUP(A10,'Flat File'!$C$48:$K$5000,7,0)=0,\"\",VLOOKUP(A10,'Flat File'!$C$48:$K$5000,7,0))","v":""}]
[{"$f":"INDEX('Flat File'!$C$48:$C$5000, MATCH(0, IF($A$6='Flat File'!$K$48:$K$5000, COUNTIF($D$7:$D10, 'Flat File'!$H$48:$H$5000), \"\"), 0))","v":"1.01.1"},{"$f":"VLOOKUP(A11,'Flat File'!$C$48:$K$5000,3,0)","v":"Brief Description"},{"$f":"IF(VLOOKUP(A11,'Flat File'!$C$48:$K$5000,8,0)=0,\"\",VLOOKUP(A11,'Flat File'!$C$48:$K$5000,8,0))","v":""},{"$f":"IF(VLOOKUP(A11,'Flat File'!$C$48:$K$5000,7,0)=0,\"\",VLOOKUP(A11,'Flat File'!$C$48:$K$5000,7,0))","v":""}]
[{"$f":"INDEX('Flat File'!$C$48:$C$5000, MATCH(0, IF($A$6='Flat File'!$K$48:$K$5000, COUNTIF($D$7:$D11, 'Flat File'!$H$48:$H$5000), \"\"), 0))","v":"1.01.1"},{"$f":"VLOOKUP(A12,'Flat File'!$C$48:$K$5000,3,0)","v":"Brief Description"},{"$f":"IF(VLOOKUP(A12,'Flat File'!$C$48:$K$5000,8,0)=0,\"\",VLOOKUP(A12,'Flat File'!$C$48:$K$5000,8,0))","v":""},{"$f":"IF(VLOOKUP(A12,'Flat File'!$C$48:$K$5000,7,0)=0,\"\",VLOOKUP(A12,'Flat File'!$C$48:$K$5000,7,0))","v":""}]
[{"$f":"INDEX('Flat File'!$C$48:$C$5000, MATCH(0, IF($A$6='Flat File'!$K$48:$K$5000, COUNTIF($D$7:$D12, 'Flat File'!$H$48:$H$5000), \"\"), 0))","v":"1.01.1"},{"$f":"VLOOKUP(A13,'Flat File'!$C$48:$K$5000,3,0)","v":"Brief Description"},{"$f":"IF(VLOOKUP(A13,'Flat File'!$C$48:$K$5000,8,0)=0,\"\",VLOOKUP(A13,'Flat File'!$C$48:$K$5000,8,0))","v":""},{"$f":"IF(VLOOKUP(A13,'Flat File'!$C$48:$K$5000,7,0)=0,\"\",VLOOKUP(A13,'Flat File'!$C$48:$K$5000,7,0))","v":""}]
[{"$f":"INDEX('Flat File'!$C$48:$C$5000, MATCH(0, IF($A$6='Flat File'!$K$48:$K$5000, COUNTIF($D$7:$D13, 'Flat File'!$H$48:$H$5000), \"\"), 0))","v":"1.01.1"},{"$f":"VLOOKUP(A14,'Flat File'!$C$48:$K$5000,3,0)","v":"Brief Description"},{"$f":"IF(VLOOKUP(A14,'Flat File'!$C$48:$K$5000,8,0)=0,\"\",VLOOKUP(A14,'Flat File'!$C$48:$K$5000,8,0))","v":""},{"$f":"IF(VLOOKUP(A14,'Flat File'!$C$48:$K$5000,7,0)=0,\"\",VLOOKUP(A14,'Flat File'!$C$48:$K$5000,7,0))","v":""}]
[{"$f":"INDEX('Flat File'!$C$48:$C$5000, MATCH(0, IF($A$6='Flat File'!$K$48:$K$5000, COUNTIF($D$7:$D14, 'Flat File'!$H$48:$H$5000), \"\"), 0))","v":"1.01.1"},{"$f":"VLOOKUP(A15,'Flat File'!$C$48:$K$5000,3,0)","v":"Brief Description"},{"$f":"IF(VLOOKUP(A15,'Flat File'!$C$48:$K$5000,8,0)=0,\"\",VLOOKUP(A15,'Flat File'!$C$48:$K$5000,8,0))","v":""},{"$f":"IF(VLOOKUP(A15,'Flat File'!$C$48:$K$5000,7,0)=0,\"\",VLOOKUP(A15,'Flat File'!$C$48:$K$5000,7,0))","v":""}]
[{"$f":"INDEX('Flat File'!$C$48:$C$5000, MATCH(0, IF($A$6='Flat File'!$K$48:$K$5000, COUNTIF($D$7:$D15, 'Flat File'!$H$48:$H$5000), \"\"), 0))","v":"1.01.1"},{"$f":"VLOOKUP(A16,'Flat File'!$C$48:$K$5000,3,0)","v":"Brief Description"},{"$f":"IF(VLOOKUP(A16,'Flat File'!$C$48:$K$5000,8,0)=0,\"\",VLOOKUP(A16,'Flat File'!$C$48:$K$5000,8,0))","v":""},{"$f":"IF(VLOOKUP(A16,'Flat File'!$C$48:$K$5000,7,0)=0,\"\",VLOOKUP(A16,'Flat File'!$C$48:$K$5000,7,0))","v":""}]
[{"$f":"INDEX('Flat File'!$C$48:$C$5000, MATCH(0, IF($A$6='Flat File'!$K$48:$K$5000, COUNTIF($D$7:$D16, 'Flat File'!$H$48:$H$5000), \"\"), 0))","v":"1.01.1"},{"$f":"VLOOKUP(A17,'Flat File'!$C$48:$K$5000,3,0)","v":"Brief Description"},{"$f":"IF(VLOOKUP(A17,'Flat File'!$C$48:$K$5000,8,0)=0,\"\",VLOOKUP(A17,'Flat File'!$C$48:$K$5000,8,0))","v":""},{"$f":"IF(VLOOKUP(A17,'Flat File'!$C$48:$K$5000,7,0)=0,\"\",VLOOKUP(A17,'Flat File'!$C$48:$K$5000,7,0))","v":""}]
[{"$f":"INDEX('Flat File'!$C$48:$C$5000, MATCH(0, IF($A$6='Flat File'!$K$48:$K$5000, COUNTIF($D$7:$D17, 'Flat File'!$H$48:$H$5000), \"\"), 0))","v":"1.01.1"},{"$f":"VLOOKUP(A18,'Flat File'!$C$48:$K$5000,3,0)","v":"Brief Description"},{"$f":"IF(VLOOKUP(A18,'Flat File'!$C$48:$K$5000,8,0)=0,\"\",VLOOKUP(A18,'Flat File'!$C$48:$K$5000,8,0))","v":""},{"$f":"IF(VLOOKUP(A18,'Flat File'!$C$48:$K$5000,7,0)=0,\"\",VLOOKUP(A18,'Flat File'!$C$48:$K$5000,7,0))","v":""}]
[{"$f":"INDEX('Flat File'!$C$48:$C$5000, MATCH(0, IF($A$6='Flat File'!$K$48:$K$5000, COUNTIF($D$7:$D18, 'Flat File'!$H$48:$H$5000), \"\"), 0))","v":"1.01.1"},{"$f":"VLOOKUP(A19,'Flat File'!$C$48:$K$5000,3,0)","v":"Brief Description"},{"$f":"IF(VLOOKUP(A19,'Flat File'!$C$48:$K$5000,8,0)=0,\"\",VLOOKUP(A19,'Flat File'!$C$48:$K$5000,8,0))","v":""},{"$f":"IF(VLOOKUP(A19,'Flat File'!$C$48:$K$5000,7,0)=0,\"\",VLOOKUP(A19,'Flat File'!$C$48:$K$5000,7,0))","v":""}]
[{"$f":"INDEX('Flat File'!$C$48:$C$5000, MATCH(0, IF($A$6='Flat File'!$K$48:$K$5000, COUNTIF($D$7:$D19, 'Flat File'!$H$48:$H$5000), \"\"), 0))","v":"1.01.1"},{"$f":"VLOOKUP(A20,'Flat File'!$C$48:$K$5000,3,0)","v":"Brief Description"},{"$f":"IF(VLOOKUP(A20,'Flat File'!$C$48:$K$5000,8,0)=0,\"\",VLOOKUP(A20,'Flat File'!$C$48:$K$5000,8,0))","v":""},{"$f":"IF(VLOOKUP(A20,'Flat File'!$C$48:$K$5000,7,0)=0,\"\",VLOOKUP(A20,'Flat File'!$C$48:$K$5000,7,0))","v":""}]
[{"$f":"INDEX('Flat File'!$C$48:$C$5000, MATCH(0, IF($A$6='Flat File'!$K$48:$K$5000, COUNTIF($D$7:$D20, 'Flat File'!$H$48:$H$5000), \"\"), 0))","v":"1.01.1"},{"$f":"VLOOKUP(A21,'Flat File'!$C$48:$K$5000,3,0)","v":"Brief Description"},{"$f":"IF(VLOOKUP(A21,'Flat File'!$C$48:$K$5000,8,0)=0,\"\",VLOOKUP(A21,'Flat File'!$C$48:$K$5000,8,0))","v":""},{"$f":"IF(VLOOKUP(A21,'Flat File'!$C$48:$K$5000,7,0)=0,\"\",VLOOKUP(A21,'Flat File'!$C$48:$K$5000,7,0))","v":""}]
[{"$f":"INDEX('Flat File'!$C$48:$C$5000, MATCH(0, IF($A$6='Flat File'!$K$48:$K$5000, COUNTIF($D$7:$D21, 'Flat File'!$H$48:$H$5000), \"\"), 0))","v":"1.01.1"},{"$f":"VLOOKUP(A22,'Flat File'!$C$48:$K$5000,3,0)","v":"Brief Description"},{"$f":"IF(VLOOKUP(A22,'Flat File'!$C$48:$K$5000,8,0)=0,\"\",VLOOKUP(A22,'Flat File'!$C$48:$K$5000,8,0))","v":""},{"$f":"IF(VLOOKUP(A22,'Flat File'!$C$48:$K$5000,7,0)=0,\"\",VLOOKUP(A22,'Flat File'!$C$48:$K$5000,7,0))","v":""}]
[{"$f":"INDEX('Flat File'!$C$48:$C$5000, MATCH(0, IF($A$6='Flat File'!$K$48:$K$5000, COUNTIF($D$7:$D22, 'Flat File'!$H$48:$H$5000), \"\"), 0))","v":"1.01.1"},{"$f":"VLOOKUP(A23,'Flat File'!$C$48:$K$5000,3,0)","v":"Brief Description"},{"$f":"IF(VLOOKUP(A23,'Flat File'!$C$48:$K$5000,8,0)=0,\"\",VLOOKUP(A23,'Flat File'!$C$48:$K$5000,8,0))","v":""},{"$f":"IF(VLOOKUP(A23,'Flat File'!$C$48:$K$5000,7,0)=0,\"\",VLOOKUP(A23,'Flat File'!$C$48:$K$5000,7,0))","v":""}]
[{"$f":"INDEX('Flat File'!$C$48:$C$5000, MATCH(0, IF($A$6='Flat File'!$K$48:$K$5000, COUNTIF($D$7:$D23, 'Flat File'!$H$48:$H$5000), \"\"), 0))","v":"1.01.1"},{"$f":"VLOOKUP(A24,'Flat File'!$C$48:$K$5000,3,0)","v":"Brief Description"},{"$f":"IF(VLOOKUP(A24,'Flat File'!$C$48:$K$5000,8,0)=0,\"\",VLOOKUP(A24,'Flat File'!$C$48:$K$5000,8,0))","v":""},{"$f":"IF(VLOOKUP(A24,'Flat File'!$C$48:$K$5000,7,0)=0,\"\",VLOOKUP(A24,'Flat File'!$C$48:$K$5000,7,0))","v":""}]

{"sheet":"To DO","index":8,"n_rows":63,"n_cols":16,"rows_kept":63,"cut":false,"hidden":true,"merged":[[12,4,12,5],[12,6,12,8],[12,9,12,11],[13,4,13,5],[13,6,13,8],[13,9,13,11]]}
["Free text drop down","can also select a drop down option and then update that"]
[]
[null,null,null,null,"A bird in a tree"]
["Big birdsroam the plain",null,null,null,"Big dinosaurs roam the plain"]
[null,null,null,null,"Club togther for a round"]
[]
[]
[]
[]
[]
["Dependent drop downs"]
[]
["Quarter / ID / Project","Tab","Code","Cell Ref Title","Issue",null,"Discussion",null,null,"Solution"]
["Automate quarter cell to pick right qtr based on date, using introduction qtr cell - based on snapshot date","Introduction","This should be a dependent drop down frm the tab","This should be automatic from code","This should be a dependent drop down from the cell ref title, with a free text option"]
[]
[]
["Can we collect comments for delayed milestones  and aggregate / categorise"]
[]
["automate those that require further question ie if says 'No' not on MPLA, we need to ask why - can ask in form so auomate in log somehow (also if"]
[]
["Please could you add additional high level Approval Milestones to ensure your approval history covers the whole life of the project? - AUTOMATE"]
[]
["Can we turn column B into a tick box, with L the drop down, repeated in the log, so that when ticked (invisible) the question comes up on the query sheet"]
[]
[null,null,null,null,null,{"$f":"FALSE()","v":0}]
[]
[]
["For those incidents where there are changes from last qtr, try to capture in one page with changes, possiby a tick box to say needs addressing or not"]
[]
[]
["HOW AUTOMATE",null,"- where narrative maybe pull into this sheet so can see easily alongside automated parts"]
[]
[1]
[2]
[3]
[4]
[5,"Map m/s, with scope and BC"]
[null,"Scope","BC","BC","BC","Milestone label","Treasury Approval Points\nand \nCabinet Office Controls"]
[null,"Approval - MPRG","Feasibility","n/a","SOC (If no SOC, then OBC) being developed","SOBC - HMT Approval","Approval - HMT SOC"]
[null,"Approval - HMT SOC","Appraise and Select","Discovery","Strategic Outline Case","OBC - HMT Approval","Approval - HMT OBC"]
[null,"Approval - HMT OBC","Define","Alpha","Outline Business Case","FBC - HMT Approval","Approval - HMT FBC"]
[null,"Approval - HMT FBC","Delivery","Beta","Full Business Case"]
[null,"Approval - HMT PBC","Operational / Embed / Close","Live","Major Projects Review Group (MPRG)"]
[null,"Approval - HMT Other",null,null,"Initial Gate Business Case (IGBC)",null,null,null,null,null,null,"M","N"]
[null,null,null,null,"Main Gate Business Case (MGBC)",null,null,null,null,null,30,"nb",1,null,"P"]
[null,null,null,null,"Programme Business Case (or equivalent)",null,null,null,null,null,31,"CSLQ",4,null,"CSLQ",{"$f":"INDEX($M$45:$M$50, MATCH(0, IF($O$46=$L$45:$L$50, COUNTIF($P$45:$P45, $M$45:$M$50), \"\"), 0))","v":4}]
[null,null,null,null,"No HMT Business Case",null,null,null,null,null,32,"sdfgsd",3,null,null,{"$f":"INDEX($M$45:$M$50, MATCH(0, IF($O$46=$L$45:$L$50, COUNTIF($P$45:$P46, $M$45:$M$50), \"\"), 0))","v":6}]
[null,null,null,null,null,null,null,null,null,null,33,"CSLQ",6,null,null,{"$f":"INDEX($M$45:$M$50, MATCH(0, IF($O$46=$L$45:$L$50, COUNTIF($P$45:$P47, $M$45:$M$50), \"\"), 0))","v":7}]
[null,null,null,null,null,null,null,null,null,null,34,"CSLQ",7,null,null,{"$f":"INDEX($M$45:$M$50, MATCH(0, IF($O$46=$L$45:$L$50, COUNTIF($P$45:$P48, $M$45:$M$50), \"\"), 0))","v":{"$error":"#N/A"}}]
[null,null,null,null,null,null,null,null,null,null,35,"sdfsdfsd",3,null,null,{"$f":"INDEX($M$45:$M$50, MATCH(0, IF($O$46=$L$45:$L$50, COUNTIF($P$45:$P49, $M$45:$M$50), \"\"), 0))","v":{"$error":"#N/A"}}]
[6,null,null,null,null,null,null,null,null,"https://www.extendoffice.com/documents/excel/3381-excel-extract-unique-values-with-criteria.html#a1",null,null,null,null,null,{"$f":"INDEX($M$45:$M$50, MATCH(0, IF($O$46=$L$45:$L$50, COUNTIF($P$45:$P50, $M$45:$M$50), \"\"), 0))","v":{"$error":"#N/A"}}]
[7]
[8,"Map stage with HMT BC"]
[null,null,null,null,null,null,null,null,null,null,null,"https://www.exceldemy.com/make-for-loop-in-excel-using-formulas/"]
[null,null,"Feasibility","n/a","SOC (If no SOC, then OBC) being developed"]
[null,null,"Appraise and Select","Discovery","Strategic Outline Case"]
[null,null,"Define","Alpha","Outline Business Case"]
[null,null,"Delivery","Beta","Full Business Case"]
[null,null,"Operational / Embed / Close","Live","Major Projects Review Group (MPRG)"]
[null,null,null,null,"Initial Gate Business Case (IGBC)"]
[null,null,null,null,"Main Gate Business Case (MGBC)"]
[null,null,null,null,"Programme Business Case (or equivalent)"]
[null,null,null,null,"No HMT Business Case"]

{"sheet":"Flat File","index":9,"n_rows":1922,"n_cols":15,"rows_kept":1922,"cut":false,"hidden":true,"merged":[]}
["Tab","Section / Label","#","Sub Heading","Field","Data\n(blanks=equations : 0/0/1900=blank date format : 0=blank)","Reference","Data \n(transformed when more than one field on a row)","Automated Pink cell?","Last Qtrs Data (column M)","Changed since last quarter?","Triangulation","Issue","IPA Comment","Project Comment"]
["Introduction","Introduction",null,null,{"$f":"Introduction!$B$9","v":"Commissary"},{"$f":"Introduction!$C$9","v":"Institute of Hairdressing Dophins"},"Introduction!C9"]
["Introduction","Introduction",null,null,{"$f":"Introduction!$B$10","v":"Forgery Body"},{"$f":"Introduction!$C$10","v":"Coal Tits Ltd"},"Introduction!C10"]
["Introduction","Introduction",null,null,{"$f":"Introduction!$B$11","v":"Project Name"},{"$f":"Introduction!$C$11","v":"Universal Cantilever Bridge over the River Styx"},"Introduction!C11"]
["Introduction","Introduction",null,null,{"$f":"Introduction!$B$12","v":"GOASS Project ID"},{"$f":"Introduction!$C$12","v":"ARE_0024_1516-Q4"},"Introduction!C12"]
["Introduction","Introduction",null,null,{"$f":"Introduction!$B$13","v":"Controls Project ID number"},{"$f":"Introduction!$C$13","v":0},"Introduction!C13"]
["Introduction","Introduction",null,null,{"$f":"Introduction!$B$14","v":"Project Type (for GOASS use)"},{"$f":"Introduction!$C$14","v":0},"Introduction!C14"]
["Introduction","Introduction",null,null,{"$f":"Introduction!$B$15","v":"Security Classification"},{"$f":"Introduction!$C$15","v":"NO CLASSIFICATION"},"Introduction!C15"]
["Introduction","Introduction",null,null,{"$f":"Introduction!$B$16","v":"Quarter Joined Proberts-Nio"},{"$f":"Introduction!$C$16","v":"1516-Q4"},"Introduction!C16"]
["Introduction","Introduction",null,null,{"$f":"Introduction!$B$17","v":"Current Quarter"},{"$f":"Introduction!$C$17","v":"Q1 1920"},"Introduction!C17"]
["Introduction","Introduction",null,null,{"$f":"Introduction!$B$18","v":"Snapshot Date"},{"$f":"Introduction!$C$18","v":"2019-06-30"},"Introduction!C18"]
["Introduction","Introduction",null,null,{"$f":"Introduction!$B$21","v":"Senior Responsible Owner (SRO)"},{"$f":"Introduction!$C$21","v":"Tommy Glenson"},"Introduction!C21"]
["Introduction","Introduction",null,null,{"$f":"Introduction!$B$22","v":"Senior Responsible Owner (SRO) - Email"},{"$f":"Introduction!$C$22","v":"tommy@example.com"},"Introduction!C22"]
["Introduction","Introduction",null,null,{"$f":"Introduction!$B$23","v":"Senior Responsible Owner (SRO) - ID number"},{"$f":"Introduction!$C$23","v":""},"Introduction!C23"]
["Introduction","Introduction",null,null,{"$f":"Introduction!$B$24","v":"Date Report Approved by SRO?"},{"$f":"IF(Introduction!$C$24=\"\",\"\",Introduction!$C$24)","v":""},"Introduction!C24"]
["Introduction","Introduction",null,null,{"$f":"Introduction!$B$26","v":"Project Director (PD)"},{"$f":"Introduction!$C$26","v":"Haverford East"},"Introduction!C26"]
["Introduction","Introduction",null,null,{"$f":"Introduction!$B$27","v":"Project Director (PD) - Email"},{"$f":"Introduction!$C$27","v":"haverford@example.com"},"Introduction!C27"]
["Introduction","Introduction",null,null,{"$f":"Introduction!$B$28","v":"Project Director (PD) - ID number"},{"$f":"Introduction!$C$28","v":""},"Introduction!C28"]
["Introduction","Introduction",null,null,{"$f":"Introduction!$B$29","v":"Date Report Approved by PD?"},{"$f":"IF(Introduction!$C$29=\"\",\"\",Introduction!$C$29)","v":"5.4.19"},"Introduction!C29"]
["Introduction","Introduction",null,null,{"$f":"Introduction!$B$31","v":"Project Representative (responsible for completing return)"},{"$f":"Introduction!$C$31","v":"Ronan Clissold"},"Introduction!C31"]
["Introduction","Introduction",null,null,{"$f":"Introduction!$B$32","v":"Project Representative - Email"},{"$f":"Introduction!$C$32","v":"chafing_thompson@example.com"},"Introduction!C32"]
["Introduction","Introduction",null,null,{"$f":"Introduction!$B$33","v":"Project Accountant with responsibility for Spend - Email"},{"$f":"Introduction!$C$33","v":0},"Introduction!C33"]
["Introduction","Introduction",null,null,{"$f":"Introduction!$B$34","v":"Project Problems Mngr with responsibility for Problems - Email"},{"$f":"Introduction!$C$34","v":0},"Introduction!C34"]
["Introduction","Introduction",null,null,{"$f":"Introduction!$B$35","v":"Project Planner with responsibility for Milestones - Email"},{"$f":"Introduction!$C$35","v":0},"Introduction!C35"]
["Introduction","Introduction",null,null,{"$f":"Introduction!$B$38","v":"GOASS's Commissaryal Single Point of Contact"},{"$f":"Introduction!$C$38","v":0},"Introduction!C38"]
["Introduction","Introduction",null,null,{"$f":"Introduction!$B$39","v":"GOASS's Commissaryal Single Point of Contact - Email"},{"$f":"Introduction!$C$39","v":0},"Introduction!C39"]
["Introduction","Introduction",null,null,{"$f":"Introduction!$B$40","v":"GOASS Analysis & Insight Unit (AIU) Lead"},{"$f":"Introduction!$C$40","v":0},"Introduction!C40"]
["Introduction","Introduction",null,null,{"$f":"Introduction!$B$41","v":"GOASS Analysis & Insight Unit (AIU) Lead - Email"},{"$f":"Introduction!$C$41","v":0},"Introduction!C41"]
["Introduction","Introduction",null,null,{"$f":"Introduction!$B$42","v":"Date Report Approved by AIU?"},{"$f":"IF(Introduction!$C$42=\"\",\"\",Introduction!$C$42)","v":""},"Introduction!C42"]
["Introduction","Introduction",null,null,{"$f":"Introduction!$B$43","v":"GOASS Strategic Forgery Advisor (SDA) - Email"},{"$f":"Introduction!$C$43","v":0},"Introduction!C43"]
["Introduction","Introduction",null,null,{"$f":"Introduction!$B$44","v":"Date Report Approved by SDA?"},{"$f":"IF(Introduction!$C$44=\"\",\"\",Introduction!$C$44)","v":""},"Introduction!C44"]
["Introduction","Introduction",null,null,{"$f":"Introduction!$B$46","v":"Commissaryal PPM HoP copied in submission email?"},{"$f":"Introduction!$C$46","v":0},"Introduction!C46"]
["Introduction","Introduction",null,null,{"$f":"Introduction!$B$47","v":"Commissaryal PPM HoP - Email"},{"$f":"Introduction!$C$47","v":0},"Introduction!C47"]
["Introduction","Introduction",null,null,{"$f":"Introduction!$B$48","v":"Commissaryal HR HoP copied in submission email?"},{"$f":"Introduction!$C$48","v":0},"Introduction!C48"]
["Introduction","Introduction",null,null,{"$f":"Introduction!$B$49","v":"Commissaryal HR HoP - Email"},{"$f":"Introduction!$C$49","v":0},"Introduction!C49"]
["Introduction","Introduction",null,null,{"$f":"Introduction!$B$50","v":"Commissaryal Charity HoP copied in submission email?"},{"$f":"Introduction!$C$50","v":0},"Introduction!C50"]
["Introduction","Introduction",null,null,{"$f":"Introduction!$B$51","v":"Commissaryal Charity HoP - Email"},{"$f":"Introduction!$C$51","v":0},"Introduction!C51"]
["Introduction","Introduction",null,null,{"$f":"Introduction!$B$52","v":"Commissaryal Economics HoP copied in submission email?"},{"$f":"Introduction!$C$52","v":0},"Introduction!C52"]
["Introduction","Introduction",null,null,{"$f":"Introduction!$B$53","v":"Commissaryal Economics HoP - Email"},{"$f":"Introduction!$C$53","v":0},"Introduction!C53"]
["Introduction","Introduction",null,null,{"$f":"Introduction!$B$54","v":"Commissaryal Legal HoP copied in submission email?"},{"$f":"Introduction!$C$54","v":0},"Introduction!C54"]
["Introduction","Introduction",null,null,{"$f":"Introduction!$B$55","v":"Commissaryal Legal HoP - Email"},{"$f":"Introduction!$C$55","v":0},"Introduction!C55"]
["Introduction","Introduction",null,null,{"$f":"Introduction!$B$56","v":"Commissaryal Commercial l HoP copied in submission email?"},{"$f":"Introduction!$C$56","v":0},"Introduction!C56"]
["Introduction","Introduction",null,null,{"$f":"Introduction!$B$57","v":"Commissaryal Commercial HoP - Email"},{"$f":"Introduction!$C$57","v":0},"Introduction!C57"]
["Introduction","Introduction",null,null,{"$f":"Introduction!$B$58","v":"Commissaryal IT HoP copied in submission email?"},{"$f":"Introduction!$C$58","v":0},"Introduction!C58"]
["Introduction","Introduction",null,null,{"$f":"Introduction!$B$59","v":"Commissaryal IT HoP - Email"},{"$f":"Introduction!$C$59","v":0},"Introduction!C59"]
["Introduction","Introduction",null,null,{"$f":"Introduction!$B$60","v":"HMT Spending Team Lead copied in submission email?"},{"$f":"Introduction!$C$60","v":0},"Introduction!C60"]
["Introduction","Introduction",null,null,{"$f":"Introduction!$B$61","v":"HMT Spending Team Lead - Email"},{"$f":"Introduction!$C$61","v":0},"Introduction!C61"]
["1 - Project Info","Project","1.01.1",null,{"$f":"'1 - Project Info'!$D$6","v":"Brief Description"},{"$f":"'1 - Project Info'!$E$6","v":"We just need this road."},"1 - Project Info'!E6",{"$f":"F48","v":"We just need this road."},null,{"$f":"'1 - Project Info'!P6","v":0},{"$f":"IF(J48=F48,\"\",\"Changed Since Last Quarter\")","v":"Changed Since Last Quarter"}]
["1 - Project Info","Project","1.01.2",null,{"$f":"'1 - Project Info'!$D$7","v":"Reporting Commissary"},{"$f":"'1 - Project Info'!$E$7","v":"BOB"},"1 - Project Info'!E7",{"$f":"F49","v":"BOB"},null,{"$f":"'1 - Project Info'!P7","v":0},{"$f":"IF(J49=F49,\"\",\"Changed Since Last Quarter\")","v":"Changed Since Last Quarter"}]
["1 - Project Info","Project","1.01.3",null,{"$f":"'1 - Project Info'!$D$8","v":"Forgery Organisation Primary"},{"$f":"'1 - Project Info'!$E$8","v":"Section 59"},"1 - Project Info'!E8",{"$f":"F50","v":"Section 59"},null,{"$f":"'1 - Project Info'!P8","v":0},{"$f":"IF(J50=F50,\"\",\"Changed Since Last Quarter\")","v":"Changed Since Last Quarter"}]
["1 - Project Info","Project","1.01.4",null,{"$f":"'1 - Project Info'!$D$9","v":"Forgery Organisation Secondary"},{"$f":"'1 - Project Info'!$E$9","v":0},"1 - Project Info'!E9",{"$f":"F51","v":0},null,{"$f":"'1 - Project Info'!P9","v":0},{"$f":"IF(J51=F51,\"\",\"Changed Since Last Quarter\")","v":""}]
["1 - Project Info","Project","1.01.5",null,{"$f":"'1 - Project Info'!$D$10","v":"Project status"},{"$f":"'1 - Project Info'!$E$10","v":"Ongoing"},"1 - Project Info'!E10",{"$f":"F52","v":"Ongoing"},null,{"$f":"'1 - Project Info'!P10","v":0},{"$f":"IF(J52=F52,\"\",\"Changed Since Last Quarter\")","v":"Changed Since Last Quarter"}]
["1 - Project Info","Project","1.01.6",null,{"$f":"'1 - Project Info'!$D$11","v":"Is the SRO for this project an MPLA Graduate?"},{"$f":"'1 - Project Info'!$E$11","v":"Yes"},"1 - Project Info'!E11",{"$f":"F53","v":"Yes"},null,{"$f":"'1 - Project Info'!P11","v":0},{"$f":"IF(J53=F53,\"\",\"Changed Since Last Quarter\")","v":"Changed Since Last Quarter"}]
["1 - Project Info","Project","1.01.7",null,{"$f":"'1 - Project Info'!$D$12","v":"Is the PD for this project an MPLA Graduate?"},{"$f":"'1 - Project Info'!$E$12","v":"No - awaiting cohort"},"1 - Project Info'!E12",{"$f":"F54","v":"No - awaiting cohort"},null,{"$f":"'1 - Project Info'!P12","v":0},{"$f":"IF(J54=F54,\"\",\"Changed Since Last Quarter\")","v":"Changed Since Last Quarter"}]
["1 - Project Info","Project","1.01.8",null,{"$f":"'1 - Project Info'!$D$13","v":"Does the Project have an issued SRO appointment letter?"},{"$f":"'1 - Project Info'!$E$13","v":"Yes - published"},"1 - Project Info'!E13",{"$f":"F55","v":"Yes - published"},null,{"$f":"'1 - Project Info'!P13","v":0},{"$f":"IF(J55=F55,\"\",\"Changed Since Last Quarter\")","v":"Changed Since Last Quarter"}]
["1 - Project Info","Project","1.01.9",null,{"$f":"'1 - Project Info'!$D$14","v":"Has the SRO issued an appointment letter to the PD?"},{"$f":"'1 - Project Info'!$E$14","v":"Yes"},"1 - Project Info'!E14",{"$f":"F56","v":"Yes"},null,{"$f":"'1 - Project Info'!P14","v":0},{"$f":"IF(J56=F56,\"\",\"Changed Since Last Quarter\")","v":"Changed Since Last Quarter"}]
["1 - Project Info","Delivery","1.02.1",null,{"$f":"'1 - Project Info'!$D$17","v":"Forgery Structure"},{"$f":"'1 - Project Info'!$E$17","v":"Project"},"1 - Project Info'!E17",{"$f":"F57","v":"Project"},null,{"$f":"'1 - Project Info'!P17","v":0},{"$f":"IF(J57=F57,\"\",\"Changed Since Last Quarter\")","v":"Changed Since Last Quarter"}]
["1 - Project Info","Delivery","1.02.2",null,{"$f":"'1 - Project Info'!$D$18","v":"Forgery Methodology"},{"$f":"'1 - Project Info'!$E$18","v":"Waterfall"},"1 - Project Info'!E18",{"$f":"F58","v":"Waterfall"},null,{"$f":"'1 - Project Info'!P18","v":0},{"$f":"IF(J58=F58,\"\",\"Changed Since Last Quarter\")","v":"Changed Since Last Quarter"}]
["1 - Project Info","Delivery","1.02.3",null,{"$f":"'1 - Project Info'!$D$19","v":"Forgery Narrative"},{"$f":"'1 - Project Info'!$E$19","v":"There once was a road to nowhere…"},"1 - Project Info'!E19",{"$f":"F59","v":"There once was a road to nowhere…"},null,{"$f":"'1 - Project Info'!P19","v":0},{"$f":"IF(J59=F59,\"\",\"Changed Since Last Quarter\")","v":"Changed Since Last Quarter"}]
["1 - Project Info","Drivers","1.03.1",null,{"$f":"CONCATENATE('1 - Project Info'!$D$22,\" \",1)","v":"Type 1"},{"$f":"'1 - Project Info'!$D$23","v":"Environmental Impact"},"1 - Project Info'!D23",{"$f":"IF(CONCATENATE(F60,\" - \",F61)=\"0 - 0\",\"0\",CONCATENATE(F60,\" - \",F61))","v":"Environmental Impact - There is none."},null,{"$f":"'1 - Project Info'!P23","v":0},{"$f":"IF(J60=F60,\"\",\"Changed Since Last Quarter\")","v":"Changed Since Last Quarter"}]
["1 - Project Info","Drivers","1.03.1.1",null,{"$f":"CONCATENATE('1 - Project Info'!$E$22,\" \",1)","v":"Description 1"},{"$f":"'1 - Project Info'!$E$23","v":"There is none."},"1 - Project Info'!E23"]
["1 - Project Info","Drivers","1.03.2",null,{"$f":"CONCATENATE('1 - Project Info'!$D$22,\" \",2)","v":"Type 2"},{"$f":"'1 - Project Info'!$D$24","v":"Economic Growth"},"1 - Project Info'!D24",{"$f":"IF(CONCATENATE(F62,\" - \",F63)=\"0 - 0\",\"0\",CONCATENATE(F62,\" - \",F63))","v":"Economic Growth - There can be one."},null,{"$f":"'1 - Project Info'!P24","v":0},{"$f":"IF(J62=F62,\"\",\"Changed Since Last Quarter\")","v":"Changed Since Last Quarter"}]
["1 - Project Info","Drivers","1.03.2.1",null,{"$f":"CONCATENATE('1 - Project Info'!$E$22,\" \",2)","v":"Description 2"},{"$f":"'1 - Project Info'!$E$24","v":"There can be one."},"1 - Project Info'!E24"]
["1 - Project Info","Drivers","1.03.3",null,{"$f":"CONCATENATE('1 - Project Info'!$D$22,\" \",3)","v":"Type 3"},{"$f":"'1 - Project Info'!$D$25","v":"Economic Growth"},"1 - Project Info'!D25",{"$f":"IF(CONCATENATE(F64,\" - \",F65)=\"0 - 0\",\"0\",CONCATENATE(F64,\" - \",F65))","v":"Economic Growth - Perhaps you should ask the accountant."},null,{"$f":"'1 - Project Info'!P25","v":0},{"$f":"IF(J64=F64,\"\",\"Changed Since Last Quarter\")","v":"Changed Since Last Quarter"}]
["1 - Project Info","Drivers","1.03.3.1",null,{"$f":"CONCATENATE('1 - Project Info'!$E$22,\" \",3)","v":"Description 3"},{"$f":"'1 - Project Info'!$E$25","v":"Perhaps you should ask the accountant."},"1 - Project Info'!E25"]
["1 - Project Info","Drivers","1.03.4",null,{"$f":"CONCATENATE('1 - Project Info'!$D$22,\" \",4)","v":"Type 4"},{"$f":"'1 - Project Info'!$D$26","v":0},"1 - Project Info'!D26",{"$f":"IF(CONCATENATE(F66,\" - \",F67)=\"0 - 0\",\"0\",CONCATENATE(F66,\" - \",F67))","v":"0"},null,{"$f":"'1 - Project Info'!P26","v":0},{"$f":"IF(J66=F66,\"\",\"Changed Since Last Quarter\")","v":""}]
["1 - Project Info","Drivers","1.03.4.1",null,{"$f":"CONCATENATE('1 - Project Info'!$E$22,\" \",4)","v":"Description 4"},{"$f":"'1 - Project Info'!$E$26","v":0},"1 - Project Info'!E26"]
["1 - Project Info","Drivers","1.03.5",null,{"$f":"CONCATENATE('1 - Project Info'!$D$22,\" \",5)","v":"Type 5"},{"$f":"'1 - Project Info'!$D$27","v":0},"1 - Project Info'!D27",{"$f":"IF(CONCATENATE(F68,\" - \",F69)=\"0 - 0\",\"0\",CONCATENATE(F68,\" - \",F69))","v":"0"},null,{"$f":"'1 - Project Info'!P27","v":0},{"$f":"IF(J68=F68,\"\",\"Changed Since Last Quarter\")","v":""}]
["1 - Project Info","Drivers","1.03.5.1",null,{"$f":"CONCATENATE('1 - Project Info'!$E$22,\" \",5)","v":"Description 5"},{"$f":"'1 - Project Info'!$E$27","v":0},"1 - Project Info'!E27"]
["1 - Project Info","Category","1.04.1",null,{"$f":"'1 - Project Info'!$D$30","v":"Primary Category"},{"$f":"'1 - Project Info'!$E$30","v":"Legotown Operations Reform (Transformation)"},"1 - Project Info'!E30",{"$f":"F70","v":"Legotown Operations Reform (Transformation)"},null,{"$f":"'1 - Project Info'!P30","v":0},{"$f":"IF(J70=F70,\"\",\"Changed Since Last Quarter\")","v":"Changed Since Last Quarter"}]
["1 - Project Info","Category","1.04.2",null,{"$f":"'1 - Project Info'!$D$31","v":"Secondary Category"},{"$f":"'1 - Project Info'!$E$31","v":0},"1 - Project Info'!E31",{"$f":"F71","v":0},null,{"$f":"'1 - Project Info'!P31","v":0},{"$f":"IF(J71=F71,\"\",\"Changed Since Last Quarter\")","v":""}]
["1 - Project Info","Category","1.04.3",null,{"$f":"'1 - Project Info'!$D$32","v":"Tertiary Category"},{"$f":"'1 - Project Info'!$E$32","v":0},"1 - Project Info'!E32",{"$f":"F72","v":0},null,{"$f":"'1 - Project Info'!P32","v":0},{"$f":"IF(J72=F72,\"\",\"Changed Since Last Quarter\")","v":""}]
["1 - Project Info","Category","1.04.5",null,{"$f":"'1 - Project Info'!$D$33","v":"Annual Report Category"},{"$f":"'1 - Project Info'!$E$33","v":"MTG Capability"},"1 - Project Info'!E33",{"$f":"F73","v":"MTG Capability"},null,{"$f":"'1 - Project Info'!P33","v":0},{"$f":"IF(J73=F73,\"\",\"Changed Since Last Quarter\")","v":"Changed Since Last Quarter"}]
["1 - Project Info","Category","1.04.6",null,{"$f":"'1 - Project Info'!$D$34","v":"If your project has a capital value of >£10 Million, and has a steel component, have you complied with Procurement Policy Note 1116?"},{"$f":"'1 - Project Info'!$E$34","v":"Yes"},"1 - Project Info'!E34",{"$f":"F74","v":"Yes"},null,{"$f":"'1 - Project Info'!P34","v":0},{"$f":"IF(J74=F74,\"\",\"Changed Since Last Quarter\")","v":"Changed Since Last Quarter"}]
["1 - Project Info","Category","1.04.7",null,{"$f":"'1 - Project Info'!$D$35","v":"For all construction, infrastructure or capital investment procurements >£10M, have you adopted the openward's Balanced Scorecard approach"},{"$f":"'1 - Project Info'!$E$35","v":"Yes"},"1 - Project Info'!E35",{"$f":"F75","v":"Yes"},null,{"$f":"'1 - Project Info'!P35","v":0},{"$f":"IF(J75=F75,\"\",\"Changed Since Last Quarter\")","v":"Changed Since Last Quarter"}]
["1 - Project Info","Category","1.04.8",null,{"$f":"'1 - Project Info'!$D$36","v":"Main reason for joining Overarching"},{"$f":"'1 - Project Info'!$E$36","v":0},"1 - Project Info'!E36",{"$f":"F76","v":0},null,{"$f":"'1 - Project Info'!P36","v":0},{"$f":"IF(J76=F76,\"\",\"Changed Since Last Quarter\")","v":""}]
["1 - Project Info","Category","1.04.9",null,{"$f":"'1 - Project Info'!$D$37","v":"Second reason for joining Overarching (if applicable)"},{"$f":"'1 - Project Info'!$E$37","v":0},"1 - Project Info'!E37",{"$f":"F77","v":0},null,{"$f":"'1 - Project Info'!P37","v":0},{"$f":"IF(J77=F77,\"\",\"Changed Since Last Quarter\")","v":""}]
["1 - Project Info","Intended Outcomes","1.05.01.1",null,{"$f":"CONCATENATE('1 - Project Info'!$D$40,\" \",1)","v":"Intended Outcome Description 1"},{"$f":"'1 - Project Info'!$D$41","v":"Reduce travel time (benefit) and vehicle operating costs (disbenefit)"},"1 - Project Info'!D41",{"$f":"IF(CONCATENATE(F78,\" - \",F79,\" - \",F80,\" - \",F81)=\"0 -  - 0 - 0\",\"0\",CONCATENATE(F78,\" - \",F79,\" - \",F80,\" - \",F81))","v":"Reduce travel time (benefit) and vehicle operating costs (disbenefit) - 1 - Legotown Qualitative - Economic"},null,{"$f":"'1 - Project Info'!P41","v":0},{"$f":"IF(J78=F78,\"\",\"Changed Since Last Quarter\")","v":"Changed Since Last Quarter"}]
["1 - Project Info","Intended Outcomes","1.05.01.2",null,{"$f":"CONCATENATE('1 - Project Info'!$G$40,\" \",1)","v":"No. 1"},{"$f":"'1 - Project Info'!$G$41","v":1},"1 - Project Info'!G41"]
["1 - Project Info","Intended Outcomes","1.05.01.3",null,{"$f":"CONCATENATE('1 - Project Info'!$H$40,\" \",1)","v":"Benefit Category 1"},{"$f":"'1 - Project Info'!$H$41","v":"Legotown Qualitative"},"1 - Project Info'!H41"]
["1 - Project Info","Intended Outcomes","1.05.01.4",null,{"$f":"CONCATENATE('1 - Project Info'!$J$40,\" \",1)","v":"PESTLE 1"},{"$f":"'1 - Project Info'!$J$41","v":"Economic"},"1 - Project Info'!J41"]
["1 - Project Info","Intended Outcomes","1.05.02.1",null,{"$f":"CONCATENATE('1 - Project Info'!$D$40,\" \",2)","v":"Intended Outcome Description 2"},{"$f":"'1 - Project Info'!$D$42","v":0},"1 - Project Info'!D42",{"$f":"IF(CONCATENATE(F82,\" - \",F83,\" - \",F84,\" - \",F85)=\"0 -  - 0 - 0\",\"0\",CONCATENATE(F82,\" - \",F83,\" - \",F84,\" - \",F85))","v":"0 - 2 - 0 - 0"},null,{"$f":"'1 - Project Info'!P42","v":0},{"$f":"IF(J82=F82,\"\",\"Changed Since Last Quarter\")","v":""}]
["1 - Project Info","Intended Outcomes","1.05.02.2",null,{"$f":"CONCATENATE('1 - Project Info'!$G$40,\" \",2)","v":"No. 2"},{"$f":"'1 - Project Info'!$G$42","v":2},"1 - Project Info'!G42"]
["1 - Project Info","Intended Outcomes","1.05.02.3",null,{"$f":"CONCATENATE('1 - Project Info'!$H$40,\" \",2)","v":"Benefit Category 2"},{"$f":"'1 - Project Info'!$H$42","v":0},"1 - Project Info'!H42"]
["1 - Project Info","Intended Outcomes","1.05.02.4",null,{"$f":"CONCATENATE('1 - Project Info'!$J$40,\" \",2)","v":"PESTLE 2"},{"$f":"'1 - Project Info'!$J$42","v":0},"1 - Project Info'!J42"]
["1 - Project Info","Intended Outcomes","1.05.03.1",null,{"$f":"CONCATENATE('1 - Project Info'!$D$40,\" \",3)","v":"Intended Outcome Description 3"},{"$f":"'1 - Project Info'!$D$43","v":0},"1 - Project Info'!D43",{"$f":"IF(CONCATENATE(F86,\" - \",F87,\" - \",F88,\" - \",F89)=\"0 -  - 0 - 0\",\"0\",CONCATENATE(F86,\" - \",F87,\" - \",F88,\" - \",F89))","v":"0 - 3 - 0 - 0"},null,{"$f":"'1 - Project Info'!P43","v":0},{"$f":"IF(J86=F86,\"\",\"Changed Since Last Quarter\")","v":""}]
["1 - Project Info","Intended Outcomes","1.05.03.2",null,{"$f":"CONCATENATE('1 - Project Info'!$G$40,\" \",3)","v":"No. 3"},{"$f":"'1 - Project Info'!$G$43","v":3},"1 - Project Info'!G43"]
["1 - Project Info","Intended Outcomes","1.05.03.3",null,{"$f":"CONCATENATE('1 - Project Info'!$H$40,\" \",3)","v":"Benefit Category 3"},{"$f":"'1 - Project Info'!$H$43","v":0},"1 - Project Info'!H43"]
["1 - Project Info","Intended Outcomes","1.05.03.4",null,{"$f":"CONCATENATE('1 - Project Info'!$J$40,\" \",3)","v":"PESTLE 3"},{"$f":"'1 - Project Info'!$J$43","v":0},"1 - Project Info'!J43"]
["1 - Project Info","Intended Outcomes","1.05.04.1",null,{"$f":"CONCATENATE('1 - Project Info'!$D$40,\" \",4)","v":"Intended Outcome Description 4"},{"$f":"'1 - Project Info'!$D$44","v":0},"1 - Project Info'!D44",{"$f":"IF(CONCATENATE(F90,\" - \",F91,\" - \",F92,\" - \",F93)=\"0 -  - 0 - 0\",\"0\",CONCATENATE(F90,\" - \",F91,\" - \",F92,\" - \",F93))","v":"0 - 4 - 0 - 0"},null,{"$f":"'1 - Project Info'!P44","v":0},{"$f":"IF(J90=F90,\"\",\"Changed Since Last Quarter\")","v":""}]
["1 - Project Info","Intended Outcomes","1.05.04.2",null,{"$f":"CONCATENATE('1 - Project Info'!$G$40,\" \",4)","v":"No. 4"},{"$f":"'1 - Project Info'!$G$44","v":4},"1 - Project Info'!G44"]
["1 - Project Info","Intended Outcomes","1.05.04.3",null,{"$f":"CONCATENATE('1 - Project Info'!$H$40,\" \",4)","v":"Benefit Category 4"},{"$f":"'1 - Project Info'!$H$44","v":0},"1 - Project Info'!H44"]
["1 - Project Info","Intended Outcomes","1.05.04.4",null,{"$f":"CONCATENATE('1 - Project Info'!$J$40,\" \",4)","v":"PESTLE 4"},{"$f":"'1 - Project Info'!$J$44","v":0},"1 - Project Info'!J44"]
["1 - Project Info","Intended Outcomes","1.05.05.1",null,{"$f":"CONCATENATE('1 - Project Info'!$D$40,\" \",5)","v":"Intended Outcome Description 5"},{"$f":"'1 - Project Info'!$D$45","v":0},"1 - Project Info'!D45",{"$f":"IF(CONCATENATE(F94,\" - \",F95,\" - \",F96,\" - \",F97)=\"0 -  - 0 - 0\",\"0\",CONCATENATE(F94,\" - \",F95,\" - \",F96,\" - \",F97))","v":"0 - 5 - 0 - 0"},null,{"$f":"'1 - Project Info'!P45","v":0},{"$f":"IF(J94=F94,\"\",\"Changed Since Last Quarter\")","v":""}]
["1 - Project Info","Intended Outcomes","1.05.05.2",null,{"$f":"CONCATENATE('1 - Project Info'!$G$40,\" \",5)","v":"No. 5"},{"$f":"'1 - Project Info'!$G$45","v":5},"1 - Project Info'!G45"]
["1 - Project Info","Intended Outcomes","1.05.05.3",null,{"$f":"CONCATENATE('1 - Project Info'!$H$40,\" \",5)","v":"Benefit Category 5"},{"$f":"'1 - Project Info'!$H$45","v":0},"1 - Project Info'!H45"]
["1 - Project Info","Intended Outcomes","1.05.05.4",null,{"$f":"CONCATENATE('1 - Project Info'!$J$40,\" \",5)","v":"PESTLE 5"},{"$f":"'1 - Project Info'!$J$45","v":0},"1 - Project Info'!J45"]
["1 - Project Info","Intended Outcomes","1.05.06.1",null,{"$f":"CONCATENATE('1 - Project Info'!$D$40,\" \",6)","v":"Intended Outcome Description 6"},{"$f":"'1 - Project Info'!$D$46","v":0},"1 - Project Info'!D46",{"$f":"IF(CONCATENATE(F98,\" - \",F99,\" - \",F100,\" - \",F101)=\"0 -  - 0 - 0\",\"0\",CONCATENATE(F98,\" - \",F99,\" - \",F100,\" - \",F101))","v":"0 - 6 - 0 - 0"},null,{"$f":"'1 - Project Info'!P46","v":0},{"$f":"IF(J98=F98,\"\",\"Changed Since Last Quarter\")","v":""}]
["1 - Project Info","Intended Outcomes","1.05.06.2",null,{"$f":"CONCATENATE('1 - Project Info'!$G$40,\" \",6)","v":"No. 6"},{"$f":"'1 - Project Info'!$G$46","v":6},"1 - Project Info'!G46"]
["1 - Project Info","Intended Outcomes","1.05.06.3",null,{"$f":"CONCATENATE('1 - Project Info'!$H$40,\" \",6)","v":"Benefit Category 6"},{"$f":"'1 - Project Info'!$H$46","v":0},"1 - Project Info'!H46"]
["1 - Project Info","Intended Outcomes","1.05.06.4",null,{"$f":"CONCATENATE('1 - Project Info'!$J$40,\" \",6)","v":"PESTLE 6"},{"$f":"'1 - Project Info'!$J$46","v":0},"1 - Project Info'!J46"]
["1 - Project Info","Intended Outcomes","1.05.07.1",null,{"$f":"CONCATENATE('1 - Project Info'!$D$40,\" \",7)","v":"Intended Outcome Description 7"},{"$f":"'1 - Project Info'!$D$47","v":0},"1 - Project Info'!D47",{"$f":"IF(CONCATENATE(F102,\" - \",F103,\" - \",F104,\" - \",F105)=\"0 -  - 0 - 0\",\"0\",CONCATENATE(F102,\" - \",F103,\" - \",F104,\" - \",F105))","v":"0"},null,{"$f":"'1 - Project Info'!P47","v":0},{"$f":"IF(J102=F102,\"\",\"Changed Since Last Quarter\")","v":""}]
["1 - Project Info","Intended Outcomes","1.05.07.2",null,{"$f":"CONCATENATE('1 - Project Info'!$G$40,\" \",7)","v":"No. 7"},{"$f":"'1 - Project Info'!$G$47","v":""},"1 - Project Info'!G47"]
["1 - Project Info","Intended Outcomes","1.05.07.3",null,{"$f":"CONCATENATE('1 - Project Info'!$H$40,\" \",7)","v":"Benefit Category 7"},{"$f":"'1 - Project Info'!$H$47","v":0},"1 - Project Info'!H47"]
["1 - Project Info","Intended Outcomes","1.05.07.4",null,{"$f":"CONCATENATE('1 - Project Info'!$J$40,\" \",7)","v":"PESTLE 7"},{"$f":"'1 - Project Info'!$J$47","v":0},"1 - Project Info'!J47"]
["1 - Project Info","Intended Outcomes","1.05.08.1",null,{"$f":"CONCATENATE('1 - Project Info'!$D$40,\" \",8)","v":"Intended Outcome Description 8"},{"$f":"'1 - Project Info'!$D$48","v":0},"1 - Project Info'!D48",{"$f":"IF(CONCATENATE(F106,\" - \",F107,\" - \",F108,\" - \",F109)=\"0 -  - 0 - 0\",\"0\",CONCATENATE(F106,\" - \",F107,\" - \",F108,\" - \",F109))","v":"0"},null,{"$f":"'1 - Project Info'!P48","v":0},{"$f":"IF(J106=F106,\"\",\"Changed Since Last Quarter\")","v":""}]
["1 - Project Info","Intended Outcomes","1.05.08.2",null,{"$f":"CONCATENATE('1 - Project Info'!$G$40,\" \",8)","v":"No. 8"},{"$f":"'1 - Project Info'!$G$48","v":""},"1 - Project Info'!G48"]
["1 - Project Info","Intended Outcomes","1.05.08.3",null,{"$f":"CONCATENATE('1 - Project Info'!$H$40,\" \",8)","v":"Benefit Category 8"},{"$f":"'1 - Project Info'!$H$48","v":0},"1 - Project Info'!H48"]
["1 - Project Info","Intended Outcomes","1.05.08.4",null,{"$f":"CONCATENATE('1 - Project Info'!$J$40,\" \",8)","v":"PESTLE 8"},{"$f":"'1 - Project Info'!$J$48","v":0},"1 - Project Info'!J48"]
["1 - Project Info","Intended Outcomes","1.05.09.1",null,{"$f":"CONCATENATE('1 - Project Info'!$D$40,\" \",9)","v":"Intended Outcome Description 9"},{"$f":"'1 - Project Info'!$D$49","v":0},"1 - Project Info'!D49",{"$f":"IF(CONCATENATE(F110,\" - \",F111,\" - \",F112,\" - \",F113)=\"0 -  - 0 - 0\",\"0\",CONCATENATE(F110,\" - \",F111,\" - \",F112,\" - \",F113))","v":"0"},null,{"$f":"'1 - Project Info'!P49","v":0},{"$f":"IF(J110=F110,\"\",\"Changed Since Last Quarter\")","v":""}]
["1 - Project Info","Intended Outcomes","1.05.09.2",null,{"$f":"CONCATENATE('1 - Project Info'!$G$40,\" \",9)","v":"No. 9"},{"$f":"'1 - Project Info'!$G$49","v":""},"1 - Project Info'!G49"]
["1 - Project Info","Intended Outcomes","1.05.09.3",null,{"$f":"CONCATENATE('1 - Project Info'!$H$40,\" \",9)","v":"Benefit Category 9"},{"$f":"'1 - Project Info'!$H$49","v":0},"1 - Project Info'!H49"]
["1 - Project Info","Intended Outcomes","1.05.09.4",null,{"$f":"CONCATENATE('1 - Project Info'!$J$40,\" \",9)","v":"PESTLE 9"},{"$f":"'1 - Project Info'!$J$49","v":0},"1 - Project Info'!J49"]
["1 - Project Info","Intended Outcomes","1.05.10.1",null,{"$f":"CONCATENATE('1 - Project Info'!$D$40,\" \",10)","v":"Intended Outcome Description 10"},{"$f":"'1 - Project Info'!$D$50","v":0},"1 - Project Info'!D50",{"$f":"IF(CONCATENATE(F114,\" - \",F115,\" - \",F116,\" - \",F117)=\"0 -  - 0 - 0\",\"0\",CONCATENATE(F114,\" - \",F115,\" - \",F116,\" - \",F117))","v":"0"},null,{"$f":"'1 - Project Info'!P50","v":0},{"$f":"IF(J114=F114,\"\",\"Changed Since Last Quarter\")","v":""}]
["1 - Project Info","Intended Outcomes","1.05.10.2",null,{"$f":"CONCATENATE('1 - Project Info'!$G$40,\" \",10)","v":"No. 10"},{"$f":"'1 - Project Info'!$G$50","v":""},"1 - Project Info'!G50"]
["1 - Project Info","Intended Outcomes","1.05.10.3",null,{"$f":"CONCATENATE('1 - Project Info'!$H$40,\" \",10)","v":"Benefit Category 10"},{"$f":"'1 - Project Info'!$H$50","v":0},"1 - Project Info'!H50"]
["1 - Project Info","Intended Outcomes","1.05.10.4",null,{"$f":"CONCATENATE('1 - Project Info'!$J$40,\" \",10)","v":"PESTLE 10"},{"$f":"'1 - Project Info'!$J$50","v":0},"1 - Project Info'!J50"]
["1 - Project Info","Investment Objectives","1.06.01.1",null,{"$f":"'1 - Project Info'!$D$54","v":"Primary Investment Objective"},{"$f":"'1 - Project Info'!$E$54","v":"To make money"},"1 - Project Info'!E54",{"$f":"IF(CONCATENATE(F118,\" - \",F119)=\"0 - 0\",\"0\",CONCATENATE(F118,\" - \",F119))","v":"To make money - Compliance"},null,{"$f":"'1 - Project Info'!P54","v":0},{"$f":"IF(J118=F118,\"\",\"Changed Since Last Quarter\")","v":"Changed Since Last Quarter"}]
["1 - Project Info","Investment Objectives","1.06.01.2",null,{"$f":"CONCATENATE('1 - Project Info'!$D$54,\" - \",'1 - Project Info'!$K$53)","v":"Primary Investment Objective - Category"},{"$f":"'1 - Project Info'!$K$54","v":"Compliance"},"1 - Project Info'!K54"]
["1 - Project Info","Investment Objectives","1.06.02.1",null,{"$f":"'1 - Project Info'!D55","v":"Secondary Investment Objective"},{"$f":"'1 - Project Info'!$E$55","v":0},"1 - Project Info'!E55",{"$f":"IF(CONCATENATE(F120,\" - \",F121)=\"0 - 0\",\"0\",CONCATENATE(F120,\" - \",F121))","v":"0"},null,{"$f":"'1 - Project Info'!P55","v":0},{"$f":"IF(J120=F120,\"\",\"Changed Since Last Quarter\")","v":""}]
["1 - Project Info","Investment Objectives","1.06.02.2",null,{"$f":"CONCATENATE('1 - Project Info'!$D$55,\" - \",'1 - Project Info'!$K$53)","v":"Secondary Investment Objective - Category"},{"$f":"'1 - Project Info'!$K$55","v":0},"1 - Project Info'!K55"]
["1 - Project Info","GMPP Project Dependencies","1.07.01",null,{"$f":"'1 - Project Info'!$D$58","v":"Is successful completion of this project dependent on another Overarching project?"},{"$f":"'1 - Project Info'!$E$58","v":"No"},"1 - Project Info'!E58",{"$f":"F122","v":"No"},null,{"$f":"'1 - Project Info'!P58","v":0},{"$f":"IF(J122=F122,\"\",\"Changed Since Last Quarter\")","v":"Changed Since Last Quarter"}]
["1 - Project Info","GMPP Project Dependencies","1.07.02",null,{"$f":"'1 - Project Info'!$D$59","v":"Dependency 1 - Commissary"},{"$f":"'1 - Project Info'!$E$59","v":"BOB"},"1 - Project Info'!E59",{"$f":"F123","v":"BOB"},null,{"$f":"'1 - Project Info'!P59","v":0},{"$f":"IF(J123=F123,\"\",\"Changed Since Last Quarter\")","v":"Changed Since Last Quarter"}]
["1 - Project Info","GMPP Project Dependencies","1.07.03",null,{"$f":"'1 - Project Info'!$D$60","v":"Dependency 1 - Overarching Project"},{"$f":"'1 - Project Info'!$E$60","v":0},"1 - Project Info'!E60",{"$f":"F124","v":0},null,{"$f":"'1 - Project Info'!P60","v":0},{"$f":"IF(J124=F124,\"\",\"Changed Since Last Quarter\")","v":""}]
["1 - Project Info","GMPP Project Dependencies","1.07.04",null,{"$f":"'1 - Project Info'!$D$61","v":"Dependency 2 - Commissary"},{"$f":"'1 - Project Info'!$E$61","v":0},"1 - Project Info'!E61",{"$f":"F125","v":0},null,{"$f":"'1 - Project Info'!P61","v":0},{"$f":"IF(J125=F125,\"\",\"Changed Since Last Quarter\")","v":""}]
["1 - Project Info","GMPP Project Dependencies","1.07.05",null,{"$f":"'1 - Project Info'!$D$62","v":"Dependency 2 - Overarching Project"},{"$f":"'1 - Project Info'!$E$62","v":0},"1 - Project Info'!E62",{"$f":"F126","v":0},null,{"$f":"'1 - Project Info'!P62","v":0},{"$f":"IF(J126=F126,\"\",\"Changed Since Last Quarter\")","v":""}]
["1 - Project Info","GMPP Project Dependencies","1.07.06",null,{"$f":"'1 - Project Info'!$D$63","v":"Dependency 3 - Commissary"},{"$f":"'1 - Project Info'!$E$63","v":0},"1 - Project Info'!E63",{"$f":"F127","v":0},null,{"$f":"'1 - Project Info'!P63","v":0},{"$f":"IF(J127=F127,\"\",\"Changed Since Last Quarter\")","v":""}]
["1 - Project Info","GMPP Project Dependencies","1.07.07",null,{"$f":"'1 - Project Info'!$D$64","v":"Dependency 3 - Overarching Project"},{"$f":"'1 - Project Info'!$E$64","v":0},"1 - Project Info'!E64",{"$f":"F128","v":0},null,{"$f":"'1 - Project Info'!P64","v":0},{"$f":"IF(J128=F128,\"\",\"Changed Since Last Quarter\")","v":""}]
["2 - DCA & Risk","Delivery Confidence Assessment (DCA)","2.01.1",null,"Project DCA - SRO Assessment",{"$f":"'2 - DCA & Risk'!E7","v":"Amber/Green"},"2 - DCA & Risk'!E7",{"$f":"F129","v":"Amber/Green"},null,{"$f":"'2 - DCA & Risk'!P7","v":0},{"$f":"IF(J129=F129,\"\",\"Changed Since Last Quarter\")","v":"Changed Since Last Quarter"}]
["2 - DCA & Risk","Delivery Confidence Assessment (DCA)","2.01.2",null,"DCA - SRO Narrative",{"$f":"'2 - DCA & Risk'!E8","v":"There is no answer here.There is no answer here.There is no answer here.There is no answer here.There is no answer here.There is no answer here.There is no answer here.There is no answer here.There is no answer here.There is no answer here.There is no answer here.There is no answer here.There is no answer here.There is no answer here.There is no answer here.There is no answer here.There is no answer here.There is no answer here.There is no answer here.There is no answer here.There is no answer here.There is no answer here.There is no answer here.There is no answer here.There is no answer here.There is no answer here.There is no answer here.There is no answer here.There is no answer here.There is no answer here.There is no answer here.There is no answer here.There is no answer here.There is no answer here.There is no answer here.There is no answer here.There is no answer here.There is no answer here.There is no answer here.There is no answer here.There is no answer here.There is no answer here.There is no answer here.There is no answer here.There is no answer here.There is no answer here.There is no answer here.There is no answer here.There is no answer here.There is no answer here.There is no answer here.There is no answer here.There is no answer here.There is no answer here.There is no answer here.There is no answer here.There is no answer here.There is no answer here.There is no answer here.There is no answer here.There is no answer here.There is no answer here.There is no answer here.There is no answer here.There is no answer here.There is no answer here.There is no answer here.There is no answer here.There is no answer here.There is no answer here.There is no answer here.There is no answer here.There is no answer here.There is no answer here.There is no answer here.There is no answer here.There is no answer here.There is no answer here.There is no answer here.There is no answer here.There is no answer here.There is no answer here.There is no answer here.There is no answer here.There is no answer here.There is no answer here.There is no answer here.There is no answer here.There is no answer here.There is no answer here.There is no answer here.There is no answer here.There is no answer here.There is no answer here.There is no answer here.There is no answer here.There is no answer here.There is no answer here.There is no answer here.There is no answer here.There is no answer here.There is no answer here.There is no answer here.There is no answer here.There is no answer here.There is no answer here.There is no answer here.There is no answer here.There is no answer here.There is no answer here.There is no answer here.There is no answer here.There is no answer here.There is no answer here.There is no answer here.There is no answer here.There is no answer here.There is no answer here.There is no answer here.There is no answer here.There is no answer here.There is no answer here.There is no answer here.There is no answer here.There is no answer here.There is no answer here.There is no answer here.There is no answer here."},"2 - DCA & Risk'!E8",{"$f":"F130","v":"There is no answer here.There is no answer here.There is no answer here.There is no answer here.There is no answer here.There is no answer here.There is no answer here.There is no answer here.There is no answer here.There is no answer here.There is no answer here.There is no answer here.There is no answer here.There is no answer here.There is no answer here.There is no answer here.There is no answer here.There is no answer here.There is no answer here.There is no answer here.There is no answer here.There is no answer here.There is no answer here.There is no answer here.There is no answer here.There is no answer here.There is no answer here.There is no answer here.There is no answer here.There is no answer here.There is no answer here.There is no answer here.There is no answer here.There is no answer here.There is no answer here.There is no answer here.There is no answer here.There is no answer here.There is no answer here.There is no answer here.There is no answer here.There is no answer here.There is no answer here.There is no answer here.There is no answer here.There is no answer here.There is no answer here.There is no answer here.There is no answer here.There is no answer here.There is no answer here.There is no answer here.There is no answer here.There is no answer here.There is no answer here.There is no answer here.There is no answer here.There is no answer here.There is no answer here.There is no answer here.There is no answer here.There is no answer here.There is no answer here.There is no answer here.There is no answer here.There is no answer here.There is no answer here.There is no answer here.There is no answer here.There is no answer here.There is no answer here.There is no answer here.There is no answer here.There is no answer here.There is no answer here.There is no answer here.There is no answer here.There is no answer here.There is no answer here.There is no answer here.There is no answer here.There is no answer here.There is no answer here.There is no answer here.There is no answer here.There is no answer here.There is no answer here.There is no answer here.There is no answer here.There is no answer here.There is no answer here.There is no answer here.There is no answer here.There is no answer here.There is no answer here.There is no answer here.There is no answer here.There is no answer here.There is no answer here.There is no answer here.There is no answer here.There is no answer here.There is no answer here.There is no answer here.There is no answer here.There is no answer here.There is no answer here.There is no answer here.There is no answer here.There is no answer here.There is no answer here.There is no answer here.There is no answer here.There is no answer here.There is no answer here.There is no answer here.There is no answer here.There is no answer here.There is no answer here.There is no answer here.There is no answer here.There is no answer here.There is no answer here.There is no answer here.There is no answer here.There is no answer here.There is no answer here.There is no answer here."},null,{"$f":"'2 - DCA & Risk'!P8","v":0},{"$f":"IF(J130=F130,\"\",\"Changed Since Last Quarter\")","v":"Changed Since Last Quarter"}]
["2 - DCA & Risk","Delivery Confidence Assessment (DCA)","2.01.3",null,"Project DCA - IPA Assessment",{"$f":"'2 - DCA & Risk'!E10","v":0},"2 - DCA & Risk'!E10",{"$f":"F131","v":0},null,{"$f":"'2 - DCA & Risk'!P10","v":"Amber"},{"$f":"IF(J131=F131,\"\",\"Changed Since Last Quarter\")","v":"Changed Since Last Quarter"}]
["2 - DCA & Risk","Delivery Confidence Assessment (DCA)","2.01.4",null,"DCA - IPA Narrative",{"$f":"'2 - DCA & Risk'!E11","v":0},"2 - DCA & Risk'!E11",{"$f":"F132","v":0},null,{"$f":"'2 - DCA & Risk'!P11","v":0},{"$f":"IF(J132=F132,\"\",\"Changed Since Last Quarter\")","v":""}]
["2 - DCA & Risk","Delivery Confidence Assessment (DCA)","2.01.5",null,"Project Risk Level - from Risk Potential Assessment",{"$f":"'2 - DCA & Risk'!E12","v":"High"},"2 - DCA & Risk'!E12",{"$f":"F133","v":"High"},null,{"$f":"'2 - DCA & Risk'!P12","v":0},{"$f":"IF(J133=F133,\"\",\"Changed Since Last Quarter\")","v":"Changed Since Last Quarter"}]
["2 - DCA & Risk","Delivery Confidence Assessment (DCA)","2.01.6",null,"Date of Risk Potential Assessment (RPA)",{"$f":"'2 - DCA & Risk'!E13","v":43510},"2 - DCA & Risk'!E13",{"$f":"F134","v":43510},null,{"$f":"'2 - DCA & Risk'!P13","v":0},{"$f":"IF(J134=F134,\"\",\"Changed Since Last Quarter\")","v":"Changed Since Last Quarter"}]
["2 - DCA & Risk","Key Risks","2.02.1",null,"Brief Risk Decription",{"$f":"'2 - DCA & Risk'!D17","v":"Funding might dry up"},"2 - DCA & Risk'!D17",{"$f":"IF(CONCATENATE(F135,\" - \",F136,\" - \",F137,\" - \",F138,\" - \",F139,\" - \",F140)=\"0 - 0 - 0 - 0 - 0 - 0\",\"0\",CONCATENATE(F135,\" - \",F136,\" - \",F137,\" - \",F138,\" - \",F139,\" - \",F140))","v":"Funding might dry up - Legal - Schedule - Treat - Prevent - Very High - Medium"},null,{"$f":"'2 - DCA & Risk'!P17","v":0},{"$f":"IF(J135=F135,\"\",\"Changed Since Last Quarter\")","v":"Changed Since Last Quarter"}]
["2 - DCA & Risk","Key Risks","2.02.1",null,"Risk Category",{"$f":"'2 - DCA & Risk'!E17","v":"Legal"},"2 - DCA & Risk'!E17"]
["2 - DCA & Risk","Key Risks","2.02.1",null,"Primary Risk to",{"$f":"'2 - DCA & Risk'!G17","v":"Schedule"},"2 - DCA & Risk'!G17"]
["2 - DCA & Risk","Key Risks","2.02.1",null,"Internal Control",{"$f":"'2 - DCA & Risk'!I17","v":"Treat - Prevent"},"2 - DCA & Risk'!I17"]
["2 - DCA & Risk","Key Risks","2.02.1",null,"Residual Impact",{"$f":"'2 - DCA & Risk'!J17","v":"Very High"},"2 - DCA & Risk'!J17"]
["2 - DCA & Risk","Key Risks","2.02.1",null,"Residual Likelihood",{"$f":"'2 - DCA & Risk'!K17","v":"Medium"},"2 - DCA & Risk'!K17"]
["2 - DCA & Risk","Key Risks","2.02.2",null,"Brief Risk Decription",{"$f":"'2 - DCA & Risk'!D18","v":0},"2 - DCA & Risk'!D18",{"$f":"IF(CONCATENATE(F141,\" - \",F142,\" - \",F143,\" - \",F144,\" - \",F145,\" - \",F146)=\"0 - 0 - 0 - 0 - 0 - 0\",\"0\",CONCATENATE(F141,\" - \",F142,\" - \",F143,\" - \",F144,\" - \",F145,\" - \",F146))","v":"0"},null,{"$f":"'2 - DCA & Risk'!P18","v":0},{"$f":"IF(J141=F141,\"\",\"Changed Since Last Quarter\")","v":""}]
["2 - DCA & Risk","Key Risks","2.02.2",null,"Risk Category",{"$f":"'2 - DCA & Risk'!E18","v":0},"2 - DCA & Risk'!E18"]
["2 - DCA & Risk","Key Risks","2.02.2",null,"Primary Risk to",{"$f":"'2 - DCA & Risk'!G18","v":0},"2 - DCA & Risk'!G18"]
["2 - DCA & Risk","Key Risks","2.02.2",null,"Internal Control",{"$f":"'2 - DCA & Risk'!I18","v":0},"2 - DCA & Risk'!I18"]
["2 - DCA & Risk","Key Risks","2.02.2",null,"Residual Impact",{"$f":"'2 - DCA & Risk'!J18","v":0},"2 - DCA & Risk'!J18"]
["2 - DCA & Risk","Key Risks","2.02.2",null,"Residual Likelihood",{"$f":"'2 - DCA & Risk'!K18","v":0},"2 - DCA & Risk'!K18"]
["2 - DCA & Risk","Key Risks","2.02.3",null,"Brief Risk Decription",{"$f":"'2 - DCA & Risk'!D19","v":0},"2 - DCA & Risk'!D19",{"$f":"IF(CONCATENATE(F147,\" - \",F148,\" - \",F149,\" - \",F150,\" - \",F151,\" - \",F152)=\"0 - 0 - 0 - 0 - 0 - 0\",\"0\",CONCATENATE(F147,\" - \",F148,\" - \",F149,\" - \",F150,\" - \",F151,\" - \",F152))","v":"0"},null,{"$f":"'2 - DCA & Risk'!P19","v":0},{"$f":"IF(J147=F147,\"\",\"Changed Since Last Quarter\")","v":""}]
["2 - DCA & Risk","Key Risks","2.02.3",null,"Risk Category",{"$f":"'2 - DCA & Risk'!E19","v":0},"2 - DCA & Risk'!E19"]
["2 - DCA & Risk","Key Risks","2.02.3",null,"Primary Risk to",{"$f":"'2 - DCA & Risk'!G19","v":0},"2 - DCA & Risk'!G19"]
["2 - DCA & Risk","Key Risks","2.02.3",null,"Internal Control",{"$f":"'2 - DCA & Risk'!I19","v":0},"2 - DCA & Risk'!I19"]
["2 - DCA & Risk","Key Risks","2.02.3",null,"Residual Impact",{"$f":"'2 - DCA & Risk'!J19","v":0},"2 - DCA & Risk'!J19"]
["2 - DCA & Risk","Key Risks","2.02.3",null,"Residual Likelihood",{"$f":"'2 - DCA & Risk'!K19","v":0},"2 - DCA & Risk'!K19"]
["2 - DCA & Risk","Key Risks","2.02.4",null,"Brief Risk Decription",{"$f":"'2 - DCA & Risk'!D20","v":0},"2 - DCA & Risk'!D20",{"$f":"IF(CONCATENATE(F153,\" - \",F154,\" - \",F155,\" - \",F156,\" - \",F157,\" - \",F158)=\"0 - 0 - 0 - 0 - 0 - 0\",\"0\",CONCATENATE(F153,\" - \",F154,\" - \",F155,\" - \",F156,\" - \",F157,\" - \",F158))","v":"0"},null,{"$f":"'2 - DCA & Risk'!P20","v":0},{"$f":"IF(J153=F153,\"\",\"Changed Since Last Quarter\")","v":""}]
["2 - DCA & Risk","Key Risks","2.02.4",null,"Risk Category",{"$f":"'2 - DCA & Risk'!E20","v":0},"2 - DCA & Risk'!E20"]
["2 - DCA & Risk","Key Risks","2.02.4",null,"Primary Risk to",{"$f":"'2 - DCA & Risk'!G20","v":0},"2 - DCA & Risk'!G20"]
["2 - DCA & Risk","Key Risks","2.02.4",null,"Internal Control",{"$f":"'2 - DCA & Risk'!I20","v":0},"2 - DCA & Risk'!I20"]
["2 - DCA & Risk","Key Risks","2.02.4",null,"Residual Impact",{"$f":"'2 - DCA & Risk'!J20","v":0},"2 - DCA & Risk'!J20"]
["2 - DCA & Risk","Key Risks","2.02.4",null,"Residual Likelihood",{"$f":"'2 - DCA & Risk'!K20","v":0},"2 - DCA & Risk'!K20"]
["2 - DCA & Risk","Key Risks","2.02.5",null,"Brief Risk Decription",{"$f":"'2 - DCA & Risk'!D21","v":0},"2 - DCA & Risk'!D21",{"$f":"IF(CONCATENATE(F159,\" - \",F160,\" - \",F161,\" - \",F162,\" - \",F163,\" - \",F164)=\"0 - 0 - 0 - 0 - 0 - 0\",\"0\",CONCATENATE(F159,\" - \",F160,\" - \",F161,\" - \",F162,\" - \",F163,\" - \",F164))","v":"0"},null,{"$f":"'2 - DCA & Risk'!P21","v":0},{"$f":"IF(J159=F159,\"\",\"Changed Since Last Quarter\")","v":""}]
["2 - DCA & Risk","Key Risks","2.02.5",null,"Risk Category",{"$f":"'2 - DCA & Risk'!E21","v":0},"2 - DCA & Risk'!E21"]
["2 - DCA & Risk","Key Risks","2.02.5",null,"Primary Risk to",{"$f":"'2 - DCA & Risk'!G21","v":0},"2 - DCA & Risk'!G21"]
["2 - DCA & Risk","Key Risks","2.02.5",null,"Internal Control",{"$f":"'2 - DCA & Risk'!I21","v":0},"2 - DCA & Risk'!I21"]
["2 - DCA & Risk","Key Risks","2.02.5",null,"Residual Impact",{"$f":"'2 - DCA & Risk'!J21","v":0},"2 - DCA & Risk'!J21"]
["2 - DCA & Risk","Key Risks","2.02.5",null,"Residual Likelihood",{"$f":"'2 - DCA & Risk'!K21","v":0},"2 - DCA & Risk'!K21"]
["3 - Scope History","1st Scope Change","3.01.1",null,"1st Scope Change - Description / Type",{"$f":"'3 - Scope History'!E6","v":0},"3 - Scope History'!E6"]
["3 - Scope History","1st Scope Change","3.01.2",null,"Date Scope Change Implemented",{"$f":"'3 - Scope History'!E7","v":"00:00:00"},"3 - Scope History'!E7"]
["3 - Scope History","1st Scope Change","3.01.2",null,"Date Implemented: Actual or Forecast?",{"$f":"'3 - Scope History'!K7","v":0},"3 - Scope History'!K7"]
["3 - Scope History","1st Scope Change","3.01.3",null,"Impact on Project End Date?",{"$f":"'3 - Scope History'!E8","v":0},"3 - Scope History'!E8"]
["3 - Scope History","1st Scope Change","3.01.4",null,"Is change in Project End Date solely due to the scope change?",{"$f":"'3 - Scope History'!E9","v":0},"3 - Scope History'!E9"]
["3 - Scope History","1st Scope Change","3.01.5",null,"Impact on Costs?",{"$f":"'3 - Scope History'!E10","v":0},"3 - Scope History'!E10"]
["3 - Scope History","1st Scope Change","3.01.6",null,"Is change in Costs solely due to the scope change?",{"$f":"'3 - Scope History'!E11","v":0},"3 - Scope History'!E11"]
["3 - Scope History","1st Scope Change","3.01.7",null,"Impact on Intended Outcomes?",{"$f":"'3 - Scope History'!E12","v":0},"3 - Scope History'!E12"]
["3 - Scope History","1st Scope Change","3.01.8",null,"Has the Business Case been updated as a result of this scope change?",{"$f":"'3 - Scope History'!E13","v":0},"3 - Scope History'!E13"]
["3 - Scope History","1st Scope Change","3.01.9",null,"If Yes, new Business Case Type?",{"$f":"'3 - Scope History'!E14","v":0},"3 - Scope History'!K14"]
["3 - Scope History","1st Scope Change","3.01.9",null,"New Business Case Version Number",{"$f":"'3 - Scope History'!K14","v":0},"3 - Scope History'!E14"]
["3 - Scope History","1st Scope Change","3.01.10",null,"Has HMT approved this new business case?",{"$f":"'3 - Scope History'!E15","v":0},"3 - Scope History'!E15"]
["3 - Scope History","2nd Scope Change","3.02.1",null,"2nd Scope Change - Description / Type",{"$f":"'3 - Scope History'!E18","v":0},"3 - Scope History'!E18"]
["3 - Scope History","2nd Scope Change","3.02.2",null,"Date Scope Change Implemented",{"$f":"'3 - Scope History'!E19","v":"00:00:00"},"3 - Scope History'!E19"]
["3 - Scope History","2nd Scope Change","3.02.2",null,"Date Implemented: Actual or Forecast?",{"$f":"'3 - Scope History'!K19","v":0},"3 - Scope History'!K19"]
["3 - Scope History","2nd Scope Change","3.02.3",null,"Impact on Project End Date?",{"$f":"'3 - Scope History'!E20","v":0},"3 - Scope History'!E20"]
["3 - Scope History","2nd Scope Change","3.02.4",null,"Is change in Project End Date solely due to the scope change?",{"$f":"'3 - Scope History'!E21","v":0},"3 - Scope History'!E21"]
["3 - Scope History","2nd Scope Change","3.02.5",null,"Impact on Costs?",{"$f":"'3 - Scope History'!E22","v":0},"3 - Scope History'!E22"]
["3 - Scope History","2nd Scope Change","3.02.6",null,"Is change in Costs solely due to the scope change?",{"$f":"'3 - Scope History'!E23","v":0},"3 - Scope History'!E23"]
["3 - Scope History","2nd Scope Change","3.02.7",null,"Impact on Intended Outcomes?",{"$f":"'3 - Scope History'!E24","v":0},"3 - Scope History'!E24"]
["3 - Scope History","2nd Scope Change","3.02.8",null,"Has the Business Case been updated as a result of this scope change?",{"$f":"'3 - Scope History'!E25","v":0},"3 - Scope History'!E25"]
["3 - Scope History","2nd Scope Change","3.02.9",null,"If Yes, new Business Case Type?",{"$f":"'3 - Scope History'!E26","v":0},"3 - Scope History'!E26"]
["3 - Scope History","2nd Scope Change","3.02.9",null,"New Business Case Version Number",{"$f":"'3 - Scope History'!K26","v":0},"3 - Scope History'!K26"]
["3 - Scope History","2nd Scope Change","3.02.10",null,"Has HMT approved this new business case?",{"$f":"'3 - Scope History'!E27","v":0},"3 - Scope History'!E27"]
["3 - Scope History","3rd Scope Change","3.03.1",null,"3rd Scope Change - Description / Type",{"$f":"'3 - Scope History'!E30","v":0},"3 - Scope History'!E30"]
["3 - Scope History","3rd Scope Change","3.03.2",null,"Date Scope Change Implemented",{"$f":"'3 - Scope History'!E31","v":"00:00:00"},"3 - Scope History'!E31"]
["3 - Scope History","3rd Scope Change","3.03.2",null,"Date Implemented: Actual or Forecast?",{"$f":"'3 - Scope History'!K31","v":0},"3 - Scope History'!K31"]
["3 - Scope History","3rd Scope Change","3.03.3",null,"Impact on Project End Date?",{"$f":"'3 - Scope History'!E32","v":0},"3 - Scope History'!E32"]
["3 - Scope History","3rd Scope Change","3.03.4",null,"Is change in Project End Date solely due to the scope change?",{"$f":"'3 - Scope History'!E33","v":0},"3 - Scope History'!E33"]
["3 - Scope History","3rd Scope Change","3.03.5",null,"Impact on Costs?",{"$f":"'3 - Scope History'!E34","v":0},"3 - Scope History'!E34"]
["3 - Scope History","3rd Scope Change","3.03.6",null,"Is change in Costs solely due to the scope change?",{"$f":"'3 - Scope History'!E35","v":0},"3 - Scope History'!E35"]
["3 - Scope History","3rd Scope Change","3.03.7",null,"Impact on Intended Outcomes?",{"$f":"'3 - Scope History'!E36","v":0},"3 - Scope History'!E36"]
["3 - Scope History","3rd Scope Change","3.03.8",null,"Has the Business Case been updated as a result of this scope change?",{"$f":"'3 - Scope History'!E37","v":0},"3 - Scope History'!E37"]
["3 - Scope History","3rd Scope Change","3.03.9",null,"If Yes, new Business Case Type?",{"$f":"'3 - Scope History'!E38","v":0},"3 - Scope History'!E38"]
["3 - Scope History","3rd Scope Change","3.03.9",null,"New Business Case Version Number",{"$f":"'3 - Scope History'!K38","v":0},"3 - Scope History'!K38"]
["3 - Scope History","3rd Scope Change","3.03.10",null,"Has HMT approved this new business case?",{"$f":"'3 - Scope History'!E39","v":0},"3 - Scope History'!E39"]
["3 - Scope History","4th Scope Change","3.04.1",null,"4th Scope Change - Description / Type",{"$f":"'3 - Scope History'!E42","v":0},"3 - Scope History'!E42"]
["3 - Scope History","4th Scope Change","3.04.2",null,"Date Scope Change Implemented",{"$f":"'3 - Scope History'!E43","v":"00:00:00"},"3 - Scope History'!E43"]
["3 - Scope History","4th Scope Change","3.04.2",null,"Date Implemented: Actual or Forecast?",{"$f":"'3 - Scope History'!K43","v":0},"3 - Scope History'!K43"]
["3 - Scope History","4th Scope Change","3.04.3",null,"Impact on Project End Date?",{"$f":"'3 - Scope History'!E44","v":0},"3 - Scope History'!E44"]
["3 - Scope History","4th Scope Change","3.04.4",null,"Is change in Project End Date solely due to the scope change?",{"$f":"'3 - Scope History'!E45","v":0},"3 - Scope History'!E45"]
["3 - Scope History","4th Scope Change","3.04.5",null,"Impact on Costs?",{"$f":"'3 - Scope History'!E46","v":0},"3 - Scope History'!E46"]
["3 - Scope History","4th Scope Change","3.04.6",null,"Is change in Costs solely due to the scope change?",{"$f":"'3 - Scope History'!E47","v":0},"3 - Scope History'!E47"]
["3 - Scope History","4th Scope Change","3.04.7",null,"Impact on Intended Outcomes?",{"$f":"'3 - Scope History'!E48","v":0},"3 - Scope History'!E48"]
["3 - Scope History","4th Scope Change","3.04.8",null,"Has the Business Case been updated as a result of this scope change?",{"$f":"'3 - Scope History'!E49","v":0},"3 - Scope History'!E49"]
["3 - Scope History","4th Scope Change","3.04.9",null,"If Yes, new Business Case Type?",{"$f":"'3 - Scope History'!E50","v":0},"3 - Scope History'!E50"]
["3 - Scope History","4th Scope Change","3.04.9",null,"New Business Case Version Number",{"$f":"'3 - Scope History'!K50","v":0},"3 - Scope History'!K50"]
["3 - Scope History","4th Scope Change","3.04.10",null,"Has HMT approved this new business case?",{"$f":"'3 - Scope History'!E51","v":0},"3 - Scope History'!E51"]
["4 - Leaders","Senior Responsible Owner (SRO)","4.01.1",null,"Is this position currently filled?",{"$f":"'4 - Leaders'!E6","v":"Yes - Permanent"},"4 - Leaders'!E6",{"$f":"F213","v":"Yes - Permanent"},null,{"$f":"'4 - Leaders'!P6","v":0},{"$f":"IF(J213=F213,\"\",\"Changed Since Last Quarter\")","v":"Changed Since Last Quarter"}]
["4 - Leaders","Senior Responsible Owner (SRO)","4.01.2",null,"SRO ID",{"$f":"'4 - Leaders'!E7","v":0},"4 - Leaders'!E7",{"$f":"F214","v":0},null,{"$f":"'4 - Leaders'!P7","v":0},{"$f":"IF(J214=F214,\"\",\"Changed Since Last Quarter\")","v":""}]
["4 - Leaders","Senior Responsible Owner (SRO)","4.01.3",null,"Surname",{"$f":"'4 - Leaders'!E8","v":"Lothar-Criolla"},"4 - Leaders'!E8",{"$f":"F215","v":"Lothar-Criolla"},null,{"$f":"'4 - Leaders'!P8","v":0},{"$f":"IF(J215=F215,\"\",\"Changed Since Last Quarter\")","v":"Changed Since Last Quarter"}]
["4 - Leaders","Senior Responsible Owner (SRO)","4.01.4",null,"First Name(s)",{"$f":"'4 - Leaders'!E9","v":"Henton"},"4 - Leaders'!E9",{"$f":"F216","v":"Henton"},null,{"$f":"'4 - Leaders'!P9","v":0},{"$f":"IF(J216=F216,\"\",\"Changed Since Last Quarter\")","v":"Changed Since Last Quarter"}]
["4 - Leaders","Senior Responsible Owner (SRO)","4.01.5",null,"Full Name",{"$f":"'4 - Leaders'!E10","v":"Paeblo Shoppa"},"4 - Leaders'!E10",{"$f":"IF(F217=\"\",\"0\",F217)","v":"Paeblo Shoppa"},null,{"$f":"'4 - Leaders'!P10","v":0},{"$f":"IF(J217=F217,\"\",\"Changed Since Last Quarter\")","v":"Changed Since Last Quarter"}]
["4 - Leaders","Senior Responsible Owner (SRO)","4.01.6",null,"Email",{"$f":"'4 - Leaders'!E11","v":"my@example.com"},"4 - Leaders'!E11",{"$f":"F218","v":"my@example.com"},null,{"$f":"'4 - Leaders'!P11","v":0},{"$f":"IF(J218=F218,\"\",\"Changed Since Last Quarter\")","v":"Changed Since Last Quarter"}]
["4 - Leaders","Senior Responsible Owner (SRO)","4.01.7",null,"Phone No.",{"$f":"'4 - Leaders'!E12","v":"07725 120 533"},"4 - Leaders'!E12",{"$f":"F219","v":"07725 120 533"},null,{"$f":"'4 - Leaders'!P12","v":0},{"$f":"IF(J219=F219,\"\",\"Changed Since Last Quarter\")","v":"Changed Since Last Quarter"}]
["4 - Leaders","Senior Responsible Owner (SRO)","4.01.8",null,"SRO Tenure Start Date",{"$f":"'4 - Leaders'!E13","v":42309},"4 - Leaders'!E13",{"$f":"F220","v":42309},null,{"$f":"'4 - Leaders'!P13","v":0},{"$f":"IF(J220=F220,\"\",\"Changed Since Last Quarter\")","v":"Changed Since Last Quarter"}]
["4 - Leaders","Senior Responsible Owner (SRO)","4.01.9",null,"SRO Tenure End Date",{"$f":"'4 - Leaders'!E14","v":45016},"4 - Leaders'!E14",{"$f":"F221","v":45016},null,{"$f":"'4 - Leaders'!P14","v":0},{"$f":"IF(J221=F221,\"\",\"Changed Since Last Quarter\")","v":"Changed Since Last Quarter"}]
["4 - Leaders","Senior Responsible Owner (SRO)","4.01.10",null,"SRO Length of tenure (years)",{"$f":"'4 - Leaders'!E15","v":7.41643835616438},"4 - Leaders'!E15",{"$f":"F222","v":7.41643835616438},null,{"$f":"'4 - Leaders'!P15","v":0},{"$f":"IF(J222=F222,\"\",\"Changed Since Last Quarter\")","v":"Changed Since Last Quarter"}]
["4 - Leaders","Senior Responsible Owner (SRO)","4.01.11",null,"If SRO Tenure End Date change, please advise reason",{"$f":"'4 - Leaders'!E16","v":0},"4 - Leaders'!E16",{"$f":"F223","v":0},null,{"$f":"'4 - Leaders'!P16","v":0},{"$f":"IF(J223=F223,\"\",\"Changed Since Last Quarter\")","v":""}]
["4 - Leaders","Senior Responsible Owner (SRO)","4.01.12",null,"Job Title / Grade",{"$f":"'4 - Leaders'!E17","v":"Programme Director"},"4 - Leaders'!E17",{"$f":"IF(CONCATENATE(F224,\" - \",F225)=\"0 - 0\",\"0\",CONCATENATE(F224,\" - \",F225))","v":"Programme Director - EO"},null,{"$f":"'4 - Leaders'!P17","v":0},{"$f":"IF(J224=F224,\"\",\"Changed Since Last Quarter\")","v":"Changed Since Last Quarter"}]
["4 - Leaders","Senior Responsible Owner (SRO)","4.01.12",null,"Grade",{"$f":"'4 - Leaders'!K17","v":"EO"},"4 - Leaders'!K17"]
["4 - Leaders","Senior Responsible Owner (SRO)","4.01.13",null,"Career Anchor - Primary",{"$f":"'4 - Leaders'!E18","v":"Social Research"},"4 - Leaders'!E18",{"$f":"F226","v":"Social Research"},null,{"$f":"'4 - Leaders'!P18","v":0},{"$f":"IF(J226=F226,\"\",\"Changed Since Last Quarter\")","v":"Changed Since Last Quarter"}]
["4 - Leaders","Senior Responsible Owner (SRO)","4.01.14",null,"Career Anchor - Secondary",{"$f":"'4 - Leaders'!E19","v":"Policy"},"4 - Leaders'!E19",{"$f":"F227","v":"Policy"},null,{"$f":"'4 - Leaders'!P19","v":0},{"$f":"IF(J227=F227,\"\",\"Changed Since Last Quarter\")","v":"Changed Since Last Quarter"}]
["4 - Leaders","Senior Responsible Owner (SRO)","4.01.15",null,"Percentage of time spent on this project SRO role",{"$f":"'4 - Leaders'!E20","v":0.2},"4 - Leaders'!E20",{"$f":"F228","v":0.2},null,{"$f":"'4 - Leaders'!P20","v":0},{"$f":"IF(J228=F228,\"\",\"Changed Since Last Quarter\")","v":"Changed Since Last Quarter"}]
["4 - Leaders","Senior Responsible Owner (SRO)","4.01.16",null,"If new SRO this quarter, reason for change",{"$f":"'4 - Leaders'!E21","v":0},"4 - Leaders'!E21",{"$f":"F229","v":0},null,{"$f":"'4 - Leaders'!P21","v":0},{"$f":"IF(J229=F229,\"\",\"Changed Since Last Quarter\")","v":""}]
["4 - Leaders","Senior Responsible Owner (SRO)","4.01.17",null,"If there are further SROs, please name, and explain why?",{"$f":"'4 - Leaders'!E22","v":"N/A"},"4 - Leaders'!E22",{"$f":"F230","v":"N/A"},null,{"$f":"'4 - Leaders'!P22","v":0},{"$f":"IF(J230=F230,\"\",\"Changed Since Last Quarter\")","v":"Changed Since Last Quarter"}]
["4 - Leaders","Project Director (PD)","4.02.1",null,"Is this position currently filled?",{"$f":"'4 - Leaders'!E25","v":"Yes - Permanent"},"4 - Leaders'!E25",{"$f":"F231","v":"Yes - Permanent"},null,{"$f":"'4 - Leaders'!P25","v":0},{"$f":"IF(J231=F231,\"\",\"Changed Since Last Quarter\")","v":"Changed Since Last Quarter"}]
["4 - Leaders","Project Director (PD)","4.02.2",null,"PD ID",{"$f":"'4 - Leaders'!E26","v":0},"4 - Leaders'!E26",{"$f":"F232","v":0},null,{"$f":"'4 - Leaders'!P26","v":0},{"$f":"IF(J232=F232,\"\",\"Changed Since Last Quarter\")","v":""}]
["4 - Leaders","Project Director (PD)","4.02.3",null,"Surname",{"$f":"'4 - Leaders'!E27","v":"Ogden-Banderthorp"},"4 - Leaders'!E27",{"$f":"F233","v":"Ogden-Banderthorp"},null,{"$f":"'4 - Leaders'!P27","v":0},{"$f":"IF(J233=F233,\"\",\"Changed Since Last Quarter\")","v":"Changed Since Last Quarter"}]
["4 - Leaders","Project Director (PD)","4.02.4",null,"First Name(s)",{"$f":"'4 - Leaders'!E28","v":"Cissillington"},"4 - Leaders'!E28",{"$f":"F234","v":"Cissillington"},null,{"$f":"'4 - Leaders'!P28","v":0},{"$f":"IF(J234=F234,\"\",\"Changed Since Last Quarter\")","v":"Changed Since Last Quarter"}]
["4 - Leaders","Project Director (PD)","4.02.5",null,"Full Name",{"$f":"'4 - Leaders'!E29","v":"Mr Bunter"},"4 - Leaders'!E29",{"$f":"IF(F235=\"\",\"0\",F235)","v":"Mr Bunter"},null,{"$f":"'4 - Leaders'!P29","v":0},{"$f":"IF(J235=F235,\"\",\"Changed Since Last Quarter\")","v":"Changed Since Last Quarter"}]
["4 - Leaders","Project Director (PD)","4.02.6",null,"Email",{"$f":"'4 - Leaders'!E30","v":"Choak@example.com"},"4 - Leaders'!E30",{"$f":"F236","v":"Choak@example.com"},null,{"$f":"'4 - Leaders'!P30","v":0},{"$f":"IF(J236=F236,\"\",\"Changed Since Last Quarter\")","v":"Changed Since Last Quarter"}]
["4 - Leaders","Project Director (PD)","4.02.7",null,"Phone No.",{"$f":"'4 - Leaders'!E31","v":"0700 328 1565"},"4 - Leaders'!E31",{"$f":"F237","v":"0700 328 1565"},null,{"$f":"'4 - Leaders'!P31","v":0},{"$f":"IF(J237=F237,\"\",\"Changed Since Last Quarter\")","v":"Changed Since Last Quarter"}]
["4 - Leaders","Project Director (PD)","4.02.8",null,"PD Tenure Start Date",{"$f":"'4 - Leaders'!E32","v":42548},"4 - Leaders'!E32",{"$f":"F238","v":42548},null,{"$f":"'4 - Leaders'!P32","v":0},{"$f":"IF(J238=F238,\"\",\"Changed Since Last Quarter\")","v":"Changed Since Last Quarter"}]
["4 - Leaders","Project Director (PD)","4.02.9",null,"PD Tenure End Date",{"$f":"'4 - Leaders'!E33","v":46022},"4 - Leaders'!E33",{"$f":"F239","v":46022},null,{"$f":"'4 - Leaders'!P33","v":0},{"$f":"IF(J239=F239,\"\",\"Changed Since Last Quarter\")","v":"Changed Since Last Quarter"}]
["4 - Leaders","Project Director (PD)","4.02.10",null,"PD Length of tenure (years)",{"$f":"'4 - Leaders'!E34","v":9.51780821917808},"4 - Leaders'!E34",{"$f":"F240","v":9.51780821917808},null,{"$f":"'4 - Leaders'!P34","v":0},{"$f":"IF(J240=F240,\"\",\"Changed Since Last Quarter\")","v":"Changed Since Last Quarter"}]
["4 - Leaders","Project Director (PD)","4.02.11",null,"If PD Tenure End Date change, please advise reason, and Type",{"$f":"'4 - Leaders'!E35","v":0},"4 - Leaders'!E35",{"$f":"F241","v":0},null,{"$f":"'4 - Leaders'!P35","v":0},{"$f":"IF(J241=F241,\"\",\"Changed Since Last Quarter\")","v":""}]
["4 - Leaders","Project Director (PD)","4.02.12",null,"Job Title",{"$f":"'4 - Leaders'!E36","v":"Teaboy"},"4 - Leaders'!E36",{"$f":"IF(CONCATENATE(F242,\" - \",F243)=\"0 - 0\",\"0\",CONCATENATE(F242,\" - \",F243))","v":"Teaboy - AO / AA"},null,{"$f":"'4 - Leaders'!P36","v":0},{"$f":"IF(J242=F242,\"\",\"Changed Since Last Quarter\")","v":"Changed Since Last Quarter"}]
["4 - Leaders","Project Director (PD)","4.02.12",null,"Grade",{"$f":"'4 - Leaders'!K36","v":"AO / AA"},"4 - Leaders'!K36"]
["4 - Leaders","Project Director (PD)","4.02.13",null,"Career Anchor - Primary",{"$f":"'4 - Leaders'!E37","v":"Veterinary"},"4 - Leaders'!E37",{"$f":"F244","v":"Veterinary"},null,{"$f":"'4 - Leaders'!P37","v":0},{"$f":"IF(J244=F244,\"\",\"Changed Since Last Quarter\")","v":"Changed Since Last Quarter"}]
["4 - Leaders","Project Director (PD)","4.02.14",null,"Career Anchor - Secondary",{"$f":"'4 - Leaders'!E38","v":"Science and Engineering"},"4 - Leaders'!E38",{"$f":"F245","v":"Science and Engineering"},null,{"$f":"'4 - Leaders'!P38","v":0},{"$f":"IF(J245=F245,\"\",\"Changed Since Last Quarter\")","v":"Changed Since Last Quarter"}]
["4 - Leaders","Project Director (PD)","4.02.15",null,"Percentage of time spent on PD role",{"$f":"'4 - Leaders'!E39","v":1},"4 - Leaders'!E39",{"$f":"F246","v":1},null,{"$f":"'4 - Leaders'!P39","v":0},{"$f":"IF(J246=F246,\"\",\"Changed Since Last Quarter\")","v":"Changed Since Last Quarter"}]
["4 - Leaders","Project Director (PD)","4.02.16",null,"If new PD this quarter, reason for change",{"$f":"'4 - Leaders'!E40","v":0},"4 - Leaders'!E40",{"$f":"F247","v":0},null,{"$f":"'4 - Leaders'!P40","v":0},{"$f":"IF(J247=F247,\"\",\"Changed Since Last Quarter\")","v":""}]
["4 - Leaders","Project Director (PD)","4.02.17",null,"If there are further PDs, please name?",{"$f":"'4 - Leaders'!E41","v":"n/a"},"4 - Leaders'!E41",{"$f":"F248","v":"n/a"},null,{"$f":"'4 - Leaders'!P41","v":0},{"$f":"IF(J248=F248,\"\",\"Changed Since Last Quarter\")","v":"Changed Since Last Quarter"}]
["5 - People","People in Project Team","5.01.1",null,"Number of public sector employees working in the project team (FTEs)",{"$f":"'5 - People'!E6","v":21.2},"5 - People'!E6",{"$f":"F249","v":21.2},null,{"$f":"'5 - People'!P6","v":0},{"$f":"IF(J249=F249,\"\",\"Changed Since Last Quarter\")","v":"Changed Since Last Quarter"}]
["5 - People","People in Project Team","5.01.2",null,"Number of external contractors working  in the project team (FTEs)",{"$f":"'5 - People'!E7","v":1.3},"5 - People'!E7",{"$f":"F250","v":1.3},null,{"$f":"'5 - People'!P7","v":0},{"$f":"IF(J250=F250,\"\",\"Changed Since Last Quarter\")","v":"Changed Since Last Quarter"}]
["5 - People","People in Project Team","5.01.3",null,"TOTAL Number working  in the project team (FTEs)",{"$f":"'5 - People'!E8","v":22.5},"5 - People'!E8",{"$f":"F251","v":22.5},null,{"$f":"'5 - People'!P8","v":0},{"$f":"IF(J251=F251,\"\",\"Changed Since Last Quarter\")","v":"Changed Since Last Quarter"}]
["5 - People","People in Project Team","5.01.4",null,"Total number of posts funded to work in the project team (FTEs)",{"$f":"'5 - People'!E9","v":27.5},"5 - People'!E9",{"$f":"F252","v":27.5},null,{"$f":"'5 - People'!P9","v":0},{"$f":"IF(J252=F252,\"\",\"Changed Since Last Quarter\")","v":"Changed Since Last Quarter"}]
["5 - People","People in Project Team","5.01.5",null,"Resource Gap (FTEs)",{"$f":"'5 - People'!E10","v":5},"5 - People'!E10",{"$f":"F253","v":5},null,{"$f":"'5 - People'!P10","v":0},{"$f":"IF(J253=F253,\"\",\"Changed Since Last Quarter\")","v":"Changed Since Last Quarter"}]
["5 - People","People in Project Team","5.01.6",null,"Resource Gap (%)",{"$f":"'5 - People'!E11","v":-0.181818181818182},"5 - People'!E11",{"$f":"F254","v":-0.181818181818182},null,{"$f":"'5 - People'!P11","v":""},{"$f":"IF(J254=F254,\"\",\"Changed Since Last Quarter\")","v":"Changed Since Last Quarter"}]
["5 - People","People in Project Team","5.01.7",null,"Project Team Turnover since last Quarter - Qualitative Assessment",{"$f":"'5 - People'!E12","v":"Low"},"5 - People'!E12",{"$f":"F255","v":"Low"},null,{"$f":"'5 - People'!P12","v":0},{"$f":"IF(J255=F255,\"\",\"Changed Since Last Quarter\")","v":"Changed Since Last Quarter"}]
["5 - People","People in Project Team","5.01.8",null,"Resources Commentary",{"$f":"'5 - People'!E13","v":"Bankers are always watching Sky Sports on Monday afternoons, so we are never shy of resources."},"5 - People'!E13",{"$f":"F256","v":"Bankers are always watching Sky Sports on Monday afternoons, so we are never shy of resources."},null,{"$f":"'5 - People'!P13","v":0},{"$f":"IF(J256=F256,\"\",\"Changed Since Last Quarter\")","v":"Changed Since Last Quarter"}]
["5 - People","Capacity & Capability","5.02.1",null,"Digital Now",{"$f":"'5 - People'!E17","v":"N/A"},"5 - People'!E17",{"$f":"IF(CONCATENATE(F257,\" - \",F258,\" - \",F259)=\"0 - 0 - 0\",\"0\",CONCATENATE(F257,\" - \",F258,\" - \",F259))","v":"N/A - N/A - 0"},null,{"$f":"'5 - People'!P17","v":0},{"$f":"IF(J257=F257,\"\",\"Changed Since Last Quarter\")","v":"Changed Since Last Quarter"}]
["5 - People","Capacity & Capability","5.02.1",null,"Digital Future",{"$f":"'5 - People'!G17","v":"N/A"},"5 - People'!G17"]
["5 - People","Capacity & Capability","5.02.1",null,"Digital Short Narrative (Amber or Red)",{"$f":"'5 - People'!I17","v":0},"5 - People'!I17"]
["5 - People","Capacity & Capability","5.02.2",null,"Information Technology Now",{"$f":"'5 - People'!E18","v":"Amber"},"5 - People'!E18",{"$f":"IF(CONCATENATE(F260,\" - \",F261,\" - \",F262)=\"0 - 0 - 0\",\"0\",CONCATENATE(F260,\" - \",F261,\" - \",F262))","v":"Amber - N/A - 0"},null,{"$f":"'5 - People'!P18","v":0},{"$f":"IF(J260=F260,\"\",\"Changed Since Last Quarter\")","v":"Changed Since Last Quarter"}]
["5 - People","Capacity & Capability","5.02.2",null,"Information Technology Future",{"$f":"'5 - People'!G18","v":"N/A"},"5 - People'!G18"]
["5 - People","Capacity & Capability","5.02.2",null,"Information Technology Short Narrative (Amber or Red)",{"$f":"'5 - People'!I18","v":0},"5 - People'!I18"]
["5 - People","Capacity & Capability","5.02.3",null,"Legal, Commercial & Contract Management Now",{"$f":"'5 - People'!E19","v":"Green"},"5 - People'!E19",{"$f":"IF(CONCATENATE(F263,\" - \",F264,\" - \",F265)=\"0 - 0 - 0\",\"0\",CONCATENATE(F263,\" - \",F264,\" - \",F265))","v":"Green - Green - 0"},null,{"$f":"'5 - People'!P19","v":0},{"$f":"IF(J263=F263,\"\",\"Changed Since Last Quarter\")","v":"Changed Since Last Quarter"}]
["5 - People","Capacity & Capability","5.02.3",null,"Legal, Commercial & Contract Management Future",{"$f":"'5 - People'!G19","v":"Green"},"5 - People'!G19"]
["5 - People","Capacity & Capability","5.02.3",null,"Legal, Commercial & Contract Management Short Narrative (Amber or Red)",{"$f":"'5 - People'!I19","v":0},"5 - People'!I19"]
["5 - People","Capacity & Capability","5.02.4",null,"Project Delivery Now",{"$f":"'5 - People'!E20","v":"Green"},"5 - People'!E20",{"$f":"IF(CONCATENATE(F266,\" - \",F267,\" - \",F268)=\"0 - 0 - 0\",\"0\",CONCATENATE(F266,\" - \",F267,\" - \",F268))","v":"Green - Green - 0"},null,{"$f":"'5 - People'!P20","v":0},{"$f":"IF(J266=F266,\"\",\"Changed Since Last Quarter\")","v":"Changed Since Last Quarter"}]
["5 - People","Capacity & Capability","5.02.4",null,"Project Delivery Future",{"$f":"'5 - People'!G20","v":"Green"},"5 - People'!G20"]
["5 - People","Capacity & Capability","5.02.4",null,"Project Delivery Short Narrative (Amber or Red)",{"$f":"'5 - People'!I20","v":0},"5 - People'!I20"]
["5 - People","Capacity & Capability","5.02.5",null,"Change Implementation Now",{"$f":"'5 - People'!E21","v":"N/A"},"5 - People'!E21",{"$f":"IF(CONCATENATE(F269,\" - \",F270,\" - \",F271)=\"0 - 0 - 0\",\"0\",CONCATENATE(F269,\" - \",F270,\" - \",F271))","v":"N/A - N/A - 0"},null,{"$f":"'5 - People'!P21","v":0},{"$f":"IF(J269=F269,\"\",\"Changed Since Last Quarter\")","v":"Changed Since Last Quarter"}]
["5 - People","Capacity & Capability","5.02.5",null,"Change Implementation Future",{"$f":"'5 - People'!G21","v":"N/A"},"5 - People'!G21"]
["5 - People","Capacity & Capability","5.02.5",null,"Change Implementation Short Narrative (Amber or Red)",{"$f":"'5 - People'!I21","v":0},"5 - People'!I21"]
["5 - People","Capacity & Capability","5.02.6",null,"Technical Now",{"$f":"'5 - People'!E22","v":"Green"},"5 - People'!E22",{"$f":"IF(CONCATENATE(F272,\" - \",F273,\" - \",F274)=\"0 - 0 - 0\",\"0\",CONCATENATE(F272,\" - \",F273,\" - \",F274))","v":"Green - Green - 0"},{"$f":"'5 - People'!N22","v":""},{"$f":"'5 - People'!P22","v":0},{"$f":"IF(J272=F272,\"\",\"Changed Since Last Quarter\")","v":"Changed Since Last Quarter"},null,{"$f":"IF(OR(I272<>\"\",K272<>\"\"),\"Yes\")","v":"Yes"}]
["5 - People","Capacity & Capability","5.02.6",null,"Technical Future",{"$f":"'5 - People'!G22","v":"Green"},"5 - People'!G22"]
["5 - People","Capacity & Capability","5.02.6",null,"Technical Short Narrative (Amber or Red)",{"$f":"'5 - People'!I22","v":0},"5 - People'!I22"]
["5 - People","Capacity & Capability","5.02.7",null,"Industry Knowledge Now",{"$f":"'5 - People'!E23","v":"N/A"},"5 - People'!E23",{"$f":"IF(CONCATENATE(F275,\" - \",F276,\" - \",F277)=\"0 - 0 - 0\",\"0\",CONCATENATE(F275,\" - \",F276,\" - \",F277))","v":"N/A - N/A - 0"},null,{"$f":"'5 - People'!P23","v":0},{"$f":"IF(J275=F275,\"\",\"Changed Since Last Quarter\")","v":"Changed Since Last Quarter"}]
["5 - People","Capacity & Capability","5.02.7",null,"Industry Knowledge Future",{"$f":"'5 - People'!G23","v":"N/A"},"5 - People'!G23"]
["5 - People","Capacity & Capability","5.02.7",null,"Industry Knowledge Short Narrative (Amber or Red)",{"$f":"'5 - People'!I23","v":0},"5 - People'!I23"]
["5 - People","Capacity & Capability","5.02.8",null,"Finance Now",{"$f":"'5 - People'!E24","v":"N/A"},"5 - People'!E24",{"$f":"IF(CONCATENATE(F278,\" - \",F279,\" - \",F280)=\"0 - 0 - 0\",\"0\",CONCATENATE(F278,\" - \",F279,\" - \",F280))","v":"N/A - N/A - 0"},null,{"$f":"'5 - People'!P24","v":0},{"$f":"IF(J278=F278,\"\",\"Changed Since Last Quarter\")","v":"Changed Since Last Quarter"}]
["5 - People","Capacity & Capability","5.02.8",null,"Finance Future",{"$f":"'5 - People'!G24","v":"N/A"},"5 - People'!G24"]
["5 - People","Capacity & Capability","5.02.8",null,"Finance Short Narrative (Amber or Red)",{"$f":"'5 - People'!I24","v":0},"5 - People'!I24"]
["5 - People","Capacity & Capability","5.02.9",null,"Analysis Now",{"$f":"'5 - People'!E25","v":"N/A"},"5 - People'!E25",{"$f":"IF(CONCATENATE(F281,\" - \",F282,\" - \",F283)=\"0 - 0 - 0\",\"0\",CONCATENATE(F281,\" - \",F282,\" - \",F283))","v":"N/A - N/A - 0"},null,{"$f":"'5 - People'!P25","v":0},{"$f":"IF(J281=F281,\"\",\"Changed Since Last Quarter\")","v":"Changed Since Last Quarter"}]
["5 - People","Capacity & Capability","5.02.9",null,"Analysis Future",{"$f":"'5 - People'!G25","v":"N/A"},"5 - People'!G25"]
["5 - People","Capacity & Capability","5.02.9",null,"Analysis Short Narrative (Amber or Red)",{"$f":"'5 - People'!I25","v":0},"5 - People'!I25"]
["5 - People","Capacity & Capability","5.02.10",null,"Communications & Stakeholder Engagement Now",{"$f":"'5 - People'!E26","v":"N/A"},"5 - People'!E26",{"$f":"IF(CONCATENATE(F284,\" - \",F285,\" - \",F286)=\"0 - 0 - 0\",\"0\",CONCATENATE(F284,\" - \",F285,\" - \",F286))","v":"N/A - N/A - 0"},null,{"$f":"'5 - People'!P26","v":0},{"$f":"IF(J284=F284,\"\",\"Changed Since Last Quarter\")","v":"Changed Since Last Quarter"}]
["5 - People","Capacity & Capability","5.02.10",null,"Communications & Stakeholder Engagement Future",{"$f":"'5 - People'!G26","v":"N/A"},"5 - People'!G26"]
["5 - People","Capacity & Capability","5.02.10",null,"Communications & Stakeholder Engagement Short Narrative (Amber or Red)",{"$f":"'5 - People'!I26","v":0},"5 - People'!I26"]
["5 - People","Capacity & Capability","5.02.11",null,"Additional Capability 1 Now",{"$f":"'5 - People'!E27","v":0},"5 - People'!E27",{"$f":"IF(CONCATENATE(F287,\" - \",F288,\" - \",F289)=\"0 - 0 - 0\",\"0\",CONCATENATE(F287,\" - \",F288,\" - \",F289))","v":"0"},null,{"$f":"'5 - People'!P27","v":0},{"$f":"IF(J287=F287,\"\",\"Changed Since Last Quarter\")","v":""}]
["5 - People","Capacity & Capability","5.02.11",null,"Additional Capability 1 Future",{"$f":"'5 - People'!G27","v":0},"5 - People'!G27"]
["5 - People","Capacity & Capability","5.02.11",null,"Additional Capability 1 Short Narrative (Amber or Red)",{"$f":"'5 - People'!I27","v":0},"5 - People'!I27"]
["5 - People","Capacity & Capability","5.02.12",null,"Additional Capability 2 Now",{"$f":"'5 - People'!E28","v":0},"5 - People'!E28",{"$f":"IF(CONCATENATE(F290,\" - \",F291,\" - \",F292)=\"0 - 0 - 0\",\"0\",CONCATENATE(F290,\" - \",F291,\" - \",F292))","v":"0"},null,{"$f":"'5 - People'!P28","v":0},{"$f":"IF(J290=F290,\"\",\"Changed Since Last Quarter\")","v":""}]
["5 - People","Capacity & Capability","5.02.12",null,"Additional Capability 2 Future",{"$f":"'5 - People'!G28","v":0},"5 - People'!G28"]
["5 - People","Capacity & Capability","5.02.12",null,"Additional Capability 2 Short Narrative (Amber or Red)",{"$f":"'5 - People'!I28","v":0},"5 - People'!I28"]
["5 - People","Capacity & Capability","5.02.13",null,"Additional Capability 3 Now",{"$f":"'5 - People'!E29","v":0},"5 - People'!E29",{"$f":"IF(CONCATENATE(F293,\" - \",F294,\" - \",F295)=\"0 - 0 - 0\",\"0\",CONCATENATE(F293,\" - \",F294,\" - \",F295))","v":"0"},null,{"$f":"'5 - People'!P29","v":0},{"$f":"IF(J293=F293,\"\",\"Changed Since Last Quarter\")","v":""}]
["5 - People","Capacity & Capability","5.02.13",null,"Additional Capability 3 Future",{"$f":"'5 - People'!G29","v":0},"5 - People'!G29"]
["5 - People","Capacity & Capability","5.02.13",null,"Additional Capability 3 Short Narrative (Amber or Red)",{"$f":"'5 - People'!I29","v":0},"5 - People'!I29"]
["5 - People","Capacity & Capability","5.02.14",null,"Additional Capability 4 Now",{"$f":"'5 - People'!E30","v":0},"5 - People'!E30",{"$f":"IF(CONCATENATE(F296,\" - \",F297,\" - \",F298)=\"0 - 0 - 0\",\"0\",CONCATENATE(F296,\" - \",F297,\" - \",F298))","v":"0"},null,{"$f":"'5 - People'!P30","v":0},{"$f":"IF(J296=F296,\"\",\"Changed Since Last Quarter\")","v":""}]
["5 - People","Capacity & Capability","5.02.14",null,"Additional Capability 4 Future",{"$f":"'5 - People'!G30","v":0},"5 - People'!G30"]
["5 - People","Capacity & Capability","5.02.14",null,"Additional Capability 4 Short Narrative (Amber or Red)",{"$f":"'5 - People'!I30","v":0},"5 - People'!I30"]
["5 - People","Capacity & Capability","5.02.15",null,"Additional Capability 5 Now",{"$f":"'5 - People'!E31","v":0},"5 - People'!E31",{"$f":"IF(CONCATENATE(F299,\" - \",F300,\" - \",F301)=\"0 - 0 - 0\",\"0\",CONCATENATE(F299,\" - \",F300,\" - \",F301))","v":"0"},null,{"$f":"'5 - People'!P31","v":0},{"$f":"IF(J299=F299,\"\",\"Changed Since Last Quarter\")","v":""}]
["5 - People","Capacity & Capability","5.02.15",null,"Additional Capability 5 Future",{"$f":"'5 - People'!G31","v":0},"5 - People'!G31"]
["5 - People","Capacity & Capability","5.02.15",null,"Additional Capability 5 Short Narrative (Amber or Red)",{"$f":"'5 - People'!I31","v":0},"5 - People'!I31"]
["6a - Milestones - Approvals","Approvals","6.01.1",null,"Milestone label",{"$f":"'6a - Milestones - Approvals'!D7","v":"SOBC - Chutney (CBG) Approval"},"6a - Milestones - Approvals'!D7",{"$f":"IF(CONCATENATE(F302,\" - \",F303,\" - \",F304,\" - \",F305,\" - \",F306,\" - \",F307,\" - \",F308,\" - \",F309)=\"0 - 0 - 0 - 0 - 0 -  - 0 - 0\",\"0\",CONCATENATE(F302,\" - \",F303,\" - \",F304,\" - \",F305,\" - \",F306,\" - \",F307,\" - \",F308,\" - \",F309))","v":"SOBC - Chutney (CBG) Approval - LOPPA Approval - SOC - 1 - 42569 - 42569 - 0 - Complete - 0"},null,{"$f":"'6a - Milestones - Approvals'!P7","v":0},{"$f":"IF(J302=F302,\"\",\"Changed Since Last Quarter\")","v":"Changed Since Last Quarter"}]
["6a - Milestones - Approvals","Approvals","6.01.1",null,"List all:\nTreasury Approval Points\nand \nCabinet Office Controls",{"$f":"'6a - Milestones - Approvals'!E7","v":"LOPPA Approval - SOC"},"6a - Milestones - Approvals'!E7"]
["6a - Milestones - Approvals","Approvals","6.01.1",null,"Version No.",{"$f":"'6a - Milestones - Approvals'!F7","v":1},"6a - Milestones - Approvals'!F7"]
["6a - Milestones - Approvals","Approvals","6.01.1",null,"Baseline Date of Approval Point",{"$f":"'6a - Milestones - Approvals'!G7","v":"2016-07-18"},"6a - Milestones - Approvals'!G7"]
["6a - Milestones - Approvals","Approvals","6.01.1",null,"Forecast / Actual Date\nof Approval Point",{"$f":"'6a - Milestones - Approvals'!H7","v":"2016-07-18"},"6a - Milestones - Approvals'!H7"]
["6a - Milestones - Approvals","Approvals","6.01.1",null,"Variance between Baseline and Forecast/ Actual Dates (Days)",{"$f":"'6a - Milestones - Approvals'!I7","v":0},"6a - Milestones - Approvals'!I7"]
["6a - Milestones - Approvals","Approvals","6.01.1",null,"Status",{"$f":"'6a - Milestones - Approvals'!J7","v":"Complete"},"6a - Milestones - Approvals'!J7"]
["6a - Milestones - Approvals","Approvals","6.01.1",null,"Comments",{"$f":"'6a - Milestones - Approvals'!K7","v":0},"6a - Milestones - Approvals'!K7"]
["6a - Milestones - Approvals","Approvals","6.01.2",null,"Milestone label",{"$f":"'6a - Milestones - Approvals'!D8","v":"Chutney (CBG) - Authority to Proceed"},"6a - Milestones - Approvals'!D8",{"$f":"IF(CONCATENATE(F310,\" - \",F311,\" - \",F312,\" - \",F313,\" - \",F314,\" - \",F315,\" - \",F316,\" - \",F317)=\"0 - 0 - 0 - 0 - 0 -  - 0 - 0\",\"0\",CONCATENATE(F310,\" - \",F311,\" - \",F312,\" - \",F313,\" - \",F314,\" - \",F315,\" - \",F316,\" - \",F317))","v":"Chutney (CBG) - Authority to Proceed - LOPPA Approval - SOC - 1 - 43178 - 43241 - 63 - Complete - 0"},null,{"$f":"'6a - Milestones - Approvals'!P8","v":0},{"$f":"IF(J310=F310,\"\",\"Changed Since Last Quarter\")","v":"Changed Since Last Quarter"}]
["6a - Milestones - Approvals","Approvals","6.01.2",null,"List all:\nTreasury Approval Points\nand \nCabinet Office Controls",{"$f":"'6a - Milestones - Approvals'!E8","v":"LOPPA Approval - SOC"},"6a - Milestones - Approvals'!E8"]
["6a - Milestones - Approvals","Approvals","6.01.2",null,"Version No.",{"$f":"'6a - Milestones - Approvals'!F8","v":1},"6a - Milestones - Approvals'!F8"]
["6a - Milestones - Approvals","Approvals","6.01.2",null,"Baseline Date of Approval Point",{"$f":"'6a - Milestones - Approvals'!G8","v":"2018-03-19"},"6a - Milestones - Approvals'!G8"]
["6a - Milestones - Approvals","Approvals","6.01.2",null,"Forecast / Actual Date\nof Approval Point",{"$f":"'6a - Milestones - Approvals'!H8","v":"2018-05-21"},"6a - Milestones - Approvals'!H8"]
["6a - Milestones - Approvals","Approvals","6.01.2",null,"Variance between Baseline and Forecast/ Actual Dates (Days)",{"$f":"'6a - Milestones - Approvals'!I8","v":63},"6a - Milestones - Approvals'!I8"]
["6a - Milestones - Approvals","Approvals","6.01.2",null,"Status",{"$f":"'6a - Milestones - Approvals'!J8","v":"Complete"},"6a - Milestones - Approvals'!J8"]
["6a - Milestones - Approvals","Approvals","6.01.2",null,"Comments",{"$f":"'6a - Milestones - Approvals'!K8","v":0},"6a - Milestones - Approvals'!K8"]
["6a - Milestones - Approvals","Approvals","6.01.3",null,"Milestone label",{"$f":"'6a - Milestones - Approvals'!D9","v":"Chutney (CBG) Management Case"},"6a - Milestones - Approvals'!D9",{"$f":"IF(CONCATENATE(F318,\" - \",F319,\" - \",F320,\" - \",F321,\" - \",F322,\" - \",F323,\" - \",F324,\" - \",F325)=\"0 - 0 - 0 - 0 - 0 -  - 0 - 0\",\"0\",CONCATENATE(F318,\" - \",F319,\" - \",F320,\" - \",F321,\" - \",F322,\" - \",F323,\" - \",F324,\" - \",F325))","v":"Chutney (CBG) Management Case - LOPPA Approval - SOC - 1 - 43073 - 43073 - 0 - Complete - 0"},null,{"$f":"'6a - Milestones - Approvals'!P9","v":0},{"$f":"IF(J318=F318,\"\",\"Changed Since Last Quarter\")","v":"Changed Since Last Quarter"}]
["6a - Milestones - Approvals","Approvals","6.01.3",null,"List all:\nTreasury Approval Points\nand \nCabinet Office Controls",{"$f":"'6a - Milestones - Approvals'!E9","v":"LOPPA Approval - SOC"},"6a - Milestones - Approvals'!E9"]
["6a - Milestones - Approvals","Approvals","6.01.3",null,"Version No.",{"$f":"'6a - Milestones - Approvals'!F9","v":1},"6a - Milestones - Approvals'!F9"]
["6a - Milestones - Approvals","Approvals","6.01.3",null,"Baseline Date of Approval Point",{"$f":"'6a - Milestones - Approvals'!G9","v":"2017-12-04"},"6a - Milestones - Approvals'!G9"]
["6a - Milestones - Approvals","Approvals","6.01.3",null,"Forecast / Actual Date\nof Approval Point",{"$f":"'6a - Milestones - Approvals'!H9","v":"2017-12-04"},"6a - Milestones - Approvals'!H9"]
["6a - Milestones - Approvals","Approvals","6.01.3",null,"Variance between Baseline and Forecast/ Actual Dates (Days)",{"$f":"'6a - Milestones - Approvals'!I9","v":0},"6a - Milestones - Approvals'!I9"]
["6a - Milestones - Approvals","Approvals","6.01.3",null,"Status",{"$f":"'6a - Milestones - Approvals'!J9","v":"Complete"},"6a - Milestones - Approvals'!J9"]
["6a - Milestones - Approvals","Approvals","6.01.3",null,"Comments",{"$f":"'6a - Milestones - Approvals'!K9","v":0},"6a - Milestones - Approvals'!K9"]
["6a - Milestones - Approvals","Approvals","6.01.4",null,"Milestone label",{"$f":"'6a - Milestones - Approvals'!D10","v":"OBC - Chutney (CBG) Approval"},"6a - Milestones - Approvals'!D10",{"$f":"IF(CONCATENATE(F326,\" - \",F327,\" - \",F328,\" - \",F329,\" - \",F330,\" - \",F331,\" - \",F332,\" - \",F333)=\"0 - 0 - 0 - 0 - 0 -  - 0 - 0\",\"0\",CONCATENATE(F326,\" - \",F327,\" - \",F328,\" - \",F329,\" - \",F330,\" - \",F331,\" - \",F332,\" - \",F333))","v":"OBC - Chutney (CBG) Approval - LOPPA Approval - OBC - 1 - 43423 - 43570 - 147 - Live - 0"},null,{"$f":"'6a - Milestones - Approvals'!P10","v":0},{"$f":"IF(J326=F326,\"\",\"Changed Since Last Quarter\")","v":"Changed Since Last Quarter"}]
["6a - Milestones - Approvals","Approvals","6.01.4",null,"List all:\nTreasury Approval Points\nand \nCabinet Office Controls",{"$f":"'6a - Milestones - Approvals'!E10","v":"LOPPA Approval - OBC"},"6a - Milestones - Approvals'!E10"]
["6a - Milestones - Approvals","Approvals","6.01.4",null,"Version No.",{"$f":"'6a - Milestones - Approvals'!F10","v":1},"6a - Milestones - Approvals'!F10"]
["6a - Milestones - Approvals","Approvals","6.01.4",null,"Baseline Date of Approval Point",{"$f":"'6a - Milestones - Approvals'!G10","v":"2018-11-19"},"6a - Milestones - Approvals'!G10"]
["6a - Milestones - Approvals","Approvals","6.01.4",null,"Forecast / Actual Date\nof Approval Point",{"$f":"'6a - Milestones - Approvals'!H10","v":"2019-04-15"},"6a - Milestones - Approvals'!H10"]
["6a - Milestones - Approvals","Approvals","6.01.4",null,"Variance between Baseline and Forecast/ Actual Dates (Days)",{"$f":"'6a - Milestones - Approvals'!I10","v":147},"6a - Milestones - Approvals'!I10"]
["6a - Milestones - Approvals","Approvals","6.01.4",null,"Status",{"$f":"'6a - Milestones - Approvals'!J10","v":"Live"},"6a - Milestones - Approvals'!J10"]
["6a - Milestones - Approvals","Approvals","6.01.4",null,"Comments",{"$f":"'6a - Milestones - Approvals'!K10","v":0},"6a - Milestones - Approvals'!K10"]
["6a - Milestones - Approvals","Approvals","6.01.5",null,"Milestone label",{"$f":"'6a - Milestones - Approvals'!D11","v":"FBC Update - Chutney (CBG) Approval"},"6a - Milestones - Approvals'!D11",{"$f":"IF(CONCATENATE(F334,\" - \",F335,\" - \",F336,\" - \",F337,\" - \",F338,\" - \",F339,\" - \",F340,\" - \",F341)=\"0 - 0 - 0 - 0 - 0 -  - 0 - 0\",\"0\",CONCATENATE(F334,\" - \",F335,\" - \",F336,\" - \",F337,\" - \",F338,\" - \",F339,\" - \",F340,\" - \",F341))","v":"FBC Update - Chutney (CBG) Approval - LOPPA Approval - FBC - 1 - 44228 - 44228 - 0 - Live - 0"},null,{"$f":"'6a - Milestones - Approvals'!P11","v":0},{"$f":"IF(J334=F334,\"\",\"Changed Since Last Quarter\")","v":"Changed Since Last Quarter"}]
["6a - Milestones - Approvals","Approvals","6.01.5",null,"List all:\nTreasury Approval Points\nand \nCabinet Office Controls",{"$f":"'6a - Milestones - Approvals'!E11","v":"LOPPA Approval - FBC"},"6a - Milestones - Approvals'!E11"]
["6a - Milestones - Approvals","Approvals","6.01.5",null,"Version No.",{"$f":"'6a - Milestones - Approvals'!F11","v":1},"6a - Milestones - Approvals'!F11"]
["6a - Milestones - Approvals","Approvals","6.01.5",null,"Baseline Date of Approval Point",{"$f":"'6a - Milestones - Approvals'!G11","v":"2021-02-01"},"6a - Milestones - Approvals'!G11"]
["6a - Milestones - Approvals","Approvals","6.01.5",null,"Forecast / Actual Date\nof Approval Point",{"$f":"'6a - Milestones - Approvals'!H11","v":"2021-02-01"},"6a - Milestones - Approvals'!H11"]
["6a - Milestones - Approvals","Approvals","6.01.5",null,"Variance between Baseline and Forecast/ Actual Dates (Days)",{"$f":"'6a - Milestones - Approvals'!I11","v":0},"6a - Milestones - Approvals'!I11"]
["6a - Milestones - Approvals","Approvals","6.01.5",null,"Status",{"$f":"'6a - Milestones - Approvals'!J11","v":"Live"},"6a - Milestones - Approvals'!J11"]
["6a - Milestones - Approvals","Approvals","6.01.5",null,"Comments",{"$f":"'6a - Milestones - Approvals'!K11","v":0},"6a - Milestones - Approvals'!K11"]
["6a - Milestones - Approvals","Approvals","6.01.6",null,"Milestone label",{"$f":"'6a - Milestones - Approvals'!D12","v":"FBC - Chutney (CBG) Approval"},"6a - Milestones - Approvals'!D12",{"$f":"IF(CONCATENATE(F342,\" - \",F343,\" - \",F344,\" - \",F345,\" - \",F346,\" - \",F347,\" - \",F348,\" - \",F349)=\"0 - 0 - 0 - 0 - 0 -  - 0 - 0\",\"0\",CONCATENATE(F342,\" - \",F343,\" - \",F344,\" - \",F345,\" - \",F346,\" - \",F347,\" - \",F348,\" - \",F349))","v":"FBC - Chutney (CBG) Approval - LOPPA Approval - FBC - 1 - 43862 - 36557 - -7305 - Live - Date changed due to revised baseline approved at Chutney (CBG)."},null,{"$f":"'6a - Milestones - Approvals'!P12","v":0},{"$f":"IF(J342=F342,\"\",\"Changed Since Last Quarter\")","v":"Changed Since Last Quarter"}]
["6a - Milestones - Approvals","Approvals","6.01.6",null,"List all:\nTreasury Approval Points\nand \nCabinet Office Controls",{"$f":"'6a - Milestones - Approvals'!E12","v":"LOPPA Approval - FBC"},"6a - Milestones - Approvals'!E12"]
["6a - Milestones - Approvals","Approvals","6.01.6",null,"Version No.",{"$f":"'6a - Milestones - Approvals'!F12","v":1},"6a - Milestones - Approvals'!F12"]
["6a - Milestones - Approvals","Approvals","6.01.6",null,"Baseline Date of Approval Point",{"$f":"'6a - Milestones - Approvals'!G12","v":"2020-02-01"},"6a - Milestones - Approvals'!G12"]
["6a - Milestones - Approvals","Approvals","6.01.6",null,"Forecast / Actual Date\nof Approval Point",{"$f":"'6a - Milestones - Approvals'!H12","v":"2000-02-01"},"6a - Milestones - Approvals'!H12"]
["6a - Milestones - Approvals","Approvals","6.01.6",null,"Variance between Baseline and Forecast/ Actual Dates (Days)",{"$f":"'6a - Milestones - Approvals'!I12","v":-7305},"6a - Milestones - Approvals'!I12"]
["6a - Milestones - Approvals","Approvals","6.01.6",null,"Status",{"$f":"'6a - Milestones - Approvals'!J12","v":"Live"},"6a - Milestones - Approvals'!J12"]
["6a - Milestones - Approvals","Approvals","6.01.6",null,"Comments",{"$f":"'6a - Milestones - Approvals'!K12","v":"Date changed due to revised baseline approved at Chutney (CBG)."},"6a - Milestones - Approvals'!K12"]
["6a - Milestones - Approvals","Approvals","6.01.7",null,"Milestone label",{"$f":"'6a - Milestones - Approvals'!D13","v":"Planning Consents"},"6a - Milestones - Approvals'!D13",{"$f":"IF(CONCATENATE(F350,\" - \",F351,\" - \",F352,\" - \",F353,\" - \",F354,\" - \",F355,\" - \",F356,\" - \",F357)=\"0 - 0 - 0 - 0 - 0 -  - 0 - 0\",\"0\",CONCATENATE(F350,\" - \",F351,\" - \",F352,\" - \",F353,\" - \",F354,\" - \",F355,\" - \",F356,\" - \",F357))","v":"Planning Consents - Control - Property - 1 - 8402 - 43921 - 35519 - Live - 0"},null,{"$f":"'6a - Milestones - Approvals'!P13","v":0},{"$f":"IF(J350=F350,\"\",\"Changed Since Last Quarter\")","v":"Changed Since Last Quarter"}]
["6a - Milestones - Approvals","Approvals","6.01.7",null,"List all:\nTreasury Approval Points\nand \nCabinet Office Controls",{"$f":"'6a - Milestones - Approvals'!E13","v":"Control - Property"},"6a - Milestones - Approvals'!E13"]
["6a - Milestones - Approvals","Approvals","6.01.7",null,"Version No.",{"$f":"'6a - Milestones - Approvals'!F13","v":1},"6a - Milestones - Approvals'!F13"]
["6a - Milestones - Approvals","Approvals","6.01.7",null,"Baseline Date of Approval Point",{"$f":"'6a - Milestones - Approvals'!G13","v":"1923-01-01"},"6a - Milestones - Approvals'!G13"]
["6a - Milestones - Approvals","Approvals","6.01.7",null,"Forecast / Actual Date\nof Approval Point",{"$f":"'6a - Milestones - Approvals'!H13","v":"2020-03-31"},"6a - Milestones - Approvals'!H13"]
["6a - Milestones - Approvals","Approvals","6.01.7",null,"Variance between Baseline and Forecast/ Actual Dates (Days)",{"$f":"'6a - Milestones - Approvals'!I13","v":35519},"6a - Milestones - Approvals'!I13"]
["6a - Milestones - Approvals","Approvals","6.01.7",null,"Status",{"$f":"'6a - Milestones - Approvals'!J13","v":"Live"},"6a - Milestones - Approvals'!J13"]
["6a - Milestones - Approvals","Approvals","6.01.7",null,"Comments",{"$f":"'6a - Milestones - Approvals'!K13","v":0},"6a - Milestones - Approvals'!K13"]
["6a - Milestones - Approvals","Approvals","6.01.8",null,"Milestone label",{"$f":"'6a - Milestones - Approvals'!D14","v":"Pre-PIN Approval"},"6a - Milestones - Approvals'!D14",{"$f":"IF(CONCATENATE(F358,\" - \",F359,\" - \",F360,\" - \",F361,\" - \",F362,\" - \",F363,\" - \",F364,\" - \",F365)=\"0 - 0 - 0 - 0 - 0 -  - 0 - 0\",\"0\",CONCATENATE(F358,\" - \",F359,\" - \",F360,\" - \",F361,\" - \",F362,\" - \",F363,\" - \",F364,\" - \",F365))","v":"Pre-PIN Approval - Control - Property - 1 - 43312 - 43312 - 0 - Complete - 0"},null,{"$f":"'6a - Milestones - Approvals'!P14","v":0},{"$f":"IF(J358=F358,\"\",\"Changed Since Last Quarter\")","v":"Changed Since Last Quarter"}]
["6a - Milestones - Approvals","Approvals","6.01.8",null,"List all:\nTreasury Approval Points\nand \nCabinet Office Controls",{"$f":"'6a - Milestones - Approvals'!E14","v":"Control - Property"},"6a - Milestones - Approvals'!E14"]
["6a - Milestones - Approvals","Approvals","6.01.8",null,"Version No.",{"$f":"'6a - Milestones - Approvals'!F14","v":1},"6a - Milestones - Approvals'!F14"]
["6a - Milestones - Approvals","Approvals","6.01.8",null,"Baseline Date of Approval Point",{"$f":"'6a - Milestones - Approvals'!G14","v":"2018-07-31"},"6a - Milestones - Approvals'!G14"]
["6a - Milestones - Approvals","Approvals","6.01.8",null,"Forecast / Actual Date\nof Approval Point",{"$f":"'6a - Milestones - Approvals'!H14","v":"2018-07-31"},"6a - Milestones - Approvals'!H14"]
["6a - Milestones - Approvals","Approvals","6.01.8",null,"Variance between Baseline and Forecast/ Actual Dates (Days)",{"$f":"'6a - Milestones - Approvals'!I14","v":0},"6a - Milestones - Approvals'!I14"]
["6a - Milestones - Approvals","Approvals","6.01.8",null,"Status",{"$f":"'6a - Milestones - Approvals'!J14","v":"Complete"},"6a - Milestones - Approvals'!J14"]
["6a - Milestones - Approvals","Approvals","6.01.8",null,"Comments",{"$f":"'6a - Milestones - Approvals'!K14","v":0},"6a - Milestones - Approvals'!K14"]
["6a - Milestones - Approvals","Approvals","6.01.9",null,"Milestone label",{"$f":"'6a - Milestones - Approvals'!D15","v":"SOBC - HMT Approval"},"6a - Milestones - Approvals'!D15",{"$f":"IF(CONCATENATE(F366,\" - \",F367,\" - \",F368,\" - \",F369,\" - \",F370,\" - \",F371,\" - \",F372,\" - \",F373)=\"0 - 0 - 0 - 0 - 0 -  - 0 - 0\",\"0\",CONCATENATE(F366,\" - \",F367,\" - \",F368,\" - \",F369,\" - \",F370,\" - \",F371,\" - \",F372,\" - \",F373))","v":"SOBC - HMT Approval - Approval - HMT SOC - 1 - 42735 - 42735 - 0 - Complete - 0"},null,{"$f":"'6a - Milestones - Approvals'!P15","v":0},{"$f":"IF(J366=F366,\"\",\"Changed Since Last Quarter\")","v":"Changed Since Last Quarter"}]
["6a - Milestones - Approvals","Approvals","6.01.9",null,"List all:\nTreasury Approval Points\nand \nCabinet Office Controls",{"$f":"'6a - Milestones - Approvals'!E15","v":"Approval - HMT SOC"},"6a - Milestones - Approvals'!E15"]
["6a - Milestones - Approvals","Approvals","6.01.9",null,"Version No.",{"$f":"'6a - Milestones - Approvals'!F15","v":1},"6a - Milestones - Approvals'!F15"]
["6a - Milestones - Approvals","Approvals","6.01.9",null,"Baseline Date of Approval Point",{"$f":"'6a - Milestones - Approvals'!G15","v":"2016-12-31"},"6a - Milestones - Approvals'!G15"]
["6a - Milestones - Approvals","Approvals","6.01.9",null,"Forecast / Actual Date\nof Approval Point",{"$f":"'6a - Milestones - Approvals'!H15","v":"2016-12-31"},"6a - Milestones - Approvals'!H15"]
["6a - Milestones - Approvals","Approvals","6.01.9",null,"Variance between Baseline and Forecast/ Actual Dates (Days)",{"$f":"'6a - Milestones - Approvals'!I15","v":0},"6a - Milestones - Approvals'!I15"]
["6a - Milestones - Approvals","Approvals","6.01.9",null,"Status",{"$f":"'6a - Milestones - Approvals'!J15","v":"Complete"},"6a - Milestones - Approvals'!J15"]
["6a - Milestones - Approvals","Approvals","6.01.9",null,"Comments",{"$f":"'6a - Milestones - Approvals'!K15","v":0},"6a - Milestones - Approvals'!K15"]
["6a - Milestones - Approvals","Approvals","6.01.10",null,"Milestone label",{"$f":"'6a - Milestones - Approvals'!D16","v":"OBC - MPRG"},"6a - Milestones - Approvals'!D16",{"$f":"IF(CONCATENATE(F374,\" - \",F375,\" - \",F376,\" - \",F377,\" - \",F378,\" - \",F379,\" - \",F380,\" - \",F381)=\"0 - 0 - 0 - 0 - 0 -  - 0 - 0\",\"0\",CONCATENATE(F374,\" - \",F375,\" - \",F376,\" - \",F377,\" - \",F378,\" - \",F379,\" - \",F380,\" - \",F381))","v":"OBC - MPRG - Approval - HMT OBC - 1 - 43447 - 43588 - 141 - Live - 0"},null,{"$f":"'6a - Milestones - Approvals'!P16","v":0},{"$f":"IF(J374=F374,\"\",\"Changed Since Last Quarter\")","v":"Changed Since Last Quarter"}]
["6a - Milestones - Approvals","Approvals","6.01.10",null,"List all:\nTreasury Approval Points\nand \nCabinet Office Controls",{"$f":"'6a - Milestones - Approvals'!E16","v":"Approval - HMT OBC"},"6a - Milestones - Approvals'!E16"]
["6a - Milestones - Approvals","Approvals","6.01.10",null,"Version No.",{"$f":"'6a - Milestones - Approvals'!F16","v":1},"6a - Milestones - Approvals'!F16"]
["6a - Milestones - Approvals","Approvals","6.01.10",null,"Baseline Date of Approval Point",{"$f":"'6a - Milestones - Approvals'!G16","v":"2018-12-13"},"6a - Milestones - Approvals'!G16"]
["6a - Milestones - Approvals","Approvals","6.01.10",null,"Forecast / Actual Date\nof Approval Point",{"$f":"'6a - Milestones - Approvals'!H16","v":"2019-05-03"},"6a - Milestones - Approvals'!H16"]
["6a - Milestones - Approvals","Approvals","6.01.10",null,"Variance between Baseline and Forecast/ Actual Dates (Days)",{"$f":"'6a - Milestones - Approvals'!I16","v":141},"6a - Milestones - Approvals'!I16"]
["6a - Milestones - Approvals","Approvals","6.01.10",null,"Status",{"$f":"'6a - Milestones - Approvals'!J16","v":"Live"},"6a - Milestones - Approvals'!J16"]
["6a - Milestones - Approvals","Approvals","6.01.10",null,"Comments",{"$f":"'6a - Milestones - Approvals'!K16","v":0},"6a - Milestones - Approvals'!K16"]
["6a - Milestones - Approvals","Approvals","6.01.11",null,"Milestone label",{"$f":"'6a - Milestones - Approvals'!D17","v":"FBC Update - HMT Approval"},"6a - Milestones - Approvals'!D17",{"$f":"IF(CONCATENATE(F382,\" - \",F383,\" - \",F384,\" - \",F385,\" - \",F386,\" - \",F387,\" - \",F388,\" - \",F389)=\"0 - 0 - 0 - 0 - 0 -  - 0 - 0\",\"0\",CONCATENATE(F382,\" - \",F383,\" - \",F384,\" - \",F385,\" - \",F386,\" - \",F387,\" - \",F388,\" - \",F389))","v":"FBC Update - HMT Approval - Approval - HMT FBC - 1 - 44287 - 44287 - 0 - Live - 0"},null,{"$f":"'6a - Milestones - Approvals'!P17","v":0},{"$f":"IF(J382=F382,\"\",\"Changed Since Last Quarter\")","v":"Changed Since Last Quarter"}]
["6a - Milestones - Approvals","Approvals","6.01.11",null,"List all:\nTreasury Approval Points\nand \nCabinet Office Controls",{"$f":"'6a - Milestones - Approvals'!E17","v":"Approval - HMT FBC"},"6a - Milestones - Approvals'!E17"]
["6a - Milestones - Approvals","Approvals","6.01.11",null,"Version No.",{"$f":"'6a - Milestones - Approvals'!F17","v":1},"6a - Milestones - Approvals'!F17"]
["6a - Milestones - Approvals","Approvals","6.01.11",null,"Baseline Date of Approval Point",{"$f":"'6a - Milestones - Approvals'!G17","v":"2021-04-01"},"6a - Milestones - Approvals'!G17"]
["6a - Milestones - Approvals","Approvals","6.01.11",null,"Forecast / Actual Date\nof Approval Point",{"$f":"'6a - Milestones - Approvals'!H17","v":"2021-04-01"},"6a - Milestones - Approvals'!H17"]
["6a - Milestones - Approvals","Approvals","6.01.11",null,"Variance between Baseline and Forecast/ Actual Dates (Days)",{"$f":"'6a - Milestones - Approvals'!I17","v":0},"6a - Milestones - Approvals'!I17"]
["6a - Milestones - Approvals","Approvals","6.01.11",null,"Status",{"$f":"'6a - Milestones - Approvals'!J17","v":"Live"},"6a - Milestones - Approvals'!J17"]
["6a - Milestones - Approvals","Approvals","6.01.11",null,"Comments",{"$f":"'6a - Milestones - Approvals'!K17","v":0},"6a - Milestones - Approvals'!K17"]
["6a - Milestones - Approvals","Approvals","6.01.12",null,"Milestone label",{"$f":"'6a - Milestones - Approvals'!D18","v":"FBC - HMT Approval"},"6a - Milestones - Approvals'!D18",{"$f":"IF(CONCATENATE(F390,\" - \",F391,\" - \",F392,\" - \",F393,\" - \",F394,\" - \",F395,\" - \",F396,\" - \",F397)=\"0 - 0 - 0 - 0 - 0 -  - 0 - 0\",\"0\",CONCATENATE(F390,\" - \",F391,\" - \",F392,\" - \",F393,\" - \",F394,\" - \",F395,\" - \",F396,\" - \",F397))","v":"FBC - HMT Approval - Approval - HMT FBC - 1 - 43922 - 43922 - 0 - Live - 0"},null,{"$f":"'6a - Milestones - Approvals'!P18","v":0},{"$f":"IF(J390=F390,\"\",\"Changed Since Last Quarter\")","v":"Changed Since Last Quarter"}]
["6a - Milestones - Approvals","Approvals","6.01.12",null,"List all:\nTreasury Approval Points\nand \nCabinet Office Controls",{"$f":"'6a - Milestones - Approvals'!E18","v":"Approval - HMT FBC"},"6a - Milestones - Approvals'!E18"]
["6a - Milestones - Approvals","Approvals","6.01.12",null,"Version No.",{"$f":"'6a - Milestones - Approvals'!F18","v":1},"6a - Milestones - Approvals'!F18"]
["6a - Milestones - Approvals","Approvals","6.01.12",null,"Baseline Date of Approval Point",{"$f":"'6a - Milestones - Approvals'!G18","v":"2020-04-01"},"6a - Milestones - Approvals'!G18"]
["6a - Milestones - Approvals","Approvals","6.01.12",null,"Forecast / Actual Date\nof Approval Point",{"$f":"'6a - Milestones - Approvals'!H18","v":"2020-04-01"},"6a - Milestones - Approvals'!H18"]
["6a - Milestones - Approvals","Approvals","6.01.12",null,"Variance between Baseline and Forecast/ Actual Dates (Days)",{"$f":"'6a - Milestones - Approvals'!I18","v":0},"6a - Milestones - Approvals'!I18"]
["6a - Milestones - Approvals","Approvals","6.01.12",null,"Status",{"$f":"'6a - Milestones - Approvals'!J18","v":"Live"},"6a - Milestones - Approvals'!J18"]
["6a - Milestones - Approvals","Approvals","6.01.12",null,"Comments",{"$f":"'6a - Milestones - Approvals'!K18","v":0},"6a - Milestones - Approvals'!K18"]
["6a - Milestones - Approvals","Approvals","6.01.13",null,"Milestone label",{"$f":"'6a - Milestones - Approvals'!D19","v":"Pre-OJEU Approval"},"6a - Milestones - Approvals'!D19",{"$f":"IF(CONCATENATE(F398,\" - \",F399,\" - \",F400,\" - \",F401,\" - \",F402,\" - \",F403,\" - \",F404,\" - \",F405)=\"0 - 0 - 0 - 0 - 0 -  - 0 - 0\",\"0\",CONCATENATE(F398,\" - \",F399,\" - \",F400,\" - \",F401,\" - \",F402,\" - \",F403,\" - \",F404,\" - \",F405))","v":"Pre-OJEU Approval - Control - Commercial control and dispute disclosure (including facilities management (FM)) - 1 - 43496 - 43616 - 120 - Live - 0"},null,{"$f":"'6a - Milestones - Approvals'!P19","v":0},{"$f":"IF(J398=F398,\"\",\"Changed Since Last Quarter\")","v":"Changed Since Last Quarter"}]
["6a - Milestones - Approvals","Approvals","6.01.13",null,"List all:\nTreasury Approval Points\nand \nCabinet Office Controls",{"$f":"'6a - Milestones - Approvals'!E19","v":"Control - Commercial control and dispute disclosure (including facilities management (FM))"},"6a - Milestones - Approvals'!E19"]
["6a - Milestones - Approvals","Approvals","6.01.13",null,"Version No.",{"$f":"'6a - Milestones - Approvals'!F19","v":1},"6a - Milestones - Approvals'!F19"]
["6a - Milestones - Approvals","Approvals","6.01.13",null,"Baseline Date of Approval Point",{"$f":"'6a - Milestones - Approvals'!G19","v":"2019-01-31"},"6a - Milestones - Approvals'!G19"]
["6a - Milestones - Approvals","Approvals","6.01.13",null,"Forecast / Actual Date\nof Approval Point",{"$f":"'6a - Milestones - Approvals'!H19","v":"2019-05-31"},"6a - Milestones - Approvals'!H19"]
["6a - Milestones - Approvals","Approvals","6.01.13",null,"Variance between Baseline and Forecast/ Actual Dates (Days)",{"$f":"'6a - Milestones - Approvals'!I19","v":120},"6a - Milestones - Approvals'!I19"]
["6a - Milestones - Approvals","Approvals","6.01.13",null,"Status",{"$f":"'6a - Milestones - Approvals'!J19","v":"Live"},"6a - Milestones - Approvals'!J19"]
["6a - Milestones - Approvals","Approvals","6.01.13",null,"Comments",{"$f":"'6a - Milestones - Approvals'!K19","v":0},"6a - Milestones - Approvals'!K19"]
["6a - Milestones - Approvals","Approvals","6.01.14",null,"Milestone label",{"$f":"'6a - Milestones - Approvals'!D20","v":"Shortlisting Chutney (CBG) Approval"},"6a - Milestones - Approvals'!D20",{"$f":"IF(CONCATENATE(F406,\" - \",F407,\" - \",F408,\" - \",F409,\" - \",F410,\" - \",F411,\" - \",F412,\" - \",F413)=\"0 - 0 - 0 - 0 - 0 -  - 0 - 0\",\"0\",CONCATENATE(F406,\" - \",F407,\" - \",F408,\" - \",F409,\" - \",F410,\" - \",F411,\" - \",F412,\" - \",F413))","v":"Shortlisting Chutney (CBG) Approval - Control - Commercial control and dispute disclosure (including facilities management (FM)) - 1 - 43921 - 43921 - 0 - Live - 0"},null,{"$f":"'6a - Milestones - Approvals'!P20","v":0},{"$f":"IF(J406=F406,\"\",\"Changed Since Last Quarter\")","v":"Changed Since Last Quarter"}]
["6a - Milestones - Approvals","Approvals","6.01.14",null,"List all:\nTreasury Approval Points\nand \nCabinet Office Controls",{"$f":"'6a - Milestones - Approvals'!E20","v":"Control - Commercial control and dispute disclosure (including facilities management (FM))"},"6a - Milestones - Approvals'!E20"]
["6a - Milestones - Approvals","Approvals","6.01.14",null,"Version No.",{"$f":"'6a - Milestones - Approvals'!F20","v":1},"6a - Milestones - Approvals'!F20"]
["6a - Milestones - Approvals","Approvals","6.01.14",null,"Baseline Date of Approval Point",{"$f":"'6a - Milestones - Approvals'!G20","v":"2020-03-31"},"6a - Milestones - Approvals'!G20"]
["6a - Milestones - Approvals","Approvals","6.01.14",null,"Forecast / Actual Date\nof Approval Point",{"$f":"'6a - Milestones - Approvals'!H20","v":"2020-03-31"},"6a - Milestones - Approvals'!H20"]
["6a - Milestones - Approvals","Approvals","6.01.14",null,"Variance between Baseline and Forecast/ Actual Dates (Days)",{"$f":"'6a - Milestones - Approvals'!I20","v":0},"6a - Milestones - Approvals'!I20"]
["6a - Milestones - Approvals","Approvals","6.01.14",null,"Status",{"$f":"'6a - Milestones - Approvals'!J20","v":"Live"},"6a - Milestones - Approvals'!J20"]
["6a - Milestones - Approvals","Approvals","6.01.14",null,"Comments",{"$f":"'6a - Milestones - Approvals'!K20","v":0},"6a - Milestones - Approvals'!K20"]
["6a - Milestones - Approvals","Approvals","6.01.15",null,"Milestone label",{"$f":"'6a - Milestones - Approvals'!D21","v":"Selection Chutney (CBG) Approval"},"6a - Milestones - Approvals'!D21",{"$f":"IF(CONCATENATE(F414,\" - \",F415,\" - \",F416,\" - \",F417,\" - \",F418,\" - \",F419,\" - \",F420,\" - \",F421)=\"0 - 0 - 0 - 0 - 0 -  - 0 - 0\",\"0\",CONCATENATE(F414,\" - \",F415,\" - \",F416,\" - \",F417,\" - \",F418,\" - \",F419,\" - \",F420,\" - \",F421))","v":"Selection Chutney (CBG) Approval - Control - Commercial control and dispute disclosure (including facilities management (FM)) - 1 - 44104 - 44104 - 0 - Live - 0"},null,{"$f":"'6a - Milestones - Approvals'!P21","v":0},{"$f":"IF(J414=F414,\"\",\"Changed Since Last Quarter\")","v":"Changed Since Last Quarter"}]
["6a - Milestones - Approvals","Approvals","6.01.15",null,"List all:\nTreasury Approval Points\nand \nCabinet Office Controls",{"$f":"'6a - Milestones - Approvals'!E21","v":"Control - Commercial control and dispute disclosure (including facilities management (FM))"},"6a - Milestones - Approvals'!E21"]
["6a - Milestones - Approvals","Approvals","6.01.15",null,"Version No.",{"$f":"'6a - Milestones - Approvals'!F21","v":1},"6a - Milestones - Approvals'!F21"]
["6a - Milestones - Approvals","Approvals","6.01.15",null,"Baseline Date of Approval Point",{"$f":"'6a - Milestones - Approvals'!G21","v":"2020-09-30"},"6a - Milestones - Approvals'!G21"]
["6a - Milestones - Approvals","Approvals","6.01.15",null,"Forecast / Actual Date\nof Approval Point",{"$f":"'6a - Milestones - Approvals'!H21","v":"2020-09-30"},"6a - Milestones - Approvals'!H21"]
["6a - Milestones - Approvals","Approvals","6.01.15",null,"Variance between Baseline and Forecast/ Actual Dates (Days)",{"$f":"'6a - Milestones - Approvals'!I21","v":0},"6a - Milestones - Approvals'!I21"]
["6a - Milestones - Approvals","Approvals","6.01.15",null,"Status",{"$f":"'6a - Milestones - Approvals'!J21","v":"Live"},"6a - Milestones - Approvals'!J21"]
["6a - Milestones - Approvals","Approvals","6.01.15",null,"Comments",{"$f":"'6a - Milestones - Approvals'!K21","v":0},"6a - Milestones - Approvals'!K21"]
["6a - Milestones - Approvals","Approvals","6.01.16",null,"Milestone label",{"$f":"'6a - Milestones - Approvals'!D22","v":"OBC - IDC Approval"},"6a - Milestones - Approvals'!D22",{"$f":"IF(CONCATENATE(F422,\" - \",F423,\" - \",F424,\" - \",F425,\" - \",F426,\" - \",F427,\" - \",F428,\" - \",F429)=\"0 - 0 - 0 - 0 - 0 -  - 0 - 0\",\"0\",CONCATENATE(F422,\" - \",F423,\" - \",F424,\" - \",F425,\" - \",F426,\" - \",F427,\" - \",F428,\" - \",F429))","v":"OBC - IDC Approval - LOPPA Approval - OBC - 1 - 43536 - 43536 - 0 - Complete - 0"},null,{"$f":"'6a - Milestones - Approvals'!P22","v":0},{"$f":"IF(J422=F422,\"\",\"Changed Since Last Quarter\")","v":"Changed Since Last Quarter"}]
["6a - Milestones - Approvals","Approvals","6.01.16",null,"List all:\nTreasury Approval Points\nand \nCabinet Office Controls",{"$f":"'6a - Milestones - Approvals'!E22","v":"LOPPA Approval - OBC"},"6a - Milestones - Approvals'!E22"]
["6a - Milestones - Approvals","Approvals","6.01.16",null,"Version No.",{"$f":"'6a - Milestones - Approvals'!F22","v":1},"6a - Milestones - Approvals'!F22"]
["6a - Milestones - Approvals","Approvals","6.01.16",null,"Baseline Date of Approval Point",{"$f":"'6a - Milestones - Approvals'!G22","v":"2019-03-12"},"6a - Milestones - Approvals'!G22"]
["6a - Milestones - Approvals","Approvals","6.01.16",null,"Forecast / Actual Date\nof Approval Point",{"$f":"'6a - Milestones - Approvals'!H22","v":"2019-03-12"},"6a - Milestones - Approvals'!H22"]
["6a - Milestones - Approvals","Approvals","6.01.16",null,"Variance between Baseline and Forecast/ Actual Dates (Days)",{"$f":"'6a - Milestones - Approvals'!I22","v":0},"6a - Milestones - Approvals'!I22"]
["6a - Milestones - Approvals","Approvals","6.01.16",null,"Status",{"$f":"'6a - Milestones - Approvals'!J22","v":"Complete"},"6a - Milestones - Approvals'!J22"]
["6a - Milestones - Approvals","Approvals","6.01.16",null,"Comments",{"$f":"'6a - Milestones - Approvals'!K22","v":0},"6a - Milestones - Approvals'!K22"]
["6a - Milestones - Approvals","Approvals","6.01.17",null,"Milestone label",{"$f":"'6a - Milestones - Approvals'!D23","v":0},"6a - Milestones - Approvals'!D23",{"$f":"IF(CONCATENATE(F430,\" - \",F431,\" - \",F432,\" - \",F433,\" - \",F434,\" - \",F435,\" - \",F436,\" - \",F437)=\"0 - 0 - 0 - 0 - 0 -  - 0 - 0\",\"0\",CONCATENATE(F430,\" - \",F431,\" - \",F432,\" - \",F433,\" - \",F434,\" - \",F435,\" - \",F436,\" - \",F437))","v":"0"},null,{"$f":"'6a - Milestones - Approvals'!P23","v":0},{"$f":"IF(J430=F430,\"\",\"Changed Since Last Quarter\")","v":""}]
["6a - Milestones - Approvals","Approvals","6.01.17",null,"List all:\nTreasury Approval Points\nand \nCabinet Office Controls",{"$f":"'6a - Milestones - Approvals'!E23","v":0},"6a - Milestones - Approvals'!E23"]
["6a - Milestones - Approvals","Approvals","6.01.17",null,"Version No.",{"$f":"'6a - Milestones - Approvals'!F23","v":0},"6a - Milestones - Approvals'!F23"]
["6a - Milestones - Approvals","Approvals","6.01.17",null,"Baseline Date of Approval Point",{"$f":"'6a - Milestones - Approvals'!G23","v":"00:00:00"},"6a - Milestones - Approvals'!G23"]
["6a - Milestones - Approvals","Approvals","6.01.17",null,"Forecast / Actual Date\nof Approval Point",{"$f":"'6a - Milestones - Approvals'!H23","v":"00:00:00"},"6a - Milestones - Approvals'!H23"]
["6a - Milestones - Approvals","Approvals","6.01.17",null,"Variance between Baseline and Forecast/ Actual Dates (Days)",{"$f":"'6a - Milestones - Approvals'!I23","v":""},"6a - Milestones - Approvals'!I23"]
["6a - Milestones - Approvals","Approvals","6.01.17",null,"Status",{"$f":"'6a - Milestones - Approvals'!J23","v":0},"6a - Milestones - Approvals'!J23"]
["6a - Milestones - Approvals","Approvals","6.01.17",null,"Comments",{"$f":"'6a - Milestones - Approvals'!K23","v":0},"6a - Milestones - Approvals'!K23"]
["6a - Milestones - Approvals","Approvals","6.01.18",null,"Milestone label",{"$f":"'6a - Milestones - Approvals'!D24","v":0},"6a - Milestones - Approvals'!D24",{"$f":"IF(CONCATENATE(F438,\" - \",F439,\" - \",F440,\" - \",F441,\" - \",F442,\" - \",F443,\" - \",F444,\" - \",F445)=\"0 - 0 - 0 - 0 - 0 -  - 0 - 0\",\"0\",CONCATENATE(F438,\" - \",F439,\" - \",F440,\" - \",F441,\" - \",F442,\" - \",F443,\" - \",F444,\" - \",F445))","v":"0"},null,{"$f":"'6a - Milestones - Approvals'!P24","v":0},{"$f":"IF(J438=F438,\"\",\"Changed Since Last Quarter\")","v":""}]
["6a - Milestones - Approvals","Approvals","6.01.18",null,"List all:\nTreasury Approval Points\nand \nCabinet Office Controls",{"$f":"'6a - Milestones - Approvals'!E24","v":0},"6a - Milestones - Approvals'!E24"]
["6a - Milestones - Approvals","Approvals","6.01.18",null,"Version No.",{"$f":"'6a - Milestones - Approvals'!F24","v":0},"6a - Milestones - Approvals'!F24"]
["6a - Milestones - Approvals","Approvals","6.01.18",null,"Baseline Date of Approval Point",{"$f":"'6a - Milestones - Approvals'!G24","v":"00:00:00"},"6a - Milestones - Approvals'!G24"]
["6a - Milestones - Approvals","Approvals","6.01.18",null,"Forecast / Actual Date\nof Approval Point",{"$f":"'6a - Milestones - Approvals'!H24","v":"00:00:00"},"6a - Milestones - Approvals'!H24"]
["6a - Milestones - Approvals","Approvals","6.01.18",null,"Variance between Baseline and Forecast/ Actual Dates (Days)",{"$f":"'6a - Milestones - Approvals'!I24","v":""},"6a - Milestones - Approvals'!I24"]
["6a - Milestones - Approvals","Approvals","6.01.18",null,"Status",{"$f":"'6a - Milestones - Approvals'!J24","v":0},"6a - Milestones - Approvals'!J24"]
["6a - Milestones - Approvals","Approvals","6.01.18",null,"Comments",{"$f":"'6a - Milestones - Approvals'!K24","v":0},"6a - Milestones - Approvals'!K24"]
["6a - Milestones - Approvals","Approvals","6.01.19",null,"Milestone label",{"$f":"'6a - Milestones - Approvals'!D25","v":0},"6a - Milestones - Approvals'!D25",{"$f":"IF(CONCATENATE(F446,\" - \",F447,\" - \",F448,\" - \",F449,\" - \",F450,\" - \",F451,\" - \",F452,\" - \",F453)=\"0 - 0 - 0 - 0 - 0 -  - 0 - 0\",\"0\",CONCATENATE(F446,\" - \",F447,\" - \",F448,\" - \",F449,\" - \",F450,\" - \",F451,\" - \",F452,\" - \",F453))","v":"0"},null,{"$f":"'6a - Milestones - Approvals'!P25","v":0},{"$f":"IF(J446=F446,\"\",\"Changed Since Last Quarter\")","v":""}]
["6a - Milestones - Approvals","Approvals","6.01.19",null,"List all:\nTreasury Approval Points\nand \nCabinet Office Controls",{"$f":"'6a - Milestones - Approvals'!E25","v":0},"6a - Milestones - Approvals'!E25"]
["6a - Milestones - Approvals","Approvals","6.01.19",null,"Version No.",{"$f":"'6a - Milestones - Approvals'!F25","v":0},"6a - Milestones - Approvals'!F25"]
["6a - Milestones - Approvals","Approvals","6.01.19",null,"Baseline Date of Approval Point",{"$f":"'6a - Milestones - Approvals'!G25","v":"00:00:00"},"6a - Milestones - Approvals'!G25"]
["6a - Milestones - Approvals","Approvals","6.01.19",null,"Forecast / Actual Date\nof Approval Point",{"$f":"'6a - Milestones - Approvals'!H25","v":"00:00:00"},"6a - Milestones - Approvals'!H25"]
["6a - Milestones - Approvals","Approvals","6.01.19",null,"Variance between Baseline and Forecast/ Actual Dates (Days)",{"$f":"'6a - Milestones - Approvals'!I25","v":""},"6a - Milestones - Approvals'!I25"]
["6a - Milestones - Approvals","Approvals","6.01.19",null,"Status",{"$f":"'6a - Milestones - Approvals'!J25","v":0},"6a - Milestones - Approvals'!J25"]
["6a - Milestones - Approvals","Approvals","6.01.19",null,"Comments",{"$f":"'6a - Milestones - Approvals'!K25","v":0},"6a - Milestones - Approvals'!K25"]
["6a - Milestones - Approvals","Approvals","6.01.20",null,"Milestone label",{"$f":"'6a - Milestones - Approvals'!D26","v":0},"6a - Milestones - Approvals'!D26",{"$f":"IF(CONCATENATE(F454,\" - \",F455,\" - \",F456,\" - \",F457,\" - \",F458,\" - \",F459,\" - \",F460,\" - \",F461)=\"0 - 0 - 0 - 0 - 0 -  - 0 - 0\",\"0\",CONCATENATE(F454,\" - \",F455,\" - \",F456,\" - \",F457,\" - \",F458,\" - \",F459,\" - \",F460,\" - \",F461))","v":"0"},null,{"$f":"'6a - Milestones - Approvals'!P26","v":0},{"$f":"IF(J454=F454,\"\",\"Changed Since Last Quarter\")","v":""}]
["6a - Milestones - Approvals","Approvals","6.01.20",null,"List all:\nTreasury Approval Points\nand \nCabinet Office Controls",{"$f":"'6a - Milestones - Approvals'!E26","v":0},"6a - Milestones - Approvals'!E26"]
["6a - Milestones - Approvals","Approvals","6.01.20",null,"Version No.",{"$f":"'6a - Milestones - Approvals'!F26","v":0},"6a - Milestones - Approvals'!F26"]
["6a - Milestones - Approvals","Approvals","6.01.20",null,"Baseline Date of Approval Point",{"$f":"'6a - Milestones - Approvals'!G26","v":"00:00:00"},"6a - Milestones - Approvals'!G26"]
["6a - Milestones - Approvals","Approvals","6.01.20",null,"Forecast / Actual Date\nof Approval Point",{"$f":"'6a - Milestones - Approvals'!H26","v":"00:00:00"},"6a - Milestones - Approvals'!H26"]
["6a - Milestones - Approvals","Approvals","6.01.20",null,"Variance between Baseline and Forecast/ Actual Dates (Days)",{"$f":"'6a - Milestones - Approvals'!I26","v":""},"6a - Milestones - Approvals'!I26"]
["6a - Milestones - Approvals","Approvals","6.01.20",null,"Status",{"$f":"'6a - Milestones - Approvals'!J26","v":0},"6a - Milestones - Approvals'!J26"]
["6a - Milestones - Approvals","Approvals","6.01.20",null,"Comments",{"$f":"'6a - Milestones - Approvals'!K26","v":0},"6a - Milestones - Approvals'!K26"]
["6a - Milestones - Approvals","Approvals","6.01.21",null,"Milestone label",{"$f":"'6a - Milestones - Approvals'!D27","v":0},"6a - Milestones - Approvals'!D27",{"$f":"IF(CONCATENATE(F462,\" - \",F463,\" - \",F464,\" - \",F465,\" - \",F466,\" - \",F467,\" - \",F468,\" - \",F469)=\"0 - 0 - 0 - 0 - 0 -  - 0 - 0\",\"0\",CONCATENATE(F462,\" - \",F463,\" - \",F464,\" - \",F465,\" - \",F466,\" - \",F467,\" - \",F468,\" - \",F469))","v":"0"},null,{"$f":"'6a - Milestones - Approvals'!P27","v":0},{"$f":"IF(J462=F462,\"\",\"Changed Since Last Quarter\")","v":""}]
["6a - Milestones - Approvals","Approvals","6.01.21",null,"List all:\nTreasury Approval Points\nand \nCabinet Office Controls",{"$f":"'6a - Milestones - Approvals'!E27","v":0},"6a - Milestones - Approvals'!E27"]
["6a - Milestones - Approvals","Approvals","6.01.21",null,"Version No.",{"$f":"'6a - Milestones - Approvals'!F27","v":0},"6a - Milestones - Approvals'!F27"]
["6a - Milestones - Approvals","Approvals","6.01.21",null,"Baseline Date of Approval Point",{"$f":"'6a - Milestones - Approvals'!G27","v":"00:00:00"},"6a - Milestones - Approvals'!G27"]
["6a - Milestones - Approvals","Approvals","6.01.21",null,"Forecast / Actual Date\nof Approval Point",{"$f":"'6a - Milestones - Approvals'!H27","v":"00:00:00"},"6a - Milestones - Approvals'!H27"]
["6a - Milestones - Approvals","Approvals","6.01.21",null,"Variance between Baseline and Forecast/ Actual Dates (Days)",{"$f":"'6a - Milestones - Approvals'!I27","v":""},"6a - Milestones - Approvals'!I27"]
["6a - Milestones - Approvals","Approvals","6.01.21",null,"Status",{"$f":"'6a - Milestones - Approvals'!J27","v":0},"6a - Milestones - Approvals'!J27"]
["6a - Milestones - Approvals","Approvals","6.01.21",null,"Comments",{"$f":"'6a - Milestones - Approvals'!K27","v":0},"6a - Milestones - Approvals'!K27"]
["6a - Milestones - Approvals","Approvals","6.01.22",null,"Milestone label",{"$f":"'6a - Milestones - Approvals'!D28","v":0},"6a - Milestones - Approvals'!D28",{"$f":"IF(CONCATENATE(F470,\" - \",F471,\" - \",F472,\" - \",F473,\" - \",F474,\" - \",F475,\" - \",F476,\" - \",F477)=\"0 - 0 - 0 - 0 - 0 -  - 0 - 0\",\"0\",CONCATENATE(F470,\" - \",F471,\" - \",F472,\" - \",F473,\" - \",F474,\" - \",F475,\" - \",F476,\" - \",F477))","v":"0"},null,{"$f":"'6a - Milestones - Approvals'!P28","v":0},{"$f":"IF(J470=F470,\"\",\"Changed Since Last Quarter\")","v":""}]
["6a - Milestones - Approvals","Approvals","6.01.22",null,"List all:\nTreasury Approval Points\nand \nCabinet Office Controls",{"$f":"'6a - Milestones - Approvals'!E28","v":0},"6a - Milestones - Approvals'!E28"]
["6a - Milestones - Approvals","Approvals","6.01.22",null,"Version No.",{"$f":"'6a - Milestones - Approvals'!F28","v":0},"6a - Milestones - Approvals'!F28"]
["6a - Milestones - Approvals","Approvals","6.01.22",null,"Baseline Date of Approval Point",{"$f":"'6a - Milestones - Approvals'!G28","v":"00:00:00"},"6a - Milestones - Approvals'!G28"]
["6a - Milestones - Approvals","Approvals","6.01.22",null,"Forecast / Actual Date\nof Approval Point",{"$f":"'6a - Milestones - Approvals'!H28","v":"00:00:00"},"6a - Milestones - Approvals'!H28"]
["6a - Milestones - Approvals","Approvals","6.01.22",null,"Variance between Baseline and Forecast/ Actual Dates (Days)",{"$f":"'6a - Milestones - Approvals'!I28","v":""},"6a - Milestones - Approvals'!I28"]
["6a - Milestones - Approvals","Approvals","6.01.22",null,"Status",{"$f":"'6a - Milestones - Approvals'!J28","v":0},"6a - Milestones - Approvals'!J28"]
["6a - Milestones - Approvals","Approvals","6.01.22",null,"Comments",{"$f":"'6a - Milestones - Approvals'!K28","v":0},"6a - Milestones - Approvals'!K28"]
["6a - Milestones - Approvals","Approvals","6.01.23",null,"Milestone label",{"$f":"'6a - Milestones - Approvals'!D29","v":0},"6a - Milestones - Approvals'!D29",{"$f":"IF(CONCATENATE(F478,\" - \",F479,\" - \",F480,\" - \",F481,\" - \",F482,\" - \",F483,\" - \",F484,\" - \",F485)=\"0 - 0 - 0 - 0 - 0 -  - 0 - 0\",\"0\",CONCATENATE(F478,\" - \",F479,\" - \",F480,\" - \",F481,\" - \",F482,\" - \",F483,\" - \",F484,\" - \",F485))","v":"0"},null,{"$f":"'6a - Milestones - Approvals'!P29","v":0},{"$f":"IF(J478=F478,\"\",\"Changed Since Last Quarter\")","v":""}]
["6a - Milestones - Approvals","Approvals","6.01.23",null,"List all:\nTreasury Approval Points\nand \nCabinet Office Controls",{"$f":"'6a - Milestones - Approvals'!E29","v":0},"6a - Milestones - Approvals'!E29"]
["6a - Milestones - Approvals","Approvals","6.01.23",null,"Version No.",{"$f":"'6a - Milestones - Approvals'!F29","v":0},"6a - Milestones - Approvals'!F29"]
["6a - Milestones - Approvals","Approvals","6.01.23",null,"Baseline Date of Approval Point",{"$f":"'6a - Milestones - Approvals'!G29","v":"00:00:00"},"6a - Milestones - Approvals'!G29"]
["6a - Milestones - Approvals","Approvals","6.01.23",null,"Forecast / Actual Date\nof Approval Point",{"$f":"'6a - Milestones - Approvals'!H29","v":"00:00:00"},"6a - Milestones - Approvals'!H29"]
["6a - Milestones - Approvals","Approvals","6.01.23",null,"Variance between Baseline and Forecast/ Actual Dates (Days)",{"$f":"'6a - Milestones - Approvals'!I29","v":""},"6a - Milestones - Approvals'!I29"]
["6a - Milestones - Approvals","Approvals","6.01.23",null,"Status",{"$f":"'6a - Milestones - Approvals'!J29","v":0},"6a - Milestones - Approvals'!J29"]
["6a - Milestones - Approvals","Approvals","6.01.23",null,"Comments",{"$f":"'6a - Milestones - Approvals'!K29","v":0},"6a - Milestones - Approvals'!K29"]
["6a - Milestones - Approvals","Approvals","6.01.24",null,"Milestone label",{"$f":"'6a - Milestones - Approvals'!D30","v":0},"6a - Milestones - Approvals'!D30",{"$f":"IF(CONCATENATE(F486,\" - \",F487,\" - \",F488,\" - \",F489,\" - \",F490,\" - \",F491,\" - \",F492,\" - \",F493)=\"0 - 0 - 0 - 0 - 0 -  - 0 - 0\",\"0\",CONCATENATE(F486,\" - \",F487,\" - \",F488,\" - \",F489,\" - \",F490,\" - \",F491,\" - \",F492,\" - \",F493))","v":"0"},null,{"$f":"'6a - Milestones - Approvals'!P30","v":0},{"$f":"IF(J486=F486,\"\",\"Changed Since Last Quarter\")","v":""}]
["6a - Milestones - Approvals","Approvals","6.01.24",null,"List all:\nTreasury Approval Points\nand \nCabinet Office Controls",{"$f":"'6a - Milestones - Approvals'!E30","v":0},"6a - Milestones - Approvals'!E30"]
["6a - Milestones - Approvals","Approvals","6.01.24",null,"Version No.",{"$f":"'6a - Milestones - Approvals'!F30","v":0},"6a - Milestones - Approvals'!F30"]
["6a - Milestones - Approvals","Approvals","6.01.24",null,"Baseline Date of Approval Point",{"$f":"'6a - Milestones - Approvals'!G30","v":"00:00:00"},"6a - Milestones - Approvals'!G30"]
["6a - Milestones - Approvals","Approvals","6.01.24",null,"Forecast / Actual Date\nof Approval Point",{"$f":"'6a - Milestones - Approvals'!H30","v":"00:00:00"},"6a - Milestones - Approvals'!H30"]
["6a - Milestones - Approvals","Approvals","6.01.24",null,"Variance between Baseline and Forecast/ Actual Dates (Days)",{"$f":"'6a - Milestones - Approvals'!I30","v":""},"6a - Milestones - Approvals'!I30"]
["6a - Milestones - Approvals","Approvals","6.01.24",null,"Status",{"$f":"'6a - Milestones - Approvals'!J30","v":0},"6a - Milestones - Approvals'!J30"]
["6a - Milestones - Approvals","Approvals","6.01.24",null,"Comments",{"$f":"'6a - Milestones - Approvals'!K30","v":0},"6a - Milestones - Approvals'!K30"]
["6a - Milestones - Approvals","Approvals","6.01.25",null,"Milestone label",{"$f":"'6a - Milestones - Approvals'!D31","v":0},"6a - Milestones - Approvals'!D31",{"$f":"IF(CONCATENATE(F494,\" - \",F495,\" - \",F496,\" - \",F497,\" - \",F498,\" - \",F499,\" - \",F500,\" - \",F501)=\"0 - 0 - 0 - 0 - 0 -  - 0 - 0\",\"0\",CONCATENATE(F494,\" - \",F495,\" - \",F496,\" - \",F497,\" - \",F498,\" - \",F499,\" - \",F500,\" - \",F501))","v":"0"},null,{"$f":"'6a - Milestones - Approvals'!P31","v":0},{"$f":"IF(J494=F494,\"\",\"Changed Since Last Quarter\")","v":""}]
["6a - Milestones - Approvals","Approvals","6.01.25",null,"List all:\nTreasury Approval Points\nand \nCabinet Office Controls",{"$f":"'6a - Milestones - Approvals'!E31","v":0},"6a - Milestones - Approvals'!E31"]
["6a - Milestones - Approvals","Approvals","6.01.25",null,"Version No.",{"$f":"'6a - Milestones - Approvals'!F31","v":0},"6a - Milestones - Approvals'!F31"]
["6a - Milestones - Approvals","Approvals","6.01.25",null,"Baseline Date of Approval Point",{"$f":"'6a - Milestones - Approvals'!G31","v":"00:00:00"},"6a - Milestones - Approvals'!G31"]
["6a - Milestones - Approvals","Approvals","6.01.25",null,"Forecast / Actual Date\nof Approval Point",{"$f":"'6a - Milestones - Approvals'!H31","v":"00:00:00"},"6a - Milestones - Approvals'!H31"]
["6a - Milestones - Approvals","Approvals","6.01.25",null,"Variance between Baseline and Forecast/ Actual Dates (Days)",{"$f":"'6a - Milestones - Approvals'!I31","v":""},"6a - Milestones - Approvals'!I31"]
["6a - Milestones - Approvals","Approvals","6.01.25",null,"Status",{"$f":"'6a - Milestones - Approvals'!J31","v":0},"6a - Milestones - Approvals'!J31"]
["6a - Milestones - Approvals","Approvals","6.01.25",null,"Comments",{"$f":"'6a - Milestones - Approvals'!K31","v":0},"6a - Milestones - Approvals'!K31"]
["6a - Milestones - Approvals","Approvals","6.01.26",null,"Milestone label",{"$f":"'6a - Milestones - Approvals'!D32","v":0},"6a - Milestones - Approvals'!D32",{"$f":"IF(CONCATENATE(F502,\" - \",F503,\" - \",F504,\" - \",F505,\" - \",F506,\" - \",F507,\" - \",F508,\" - \",F509)=\"0 - 0 - 0 - 0 - 0 -  - 0 - 0\",\"0\",CONCATENATE(F502,\" - \",F503,\" - \",F504,\" - \",F505,\" - \",F506,\" - \",F507,\" - \",F508,\" - \",F509))","v":"0"},null,{"$f":"'6a - Milestones - Approvals'!P32","v":0},{"$f":"IF(J502=F502,\"\",\"Changed Since Last Quarter\")","v":""}]
["6a - Milestones - Approvals","Approvals","6.01.26",null,"List all:\nTreasury Approval Points\nand \nCabinet Office Controls",{"$f":"'6a - Milestones - Approvals'!E32","v":0},"6a - Milestones - Approvals'!E32"]
["6a - Milestones - Approvals","Approvals","6.01.26",null,"Version No.",{"$f":"'6a - Milestones - Approvals'!F32","v":0},"6a - Milestones - Approvals'!F32"]
["6a - Milestones - Approvals","Approvals","6.01.26",null,"Baseline Date of Approval Point",{"$f":"'6a - Milestones - Approvals'!G32","v":"00:00:00"},"6a - Milestones - Approvals'!G32"]
["6a - Milestones - Approvals","Approvals","6.01.26",null,"Forecast / Actual Date\nof Approval Point",{"$f":"'6a - Milestones - Approvals'!H32","v":"00:00:00"},"6a - Milestones - Approvals'!H32"]
["6a - Milestones - Approvals","Approvals","6.01.26",null,"Variance between Baseline and Forecast/ Actual Dates (Days)",{"$f":"'6a - Milestones - Approvals'!I32","v":""},"6a - Milestones - Approvals'!I32"]
["6a - Milestones - Approvals","Approvals","6.01.26",null,"Status",{"$f":"'6a - Milestones - Approvals'!J32","v":0},"6a - Milestones - Approvals'!J32"]
["6a - Milestones - Approvals","Approvals","6.01.26",null,"Comments",{"$f":"'6a - Milestones - Approvals'!K32","v":0},"6a - Milestones - Approvals'!K32"]
["6a - Milestones - Approvals","Approvals","6.01.27",null,"Milestone label",{"$f":"'6a - Milestones - Approvals'!D33","v":0},"6a - Milestones - Approvals'!D33",{"$f":"IF(CONCATENATE(F510,\" - \",F511,\" - \",F512,\" - \",F513,\" - \",F514,\" - \",F515,\" - \",F516,\" - \",F517)=\"0 - 0 - 0 - 0 - 0 -  - 0 - 0\",\"0\",CONCATENATE(F510,\" - \",F511,\" - \",F512,\" - \",F513,\" - \",F514,\" - \",F515,\" - \",F516,\" - \",F517))","v":"0"},null,{"$f":"'6a - Milestones - Approvals'!P33","v":0},{"$f":"IF(J510=F510,\"\",\"Changed Since Last Quarter\")","v":""}]
["6a - Milestones - Approvals","Approvals","6.01.27",null,"List all:\nTreasury Approval Points\nand \nCabinet Office Controls",{"$f":"'6a - Milestones - Approvals'!E33","v":0},"6a - Milestones - Approvals'!E33"]
["6a - Milestones - Approvals","Approvals","6.01.27",null,"Version No.",{"$f":"'6a - Milestones - Approvals'!F33","v":0},"6a - Milestones - Approvals'!F33"]
["6a - Milestones - Approvals","Approvals","6.01.27",null,"Baseline Date of Approval Point",{"$f":"'6a - Milestones - Approvals'!G33","v":"00:00:00"},"6a - Milestones - Approvals'!G33"]
["6a - Milestones - Approvals","Approvals","6.01.27",null,"Forecast / Actual Date\nof Approval Point",{"$f":"'6a - Milestones - Approvals'!H33","v":"00:00:00"},"6a - Milestones - Approvals'!H33"]
["6a - Milestones - Approvals","Approvals","6.01.27",null,"Variance between Baseline and Forecast/ Actual Dates (Days)",{"$f":"'6a - Milestones - Approvals'!I33","v":""},"6a - Milestones - Approvals'!I33"]
["6a - Milestones - Approvals","Approvals","6.01.27",null,"Status",{"$f":"'6a - Milestones - Approvals'!J33","v":0},"6a - Milestones - Approvals'!J33"]
["6a - Milestones - Approvals","Approvals","6.01.27",null,"Comments",{"$f":"'6a - Milestones - Approvals'!K33","v":0},"6a - Milestones - Approvals'!K33"]
["6a - Milestones - Approvals","Approvals","6.01.28",null,"Milestone label",{"$f":"'6a - Milestones - Approvals'!D34","v":0},"6a - Milestones - Approvals'!D34",{"$f":"IF(CONCATENATE(F518,\" - \",F519,\" - \",F520,\" - \",F521,\" - \",F522,\" - \",F523,\" - \",F524,\" - \",F525)=\"0 - 0 - 0 - 0 - 0 -  - 0 - 0\",\"0\",CONCATENATE(F518,\" - \",F519,\" - \",F520,\" - \",F521,\" - \",F522,\" - \",F523,\" - \",F524,\" - \",F525))","v":"0"},null,{"$f":"'6a - Milestones - Approvals'!P34","v":0},{"$f":"IF(J518=F518,\"\",\"Changed Since Last Quarter\")","v":""}]
["6a - Milestones - Approvals","Approvals","6.01.28",null,"List all:\nTreasury Approval Points\nand \nCabinet Office Controls",{"$f":"'6a - Milestones - Approvals'!E34","v":0},"6a - Milestones - Approvals'!E34"]
["6a - Milestones - Approvals","Approvals","6.01.28",null,"Version No.",{"$f":"'6a - Milestones - Approvals'!F34","v":0},"6a - Milestones - Approvals'!F34"]
["6a - Milestones - Approvals","Approvals","6.01.28",null,"Baseline Date of Approval Point",{"$f":"'6a - Milestones - Approvals'!G34","v":"00:00:00"},"6a - Milestones - Approvals'!G34"]
["6a - Milestones - Approvals","Approvals","6.01.28",null,"Forecast / Actual Date\nof Approval Point",{"$f":"'6a - Milestones - Approvals'!H34","v":"00:00:00"},"6a - Milestones - Approvals'!H34"]
["6a - Milestones - Approvals","Approvals","6.01.28",null,"Variance between Baseline and Forecast/ Actual Dates (Days)",{"$f":"'6a - Milestones - Approvals'!I34","v":""},"6a - Milestones - Approvals'!I34"]
["6a - Milestones - Approvals","Approvals","6.01.28",null,"Status",{"$f":"'6a - Milestones - Approvals'!J34","v":0},"6a - Milestones - Approvals'!J34"]
["6a - Milestones - Approvals","Approvals","6.01.28",null,"Comments",{"$f":"'6a - Milestones - Approvals'!K34","v":0},"6a - Milestones - Approvals'!K34"]
["6a - Milestones - Approvals","Approvals","6.01.29",null,"Milestone label",{"$f":"'6a - Milestones - Approvals'!D35","v":0},"6a - Milestones - Approvals'!D35",{"$f":"IF(CONCATENATE(F526,\" - \",F527,\" - \",F528,\" - \",F529,\" - \",F530,\" - \",F531,\" - \",F532,\" - \",F533)=\"0 - 0 - 0 - 0 - 0 -  - 0 - 0\",\"0\",CONCATENATE(F526,\" - \",F527,\" - \",F528,\" - \",F529,\" - \",F530,\" - \",F531,\" - \",F532,\" - \",F533))","v":"0"},null,{"$f":"'6a - Milestones - Approvals'!P35","v":0},{"$f":"IF(J526=F526,\"\",\"Changed Since Last Quarter\")","v":""}]
["6a - Milestones - Approvals","Approvals","6.01.29",null,"List all:\nTreasury Approval Points\nand \nCabinet Office Controls",{"$f":"'6a - Milestones - Approvals'!E35","v":0},"6a - Milestones - Approvals'!E35"]
["6a - Milestones - Approvals","Approvals","6.01.29",null,"Version No.",{"$f":"'6a - Milestones - Approvals'!F35","v":0},"6a - Milestones - Approvals'!F35"]
["6a - Milestones - Approvals","Approvals","6.01.29",null,"Baseline Date of Approval Point",{"$f":"'6a - Milestones - Approvals'!G35","v":"00:00:00"},"6a - Milestones - Approvals'!G35"]
["6a - Milestones - Approvals","Approvals","6.01.29",null,"Forecast / Actual Date\nof Approval Point",{"$f":"'6a - Milestones - Approvals'!H35","v":"00:00:00"},"6a - Milestones - Approvals'!H35"]
["6a - Milestones - Approvals","Approvals","6.01.29",null,"Variance between Baseline and Forecast/ Actual Dates (Days)",{"$f":"'6a - Milestones - Approvals'!I35","v":""},"6a - Milestones - Approvals'!I35"]
["6a - Milestones - Approvals","Approvals","6.01.29",null,"Status",{"$f":"'6a - Milestones - Approvals'!J35","v":0},"6a - Milestones - Approvals'!J35"]
["6a - Milestones - Approvals","Approvals","6.01.29",null,"Comments",{"$f":"'6a - Milestones - Approvals'!K35","v":0},"6a - Milestones - Approvals'!K35"]
["6a - Milestones - Approvals","Approvals","6.01.30",null,"Milestone label",{"$f":"'6a - Milestones - Approvals'!D36","v":0},"6a - Milestones - Approvals'!D36",{"$f":"IF(CONCATENATE(F534,\" - \",F535,\" - \",F536,\" - \",F537,\" - \",F538,\" - \",F539,\" - \",F540,\" - \",F541)=\"0 - 0 - 0 - 0 - 0 -  - 0 - 0\",\"0\",CONCATENATE(F534,\" - \",F535,\" - \",F536,\" - \",F537,\" - \",F538,\" - \",F539,\" - \",F540,\" - \",F541))","v":"0"},null,{"$f":"'6a - Milestones - Approvals'!P36","v":0},{"$f":"IF(J534=F534,\"\",\"Changed Since Last Quarter\")","v":""}]
["6a - Milestones - Approvals","Approvals","6.01.30",null,"List all:\nTreasury Approval Points\nand \nCabinet Office Controls",{"$f":"'6a - Milestones - Approvals'!E36","v":0},"6a - Milestones - Approvals'!E36"]
["6a - Milestones - Approvals","Approvals","6.01.30",null,"Version No.",{"$f":"'6a - Milestones - Approvals'!F36","v":0},"6a - Milestones - Approvals'!F36"]
["6a - Milestones - Approvals","Approvals","6.01.30",null,"Baseline Date of Approval Point",{"$f":"'6a - Milestones - Approvals'!G36","v":"00:00:00"},"6a - Milestones - Approvals'!G36"]
["6a - Milestones - Approvals","Approvals","6.01.30",null,"Forecast / Actual Date\nof Approval Point",{"$f":"'6a - Milestones - Approvals'!H36","v":"00:00:00"},"6a - Milestones - Approvals'!H36"]
["6a - Milestones - Approvals","Approvals","6.01.30",null,"Variance between Baseline and Forecast/ Actual Dates (Days)",{"$f":"'6a - Milestones - Approvals'!I36","v":""},"6a - Milestones - Approvals'!I36"]
["6a - Milestones - Approvals","Approvals","6.01.30",null,"Status",{"$f":"'6a - Milestones - Approvals'!J36","v":0},"6a - Milestones - Approvals'!J36"]
["6a - Milestones - Approvals","Approvals","6.01.30",null,"Comments",{"$f":"'6a - Milestones - Approvals'!K36","v":0},"6a - Milestones - Approvals'!K36"]
["6a - Milestones - Approvals","Approvals","6.01.31",null,"Milestone label",{"$f":"'6a - Milestones - Approvals'!D37","v":0},"6a - Milestones - Approvals'!D37",{"$f":"IF(CONCATENATE(F542,\" - \",F543,\" - \",F544,\" - \",F545,\" - \",F546,\" - \",F547,\" - \",F548,\" - \",F549)=\"0 - 0 - 0 - 0 - 0 -  - 0 - 0\",\"0\",CONCATENATE(F542,\" - \",F543,\" - \",F544,\" - \",F545,\" - \",F546,\" - \",F547,\" - \",F548,\" - \",F549))","v":"0"},null,{"$f":"'6a - Milestones - Approvals'!P37","v":0},{"$f":"IF(J542=F542,\"\",\"Changed Since Last Quarter\")","v":""}]
["6a - Milestones - Approvals","Approvals","6.01.31",null,"List all:\nTreasury Approval Points\nand \nCabinet Office Controls",{"$f":"'6a - Milestones - Approvals'!E37","v":0},"6a - Milestones - Approvals'!E37"]
["6a - Milestones - Approvals","Approvals","6.01.31",null,"Version No.",{"$f":"'6a - Milestones - Approvals'!F37","v":0},"6a - Milestones - Approvals'!F37"]
["6a - Milestones - Approvals","Approvals","6.01.31",null,"Baseline Date of Approval Point",{"$f":"'6a - Milestones - Approvals'!G37","v":"00:00:00"},"6a - Milestones - Approvals'!G37"]
["6a - Milestones - Approvals","Approvals","6.01.31",null,"Forecast / Actual Date\nof Approval Point",{"$f":"'6a - Milestones - Approvals'!H37","v":"00:00:00"},"6a - Milestones - Approvals'!H37"]
["6a - Milestones - Approvals","Approvals","6.01.31",null,"Variance between Baseline and Forecast/ Actual Dates (Days)",{"$f":"'6a - Milestones - Approvals'!I37","v":""},"6a - Milestones - Approvals'!I37"]
["6a - Milestones - Approvals","Approvals","6.01.31",null,"Status",{"$f":"'6a - Milestones - Approvals'!J37","v":0},"6a - Milestones - Approvals'!J37"]
["6a - Milestones - Approvals","Approvals","6.01.31",null,"Comments",{"$f":"'6a - Milestones - Approvals'!K37","v":0},"6a - Milestones - Approvals'!K37"]
["6a - Milestones - Approvals","Approvals","6.01.32",null,"Milestone label",{"$f":"'6a - Milestones - Approvals'!D38","v":0},"6a - Milestones - Approvals'!D38",{"$f":"IF(CONCATENATE(F550,\" - \",F551,\" - \",F552,\" - \",F553,\" - \",F554,\" - \",F555,\" - \",F556,\" - \",F557)=\"0 - 0 - 0 - 0 - 0 -  - 0 - 0\",\"0\",CONCATENATE(F550,\" - \",F551,\" - \",F552,\" - \",F553,\" - \",F554,\" - \",F555,\" - \",F556,\" - \",F557))","v":"0"},null,{"$f":"'6a - Milestones - Approvals'!P38","v":0},{"$f":"IF(J550=F550,\"\",\"Changed Since Last Quarter\")","v":""}]
["6a - Milestones - Approvals","Approvals","6.01.32",null,"List all:\nTreasury Approval Points\nand \nCabinet Office Controls",{"$f":"'6a - Milestones - Approvals'!E38","v":0},"6a - Milestones - Approvals'!E38"]
["6a - Milestones - Approvals","Approvals","6.01.32",null,"Version No.",{"$f":"'6a - Milestones - Approvals'!F38","v":0},"6a - Milestones - Approvals'!F38"]
["6a - Milestones - Approvals","Approvals","6.01.32",null,"Baseline Date of Approval Point",{"$f":"'6a - Milestones - Approvals'!G38","v":"00:00:00"},"6a - Milestones - Approvals'!G38"]
["6a - Milestones - Approvals","Approvals","6.01.32",null,"Forecast / Actual Date\nof Approval Point",{"$f":"'6a - Milestones - Approvals'!H38","v":"00:00:00"},"6a - Milestones - Approvals'!H38"]
["6a - Milestones - Approvals","Approvals","6.01.32",null,"Variance between Baseline and Forecast/ Actual Dates (Days)",{"$f":"'6a - Milestones - Approvals'!I38","v":""},"6a - Milestones - Approvals'!I38"]
["6a - Milestones - Approvals","Approvals","6.01.32",null,"Status",{"$f":"'6a - Milestones - Approvals'!J38","v":0},"6a - Milestones - Approvals'!J38"]
["6a - Milestones - Approvals","Approvals","6.01.32",null,"Comments",{"$f":"'6a - Milestones - Approvals'!K38","v":0},"6a - Milestones - Approvals'!K38"]
["6a - Milestones - Approvals","Approvals","6.01.33",null,"Milestone label",{"$f":"'6a - Milestones - Approvals'!D39","v":0},"6a - Milestones - Approvals'!D39",{"$f":"IF(CONCATENATE(F558,\" - \",F559,\" - \",F560,\" - \",F561,\" - \",F562,\" - \",F563,\" - \",F564,\" - \",F565)=\"0 - 0 - 0 - 0 - 0 -  - 0 - 0\",\"0\",CONCATENATE(F558,\" - \",F559,\" - \",F560,\" - \",F561,\" - \",F562,\" - \",F563,\" - \",F564,\" - \",F565))","v":"0"},null,{"$f":"'6a - Milestones - Approvals'!P39","v":0},{"$f":"IF(J558=F558,\"\",\"Changed Since Last Quarter\")","v":""}]
["6a - Milestones - Approvals","Approvals","6.01.33",null,"List all:\nTreasury Approval Points\nand \nCabinet Office Controls",{"$f":"'6a - Milestones - Approvals'!E39","v":0},"6a - Milestones - Approvals'!E39"]
["6a - Milestones - Approvals","Approvals","6.01.33",null,"Version No.",{"$f":"'6a - Milestones - Approvals'!F39","v":0},"6a - Milestones - Approvals'!F39"]
["6a - Milestones - Approvals","Approvals","6.01.33",null,"Baseline Date of Approval Point",{"$f":"'6a - Milestones - Approvals'!G39","v":"00:00:00"},"6a - Milestones - Approvals'!G39"]
["6a - Milestones - Approvals","Approvals","6.01.33",null,"Forecast / Actual Date\nof Approval Point",{"$f":"'6a - Milestones - Approvals'!H39","v":"00:00:00"},"6a - Milestones - Approvals'!H39"]
["6a - Milestones - Approvals","Approvals","6.01.33",null,"Variance between Baseline and Forecast/ Actual Dates (Days)",{"$f":"'6a - Milestones - Approvals'!I39","v":""},"6a - Milestones - Approvals'!I39"]
["6a - Milestones - Approvals","Approvals","6.01.33",null,"Status",{"$f":"'6a - Milestones - Approvals'!J39","v":0},"6a - Milestones - Approvals'!J39"]
["6a - Milestones - Approvals","Approvals","6.01.33",null,"Comments",{"$f":"'6a - Milestones - Approvals'!K39","v":0},"6a - Milestones - Approvals'!K39"]
["6a - Milestones - Approvals","Approvals","6.01.34",null,"Milestone label",{"$f":"'6a - Milestones - Approvals'!D40","v":0},"6a - Milestones - Approvals'!D40",{"$f":"IF(CONCATENATE(F566,\" - \",F567,\" - \",F568,\" - \",F569,\" - \",F570,\" - \",F571,\" - \",F572,\" - \",F573)=\"0 - 0 - 0 - 0 - 0 -  - 0 - 0\",\"0\",CONCATENATE(F566,\" - \",F567,\" - \",F568,\" - \",F569,\" - \",F570,\" - \",F571,\" - \",F572,\" - \",F573))","v":"0"},null,{"$f":"'6a - Milestones - Approvals'!P40","v":0},{"$f":"IF(J566=F566,\"\",\"Changed Since Last Quarter\")","v":""}]
["6a - Milestones - Approvals","Approvals","6.01.34",null,"List all:\nTreasury Approval Points\nand \nCabinet Office Controls",{"$f":"'6a - Milestones - Approvals'!E40","v":0},"6a - Milestones - Approvals'!E40"]
["6a - Milestones - Approvals","Approvals","6.01.34",null,"Version No.",{"$f":"'6a - Milestones - Approvals'!F40","v":0},"6a - Milestones - Approvals'!F40"]
["6a - Milestones - Approvals","Approvals","6.01.34",null,"Baseline Date of Approval Point",{"$f":"'6a - Milestones - Approvals'!G40","v":"00:00:00"},"6a - Milestones - Approvals'!G40"]
["6a - Milestones - Approvals","Approvals","6.01.34",null,"Forecast / Actual Date\nof Approval Point",{"$f":"'6a - Milestones - Approvals'!H40","v":"00:00:00"},"6a - Milestones - Approvals'!H40"]
["6a - Milestones - Approvals","Approvals","6.01.34",null,"Variance between Baseline and Forecast/ Actual Dates (Days)",{"$f":"'6a - Milestones - Approvals'!I40","v":""},"6a - Milestones - Approvals'!I40"]
["6a - Milestones - Approvals","Approvals","6.01.34",null,"Status",{"$f":"'6a - Milestones - Approvals'!J40","v":0},"6a - Milestones - Approvals'!J40"]
["6a - Milestones - Approvals","Approvals","6.01.34",null,"Comments",{"$f":"'6a - Milestones - Approvals'!K40","v":0},"6a - Milestones - Approvals'!K40"]
["6a - Milestones - Approvals","Approvals","6.01.35",null,"Milestone label",{"$f":"'6a - Milestones - Approvals'!D41","v":0},"6a - Milestones - Approvals'!D41",{"$f":"IF(CONCATENATE(F574,\" - \",F575,\" - \",F576,\" - \",F577,\" - \",F578,\" - \",F579,\" - \",F580,\" - \",F581)=\"0 - 0 - 0 - 0 - 0 -  - 0 - 0\",\"0\",CONCATENATE(F574,\" - \",F575,\" - \",F576,\" - \",F577,\" - \",F578,\" - \",F579,\" - \",F580,\" - \",F581))","v":"0"},null,{"$f":"'6a - Milestones - Approvals'!P41","v":0},{"$f":"IF(J574=F574,\"\",\"Changed Since Last Quarter\")","v":""}]
["6a - Milestones - Approvals","Approvals","6.01.35",null,"List all:\nTreasury Approval Points\nand \nCabinet Office Controls",{"$f":"'6a - Milestones - Approvals'!E41","v":0},"6a - Milestones - Approvals'!E41"]
["6a - Milestones - Approvals","Approvals","6.01.35",null,"Version No.",{"$f":"'6a - Milestones - Approvals'!F41","v":0},"6a - Milestones - Approvals'!F41"]
["6a - Milestones - Approvals","Approvals","6.01.35",null,"Baseline Date of Approval Point",{"$f":"'6a - Milestones - Approvals'!G41","v":"00:00:00"},"6a - Milestones - Approvals'!G41"]
["6a - Milestones - Approvals","Approvals","6.01.35",null,"Forecast / Actual Date\nof Approval Point",{"$f":"'6a - Milestones - Approvals'!H41","v":"00:00:00"},"6a - Milestones - Approvals'!H41"]
["6a - Milestones - Approvals","Approvals","6.01.35",null,"Variance between Baseline and Forecast/ Actual Dates (Days)",{"$f":"'6a - Milestones - Approvals'!I41","v":""},"6a - Milestones - Approvals'!I41"]
["6a - Milestones - Approvals","Approvals","6.01.35",null,"Status",{"$f":"'6a - Milestones - Approvals'!J41","v":0},"6a - Milestones - Approvals'!J41"]
["6a - Milestones - Approvals","Approvals","6.01.35",null,"Comments",{"$f":"'6a - Milestones - Approvals'!K41","v":0},"6a - Milestones - Approvals'!K41"]
["6a - Milestones - Approvals","Approvals","6.01.36",null,"Milestone label",{"$f":"'6a - Milestones - Approvals'!D42","v":0},"6a - Milestones - Approvals'!D42",{"$f":"IF(CONCATENATE(F582,\" - \",F583,\" - \",F584,\" - \",F585,\" - \",F586,\" - \",F587,\" - \",F588,\" - \",F589)=\"0 - 0 - 0 - 0 - 0 -  - 0 - 0\",\"0\",CONCATENATE(F582,\" - \",F583,\" - \",F584,\" - \",F585,\" - \",F586,\" - \",F587,\" - \",F588,\" - \",F589))","v":"0"},null,{"$f":"'6a - Milestones - Approvals'!P42","v":0},{"$f":"IF(J582=F582,\"\",\"Changed Since Last Quarter\")","v":""}]
["6a - Milestones - Approvals","Approvals","6.01.36",null,"List all:\nTreasury Approval Points\nand \nCabinet Office Controls",{"$f":"'6a - Milestones - Approvals'!E42","v":0},"6a - Milestones - Approvals'!E42"]
["6a - Milestones - Approvals","Approvals","6.01.36",null,"Version No.",{"$f":"'6a - Milestones - Approvals'!F42","v":0},"6a - Milestones - Approvals'!F42"]
["6a - Milestones - Approvals","Approvals","6.01.36",null,"Baseline Date of Approval Point",{"$f":"'6a - Milestones - Approvals'!G42","v":"00:00:00"},"6a - Milestones - Approvals'!G42"]
["6a - Milestones - Approvals","Approvals","6.01.36",null,"Forecast / Actual Date\nof Approval Point",{"$f":"'6a - Milestones - Approvals'!H42","v":"00:00:00"},"6a - Milestones - Approvals'!H42"]
["6a - Milestones - Approvals","Approvals","6.01.36",null,"Variance between Baseline and Forecast/ Actual Dates (Days)",{"$f":"'6a - Milestones - Approvals'!I42","v":""},"6a - Milestones - Approvals'!I42"]
["6a - Milestones - Approvals","Approvals","6.01.36",null,"Status",{"$f":"'6a - Milestones - Approvals'!J42","v":0},"6a - Milestones - Approvals'!J42"]
["6a - Milestones - Approvals","Approvals","6.01.36",null,"Comments",{"$f":"'6a - Milestones - Approvals'!K42","v":0},"6a - Milestones - Approvals'!K42"]
["6a - Milestones - Approvals","Approvals","6.01.37",null,"Milestone label",{"$f":"'6a - Milestones - Approvals'!D43","v":0},"6a - Milestones - Approvals'!D43",{"$f":"IF(CONCATENATE(F590,\" - \",F591,\" - \",F592,\" - \",F593,\" - \",F594,\" - \",F595,\" - \",F596,\" - \",F597)=\"0 - 0 - 0 - 0 - 0 -  - 0 - 0\",\"0\",CONCATENATE(F590,\" - \",F591,\" - \",F592,\" - \",F593,\" - \",F594,\" - \",F595,\" - \",F596,\" - \",F597))","v":"0"},null,{"$f":"'6a - Milestones - Approvals'!P43","v":0},{"$f":"IF(J590=F590,\"\",\"Changed Since Last Quarter\")","v":""}]
["6a - Milestones - Approvals","Approvals","6.01.37",null,"List all:\nTreasury Approval Points\nand \nCabinet Office Controls",{"$f":"'6a - Milestones - Approvals'!E43","v":0},"6a - Milestones - Approvals'!E43"]
["6a - Milestones - Approvals","Approvals","6.01.37",null,"Version No.",{"$f":"'6a - Milestones - Approvals'!F43","v":0},"6a - Milestones - Approvals'!F43"]
["6a - Milestones - Approvals","Approvals","6.01.37",null,"Baseline Date of Approval Point",{"$f":"'6a - Milestones - Approvals'!G43","v":"00:00:00"},"6a - Milestones - Approvals'!G43"]
["6a - Milestones - Approvals","Approvals","6.01.37",null,"Forecast / Actual Date\nof Approval Point",{"$f":"'6a - Milestones - Approvals'!H43","v":"00:00:00"},"6a - Milestones - Approvals'!H43"]
["6a - Milestones - Approvals","Approvals","6.01.37",null,"Variance between Baseline and Forecast/ Actual Dates (Days)",{"$f":"'6a - Milestones - Approvals'!I43","v":""},"6a - Milestones - Approvals'!I43"]
["6a - Milestones - Approvals","Approvals","6.01.37",null,"Status",{"$f":"'6a - Milestones - Approvals'!J43","v":0},"6a - Milestones - Approvals'!J43"]
["6a - Milestones - Approvals","Approvals","6.01.37",null,"Comments",{"$f":"'6a - Milestones - Approvals'!K43","v":0},"6a - Milestones - Approvals'!K43"]
["6a - Milestones - Approvals","Approvals","6.01.38",null,"Milestone label",{"$f":"'6a - Milestones - Approvals'!D44","v":0},"6a - Milestones - Approvals'!D44",{"$f":"IF(CONCATENATE(F598,\" - \",F599,\" - \",F600,\" - \",F601,\" - \",F602,\" - \",F603,\" - \",F604,\" - \",F605)=\"0 - 0 - 0 - 0 - 0 -  - 0 - 0\",\"0\",CONCATENATE(F598,\" - \",F599,\" - \",F600,\" - \",F601,\" - \",F602,\" - \",F603,\" - \",F604,\" - \",F605))","v":"0"},null,{"$f":"'6a - Milestones - Approvals'!P44","v":0},{"$f":"IF(J598=F598,\"\",\"Changed Since Last Quarter\")","v":""}]
["6a - Milestones - Approvals","Approvals","6.01.38",null,"List all:\nTreasury Approval Points\nand \nCabinet Office Controls",{"$f":"'6a - Milestones - Approvals'!E44","v":0},"6a - Milestones - Approvals'!E44"]
["6a - Milestones - Approvals","Approvals","6.01.38",null,"Version No.",{"$f":"'6a - Milestones - Approvals'!F44","v":0},"6a - Milestones - Approvals'!F44"]
["6a - Milestones - Approvals","Approvals","6.01.38",null,"Baseline Date of Approval Point",{"$f":"'6a - Milestones - Approvals'!G44","v":"00:00:00"},"6a - Milestones - Approvals'!G44"]
["6a - Milestones - Approvals","Approvals","6.01.38",null,"Forecast / Actual Date\nof Approval Point",{"$f":"'6a - Milestones - Approvals'!H44","v":"00:00:00"},"6a - Milestones - Approvals'!H44"]
["6a - Milestones - Approvals","Approvals","6.01.38",null,"Variance between Baseline and Forecast/ Actual Dates (Days)",{"$f":"'6a - Milestones - Approvals'!I44","v":""},"6a - Milestones - Approvals'!I44"]
["6a - Milestones - Approvals","Approvals","6.01.38",null,"Status",{"$f":"'6a - Milestones - Approvals'!J44","v":0},"6a - Milestones - Approvals'!J44"]
["6a - Milestones - Approvals","Approvals","6.01.38",null,"Comments",{"$f":"'6a - Milestones - Approvals'!K44","v":0},"6a - Milestones - Approvals'!K44"]
["6a - Milestones - Approvals","Approvals","6.01.39",null,"Milestone label",{"$f":"'6a - Milestones - Approvals'!D45","v":0},"6a - Milestones - Approvals'!D45",{"$f":"IF(CONCATENATE(F606,\" - \",F607,\" - \",F608,\" - \",F609,\" - \",F610,\" - \",F611,\" - \",F612,\" - \",F613)=\"0 - 0 - 0 - 0 - 0 -  - 0 - 0\",\"0\",CONCATENATE(F606,\" - \",F607,\" - \",F608,\" - \",F609,\" - \",F610,\" - \",F611,\" - \",F612,\" - \",F613))","v":"0"},null,{"$f":"'6a - Milestones - Approvals'!P45","v":0},{"$f":"IF(J606=F606,\"\",\"Changed Since Last Quarter\")","v":""}]
["6a - Milestones - Approvals","Approvals","6.01.39",null,"List all:\nTreasury Approval Points\nand \nCabinet Office Controls",{"$f":"'6a - Milestones - Approvals'!E45","v":0},"6a - Milestones - Approvals'!E45"]
["6a - Milestones - Approvals","Approvals","6.01.39",null,"Version No.",{"$f":"'6a - Milestones - Approvals'!F45","v":0},"6a - Milestones - Approvals'!F45"]
["6a - Milestones - Approvals","Approvals","6.01.39",null,"Baseline Date of Approval Point",{"$f":"'6a - Milestones - Approvals'!G45","v":"00:00:00"},"6a - Milestones - Approvals'!G45"]
["6a - Milestones - Approvals","Approvals","6.01.39",null,"Forecast / Actual Date\nof Approval Point",{"$f":"'6a - Milestones - Approvals'!H45","v":"00:00:00"},"6a - Milestones - Approvals'!H45"]
["6a - Milestones - Approvals","Approvals","6.01.39",null,"Variance between Baseline and Forecast/ Actual Dates (Days)",{"$f":"'6a - Milestones - Approvals'!I45","v":""},"6a - Milestones - Approvals'!I45"]
["6a - Milestones - Approvals","Approvals","6.01.39",null,"Status",{"$f":"'6a - Milestones - Approvals'!J45","v":0},"6a - Milestones - Approvals'!J45"]
["6a - Milestones - Approvals","Approvals","6.01.39",null,"Comments",{"$f":"'6a - Milestones - Approvals'!K45","v":0},"6a - Milestones - Approvals'!K45"]
["6a - Milestones - Approvals","Approvals","6.01.40",null,"Milestone label",{"$f":"'6a - Milestones - Approvals'!D46","v":0},"6a - Milestones - Approvals'!D46",{"$f":"IF(CONCATENATE(F614,\" - \",F615,\" - \",F616,\" - \",F617,\" - \",F618,\" - \",F619,\" - \",F620,\" - \",F621)=\"0 - 0 - 0 - 0 - 0 -  - 0 - 0\",\"0\",CONCATENATE(F614,\" - \",F615,\" - \",F616,\" - \",F617,\" - \",F618,\" - \",F619,\" - \",F620,\" - \",F621))","v":"0"},null,{"$f":"'6a - Milestones - Approvals'!P46","v":0},{"$f":"IF(J614=F614,\"\",\"Changed Since Last Quarter\")","v":""}]
["6a - Milestones - Approvals","Approvals","6.01.40",null,"List all:\nTreasury Approval Points\nand \nCabinet Office Controls",{"$f":"'6a - Milestones - Approvals'!E46","v":0},"6a - Milestones - Approvals'!E46"]
["6a - Milestones - Approvals","Approvals","6.01.40",null,"Version No.",{"$f":"'6a - Milestones - Approvals'!F46","v":0},"6a - Milestones - Approvals'!F46"]
["6a - Milestones - Approvals","Approvals","6.01.40",null,"Baseline Date of Approval Point",{"$f":"'6a - Milestones - Approvals'!G46","v":"00:00:00"},"6a - Milestones - Approvals'!G46"]
["6a - Milestones - Approvals","Approvals","6.01.40",null,"Forecast / Actual Date\nof Approval Point",{"$f":"'6a - Milestones - Approvals'!H46","v":"00:00:00"},"6a - Milestones - Approvals'!H46"]
["6a - Milestones - Approvals","Approvals","6.01.40",null,"Variance between Baseline and Forecast/ Actual Dates (Days)",{"$f":"'6a - Milestones - Approvals'!I46","v":""},"6a - Milestones - Approvals'!I46"]
["6a - Milestones - Approvals","Approvals","6.01.40",null,"Status",{"$f":"'6a - Milestones - Approvals'!J46","v":0},"6a - Milestones - Approvals'!J46"]
["6a - Milestones - Approvals","Approvals","6.01.40",null,"Comments",{"$f":"'6a - Milestones - Approvals'!K46","v":0},"6a - Milestones - Approvals'!K46"]
["6a - Milestones - Approvals","Approvals","6.01.41",null,"Milestone label",{"$f":"'6a - Milestones - Approvals'!D47","v":0},"6a - Milestones - Approvals'!D47",{"$f":"IF(CONCATENATE(F622,\" - \",F623,\" - \",F624,\" - \",F625,\" - \",F626,\" - \",F627,\" - \",F628,\" - \",F629)=\"0 - 0 - 0 - 0 - 0 -  - 0 - 0\",\"0\",CONCATENATE(F622,\" - \",F623,\" - \",F624,\" - \",F625,\" - \",F626,\" - \",F627,\" - \",F628,\" - \",F629))","v":"0"},null,{"$f":"'6a - Milestones - Approvals'!P47","v":0},{"$f":"IF(J622=F622,\"\",\"Changed Since Last Quarter\")","v":""}]
["6a - Milestones - Approvals","Approvals","6.01.41",null,"List all:\nTreasury Approval Points\nand \nCabinet Office Controls",{"$f":"'6a - Milestones - Approvals'!E47","v":0},"6a - Milestones - Approvals'!E47"]
["6a - Milestones - Approvals","Approvals","6.01.41",null,"Version No.",{"$f":"'6a - Milestones - Approvals'!F47","v":0},"6a - Milestones - Approvals'!F47"]
["6a - Milestones - Approvals","Approvals","6.01.41",null,"Baseline Date of Approval Point",{"$f":"'6a - Milestones - Approvals'!G47","v":"00:00:00"},"6a - Milestones - Approvals'!G47"]
["6a - Milestones - Approvals","Approvals","6.01.41",null,"Forecast / Actual Date\nof Approval Point",{"$f":"'6a - Milestones - Approvals'!H47","v":"00:00:00"},"6a - Milestones - Approvals'!H47"]
["6a - Milestones - Approvals","Approvals","6.01.41",null,"Variance between Baseline and Forecast/ Actual Dates (Days)",{"$f":"'6a - Milestones - Approvals'!I47","v":""},"6a - Milestones - Approvals'!I47"]
["6a - Milestones - Approvals","Approvals","6.01.41",null,"Status",{"$f":"'6a - Milestones - Approvals'!J47","v":0},"6a - Milestones - Approvals'!J47"]
["6a - Milestones - Approvals","Approvals","6.01.41",null,"Comments",{"$f":"'6a - Milestones - Approvals'!K47","v":0},"6a - Milestones - Approvals'!K47"]
["6a - Milestones - Approvals","Approvals","6.01.42",null,"Milestone label",{"$f":"'6a - Milestones - Approvals'!D48","v":0},"6a - Milestones - Approvals'!D48",{"$f":"IF(CONCATENATE(F630,\" - \",F631,\" - \",F632,\" - \",F633,\" - \",F634,\" - \",F635,\" - \",F636,\" - \",F637)=\"0 - 0 - 0 - 0 - 0 -  - 0 - 0\",\"0\",CONCATENATE(F630,\" - \",F631,\" - \",F632,\" - \",F633,\" - \",F634,\" - \",F635,\" - \",F636,\" - \",F637))","v":"0"},null,{"$f":"'6a - Milestones - Approvals'!P48","v":0},{"$f":"IF(J630=F630,\"\",\"Changed Since Last Quarter\")","v":""}]
["6a - Milestones - Approvals","Approvals","6.01.42",null,"List all:\nTreasury Approval Points\nand \nCabinet Office Controls",{"$f":"'6a - Milestones - Approvals'!E48","v":0},"6a - Milestones - Approvals'!E48"]
["6a - Milestones - Approvals","Approvals","6.01.42",null,"Version No.",{"$f":"'6a - Milestones - Approvals'!F48","v":0},"6a - Milestones - Approvals'!F48"]
["6a - Milestones - Approvals","Approvals","6.01.42",null,"Baseline Date of Approval Point",{"$f":"'6a - Milestones - Approvals'!G48","v":"00:00:00"},"6a - Milestones - Approvals'!G48"]
["6a - Milestones - Approvals","Approvals","6.01.42",null,"Forecast / Actual Date\nof Approval Point",{"$f":"'6a - Milestones - Approvals'!H48","v":"00:00:00"},"6a - Milestones - Approvals'!H48"]
["6a - Milestones - Approvals","Approvals","6.01.42",null,"Variance between Baseline and Forecast/ Actual Dates (Days)",{"$f":"'6a - Milestones - Approvals'!I48","v":""},"6a - Milestones - Approvals'!I48"]
["6a - Milestones - Approvals","Approvals","6.01.42",null,"Status",{"$f":"'6a - Milestones - Approvals'!J48","v":0},"6a - Milestones - Approvals'!J48"]
["6a - Milestones - Approvals","Approvals","6.01.42",null,"Comments",{"$f":"'6a - Milestones - Approvals'!K48","v":0},"6a - Milestones - Approvals'!K48"]
["6a - Milestones - Approvals","Approvals","6.01.43",null,"Milestone label",{"$f":"'6a - Milestones - Approvals'!D49","v":0},"6a - Milestones - Approvals'!D49",{"$f":"IF(CONCATENATE(F638,\" - \",F639,\" - \",F640,\" - \",F641,\" - \",F642,\" - \",F643,\" - \",F644,\" - \",F645)=\"0 - 0 - 0 - 0 - 0 -  - 0 - 0\",\"0\",CONCATENATE(F638,\" - \",F639,\" - \",F640,\" - \",F641,\" - \",F642,\" - \",F643,\" - \",F644,\" - \",F645))","v":"0"},null,{"$f":"'6a - Milestones - Approvals'!P49","v":0},{"$f":"IF(J638=F638,\"\",\"Changed Since Last Quarter\")","v":""}]
["6a - Milestones - Approvals","Approvals","6.01.43",null,"List all:\nTreasury Approval Points\nand \nCabinet Office Controls",{"$f":"'6a - Milestones - Approvals'!E49","v":0},"6a - Milestones - Approvals'!E49"]
["6a - Milestones - Approvals","Approvals","6.01.43",null,"Version No.",{"$f":"'6a - Milestones - Approvals'!F49","v":0},"6a - Milestones - Approvals'!F49"]
["6a - Milestones - Approvals","Approvals","6.01.43",null,"Baseline Date of Approval Point",{"$f":"'6a - Milestones - Approvals'!G49","v":"00:00:00"},"6a - Milestones - Approvals'!G49"]
["6a - Milestones - Approvals","Approvals","6.01.43",null,"Forecast / Actual Date\nof Approval Point",{"$f":"'6a - Milestones - Approvals'!H49","v":"00:00:00"},"6a - Milestones - Approvals'!H49"]
["6a - Milestones - Approvals","Approvals","6.01.43",null,"Variance between Baseline and Forecast/ Actual Dates (Days)",{"$f":"'6a - Milestones - Approvals'!I49","v":""},"6a - Milestones - Approvals'!I49"]
["6a - Milestones - Approvals","Approvals","6.01.43",null,"Status",{"$f":"'6a - Milestones - Approvals'!J49","v":0},"6a - Milestones - Approvals'!J49"]
["6a - Milestones - Approvals","Approvals","6.01.43",null,"Comments",{"$f":"'6a - Milestones - Approvals'!K49","v":0},"6a - Milestones - Approvals'!K49"]
["6a - Milestones - Approvals","Approvals","6.01.44",null,"Milestone label",{"$f":"'6a - Milestones - Approvals'!D50","v":0},"6a - Milestones - Approvals'!D50",{"$f":"IF(CONCATENATE(F646,\" - \",F647,\" - \",F648,\" - \",F649,\" - \",F650,\" - \",F651,\" - \",F652,\" - \",F653)=\"0 - 0 - 0 - 0 - 0 -  - 0 - 0\",\"0\",CONCATENATE(F646,\" - \",F647,\" - \",F648,\" - \",F649,\" - \",F650,\" - \",F651,\" - \",F652,\" - \",F653))","v":"0"},null,{"$f":"'6a - Milestones - Approvals'!P50","v":0},{"$f":"IF(J646=F646,\"\",\"Changed Since Last Quarter\")","v":""}]
["6a - Milestones - Approvals","Approvals","6.01.44",null,"List all:\nTreasury Approval Points\nand \nCabinet Office Controls",{"$f":"'6a - Milestones - Approvals'!E50","v":0},"6a - Milestones - Approvals'!E50"]
["6a - Milestones - Approvals","Approvals","6.01.44",null,"Version No.",{"$f":"'6a - Milestones - Approvals'!F50","v":0},"6a - Milestones - Approvals'!F50"]
["6a - Milestones - Approvals","Approvals","6.01.44",null,"Baseline Date of Approval Point",{"$f":"'6a - Milestones - Approvals'!G50","v":"00:00:00"},"6a - Milestones - Approvals'!G50"]
["6a - Milestones - Approvals","Approvals","6.01.44",null,"Forecast / Actual Date\nof Approval Point",{"$f":"'6a - Milestones - Approvals'!H50","v":"00:00:00"},"6a - Milestones - Approvals'!H50"]
["6a - Milestones - Approvals","Approvals","6.01.44",null,"Variance between Baseline and Forecast/ Actual Dates (Days)",{"$f":"'6a - Milestones - Approvals'!I50","v":""},"6a - Milestones - Approvals'!I50"]
["6a - Milestones - Approvals","Approvals","6.01.44",null,"Status",{"$f":"'6a - Milestones - Approvals'!J50","v":0},"6a - Milestones - Approvals'!J50"]
["6a - Milestones - Approvals","Approvals","6.01.44",null,"Comments",{"$f":"'6a - Milestones - Approvals'!K50","v":0},"6a - Milestones - Approvals'!K50"]
["6a - Milestones - Approvals","Approvals","6.01.45",null,"Milestone label",{"$f":"'6a - Milestones - Approvals'!D51","v":0},"6a - Milestones - Approvals'!D51",{"$f":"IF(CONCATENATE(F654,\" - \",F655,\" - \",F656,\" - \",F657,\" - \",F658,\" - \",F659,\" - \",F660,\" - \",F661)=\"0 - 0 - 0 - 0 - 0 -  - 0 - 0\",\"0\",CONCATENATE(F654,\" - \",F655,\" - \",F656,\" - \",F657,\" - \",F658,\" - \",F659,\" - \",F660,\" - \",F661))","v":"0"},null,{"$f":"'6a - Milestones - Approvals'!P51","v":0},{"$f":"IF(J654=F654,\"\",\"Changed Since Last Quarter\")","v":""}]
["6a - Milestones - Approvals","Approvals","6.01.45",null,"List all:\nTreasury Approval Points\nand \nCabinet Office Controls",{"$f":"'6a - Milestones - Approvals'!E51","v":0},"6a - Milestones - Approvals'!E51"]
["6a - Milestones - Approvals","Approvals","6.01.45",null,"Version No.",{"$f":"'6a - Milestones - Approvals'!F51","v":0},"6a - Milestones - Approvals'!F51"]
["6a - Milestones - Approvals","Approvals","6.01.45",null,"Baseline Date of Approval Point",{"$f":"'6a - Milestones - Approvals'!G51","v":"00:00:00"},"6a - Milestones - Approvals'!G51"]
["6a - Milestones - Approvals","Approvals","6.01.45",null,"Forecast / Actual Date\nof Approval Point",{"$f":"'6a - Milestones - Approvals'!H51","v":"00:00:00"},"6a - Milestones - Approvals'!H51"]
["6a - Milestones - Approvals","Approvals","6.01.45",null,"Variance between Baseline and Forecast/ Actual Dates (Days)",{"$f":"'6a - Milestones - Approvals'!I51","v":""},"6a - Milestones - Approvals'!I51"]
["6a - Milestones - Approvals","Approvals","6.01.45",null,"Status",{"$f":"'6a - Milestones - Approvals'!J51","v":0},"6a - Milestones - Approvals'!J51"]
["6a - Milestones - Approvals","Approvals","6.01.45",null,"Comments",{"$f":"'6a - Milestones - Approvals'!K51","v":0},"6a - Milestones - Approvals'!K51"]
["6a - Milestones - Approvals","Approvals","6.01.46",null,"Milestone label",{"$f":"'6a - Milestones - Approvals'!D52","v":0},"6a - Milestones - Approvals'!D52",{"$f":"IF(CONCATENATE(F662,\" - \",F663,\" - \",F664,\" - \",F665,\" - \",F666,\" - \",F667,\" - \",F668,\" - \",F669)=\"0 - 0 - 0 - 0 - 0 -  - 0 - 0\",\"0\",CONCATENATE(F662,\" - \",F663,\" - \",F664,\" - \",F665,\" - \",F666,\" - \",F667,\" - \",F668,\" - \",F669))","v":"0"},null,{"$f":"'6a - Milestones - Approvals'!P52","v":0},{"$f":"IF(J662=F662,\"\",\"Changed Since Last Quarter\")","v":""}]
["6a - Milestones - Approvals","Approvals","6.01.46",null,"List all:\nTreasury Approval Points\nand \nCabinet Office Controls",{"$f":"'6a - Milestones - Approvals'!E52","v":0},"6a - Milestones - Approvals'!E52"]
["6a - Milestones - Approvals","Approvals","6.01.46",null,"Version No.",{"$f":"'6a - Milestones - Approvals'!F52","v":0},"6a - Milestones - Approvals'!F52"]
["6a - Milestones - Approvals","Approvals","6.01.46",null,"Baseline Date of Approval Point",{"$f":"'6a - Milestones - Approvals'!G52","v":"00:00:00"},"6a - Milestones - Approvals'!G52"]
["6a - Milestones - Approvals","Approvals","6.01.46",null,"Forecast / Actual Date\nof Approval Point",{"$f":"'6a - Milestones - Approvals'!H52","v":"00:00:00"},"6a - Milestones - Approvals'!H52"]
["6a - Milestones - Approvals","Approvals","6.01.46",null,"Variance between Baseline and Forecast/ Actual Dates (Days)",{"$f":"'6a - Milestones - Approvals'!I52","v":""},"6a - Milestones - Approvals'!I52"]
["6a - Milestones - Approvals","Approvals","6.01.46",null,"Status",{"$f":"'6a - Milestones - Approvals'!J52","v":0},"6a - Milestones - Approvals'!J52"]
["6a - Milestones - Approvals","Approvals","6.01.46",null,"Comments",{"$f":"'6a - Milestones - Approvals'!K52","v":0},"6a - Milestones - Approvals'!K52"]
["6a - Milestones - Approvals","Approvals","6.01.47",null,"Milestone label",{"$f":"'6a - Milestones - Approvals'!D53","v":0},"6a - Milestones - Approvals'!D53",{"$f":"IF(CONCATENATE(F670,\" - \",F671,\" - \",F672,\" - \",F673,\" - \",F674,\" - \",F675,\" - \",F676,\" - \",F677)=\"0 - 0 - 0 - 0 - 0 -  - 0 - 0\",\"0\",CONCATENATE(F670,\" - \",F671,\" - \",F672,\" - \",F673,\" - \",F674,\" - \",F675,\" - \",F676,\" - \",F677))","v":"0"},null,{"$f":"'6a - Milestones - Approvals'!P53","v":0},{"$f":"IF(J670=F670,\"\",\"Changed Since Last Quarter\")","v":""}]
["6a - Milestones - Approvals","Approvals","6.01.47",null,"List all:\nTreasury Approval Points\nand \nCabinet Office Controls",{"$f":"'6a - Milestones - Approvals'!E53","v":0},"6a - Milestones - Approvals'!E53"]
["6a - Milestones - Approvals","Approvals","6.01.47",null,"Version No.",{"$f":"'6a - Milestones - Approvals'!F53","v":0},"6a - Milestones - Approvals'!F53"]
["6a - Milestones - Approvals","Approvals","6.01.47",null,"Baseline Date of Approval Point",{"$f":"'6a - Milestones - Approvals'!G53","v":"00:00:00"},"6a - Milestones - Approvals'!G53"]
["6a - Milestones - Approvals","Approvals","6.01.47",null,"Forecast / Actual Date\nof Approval Point",{"$f":"'6a - Milestones - Approvals'!H53","v":"00:00:00"},"6a - Milestones - Approvals'!H53"]
["6a - Milestones - Approvals","Approvals","6.01.47",null,"Variance between Baseline and Forecast/ Actual Dates (Days)",{"$f":"'6a - Milestones - Approvals'!I53","v":""},"6a - Milestones - Approvals'!I53"]
["6a - Milestones - Approvals","Approvals","6.01.47",null,"Status",{"$f":"'6a - Milestones - Approvals'!J53","v":0},"6a - Milestones - Approvals'!J53"]
["6a - Milestones - Approvals","Approvals","6.01.47",null,"Comments",{"$f":"'6a - Milestones - Approvals'!K53","v":0},"6a - Milestones - Approvals'!K53"]
["6a - Milestones - Approvals","Approvals","6.01.48",null,"Milestone label",{"$f":"'6a - Milestones - Approvals'!D54","v":0},"6a - Milestones - Approvals'!D54",{"$f":"IF(CONCATENATE(F678,\" - \",F679,\" - \",F680,\" - \",F681,\" - \",F682,\" - \",F683,\" - \",F684,\" - \",F685)=\"0 - 0 - 0 - 0 - 0 -  - 0 - 0\",\"0\",CONCATENATE(F678,\" - \",F679,\" - \",F680,\" - \",F681,\" - \",F682,\" - \",F683,\" - \",F684,\" - \",F685))","v":"0"},null,{"$f":"'6a - Milestones - Approvals'!P54","v":0},{"$f":"IF(J678=F678,\"\",\"Changed Since Last Quarter\")","v":""}]
["6a - Milestones - Approvals","Approvals","6.01.48",null,"List all:\nTreasury Approval Points\nand \nCabinet Office Controls",{"$f":"'6a - Milestones - Approvals'!E54","v":0},"6a - Milestones - Approvals'!E54"]
["6a - Milestones - Approvals","Approvals","6.01.48",null,"Version No.",{"$f":"'6a - Milestones - Approvals'!F54","v":0},"6a - Milestones - Approvals'!F54"]
["6a - Milestones - Approvals","Approvals","6.01.48",null,"Baseline Date of Approval Point",{"$f":"'6a - Milestones - Approvals'!G54","v":"00:00:00"},"6a - Milestones - Approvals'!G54"]
["6a - Milestones - Approvals","Approvals","6.01.48",null,"Forecast / Actual Date\nof Approval Point",{"$f":"'6a - Milestones - Approvals'!H54","v":"00:00:00"},"6a - Milestones - Approvals'!H54"]
["6a - Milestones - Approvals","Approvals","6.01.48",null,"Variance between Baseline and Forecast/ Actual Dates (Days)",{"$f":"'6a - Milestones - Approvals'!I54","v":""},"6a - Milestones - Approvals'!I54"]
["6a - Milestones - Approvals","Approvals","6.01.48",null,"Status",{"$f":"'6a - Milestones - Approvals'!J54","v":0},"6a - Milestones - Approvals'!J54"]
["6a - Milestones - Approvals","Approvals","6.01.48",null,"Comments",{"$f":"'6a - Milestones - Approvals'!K54","v":0},"6a - Milestones - Approvals'!K54"]
["6a - Milestones - Approvals","Approvals","6.01.49",null,"Milestone label",{"$f":"'6a - Milestones - Approvals'!D55","v":0},"6a - Milestones - Approvals'!D55",{"$f":"IF(CONCATENATE(F686,\" - \",F687,\" - \",F688,\" - \",F689,\" - \",F690,\" - \",F691,\" - \",F692,\" - \",F693)=\"0 - 0 - 0 - 0 - 0 -  - 0 - 0\",\"0\",CONCATENATE(F686,\" - \",F687,\" - \",F688,\" - \",F689,\" - \",F690,\" - \",F691,\" - \",F692,\" - \",F693))","v":"0"},null,{"$f":"'6a - Milestones - Approvals'!P55","v":0},{"$f":"IF(J686=F686,\"\",\"Changed Since Last Quarter\")","v":""}]
["6a - Milestones - Approvals","Approvals","6.01.49",null,"List all:\nTreasury Approval Points\nand \nCabinet Office Controls",{"$f":"'6a - Milestones - Approvals'!E55","v":0},"6a - Milestones - Approvals'!E55"]
["6a - Milestones - Approvals","Approvals","6.01.49",null,"Version No.",{"$f":"'6a - Milestones - Approvals'!F55","v":0},"6a - Milestones - Approvals'!F55"]
["6a - Milestones - Approvals","Approvals","6.01.49",null,"Baseline Date of Approval Point",{"$f":"'6a - Milestones - Approvals'!G55","v":"00:00:00"},"6a - Milestones - Approvals'!G55"]
["6a - Milestones - Approvals","Approvals","6.01.49",null,"Forecast / Actual Date\nof Approval Point",{"$f":"'6a - Milestones - Approvals'!H55","v":"00:00:00"},"6a - Milestones - Approvals'!H55"]
["6a - Milestones - Approvals","Approvals","6.01.49",null,"Variance between Baseline and Forecast/ Actual Dates (Days)",{"$f":"'6a - Milestones - Approvals'!I55","v":""},"6a - Milestones - Approvals'!I55"]
["6a - Milestones - Approvals","Approvals","6.01.49",null,"Status",{"$f":"'6a - Milestones - Approvals'!J55","v":0},"6a - Milestones - Approvals'!J55"]
["6a - Milestones - Approvals","Approvals","6.01.49",null,"Comments",{"$f":"'6a - Milestones - Approvals'!K55","v":0},"6a - Milestones - Approvals'!K55"]
["6a - Milestones - Approvals","Approvals","6.01.50",null,"Milestone label",{"$f":"'6a - Milestones - Approvals'!D56","v":0},"6a - Milestones - Approvals'!D56",{"$f":"IF(CONCATENATE(F694,\" - \",F695,\" - \",F696,\" - \",F697,\" - \",F698,\" - \",F699,\" - \",F700,\" - \",F701)=\"0 - 0 - 0 - 0 - 0 -  - 0 - 0\",\"0\",CONCATENATE(F694,\" - \",F695,\" - \",F696,\" - \",F697,\" - \",F698,\" - \",F699,\" - \",F700,\" - \",F701))","v":"0"},null,{"$f":"'6a - Milestones - Approvals'!P56","v":0},{"$f":"IF(J694=F694,\"\",\"Changed Since Last Quarter\")","v":""}]
["6a - Milestones - Approvals","Approvals","6.01.50",null,"List all:\nTreasury Approval Points\nand \nCabinet Office Controls",{"$f":"'6a - Milestones - Approvals'!E56","v":0},"6a - Milestones - Approvals'!E56"]
["6a - Milestones - Approvals","Approvals","6.01.50",null,"Version No.",{"$f":"'6a - Milestones - Approvals'!F56","v":0},"6a - Milestones - Approvals'!F56"]
["6a - Milestones - Approvals","Approvals","6.01.50",null,"Baseline Date of Approval Point",{"$f":"'6a - Milestones - Approvals'!G56","v":"00:00:00"},"6a - Milestones - Approvals'!G56"]
["6a - Milestones - Approvals","Approvals","6.01.50",null,"Forecast / Actual Date\nof Approval Point",{"$f":"'6a - Milestones - Approvals'!H56","v":"00:00:00"},"6a - Milestones - Approvals'!H56"]
["6a - Milestones - Approvals","Approvals","6.01.50",null,"Variance between Baseline and Forecast/ Actual Dates (Days)",{"$f":"'6a - Milestones - Approvals'!I56","v":""},"6a - Milestones - Approvals'!I56"]
["6a - Milestones - Approvals","Approvals","6.01.50",null,"Status",{"$f":"'6a - Milestones - Approvals'!J56","v":0},"6a - Milestones - Approvals'!J56"]
["6a - Milestones - Approvals","Approvals","6.01.50",null,"Comments",{"$f":"'6a - Milestones - Approvals'!K56","v":0},"6a - Milestones - Approvals'!K56"]
["6b - Milestones - Assurance","Assurance","6.02.1",null,"Milestone label",{"$f":"'6b - Milestones - Assurance'!D7","v":"SGAR3"},"6b - Milestones - Assurance'!D7",{"$f":"IF(CONCATENATE(F702,\" - \",F703,\" - \",F704,\" - \",F705,\" - \",F706,\" - \",F707,\" - \",F708)=\"0 - 0 - 0 - 0 -  - 0 - 0\",\"0\",CONCATENATE(F702,\" - \",F703,\" - \",F704,\" - \",F705,\" - \",F706,\" - \",F707,\" - \",F708))","v":"SGAR3 - (1) SRO - 41169 - 43342 - 2173 - Superceded - 0"},null,{"$f":"'6b - Milestones - Assurance'!P7","v":0},{"$f":"IF(J702=F702,\"\",\"Changed Since Last Quarter\")","v":"Changed Since Last Quarter"}]
["6b - Milestones - Assurance","Assurance","6.02.1",null,"List all:\nAssurance Milestones",{"$f":"'6b - Milestones - Assurance'!E7","v":"(1) SRO"},"6b - Milestones - Assurance'!E7"]
["6b - Milestones - Assurance","Assurance","6.02.1",null,"Baseline Date of Assurance Milestone (GMPP baselines will be sourced from your latest HMT approved BC)",{"$f":"'6b - Milestones - Assurance'!F7","v":"2012-09-17"},"6b - Milestones - Assurance'!F7"]
["6b - Milestones - Assurance","Assurance","6.02.1",null,"Forecast / Actual Date \nof Assurance Milestone",{"$f":"'6b - Milestones - Assurance'!G7","v":"2018-08-30"},"6b - Milestones - Assurance'!G7"]
["6b - Milestones - Assurance","Assurance","6.02.1",null,"Variance between Baseline and Forecast/ Actual Dates (Days)",{"$f":"'6b - Milestones - Assurance'!H7","v":2173},"6b - Milestones - Assurance'!H7"]
["6b - Milestones - Assurance","Assurance","6.02.1",null,"Status",{"$f":"'6b - Milestones - Assurance'!I7","v":"Superceded"},"6b - Milestones - Assurance'!I7"]
["6b - Milestones - Assurance","Assurance","6.02.1",null,"Comments",{"$f":"'6b - Milestones - Assurance'!J7","v":0},"6b - Milestones - Assurance'!J7"]
["6b - Milestones - Assurance","Assurance","6.02.2",null,"Milestone label",{"$f":"'6b - Milestones - Assurance'!D8","v":"Effortless Wedgie Exit"},"6b - Milestones - Assurance'!D8",{"$f":"IF(CONCATENATE(F709,\" - \",F710,\" - \",F711,\" - \",F712,\" - \",F713,\" - \",F714,\" - \",F715)=\"0 - 0 - 0 - 0 -  - 0 - 0\",\"0\",CONCATENATE(F709,\" - \",F710,\" - \",F711,\" - \",F712,\" - \",F713,\" - \",F714,\" - \",F715))","v":"Effortless Wedgie Exit - (2) Effortless Exit review - 46387 - 46387 - 0 - Live - 0"},null,{"$f":"'6b - Milestones - Assurance'!P8","v":0},{"$f":"IF(J709=F709,\"\",\"Changed Since Last Quarter\")","v":"Changed Since Last Quarter"}]
["6b - Milestones - Assurance","Assurance","6.02.2",null,"List all:\nAssurance Milestones",{"$f":"'6b - Milestones - Assurance'!E8","v":"(2) Effortless Exit review"},"6b - Milestones - Assurance'!E8"]
["6b - Milestones - Assurance","Assurance","6.02.2",null,"Baseline Date of Assurance Milestone (GMPP baselines will be sourced from your latest HMT approved BC)",{"$f":"'6b - Milestones - Assurance'!F8","v":"2026-12-31"},"6b - Milestones - Assurance'!F8"]
["6b - Milestones - Assurance","Assurance","6.02.2",null,"Forecast / Actual Date \nof Assurance Milestone",{"$f":"'6b - Milestones - Assurance'!G8","v":"2026-12-31"},"6b - Milestones - Assurance'!G8"]
["6b - Milestones - Assurance","Assurance","6.02.2",null,"Variance between Baseline and Forecast/ Actual Dates (Days)",{"$f":"'6b - Milestones - Assurance'!H8","v":0},"6b - Milestones - Assurance'!H8"]
["6b - Milestones - Assurance","Assurance","6.02.2",null,"Status",{"$f":"'6b - Milestones - Assurance'!I8","v":"Live"},"6b - Milestones - Assurance'!I8"]
["6b - Milestones - Assurance","Assurance","6.02.2",null,"Comments",{"$f":"'6b - Milestones - Assurance'!J8","v":0},"6b - Milestones - Assurance'!J8"]
["6b - Milestones - Assurance","Assurance","6.02.3",null,"Milestone label",{"$f":"'6b - Milestones - Assurance'!D9","v":"Wedgie 0 (Programme)"},"6b - Milestones - Assurance'!D9",{"$f":"IF(CONCATENATE(F716,\" - \",F717,\" - \",F718,\" - \",F719,\" - \",F720,\" - \",F721,\" - \",F722)=\"0 - 0 - 0 - 0 -  - 0 - 0\",\"0\",CONCATENATE(F716,\" - \",F717,\" - \",F718,\" - \",F719,\" - \",F720,\" - \",F721,\" - \",F722))","v":"Wedgie 0 (Programme) - (2) Effortless Wedgie 0 - 42339 - 42339 - 0 - Complete - 0"},null,{"$f":"'6b - Milestones - Assurance'!P9","v":0},{"$f":"IF(J716=F716,\"\",\"Changed Since Last Quarter\")","v":"Changed Since Last Quarter"}]
["6b - Milestones - Assurance","Assurance","6.02.3",null,"List all:\nAssurance Milestones",{"$f":"'6b - Milestones - Assurance'!E9","v":"(2) Effortless Wedgie 0"},"6b - Milestones - Assurance'!E9"]
["6b - Milestones - Assurance","Assurance","6.02.3",null,"Baseline Date of Assurance Milestone (GMPP baselines will be sourced from your latest HMT approved BC)",{"$f":"'6b - Milestones - Assurance'!F9","v":"2015-12-01"},"6b - Milestones - Assurance'!F9"]
["6b - Milestones - Assurance","Assurance","6.02.3",null,"Forecast / Actual Date \nof Assurance Milestone",{"$f":"'6b - Milestones - Assurance'!G9","v":"2015-12-01"},"6b - Milestones - Assurance'!G9"]
["6b - Milestones - Assurance","Assurance","6.02.3",null,"Variance between Baseline and Forecast/ Actual Dates (Days)",{"$f":"'6b - Milestones - Assurance'!H9","v":0},"6b - Milestones - Assurance'!H9"]
["6b - Milestones - Assurance","Assurance","6.02.3",null,"Status",{"$f":"'6b - Milestones - Assurance'!I9","v":"Complete"},"6b - Milestones - Assurance'!I9"]
["6b - Milestones - Assurance","Assurance","6.02.3",null,"Comments",{"$f":"'6b - Milestones - Assurance'!J9","v":0},"6b - Milestones - Assurance'!J9"]
["6b - Milestones - Assurance","Assurance","6.02.4",null,"Milestone label",{"$f":"'6b - Milestones - Assurance'!D10","v":"Wedgie 1 or PAR (SOBC)"},"6b - Milestones - Assurance'!D10",{"$f":"IF(CONCATENATE(F723,\" - \",F724,\" - \",F725,\" - \",F726,\" - \",F727,\" - \",F728,\" - \",F729)=\"0 - 0 - 0 - 0 -  - 0 - 0\",\"0\",CONCATENATE(F723,\" - \",F724,\" - \",F725,\" - \",F726,\" - \",F727,\" - \",F728,\" - \",F729))","v":"Wedgie 1 or PAR (SOBC) - (2) Effortless Wedgie 1 - 41091 - 42529 - 1438 - Complete - 0"},null,{"$f":"'6b - Milestones - Assurance'!P10","v":0},{"$f":"IF(J723=F723,\"\",\"Changed Since Last Quarter\")","v":"Changed Since Last Quarter"}]
["6b - Milestones - Assurance","Assurance","6.02.4",null,"List all:\nAssurance Milestones",{"$f":"'6b - Milestones - Assurance'!E10","v":"(2) Effortless Wedgie 1"},"6b - Milestones - Assurance'!E10"]
["6b - Milestones - Assurance","Assurance","6.02.4",null,"Baseline Date of Assurance Milestone (GMPP baselines will be sourced from your latest HMT approved BC)",{"$f":"'6b - Milestones - Assurance'!F10","v":"2012-07-01"},"6b - Milestones - Assurance'!F10"]
["6b - Milestones - Assurance","Assurance","6.02.4",null,"Forecast / Actual Date \nof Assurance Milestone",{"$f":"'6b - Milestones - Assurance'!G10","v":"2016-06-08"},"6b - Milestones - Assurance'!G10"]
["6b - Milestones - Assurance","Assurance","6.02.4",null,"Variance between Baseline and Forecast/ Actual Dates (Days)",{"$f":"'6b - Milestones - Assurance'!H10","v":1438},"6b - Milestones - Assurance'!H10"]
["6b - Milestones - Assurance","Assurance","6.02.4",null,"Status",{"$f":"'6b - Milestones - Assurance'!I10","v":"Complete"},"6b - Milestones - Assurance'!I10"]
["6b - Milestones - Assurance","Assurance","6.02.4",null,"Comments",{"$f":"'6b - Milestones - Assurance'!J10","v":0},"6b - Milestones - Assurance'!J10"]
["6b - Milestones - Assurance","Assurance","6.02.5",null,"Milestone label",{"$f":"'6b - Milestones - Assurance'!D11","v":"Wedgie 2 or PAR (OBC)"},"6b - Milestones - Assurance'!D11",{"$f":"IF(CONCATENATE(F730,\" - \",F731,\" - \",F732,\" - \",F733,\" - \",F734,\" - \",F735,\" - \",F736)=\"0 - 0 - 0 - 0 -  - 0 - 0\",\"0\",CONCATENATE(F730,\" - \",F731,\" - \",F732,\" - \",F733,\" - \",F734,\" - \",F735,\" - \",F736))","v":"Wedgie 2 or PAR (OBC) - (2) Effortless Wedgie 2 - 42856 - 42906 - 50 - Complete - 0"},null,{"$f":"'6b - Milestones - Assurance'!P11","v":0},{"$f":"IF(J730=F730,\"\",\"Changed Since Last Quarter\")","v":"Changed Since Last Quarter"}]
["6b - Milestones - Assurance","Assurance","6.02.5",null,"List all:\nAssurance Milestones",{"$f":"'6b - Milestones - Assurance'!E11","v":"(2) Effortless Wedgie 2"},"6b - Milestones - Assurance'!E11"]
["6b - Milestones - Assurance","Assurance","6.02.5",null,"Baseline Date of Assurance Milestone (GMPP baselines will be sourced from your latest HMT approved BC)",{"$f":"'6b - Milestones - Assurance'!F11","v":"2017-05-01"},"6b - Milestones - Assurance'!F11"]
["6b - Milestones - Assurance","Assurance","6.02.5",null,"Forecast / Actual Date \nof Assurance Milestone",{"$f":"'6b - Milestones - Assurance'!G11","v":"2017-06-20"},"6b - Milestones - Assurance'!G11"]
["6b - Milestones - Assurance","Assurance","6.02.5",null,"Variance between Baseline and Forecast/ Actual Dates (Days)",{"$f":"'6b - Milestones - Assurance'!H11","v":50},"6b - Milestones - Assurance'!H11"]
["6b - Milestones - Assurance","Assurance","6.02.5",null,"Status",{"$f":"'6b - Milestones - Assurance'!I11","v":"Complete"},"6b - Milestones - Assurance'!I11"]
["6b - Milestones - Assurance","Assurance","6.02.5",null,"Comments",{"$f":"'6b - Milestones - Assurance'!J11","v":0},"6b - Milestones - Assurance'!J11"]
["6b - Milestones - Assurance","Assurance","6.02.6",null,"Milestone label",{"$f":"'6b - Milestones - Assurance'!D12","v":"Wedgie 3 or PAR (FBC)"},"6b - Milestones - Assurance'!D12",{"$f":"IF(CONCATENATE(F737,\" - \",F738,\" - \",F739,\" - \",F740,\" - \",F741,\" - \",F742,\" - \",F743)=\"0 - 0 - 0 - 0 -  - 0 - 0\",\"0\",CONCATENATE(F737,\" - \",F738,\" - \",F739,\" - \",F740,\" - \",F741,\" - \",F742,\" - \",F743))","v":"Wedgie 3 or PAR (FBC) - (2) Effortless Wedgie 3 - 43862 - 43862 - 0 - Live - 0"},null,{"$f":"'6b - Milestones - Assurance'!P12","v":0},{"$f":"IF(J737=F737,\"\",\"Changed Since Last Quarter\")","v":"Changed Since Last Quarter"}]
["6b - Milestones - Assurance","Assurance","6.02.6",null,"List all:\nAssurance Milestones",{"$f":"'6b - Milestones - Assurance'!E12","v":"(2) Effortless Wedgie 3"},"6b - Milestones - Assurance'!E12"]
["6b - Milestones - Assurance","Assurance","6.02.6",null,"Baseline Date of Assurance Milestone (GMPP baselines will be sourced from your latest HMT approved BC)",{"$f":"'6b - Milestones - Assurance'!F12","v":"2020-02-01"},"6b - Milestones - Assurance'!F12"]
["6b - Milestones - Assurance","Assurance","6.02.6",null,"Forecast / Actual Date \nof Assurance Milestone",{"$f":"'6b - Milestones - Assurance'!G12","v":"2020-02-01"},"6b - Milestones - Assurance'!G12"]
["6b - Milestones - Assurance","Assurance","6.02.6",null,"Variance between Baseline and Forecast/ Actual Dates (Days)",{"$f":"'6b - Milestones - Assurance'!H12","v":0},"6b - Milestones - Assurance'!H12"]
["6b - Milestones - Assurance","Assurance","6.02.6",null,"Status",{"$f":"'6b - Milestones - Assurance'!I12","v":"Live"},"6b - Milestones - Assurance'!I12"]
["6b - Milestones - Assurance","Assurance","6.02.6",null,"Comments",{"$f":"'6b - Milestones - Assurance'!J12","v":0},"6b - Milestones - Assurance'!J12"]
["6b - Milestones - Assurance","Assurance","6.02.7",null,"Milestone label",{"$f":"'6b - Milestones - Assurance'!D13","v":"Wedgie 4 or PAR (Readiness for Service)"},"6b - Milestones - Assurance'!D13",{"$f":"IF(CONCATENATE(F744,\" - \",F745,\" - \",F746,\" - \",F747,\" - \",F748,\" - \",F749,\" - \",F750)=\"0 - 0 - 0 - 0 -  - 0 - 0\",\"0\",CONCATENATE(F744,\" - \",F745,\" - \",F746,\" - \",F747,\" - \",F748,\" - \",F749,\" - \",F750))","v":"Wedgie 4 or PAR (Readiness for Service) - (2) Effortless Wedgie 4 - 46082 - 46082 - 0 - Live - Date amended to coincide with latest start of works date."},null,{"$f":"'6b - Milestones - Assurance'!P13","v":0},{"$f":"IF(J744=F744,\"\",\"Changed Since Last Quarter\")","v":"Changed Since Last Quarter"}]
["6b - Milestones - Assurance","Assurance","6.02.7",null,"List all:\nAssurance Milestones",{"$f":"'6b - Milestones - Assurance'!E13","v":"(2) Effortless Wedgie 4"},"6b - Milestones - Assurance'!E13"]
["6b - Milestones - Assurance","Assurance","6.02.7",null,"Baseline Date of Assurance Milestone (GMPP baselines will be sourced from your latest HMT approved BC)",{"$f":"'6b - Milestones - Assurance'!F13","v":"2026-03-01"},"6b - Milestones - Assurance'!F13"]
["6b - Milestones - Assurance","Assurance","6.02.7",null,"Forecast / Actual Date \nof Assurance Milestone",{"$f":"'6b - Milestones - Assurance'!G13","v":"2026-03-01"},"6b - Milestones - Assurance'!G13"]
["6b - Milestones - Assurance","Assurance","6.02.7",null,"Variance between Baseline and Forecast/ Actual Dates (Days)",{"$f":"'6b - Milestones - Assurance'!H13","v":0},"6b - Milestones - Assurance'!H13"]
["6b - Milestones - Assurance","Assurance","6.02.7",null,"Status",{"$f":"'6b - Milestones - Assurance'!I13","v":"Live"},"6b - Milestones - Assurance'!I13"]
["6b - Milestones - Assurance","Assurance","6.02.7",null,"Comments",{"$f":"'6b - Milestones - Assurance'!J13","v":"Date amended to coincide with latest start of works date."},"6b - Milestones - Assurance'!J13"]
["6b - Milestones - Assurance","Assurance","6.02.8",null,"Milestone label",{"$f":"'6b - Milestones - Assurance'!D14","v":"Wedgie 5 or PAR (Project Closure and Lessons Learned)"},"6b - Milestones - Assurance'!D14",{"$f":"IF(CONCATENATE(F751,\" - \",F752,\" - \",F753,\" - \",F754,\" - \",F755,\" - \",F756,\" - \",F757)=\"0 - 0 - 0 - 0 -  - 0 - 0\",\"0\",CONCATENATE(F751,\" - \",F752,\" - \",F753,\" - \",F754,\" - \",F755,\" - \",F756,\" - \",F757))","v":"Wedgie 5 or PAR (Project Closure and Lessons Learned) - (2) Effortless Wedgie 5 - 47118 - 47117 - -1 - Live - 0"},null,{"$f":"'6b - Milestones - Assurance'!P14","v":0},{"$f":"IF(J751=F751,\"\",\"Changed Since Last Quarter\")","v":"Changed Since Last Quarter"}]
["6b - Milestones - Assurance","Assurance","6.02.8",null,"List all:\nAssurance Milestones",{"$f":"'6b - Milestones - Assurance'!E14","v":"(2) Effortless Wedgie 5"},"6b - Milestones - Assurance'!E14"]
["6b - Milestones - Assurance","Assurance","6.02.8",null,"Baseline Date of Assurance Milestone (GMPP baselines will be sourced from your latest HMT approved BC)",{"$f":"'6b - Milestones - Assurance'!F14","v":"2028-12-31"},"6b - Milestones - Assurance'!F14"]
["6b - Milestones - Assurance","Assurance","6.02.8",null,"Forecast / Actual Date \nof Assurance Milestone",{"$f":"'6b - Milestones - Assurance'!G14","v":"2028-12-30"},"6b - Milestones - Assurance'!G14"]
["6b - Milestones - Assurance","Assurance","6.02.8",null,"Variance between Baseline and Forecast/ Actual Dates (Days)",{"$f":"'6b - Milestones - Assurance'!H14","v":-1},"6b - Milestones - Assurance'!H14"]
["6b - Milestones - Assurance","Assurance","6.02.8",null,"Status",{"$f":"'6b - Milestones - Assurance'!I14","v":"Live"},"6b - Milestones - Assurance'!I14"]
["6b - Milestones - Assurance","Assurance","6.02.8",null,"Comments",{"$f":"'6b - Milestones - Assurance'!J14","v":0},"6b - Milestones - Assurance'!J14"]
["6b - Milestones - Assurance","Assurance","6.02.9",null,"Milestone label",{"$f":"'6b - Milestones - Assurance'!D15","v":"Project Validation Review (PVR) (Project Initiation)"},"6b - Milestones - Assurance'!D15",{"$f":"IF(CONCATENATE(F758,\" - \",F759,\" - \",F760,\" - \",F761,\" - \",F762,\" - \",F763,\" - \",F764)=\"0 - 0 - 0 - 0 -  - 0 - 0\",\"0\",CONCATENATE(F758,\" - \",F759,\" - \",F760,\" - \",F761,\" - \",F762,\" - \",F763,\" - \",F764))","v":"Project Validation Review (PVR) (Project Initiation) - (2) Effortless PVR - 41974 - 41974 - 0 - Complete - 0"},null,{"$f":"'6b - Milestones - Assurance'!P15","v":0},{"$f":"IF(J758=F758,\"\",\"Changed Since Last Quarter\")","v":"Changed Since Last Quarter"}]
["6b - Milestones - Assurance","Assurance","6.02.9",null,"List all:\nAssurance Milestones",{"$f":"'6b - Milestones - Assurance'!E15","v":"(2) Effortless PVR"},"6b - Milestones - Assurance'!E15"]
["6b - Milestones - Assurance","Assurance","6.02.9",null,"Baseline Date of Assurance Milestone (GMPP baselines will be sourced from your latest HMT approved BC)",{"$f":"'6b - Milestones - Assurance'!F15","v":"2014-12-01"},"6b - Milestones - Assurance'!F15"]
["6b - Milestones - Assurance","Assurance","6.02.9",null,"Forecast / Actual Date \nof Assurance Milestone",{"$f":"'6b - Milestones - Assurance'!G15","v":"2014-12-01"},"6b - Milestones - Assurance'!G15"]
["6b - Milestones - Assurance","Assurance","6.02.9",null,"Variance between Baseline and Forecast/ Actual Dates (Days)",{"$f":"'6b - Milestones - Assurance'!H15","v":0},"6b - Milestones - Assurance'!H15"]
["6b - Milestones - Assurance","Assurance","6.02.9",null,"Status",{"$f":"'6b - Milestones - Assurance'!I15","v":"Complete"},"6b - Milestones - Assurance'!I15"]
["6b - Milestones - Assurance","Assurance","6.02.9",null,"Comments",{"$f":"'6b - Milestones - Assurance'!J15","v":0},"6b - Milestones - Assurance'!J15"]
["6b - Milestones - Assurance","Assurance","6.02.10",null,"Milestone label",{"$f":"'6b - Milestones - Assurance'!D16","v":"Wedgie 1 AAP"},"6b - Milestones - Assurance'!D16",{"$f":"IF(CONCATENATE(F765,\" - \",F766,\" - \",F767,\" - \",F768,\" - \",F769,\" - \",F770,\" - \",F771)=\"0 - 0 - 0 - 0 -  - 0 - 0\",\"0\",CONCATENATE(F765,\" - \",F766,\" - \",F767,\" - \",F768,\" - \",F769,\" - \",F770,\" - \",F771))","v":"Wedgie 1 AAP - (3) openward External Independent Review - 40480 - 42672 - 2192 - Complete - 0"},null,{"$f":"'6b - Milestones - Assurance'!P16","v":0},{"$f":"IF(J765=F765,\"\",\"Changed Since Last Quarter\")","v":"Changed Since Last Quarter"}]
["6b - Milestones - Assurance","Assurance","6.02.10",null,"List all:\nAssurance Milestones",{"$f":"'6b - Milestones - Assurance'!E16","v":"(3) openward External Independent Review"},"6b - Milestones - Assurance'!E16"]
["6b - Milestones - Assurance","Assurance","6.02.10",null,"Baseline Date of Assurance Milestone (GMPP baselines will be sourced from your latest HMT approved BC)",{"$f":"'6b - Milestones - Assurance'!F16","v":40480},"6b - Milestones - Assurance'!F16"]
["6b - Milestones - Assurance","Assurance","6.02.10",null,"Forecast / Actual Date \nof Assurance Milestone",{"$f":"'6b - Milestones - Assurance'!G16","v":42672},"6b - Milestones - Assurance'!G16"]
["6b - Milestones - Assurance","Assurance","6.02.10",null,"Variance between Baseline and Forecast/ Actual Dates (Days)",{"$f":"'6b - Milestones - Assurance'!H16","v":2192},"6b - Milestones - Assurance'!H16"]
["6b - Milestones - Assurance","Assurance","6.02.10",null,"Status",{"$f":"'6b - Milestones - Assurance'!I16","v":"Complete"},"6b - Milestones - Assurance'!I16"]
["6b - Milestones - Assurance","Assurance","6.02.10",null,"Comments",{"$f":"'6b - Milestones - Assurance'!J16","v":0},"6b - Milestones - Assurance'!J16"]
["6b - Milestones - Assurance","Assurance","6.02.11",null,"Milestone label",{"$f":"'6b - Milestones - Assurance'!D17","v":"Effortless Review (OGC Wedgie 3a)"},"6b - Milestones - Assurance'!D17",{"$f":"IF(CONCATENATE(F772,\" - \",F773,\" - \",F774,\" - \",F775,\" - \",F776,\" - \",F777,\" - \",F778)=\"0 - 0 - 0 - 0 -  - 0 - 0\",\"0\",CONCATENATE(F772,\" - \",F773,\" - \",F774,\" - \",F775,\" - \",F776,\" - \",F777,\" - \",F778))","v":"Effortless Review (OGC Wedgie 3a) - (3) openward External Independent Review - 43255 - 43364 - 109 - Complete - Delayed at behest of Effortless."},null,{"$f":"'6b - Milestones - Assurance'!P17","v":0},{"$f":"IF(J772=F772,\"\",\"Changed Since Last Quarter\")","v":"Changed Since Last Quarter"}]
["6b - Milestones - Assurance","Assurance","6.02.11",null,"List all:\nAssurance Milestones",{"$f":"'6b - Milestones - Assurance'!E17","v":"(3) openward External Independent Review"},"6b - Milestones - Assurance'!E17"]
["6b - Milestones - Assurance","Assurance","6.02.11",null,"Baseline Date of Assurance Milestone (GMPP baselines will be sourced from your latest HMT approved BC)",{"$f":"'6b - Milestones - Assurance'!F17","v":43255},"6b - Milestones - Assurance'!F17"]
["6b - Milestones - Assurance","Assurance","6.02.11",null,"Forecast / Actual Date \nof Assurance Milestone",{"$f":"'6b - Milestones - Assurance'!G17","v":43364},"6b - Milestones - Assurance'!G17"]
["6b - Milestones - Assurance","Assurance","6.02.11",null,"Variance between Baseline and Forecast/ Actual Dates (Days)",{"$f":"'6b - Milestones - Assurance'!H17","v":109},"6b - Milestones - Assurance'!H17"]
["6b - Milestones - Assurance","Assurance","6.02.11",null,"Status",{"$f":"'6b - Milestones - Assurance'!I17","v":"Complete"},"6b - Milestones - Assurance'!I17"]
["6b - Milestones - Assurance","Assurance","6.02.11",null,"Comments",{"$f":"'6b - Milestones - Assurance'!J17","v":"Delayed at behest of Effortless."},"6b - Milestones - Assurance'!J17"]
["6b - Milestones - Assurance","Assurance","6.02.12",null,"Milestone label",{"$f":"'6b - Milestones - Assurance'!D18","v":"Effortless Review (OGC Wedgie 3a) revisit"},"6b - Milestones - Assurance'!D18",{"$f":"IF(CONCATENATE(F779,\" - \",F780,\" - \",F781,\" - \",F782,\" - \",F783,\" - \",F784,\" - \",F785)=\"0 - 0 - 0 - 0 -  - 0 - 0\",\"0\",CONCATENATE(F779,\" - \",F780,\" - \",F781,\" - \",F782,\" - \",F783,\" - \",F784,\" - \",F785))","v":"Effortless Review (OGC Wedgie 3a) revisit - (3) openward External Independent Review - 43531 - 43531 - 0 - Complete - 0"},null,{"$f":"'6b - Milestones - Assurance'!P18","v":0},{"$f":"IF(J779=F779,\"\",\"Changed Since Last Quarter\")","v":"Changed Since Last Quarter"}]
["6b - Milestones - Assurance","Assurance","6.02.12",null,"List all:\nAssurance Milestones",{"$f":"'6b - Milestones - Assurance'!E18","v":"(3) openward External Independent Review"},"6b - Milestones - Assurance'!E18"]
["6b - Milestones - Assurance","Assurance","6.02.12",null,"Baseline Date of Assurance Milestone (GMPP baselines will be sourced from your latest HMT approved BC)",{"$f":"'6b - Milestones - Assurance'!F18","v":43531},"6b - Milestones - Assurance'!F18"]
["6b - Milestones - Assurance","Assurance","6.02.12",null,"Forecast / Actual Date \nof Assurance Milestone",{"$f":"'6b - Milestones - Assurance'!G18","v":43531},"6b - Milestones - Assurance'!G18"]
["6b - Milestones - Assurance","Assurance","6.02.12",null,"Variance between Baseline and Forecast/ Actual Dates (Days)",{"$f":"'6b - Milestones - Assurance'!H18","v":0},"6b - Milestones - Assurance'!H18"]
["6b - Milestones - Assurance","Assurance","6.02.12",null,"Status",{"$f":"'6b - Milestones - Assurance'!I18","v":"Complete"},"6b - Milestones - Assurance'!I18"]
["6b - Milestones - Assurance","Assurance","6.02.12",null,"Comments",{"$f":"'6b - Milestones - Assurance'!J18","v":0},"6b - Milestones - Assurance'!J18"]
["6b - Milestones - Assurance","Assurance","6.02.13",null,"Milestone label",{"$f":"'6b - Milestones - Assurance'!D19","v":0},"6b - Milestones - Assurance'!D19",{"$f":"IF(CONCATENATE(F786,\" - \",F787,\" - \",F788,\" - \",F789,\" - \",F790,\" - \",F791,\" - \",F792)=\"0 - 0 - 0 - 0 -  - 0 - 0\",\"0\",CONCATENATE(F786,\" - \",F787,\" - \",F788,\" - \",F789,\" - \",F790,\" - \",F791,\" - \",F792))","v":"0"},null,{"$f":"'6b - Milestones - Assurance'!P19","v":0},{"$f":"IF(J786=F786,\"\",\"Changed Since Last Quarter\")","v":""}]
["6b - Milestones - Assurance","Assurance","6.02.13",null,"List all:\nAssurance Milestones",{"$f":"'6b - Milestones - Assurance'!E19","v":0},"6b - Milestones - Assurance'!E19"]
["6b - Milestones - Assurance","Assurance","6.02.13",null,"Baseline Date of Assurance Milestone (GMPP baselines will be sourced from your latest HMT approved BC)",{"$f":"'6b - Milestones - Assurance'!F19","v":0},"6b - Milestones - Assurance'!F19"]
["6b - Milestones - Assurance","Assurance","6.02.13",null,"Forecast / Actual Date \nof Assurance Milestone",{"$f":"'6b - Milestones - Assurance'!G19","v":0},"6b - Milestones - Assurance'!G19"]
["6b - Milestones - Assurance","Assurance","6.02.13",null,"Variance between Baseline and Forecast/ Actual Dates (Days)",{"$f":"'6b - Milestones - Assurance'!H19","v":""},"6b - Milestones - Assurance'!H19"]
["6b - Milestones - Assurance","Assurance","6.02.13",null,"Status",{"$f":"'6b - Milestones - Assurance'!I19","v":0},"6b - Milestones - Assurance'!I19"]
["6b - Milestones - Assurance","Assurance","6.02.13",null,"Comments",{"$f":"'6b - Milestones - Assurance'!J19","v":0},"6b - Milestones - Assurance'!J19"]
["6b - Milestones - Assurance","Assurance","6.02.14",null,"Milestone label",{"$f":"'6b - Milestones - Assurance'!D20","v":0},"6b - Milestones - Assurance'!D20",{"$f":"IF(CONCATENATE(F793,\" - \",F794,\" - \",F795,\" - \",F796,\" - \",F797,\" - \",F798,\" - \",F799)=\"0 - 0 - 0 - 0 -  - 0 - 0\",\"0\",CONCATENATE(F793,\" - \",F794,\" - \",F795,\" - \",F796,\" - \",F797,\" - \",F798,\" - \",F799))","v":"0"},null,{"$f":"'6b - Milestones - Assurance'!P20","v":0},{"$f":"IF(J793=F793,\"\",\"Changed Since Last Quarter\")","v":""}]
["6b - Milestones - Assurance","Assurance","6.02.14",null,"List all:\nAssurance Milestones",{"$f":"'6b - Milestones - Assurance'!E20","v":0},"6b - Milestones - Assurance'!E20"]
["6b - Milestones - Assurance","Assurance","6.02.14",null,"Baseline Date of Assurance Milestone (GMPP baselines will be sourced from your latest HMT approved BC)",{"$f":"'6b - Milestones - Assurance'!F20","v":0},"6b - Milestones - Assurance'!F20"]
["6b - Milestones - Assurance","Assurance","6.02.14",null,"Forecast / Actual Date \nof Assurance Milestone",{"$f":"'6b - Milestones - Assurance'!G20","v":0},"6b - Milestones - Assurance'!G20"]
["6b - Milestones - Assurance","Assurance","6.02.14",null,"Variance between Baseline and Forecast/ Actual Dates (Days)",{"$f":"'6b - Milestones - Assurance'!H20","v":""},"6b - Milestones - Assurance'!H20"]
["6b - Milestones - Assurance","Assurance","6.02.14",null,"Status",{"$f":"'6b - Milestones - Assurance'!I20","v":0},"6b - Milestones - Assurance'!I20"]
["6b - Milestones - Assurance","Assurance","6.02.14",null,"Comments",{"$f":"'6b - Milestones - Assurance'!J20","v":0},"6b - Milestones - Assurance'!J20"]
["6b - Milestones - Assurance","Assurance","6.02.15",null,"Milestone label",{"$f":"'6b - Milestones - Assurance'!D21","v":0},"6b - Milestones - Assurance'!D21",{"$f":"IF(CONCATENATE(F800,\" - \",F801,\" - \",F802,\" - \",F803,\" - \",F804,\" - \",F805,\" - \",F806)=\"0 - 0 - 0 - 0 -  - 0 - 0\",\"0\",CONCATENATE(F800,\" - \",F801,\" - \",F802,\" - \",F803,\" - \",F804,\" - \",F805,\" - \",F806))","v":"0"},null,{"$f":"'6b - Milestones - Assurance'!P21","v":0},{"$f":"IF(J800=F800,\"\",\"Changed Since Last Quarter\")","v":""}]
["6b - Milestones - Assurance","Assurance","6.02.15",null,"List all:\nAssurance Milestones",{"$f":"'6b - Milestones - Assurance'!E21","v":0},"6b - Milestones - Assurance'!E21"]
["6b - Milestones - Assurance","Assurance","6.02.15",null,"Baseline Date of Assurance Milestone (GMPP baselines will be sourced from your latest HMT approved BC)",{"$f":"'6b - Milestones - Assurance'!F21","v":0},"6b - Milestones - Assurance'!F21"]
["6b - Milestones - Assurance","Assurance","6.02.15",null,"Forecast / Actual Date \nof Assurance Milestone",{"$f":"'6b - Milestones - Assurance'!G21","v":0},"6b - Milestones - Assurance'!G21"]
["6b - Milestones - Assurance","Assurance","6.02.15",null,"Variance between Baseline and Forecast/ Actual Dates (Days)",{"$f":"'6b - Milestones - Assurance'!H21","v":""},"6b - Milestones - Assurance'!H21"]
["6b - Milestones - Assurance","Assurance","6.02.15",null,"Status",{"$f":"'6b - Milestones - Assurance'!I21","v":0},"6b - Milestones - Assurance'!I21"]
["6b - Milestones - Assurance","Assurance","6.02.15",null,"Comments",{"$f":"'6b - Milestones - Assurance'!J21","v":0},"6b - Milestones - Assurance'!J21"]
["6b - Milestones - Assurance","Assurance","6.02.16",null,"Milestone label",{"$f":"'6b - Milestones - Assurance'!D22","v":0},"6b - Milestones - Assurance'!D22",{"$f":"IF(CONCATENATE(F807,\" - \",F808,\" - \",F809,\" - \",F810,\" - \",F811,\" - \",F812,\" - \",F813)=\"0 - 0 - 0 - 0 -  - 0 - 0\",\"0\",CONCATENATE(F807,\" - \",F808,\" - \",F809,\" - \",F810,\" - \",F811,\" - \",F812,\" - \",F813))","v":"0"},null,{"$f":"'6b - Milestones - Assurance'!P22","v":0},{"$f":"IF(J807=F807,\"\",\"Changed Since Last Quarter\")","v":""}]
["6b - Milestones - Assurance","Assurance","6.02.16",null,"List all:\nAssurance Milestones",{"$f":"'6b - Milestones - Assurance'!E22","v":0},"6b - Milestones - Assurance'!E22"]
["6b - Milestones - Assurance","Assurance","6.02.16",null,"Baseline Date of Assurance Milestone (GMPP baselines will be sourced from your latest HMT approved BC)",{"$f":"'6b - Milestones - Assurance'!F22","v":0},"6b - Milestones - Assurance'!F22"]
["6b - Milestones - Assurance","Assurance","6.02.16",null,"Forecast / Actual Date \nof Assurance Milestone",{"$f":"'6b - Milestones - Assurance'!G22","v":0},"6b - Milestones - Assurance'!G22"]
["6b - Milestones - Assurance","Assurance","6.02.16",null,"Variance between Baseline and Forecast/ Actual Dates (Days)",{"$f":"'6b - Milestones - Assurance'!H22","v":""},"6b - Milestones - Assurance'!H22"]
["6b - Milestones - Assurance","Assurance","6.02.16",null,"Status",{"$f":"'6b - Milestones - Assurance'!I22","v":0},"6b - Milestones - Assurance'!I22"]
["6b - Milestones - Assurance","Assurance","6.02.16",null,"Comments",{"$f":"'6b - Milestones - Assurance'!J22","v":0},"6b - Milestones - Assurance'!J22"]
["6b - Milestones - Assurance","Assurance","6.02.17",null,"Milestone label",{"$f":"'6b - Milestones - Assurance'!D23","v":0},"6b - Milestones - Assurance'!D23",{"$f":"IF(CONCATENATE(F814,\" - \",F815,\" - \",F816,\" - \",F817,\" - \",F818,\" - \",F819,\" - \",F820)=\"0 - 0 - 0 - 0 -  - 0 - 0\",\"0\",CONCATENATE(F814,\" - \",F815,\" - \",F816,\" - \",F817,\" - \",F818,\" - \",F819,\" - \",F820))","v":"0"},null,{"$f":"'6b - Milestones - Assurance'!P23","v":0},{"$f":"IF(J814=F814,\"\",\"Changed Since Last Quarter\")","v":""}]
["6b - Milestones - Assurance","Assurance","6.02.17",null,"List all:\nAssurance Milestones",{"$f":"'6b - Milestones - Assurance'!E23","v":0},"6b - Milestones - Assurance'!E23"]
["6b - Milestones - Assurance","Assurance","6.02.17",null,"Baseline Date of Assurance Milestone (GMPP baselines will be sourced from your latest HMT approved BC)",{"$f":"'6b - Milestones - Assurance'!F23","v":0},"6b - Milestones - Assurance'!F23"]
["6b - Milestones - Assurance","Assurance","6.02.17",null,"Forecast / Actual Date \nof Assurance Milestone",{"$f":"'6b - Milestones - Assurance'!G23","v":0},"6b - Milestones - Assurance'!G23"]
["6b - Milestones - Assurance","Assurance","6.02.17",null,"Variance between Baseline and Forecast/ Actual Dates (Days)",{"$f":"'6b - Milestones - Assurance'!H23","v":""},"6b - Milestones - Assurance'!H23"]
["6b - Milestones - Assurance","Assurance","6.02.17",null,"Status",{"$f":"'6b - Milestones - Assurance'!I23","v":0},"6b - Milestones - Assurance'!I23"]
["6b - Milestones - Assurance","Assurance","6.02.17",null,"Comments",{"$f":"'6b - Milestones - Assurance'!J23","v":0},"6b - Milestones - Assurance'!J23"]
["6b - Milestones - Assurance","Assurance","6.02.18",null,"Milestone label",{"$f":"'6b - Milestones - Assurance'!D24","v":0},"6b - Milestones - Assurance'!D24",{"$f":"IF(CONCATENATE(F821,\" - \",F822,\" - \",F823,\" - \",F824,\" - \",F825,\" - \",F826,\" - \",F827)=\"0 - 0 - 0 - 0 -  - 0 - 0\",\"0\",CONCATENATE(F821,\" - \",F822,\" - \",F823,\" - \",F824,\" - \",F825,\" - \",F826,\" - \",F827))","v":"0"},null,{"$f":"'6b - Milestones - Assurance'!P24","v":0},{"$f":"IF(J821=F821,\"\",\"Changed Since Last Quarter\")","v":""}]
["6b - Milestones - Assurance","Assurance","6.02.18",null,"List all:\nAssurance Milestones",{"$f":"'6b - Milestones - Assurance'!E24","v":0},"6b - Milestones - Assurance'!E24"]
["6b - Milestones - Assurance","Assurance","6.02.18",null,"Baseline Date of Assurance Milestone (GMPP baselines will be sourced from your latest HMT approved BC)",{"$f":"'6b - Milestones - Assurance'!F24","v":0},"6b - Milestones - Assurance'!F24"]
["6b - Milestones - Assurance","Assurance","6.02.18",null,"Forecast / Actual Date \nof Assurance Milestone",{"$f":"'6b - Milestones - Assurance'!G24","v":0},"6b - Milestones - Assurance'!G24"]
["6b - Milestones - Assurance","Assurance","6.02.18",null,"Variance between Baseline and Forecast/ Actual Dates (Days)",{"$f":"'6b - Milestones - Assurance'!H24","v":""},"6b - Milestones - Assurance'!H24"]
["6b - Milestones - Assurance","Assurance","6.02.18",null,"Status",{"$f":"'6b - Milestones - Assurance'!I24","v":0},"6b - Milestones - Assurance'!I24"]
["6b - Milestones - Assurance","Assurance","6.02.18",null,"Comments",{"$f":"'6b - Milestones - Assurance'!J24","v":0},"6b - Milestones - Assurance'!J24"]
["6b - Milestones - Assurance","Assurance","6.02.19",null,"Milestone label",{"$f":"'6b - Milestones - Assurance'!D25","v":0},"6b - Milestones - Assurance'!D25",{"$f":"IF(CONCATENATE(F828,\" - \",F829,\" - \",F830,\" - \",F831,\" - \",F832,\" - \",F833,\" - \",F834)=\"0 - 0 - 0 - 0 -  - 0 - 0\",\"0\",CONCATENATE(F828,\" - \",F829,\" - \",F830,\" - \",F831,\" - \",F832,\" - \",F833,\" - \",F834))","v":"0"},null,{"$f":"'6b - Milestones - Assurance'!P25","v":0},{"$f":"IF(J828=F828,\"\",\"Changed Since Last Quarter\")","v":""}]
["6b - Milestones - Assurance","Assurance","6.02.19",null,"List all:\nAssurance Milestones",{"$f":"'6b - Milestones - Assurance'!E25","v":0},"6b - Milestones - Assurance'!E25"]
["6b - Milestones - Assurance","Assurance","6.02.19",null,"Baseline Date of Assurance Milestone (GMPP baselines will be sourced from your latest HMT approved BC)",{"$f":"'6b - Milestones - Assurance'!F25","v":0},"6b - Milestones - Assurance'!F25"]
["6b - Milestones - Assurance","Assurance","6.02.19",null,"Forecast / Actual Date \nof Assurance Milestone",{"$f":"'6b - Milestones - Assurance'!G25","v":0},"6b - Milestones - Assurance'!G25"]
["6b - Milestones - Assurance","Assurance","6.02.19",null,"Variance between Baseline and Forecast/ Actual Dates (Days)",{"$f":"'6b - Milestones - Assurance'!H25","v":""},"6b - Milestones - Assurance'!H25"]
["6b - Milestones - Assurance","Assurance","6.02.19",null,"Status",{"$f":"'6b - Milestones - Assurance'!I25","v":0},"6b - Milestones - Assurance'!I25"]
["6b - Milestones - Assurance","Assurance","6.02.19",null,"Comments",{"$f":"'6b - Milestones - Assurance'!J25","v":0},"6b - Milestones - Assurance'!J25"]
["6b - Milestones - Assurance","Assurance","6.02.20",null,"Milestone label",{"$f":"'6b - Milestones - Assurance'!D26","v":0},"6b - Milestones - Assurance'!D26",{"$f":"IF(CONCATENATE(F835,\" - \",F836,\" - \",F837,\" - \",F838,\" - \",F839,\" - \",F840,\" - \",F841)=\"0 - 0 - 0 - 0 -  - 0 - 0\",\"0\",CONCATENATE(F835,\" - \",F836,\" - \",F837,\" - \",F838,\" - \",F839,\" - \",F840,\" - \",F841))","v":"0"},null,{"$f":"'6b - Milestones - Assurance'!P26","v":0},{"$f":"IF(J835=F835,\"\",\"Changed Since Last Quarter\")","v":""}]
["6b - Milestones - Assurance","Assurance","6.02.20",null,"List all:\nAssurance Milestones",{"$f":"'6b - Milestones - Assurance'!E26","v":0},"6b - Milestones - Assurance'!E26"]
["6b - Milestones - Assurance","Assurance","6.02.20",null,"Baseline Date of Assurance Milestone (GMPP baselines will be sourced from your latest HMT approved BC)",{"$f":"'6b - Milestones - Assurance'!F26","v":0},"6b - Milestones - Assurance'!F26"]
["6b - Milestones - Assurance","Assurance","6.02.20",null,"Forecast / Actual Date \nof Assurance Milestone",{"$f":"'6b - Milestones - Assurance'!G26","v":0},"6b - Milestones - Assurance'!G26"]
["6b - Milestones - Assurance","Assurance","6.02.20",null,"Variance between Baseline and Forecast/ Actual Dates (Days)",{"$f":"'6b - Milestones - Assurance'!H26","v":""},"6b - Milestones - Assurance'!H26"]
["6b - Milestones - Assurance","Assurance","6.02.20",null,"Status",{"$f":"'6b - Milestones - Assurance'!I26","v":0},"6b - Milestones - Assurance'!I26"]
["6b - Milestones - Assurance","Assurance","6.02.20",null,"Comments",{"$f":"'6b - Milestones - Assurance'!J26","v":0},"6b - Milestones - Assurance'!J26"]
["6b - Milestones - Assurance","Assurance","6.02.21",null,"Milestone label",{"$f":"'6b - Milestones - Assurance'!D27","v":0},"6b - Milestones - Assurance'!D27",{"$f":"IF(CONCATENATE(F842,\" - \",F843,\" - \",F844,\" - \",F845,\" - \",F846,\" - \",F847,\" - \",F848)=\"0 - 0 - 0 - 0 -  - 0 - 0\",\"0\",CONCATENATE(F842,\" - \",F843,\" - \",F844,\" - \",F845,\" - \",F846,\" - \",F847,\" - \",F848))","v":"0"},null,{"$f":"'6b - Milestones - Assurance'!P27","v":0},{"$f":"IF(J842=F842,\"\",\"Changed Since Last Quarter\")","v":""}]
["6b - Milestones - Assurance","Assurance","6.02.21",null,"List all:\nAssurance Milestones",{"$f":"'6b - Milestones - Assurance'!E27","v":0},"6b - Milestones - Assurance'!E27"]
["6b - Milestones - Assurance","Assurance","6.02.21",null,"Baseline Date of Assurance Milestone (GMPP baselines will be sourced from your latest HMT approved BC)",{"$f":"'6b - Milestones - Assurance'!F27","v":0},"6b - Milestones - Assurance'!F27"]
["6b - Milestones - Assurance","Assurance","6.02.21",null,"Forecast / Actual Date \nof Assurance Milestone",{"$f":"'6b - Milestones - Assurance'!G27","v":0},"6b - Milestones - Assurance'!G27"]
["6b - Milestones - Assurance","Assurance","6.02.21",null,"Variance between Baseline and Forecast/ Actual Dates (Days)",{"$f":"'6b - Milestones - Assurance'!H27","v":""},"6b - Milestones - Assurance'!H27"]
["6b - Milestones - Assurance","Assurance","6.02.21",null,"Status",{"$f":"'6b - Milestones - Assurance'!I27","v":0},"6b - Milestones - Assurance'!I27"]
["6b - Milestones - Assurance","Assurance","6.02.21",null,"Comments",{"$f":"'6b - Milestones - Assurance'!J27","v":0},"6b - Milestones - Assurance'!J27"]
["6b - Milestones - Assurance","Assurance","6.02.22",null,"Milestone label",{"$f":"'6b - Milestones - Assurance'!D28","v":0},"6b - Milestones - Assurance'!D28",{"$f":"IF(CONCATENATE(F849,\" - \",F850,\" - \",F851,\" - \",F852,\" - \",F853,\" - \",F854,\" - \",F855)=\"0 - 0 - 0 - 0 -  - 0 - 0\",\"0\",CONCATENATE(F849,\" - \",F850,\" - \",F851,\" - \",F852,\" - \",F853,\" - \",F854,\" - \",F855))","v":"0"},null,{"$f":"'6b - Milestones - Assurance'!P28","v":0},{"$f":"IF(J849=F849,\"\",\"Changed Since Last Quarter\")","v":""}]
["6b - Milestones - Assurance","Assurance","6.02.22",null,"List all:\nAssurance Milestones",{"$f":"'6b - Milestones - Assurance'!E28","v":0},"6b - Milestones - Assurance'!E28"]
["6b - Milestones - Assurance","Assurance","6.02.22",null,"Baseline Date of Assurance Milestone (GMPP baselines will be sourced from your latest HMT approved BC)",{"$f":"'6b - Milestones - Assurance'!F28","v":0},"6b - Milestones - Assurance'!F28"]
["6b - Milestones - Assurance","Assurance","6.02.22",null,"Forecast / Actual Date \nof Assurance Milestone",{"$f":"'6b - Milestones - Assurance'!G28","v":0},"6b - Milestones - Assurance'!G28"]
["6b - Milestones - Assurance","Assurance","6.02.22",null,"Variance between Baseline and Forecast/ Actual Dates (Days)",{"$f":"'6b - Milestones - Assurance'!H28","v":""},"6b - Milestones - Assurance'!H28"]
["6b - Milestones - Assurance","Assurance","6.02.22",null,"Status",{"$f":"'6b - Milestones - Assurance'!I28","v":0},"6b - Milestones - Assurance'!I28"]
["6b - Milestones - Assurance","Assurance","6.02.22",null,"Comments",{"$f":"'6b - Milestones - Assurance'!J28","v":0},"6b - Milestones - Assurance'!J28"]
["6b - Milestones - Assurance","Assurance","6.02.23",null,"Milestone label",{"$f":"'6b - Milestones - Assurance'!D29","v":0},"6b - Milestones - Assurance'!D29",{"$f":"IF(CONCATENATE(F856,\" - \",F857,\" - \",F858,\" - \",F859,\" - \",F860,\" - \",F861,\" - \",F862)=\"0 - 0 - 0 - 0 -  - 0 - 0\",\"0\",CONCATENATE(F856,\" - \",F857,\" - \",F858,\" - \",F859,\" - \",F860,\" - \",F861,\" - \",F862))","v":"0"},null,{"$f":"'6b - Milestones - Assurance'!P29","v":0},{"$f":"IF(J856=F856,\"\",\"Changed Since Last Quarter\")","v":""}]
["6b - Milestones - Assurance","Assurance","6.02.23",null,"List all:\nAssurance Milestones",{"$f":"'6b - Milestones - Assurance'!E29","v":0},"6b - Milestones - Assurance'!E29"]
["6b - Milestones - Assurance","Assurance","6.02.23",null,"Baseline Date of Assurance Milestone (GMPP baselines will be sourced from your latest HMT approved BC)",{"$f":"'6b - Milestones - Assurance'!F29","v":0},"6b - Milestones - Assurance'!F29"]
["6b - Milestones - Assurance","Assurance","6.02.23",null,"Forecast / Actual Date \nof Assurance Milestone",{"$f":"'6b - Milestones - Assurance'!G29","v":0},"6b - Milestones - Assurance'!G29"]
["6b - Milestones - Assurance","Assurance","6.02.23",null,"Variance between Baseline and Forecast/ Actual Dates (Days)",{"$f":"'6b - Milestones - Assurance'!H29","v":""},"6b - Milestones - Assurance'!H29"]
["6b - Milestones - Assurance","Assurance","6.02.23",null,"Status",{"$f":"'6b - Milestones - Assurance'!I29","v":0},"6b - Milestones - Assurance'!I29"]
["6b - Milestones - Assurance","Assurance","6.02.23",null,"Comments",{"$f":"'6b - Milestones - Assurance'!J29","v":0},"6b - Milestones - Assurance'!J29"]
["6b - Milestones - Assurance","Assurance","6.02.24",null,"Milestone label",{"$f":"'6b - Milestones - Assurance'!D30","v":0},"6b - Milestones - Assurance'!D30",{"$f":"IF(CONCATENATE(F863,\" - \",F864,\" - \",F865,\" - \",F866,\" - \",F867,\" - \",F868,\" - \",F869)=\"0 - 0 - 0 - 0 -  - 0 - 0\",\"0\",CONCATENATE(F863,\" - \",F864,\" - \",F865,\" - \",F866,\" - \",F867,\" - \",F868,\" - \",F869))","v":"0"},null,{"$f":"'6b - Milestones - Assurance'!P30","v":0},{"$f":"IF(J863=F863,\"\",\"Changed Since Last Quarter\")","v":""}]
["6b - Milestones - Assurance","Assurance","6.02.24",null,"List all:\nAssurance Milestones",{"$f":"'6b - Milestones - Assurance'!E30","v":0},"6b - Milestones - Assurance'!E30"]
["6b - Milestones - Assurance","Assurance","6.02.24",null,"Baseline Date of Assurance Milestone (GMPP baselines will be sourced from your latest HMT approved BC)",{"$f":"'6b - Milestones - Assurance'!F30","v":0},"6b - Milestones - Assurance'!F30"]
["6b - Milestones - Assurance","Assurance","6.02.24",null,"Forecast / Actual Date \nof Assurance Milestone",{"$f":"'6b - Milestones - Assurance'!G30","v":0},"6b - Milestones - Assurance'!G30"]
["6b - Milestones - Assurance","Assurance","6.02.24",null,"Variance between Baseline and Forecast/ Actual Dates (Days)",{"$f":"'6b - Milestones - Assurance'!H30","v":""},"6b - Milestones - Assurance'!H30"]
["6b - Milestones - Assurance","Assurance","6.02.24",null,"Status",{"$f":"'6b - Milestones - Assurance'!I30","v":0},"6b - Milestones - Assurance'!I30"]
["6b - Milestones - Assurance","Assurance","6.02.24",null,"Comments",{"$f":"'6b - Milestones - Assurance'!J30","v":0},"6b - Milestones - Assurance'!J30"]
["6b - Milestones - Assurance","Assurance","6.02.25",null,"Milestone label",{"$f":"'6b - Milestones - Assurance'!D31","v":0},"6b - Milestones - Assurance'!D31",{"$f":"IF(CONCATENATE(F870,\" - \",F871,\" - \",F872,\" - \",F873,\" - \",F874,\" - \",F875,\" - \",F876)=\"0 - 0 - 0 - 0 -  - 0 - 0\",\"0\",CONCATENATE(F870,\" - \",F871,\" - \",F872,\" - \",F873,\" - \",F874,\" - \",F875,\" - \",F876))","v":"0"},null,{"$f":"'6b - Milestones - Assurance'!P31","v":0},{"$f":"IF(J870=F870,\"\",\"Changed Since Last Quarter\")","v":""}]
["6b - Milestones - Assurance","Assurance","6.02.25",null,"List all:\nAssurance Milestones",{"$f":"'6b - Milestones - Assurance'!E31","v":0},"6b - Milestones - Assurance'!E31"]
["6b - Milestones - Assurance","Assurance","6.02.25",null,"Baseline Date of Assurance Milestone (GMPP baselines will be sourced from your latest HMT approved BC)",{"$f":"'6b - Milestones - Assurance'!F31","v":0},"6b - Milestones - Assurance'!F31"]
["6b - Milestones - Assurance","Assurance","6.02.25",null,"Forecast / Actual Date \nof Assurance Milestone",{"$f":"'6b - Milestones - Assurance'!G31","v":0},"6b - Milestones - Assurance'!G31"]
["6b - Milestones - Assurance","Assurance","6.02.25",null,"Variance between Baseline and Forecast/ Actual Dates (Days)",{"$f":"'6b - Milestones - Assurance'!H31","v":""},"6b - Milestones - Assurance'!H31"]
["6b - Milestones - Assurance","Assurance","6.02.25",null,"Status",{"$f":"'6b - Milestones - Assurance'!I31","v":0},"6b - Milestones - Assurance'!I31"]
["6b - Milestones - Assurance","Assurance","6.02.25",null,"Comments",{"$f":"'6b - Milestones - Assurance'!J31","v":0},"6b - Milestones - Assurance'!J31"]
["6b - Milestones - Assurance","Assurance","6.02.26",null,"Milestone label",{"$f":"'6b - Milestones - Assurance'!D32","v":0},"6b - Milestones - Assurance'!D32",{"$f":"IF(CONCATENATE(F877,\" - \",F878,\" - \",F879,\" - \",F880,\" - \",F881,\" - \",F882,\" - \",F883)=\"0 - 0 - 0 - 0 -  - 0 - 0\",\"0\",CONCATENATE(F877,\" - \",F878,\" - \",F879,\" - \",F880,\" - \",F881,\" - \",F882,\" - \",F883))","v":"0"},null,{"$f":"'6b - Milestones - Assurance'!P32","v":0},{"$f":"IF(J877=F877,\"\",\"Changed Since Last Quarter\")","v":""}]
["6b - Milestones - Assurance","Assurance","6.02.26",null,"List all:\nAssurance Milestones",{"$f":"'6b - Milestones - Assurance'!E32","v":0},"6b - Milestones - Assurance'!E32"]
["6b - Milestones - Assurance","Assurance","6.02.26",null,"Baseline Date of Assurance Milestone (GMPP baselines will be sourced from your latest HMT approved BC)",{"$f":"'6b - Milestones - Assurance'!F32","v":0},"6b - Milestones - Assurance'!F32"]
["6b - Milestones - Assurance","Assurance","6.02.26",null,"Forecast / Actual Date \nof Assurance Milestone",{"$f":"'6b - Milestones - Assurance'!G32","v":0},"6b - Milestones - Assurance'!G32"]
["6b - Milestones - Assurance","Assurance","6.02.26",null,"Variance between Baseline and Forecast/ Actual Dates (Days)",{"$f":"'6b - Milestones - Assurance'!H32","v":""},"6b - Milestones - Assurance'!H32"]
["6b - Milestones - Assurance","Assurance","6.02.26",null,"Status",{"$f":"'6b - Milestones - Assurance'!I32","v":0},"6b - Milestones - Assurance'!I32"]
["6b - Milestones - Assurance","Assurance","6.02.26",null,"Comments",{"$f":"'6b - Milestones - Assurance'!J32","v":0},"6b - Milestones - Assurance'!J32"]
["6b - Milestones - Assurance","Assurance","6.02.27",null,"Milestone label",{"$f":"'6b - Milestones - Assurance'!D33","v":0},"6b - Milestones - Assurance'!D33",{"$f":"IF(CONCATENATE(F884,\" - \",F885,\" - \",F886,\" - \",F887,\" - \",F888,\" - \",F889,\" - \",F890)=\"0 - 0 - 0 - 0 -  - 0 - 0\",\"0\",CONCATENATE(F884,\" - \",F885,\" - \",F886,\" - \",F887,\" - \",F888,\" - \",F889,\" - \",F890))","v":"0"},null,{"$f":"'6b - Milestones - Assurance'!P33","v":0},{"$f":"IF(J884=F884,\"\",\"Changed Since Last Quarter\")","v":""}]
["6b - Milestones - Assurance","Assurance","6.02.27",null,"List all:\nAssurance Milestones",{"$f":"'6b - Milestones - Assurance'!E33","v":0},"6b - Milestones - Assurance'!E33"]
["6b - Milestones - Assurance","Assurance","6.02.27",null,"Baseline Date of Assurance Milestone (GMPP baselines will be sourced from your latest HMT approved BC)",{"$f":"'6b - Milestones - Assurance'!F33","v":0},"6b - Milestones - Assurance'!F33"]
["6b - Milestones - Assurance","Assurance","6.02.27",null,"Forecast / Actual Date \nof Assurance Milestone",{"$f":"'6b - Milestones - Assurance'!G33","v":0},"6b - Milestones - Assurance'!G33"]
["6b - Milestones - Assurance","Assurance","6.02.27",null,"Variance between Baseline and Forecast/ Actual Dates (Days)",{"$f":"'6b - Milestones - Assurance'!H33","v":""},"6b - Milestones - Assurance'!H33"]
["6b - Milestones - Assurance","Assurance","6.02.27",null,"Status",{"$f":"'6b - Milestones - Assurance'!I33","v":0},"6b - Milestones - Assurance'!I33"]
["6b - Milestones - Assurance","Assurance","6.02.27",null,"Comments",{"$f":"'6b - Milestones - Assurance'!J33","v":0},"6b - Milestones - Assurance'!J33"]
["6b - Milestones - Assurance","Assurance","6.02.28",null,"Milestone label",{"$f":"'6b - Milestones - Assurance'!D34","v":0},"6b - Milestones - Assurance'!D34",{"$f":"IF(CONCATENATE(F891,\" - \",F892,\" - \",F893,\" - \",F894,\" - \",F895,\" - \",F896,\" - \",F897)=\"0 - 0 - 0 - 0 -  - 0 - 0\",\"0\",CONCATENATE(F891,\" - \",F892,\" - \",F893,\" - \",F894,\" - \",F895,\" - \",F896,\" - \",F897))","v":"0"},null,{"$f":"'6b - Milestones - Assurance'!P34","v":0},{"$f":"IF(J891=F891,\"\",\"Changed Since Last Quarter\")","v":""}]
["6b - Milestones - Assurance","Assurance","6.02.28",null,"List all:\nAssurance Milestones",{"$f":"'6b - Milestones - Assurance'!E34","v":0},"6b - Milestones - Assurance'!E34"]
["6b - Milestones - Assurance","Assurance","6.02.28",null,"Baseline Date of Assurance Milestone (GMPP baselines will be sourced from your latest HMT approved BC)",{"$f":"'6b - Milestones - Assurance'!F34","v":0},"6b - Milestones - Assurance'!F34"]
["6b - Milestones - Assurance","Assurance","6.02.28",null,"Forecast / Actual Date \nof Assurance Milestone",{"$f":"'6b - Milestones - Assurance'!G34","v":0},"6b - Milestones - Assurance'!G34"]
["6b - Milestones - Assurance","Assurance","6.02.28",null,"Variance between Baseline and Forecast/ Actual Dates (Days)",{"$f":"'6b - Milestones - Assurance'!H34","v":""},"6b - Milestones - Assurance'!H34"]
["6b - Milestones - Assurance","Assurance","6.02.28",null,"Status",{"$f":"'6b - Milestones - Assurance'!I34","v":0},"6b - Milestones - Assurance'!I34"]
["6b - Milestones - Assurance","Assurance","6.02.28",null,"Comments",{"$f":"'6b - Milestones - Assurance'!J34","v":0},"6b - Milestones - Assurance'!J34"]
["6b - Milestones - Assurance","Assurance","6.02.29",null,"Milestone label",{"$f":"'6b - Milestones - Assurance'!D35","v":0},"6b - Milestones - Assurance'!D35",{"$f":"IF(CONCATENATE(F898,\" - \",F899,\" - \",F900,\" - \",F901,\" - \",F902,\" - \",F903,\" - \",F904)=\"0 - 0 - 0 - 0 -  - 0 - 0\",\"0\",CONCATENATE(F898,\" - \",F899,\" - \",F900,\" - \",F901,\" - \",F902,\" - \",F903,\" - \",F904))","v":"0"},null,{"$f":"'6b - Milestones - Assurance'!P35","v":0},{"$f":"IF(J898=F898,\"\",\"Changed Since Last Quarter\")","v":""}]
["6b - Milestones - Assurance","Assurance","6.02.29",null,"List all:\nAssurance Milestones",{"$f":"'6b - Milestones - Assurance'!E35","v":0},"6b - Milestones - Assurance'!E35"]
["6b - Milestones - Assurance","Assurance","6.02.29",null,"Baseline Date of Assurance Milestone (GMPP baselines will be sourced from your latest HMT approved BC)",{"$f":"'6b - Milestones - Assurance'!F35","v":0},"6b - Milestones - Assurance'!F35"]
["6b - Milestones - Assurance","Assurance","6.02.29",null,"Forecast / Actual Date \nof Assurance Milestone",{"$f":"'6b - Milestones - Assurance'!G35","v":0},"6b - Milestones - Assurance'!G35"]
["6b - Milestones - Assurance","Assurance","6.02.29",null,"Variance between Baseline and Forecast/ Actual Dates (Days)",{"$f":"'6b - Milestones - Assurance'!H35","v":""},"6b - Milestones - Assurance'!H35"]
["6b - Milestones - Assurance","Assurance","6.02.29",null,"Status",{"$f":"'6b - Milestones - Assurance'!I35","v":0},"6b - Milestones - Assurance'!I35"]
["6b - Milestones - Assurance","Assurance","6.02.29",null,"Comments",{"$f":"'6b - Milestones - Assurance'!J35","v":0},"6b - Milestones - Assurance'!J35"]
["6b - Milestones - Assurance","Assurance","6.02.30",null,"Milestone label",{"$f":"'6b - Milestones - Assurance'!D36","v":0},"6b - Milestones - Assurance'!D36",{"$f":"IF(CONCATENATE(F905,\" - \",F906,\" - \",F907,\" - \",F908,\" - \",F909,\" - \",F910,\" - \",F911)=\"0 - 0 - 0 - 0 -  - 0 - 0\",\"0\",CONCATENATE(F905,\" - \",F906,\" - \",F907,\" - \",F908,\" - \",F909,\" - \",F910,\" - \",F911))","v":"0"},null,{"$f":"'6b - Milestones - Assurance'!P36","v":0},{"$f":"IF(J905=F905,\"\",\"Changed Since Last Quarter\")","v":""}]
["6b - Milestones - Assurance","Assurance","6.02.30",null,"List all:\nAssurance Milestones",{"$f":"'6b - Milestones - Assurance'!E36","v":0},"6b - Milestones - Assurance'!E36"]
["6b - Milestones - Assurance","Assurance","6.02.30",null,"Baseline Date of Assurance Milestone (GMPP baselines will be sourced from your latest HMT approved BC)",{"$f":"'6b - Milestones - Assurance'!F36","v":0},"6b - Milestones - Assurance'!F36"]
["6b - Milestones - Assurance","Assurance","6.02.30",null,"Forecast / Actual Date \nof Assurance Milestone",{"$f":"'6b - Milestones - Assurance'!G36","v":0},"6b - Milestones - Assurance'!G36"]
["6b - Milestones - Assurance","Assurance","6.02.30",null,"Variance between Baseline and Forecast/ Actual Dates (Days)",{"$f":"'6b - Milestones - Assurance'!H36","v":""},"6b - Milestones - Assurance'!H36"]
["6b - Milestones - Assurance","Assurance","6.02.30",null,"Status",{"$f":"'6b - Milestones - Assurance'!I36","v":0},"6b - Milestones - Assurance'!I36"]
["6b - Milestones - Assurance","Assurance","6.02.30",null,"Comments",{"$f":"'6b - Milestones - Assurance'!J36","v":0},"6b - Milestones - Assurance'!J36"]
["6b - Milestones - Assurance","Assurance","6.02.31",null,"Milestone label",{"$f":"'6b - Milestones - Assurance'!D37","v":0},"6b - Milestones - Assurance'!D37",{"$f":"IF(CONCATENATE(F912,\" - \",F913,\" - \",F914,\" - \",F915,\" - \",F916,\" - \",F917,\" - \",F918)=\"0 - 0 - 0 - 0 -  - 0 - 0\",\"0\",CONCATENATE(F912,\" - \",F913,\" - \",F914,\" - \",F915,\" - \",F916,\" - \",F917,\" - \",F918))","v":"0"},null,{"$f":"'6b - Milestones - Assurance'!P37","v":0},{"$f":"IF(J912=F912,\"\",\"Changed Since Last Quarter\")","v":""}]
["6b - Milestones - Assurance","Assurance","6.02.31",null,"List all:\nAssurance Milestones",{"$f":"'6b - Milestones - Assurance'!E37","v":0},"6b - Milestones - Assurance'!E37"]
["6b - Milestones - Assurance","Assurance","6.02.31",null,"Baseline Date of Assurance Milestone (GMPP baselines will be sourced from your latest HMT approved BC)",{"$f":"'6b - Milestones - Assurance'!F37","v":0},"6b - Milestones - Assurance'!F37"]
["6b - Milestones - Assurance","Assurance","6.02.31",null,"Forecast / Actual Date \nof Assurance Milestone",{"$f":"'6b - Milestones - Assurance'!G37","v":0},"6b - Milestones - Assurance'!G37"]
["6b - Milestones - Assurance","Assurance","6.02.31",null,"Variance between Baseline and Forecast/ Actual Dates (Days)",{"$f":"'6b - Milestones - Assurance'!H37","v":""},"6b - Milestones - Assurance'!H37"]
["6b - Milestones - Assurance","Assurance","6.02.31",null,"Status",{"$f":"'6b - Milestones - Assurance'!I37","v":0},"6b - Milestones - Assurance'!I37"]
["6b - Milestones - Assurance","Assurance","6.02.31",null,"Comments",{"$f":"'6b - Milestones - Assurance'!J37","v":0},"6b - Milestones - Assurance'!J37"]
["6b - Milestones - Assurance","Assurance","6.02.32",null,"Milestone label",{"$f":"'6b - Milestones - Assurance'!D38","v":0},"6b - Milestones - Assurance'!D38",{"$f":"IF(CONCATENATE(F919,\" - \",F920,\" - \",F921,\" - \",F922,\" - \",F923,\" - \",F924,\" - \",F925)=\"0 - 0 - 0 - 0 -  - 0 - 0\",\"0\",CONCATENATE(F919,\" - \",F920,\" - \",F921,\" - \",F922,\" - \",F923,\" - \",F924,\" - \",F925))","v":"0"},null,{"$f":"'6b - Milestones - Assurance'!P38","v":0},{"$f":"IF(J919=F919,\"\",\"Changed Since Last Quarter\")","v":""}]
["6b - Milestones - Assurance","Assurance","6.02.32",null,"List all:\nAssurance Milestones",{"$f":"'6b - Milestones - Assurance'!E38","v":0},"6b - Milestones - Assurance'!E38"]
["6b - Milestones - Assurance","Assurance","6.02.32",null,"Baseline Date of Assurance Milestone (GMPP baselines will be sourced from your latest HMT approved BC)",{"$f":"'6b - Milestones - Assurance'!F38","v":0},"6b - Milestones - Assurance'!F38"]
["6b - Milestones - Assurance","Assurance","6.02.32",null,"Forecast / Actual Date \nof Assurance Milestone",{"$f":"'6b - Milestones - Assurance'!G38","v":0},"6b - Milestones - Assurance'!G38"]
["6b - Milestones - Assurance","Assurance","6.02.32",null,"Variance between Baseline and Forecast/ Actual Dates (Days)",{"$f":"'6b - Milestones - Assurance'!H38","v":""},"6b - Milestones - Assurance'!H38"]
["6b - Milestones - Assurance","Assurance","6.02.32",null,"Status",{"$f":"'6b - Milestones - Assurance'!I38","v":0},"6b - Milestones - Assurance'!I38"]
["6b - Milestones - Assurance","Assurance","6.02.32",null,"Comments",{"$f":"'6b - Milestones - Assurance'!J38","v":0},"6b - Milestones - Assurance'!J38"]
["6b - Milestones - Assurance","Assurance","6.02.33",null,"Milestone label",{"$f":"'6b - Milestones - Assurance'!D39","v":0},"6b - Milestones - Assurance'!D39",{"$f":"IF(CONCATENATE(F926,\" - \",F927,\" - \",F928,\" - \",F929,\" - \",F930,\" - \",F931,\" - \",F932)=\"0 - 0 - 0 - 0 -  - 0 - 0\",\"0\",CONCATENATE(F926,\" - \",F927,\" - \",F928,\" - \",F929,\" - \",F930,\" - \",F931,\" - \",F932))","v":"0"},null,{"$f":"'6b - Milestones - Assurance'!P39","v":0},{"$f":"IF(J926=F926,\"\",\"Changed Since Last Quarter\")","v":""}]
["6b - Milestones - Assurance","Assurance","6.02.33",null,"List all:\nAssurance Milestones",{"$f":"'6b - Milestones - Assurance'!E39","v":0},"6b - Milestones - Assurance'!E39"]
["6b - Milestones - Assurance","Assurance","6.02.33",null,"Baseline Date of Assurance Milestone (GMPP baselines will be sourced from your latest HMT approved BC)",{"$f":"'6b - Milestones - Assurance'!F39","v":0},"6b - Milestones - Assurance'!F39"]
["6b - Milestones - Assurance","Assurance","6.02.33",null,"Forecast / Actual Date \nof Assurance Milestone",{"$f":"'6b - Milestones - Assurance'!G39","v":0},"6b - Milestones - Assurance'!G39"]
["6b - Milestones - Assurance","Assurance","6.02.33",null,"Variance between Baseline and Forecast/ Actual Dates (Days)",{"$f":"'6b - Milestones - Assurance'!H39","v":""},"6b - Milestones - Assurance'!H39"]
["6b - Milestones - Assurance","Assurance","6.02.33",null,"Status",{"$f":"'6b - Milestones - Assurance'!I39","v":0},"6b - Milestones - Assurance'!I39"]
["6b - Milestones - Assurance","Assurance","6.02.33",null,"Comments",{"$f":"'6b - Milestones - Assurance'!J39","v":0},"6b - Milestones - Assurance'!J39"]
["6b - Milestones - Assurance","Assurance","6.02.34",null,"Milestone label",{"$f":"'6b - Milestones - Assurance'!D40","v":0},"6b - Milestones - Assurance'!D40",{"$f":"IF(CONCATENATE(F933,\" - \",F934,\" - \",F935,\" - \",F936,\" - \",F937,\" - \",F938,\" - \",F939)=\"0 - 0 - 0 - 0 -  - 0 - 0\",\"0\",CONCATENATE(F933,\" - \",F934,\" - \",F935,\" - \",F936,\" - \",F937,\" - \",F938,\" - \",F939))","v":"0"},null,{"$f":"'6b - Milestones - Assurance'!P40","v":0},{"$f":"IF(J933=F933,\"\",\"Changed Since Last Quarter\")","v":""}]
["6b - Milestones - Assurance","Assurance","6.02.34",null,"List all:\nAssurance Milestones",{"$f":"'6b - Milestones - Assurance'!E40","v":0},"6b - Milestones - Assurance'!E40"]
["6b - Milestones - Assurance","Assurance","6.02.34",null,"Baseline Date of Assurance Milestone (GMPP baselines will be sourced from your latest HMT approved BC)",{"$f":"'6b - Milestones - Assurance'!F40","v":0},"6b - Milestones - Assurance'!F40"]
["6b - Milestones - Assurance","Assurance","6.02.34",null,"Forecast / Actual Date \nof Assurance Milestone",{"$f":"'6b - Milestones - Assurance'!G40","v":0},"6b - Milestones - Assurance'!G40"]
["6b - Milestones - Assurance","Assurance","6.02.34",null,"Variance between Baseline and Forecast/ Actual Dates (Days)",{"$f":"'6b - Milestones - Assurance'!H40","v":""},"6b - Milestones - Assurance'!H40"]
["6b - Milestones - Assurance","Assurance","6.02.34",null,"Status",{"$f":"'6b - Milestones - Assurance'!I40","v":0},"6b - Milestones - Assurance'!I40"]
["6b - Milestones - Assurance","Assurance","6.02.34",null,"Comments",{"$f":"'6b - Milestones - Assurance'!J40","v":0},"6b - Milestones - Assurance'!J40"]
["6b - Milestones - Assurance","Assurance","6.02.35",null,"Milestone label",{"$f":"'6b - Milestones - Assurance'!D41","v":0},"6b - Milestones - Assurance'!D41",{"$f":"IF(CONCATENATE(F940,\" - \",F941,\" - \",F942,\" - \",F943,\" - \",F944,\" - \",F945,\" - \",F946)=\"0 - 0 - 0 - 0 -  - 0 - 0\",\"0\",CONCATENATE(F940,\" - \",F941,\" - \",F942,\" - \",F943,\" - \",F944,\" - \",F945,\" - \",F946))","v":"0"},null,{"$f":"'6b - Milestones - Assurance'!P41","v":0},{"$f":"IF(J940=F940,\"\",\"Changed Since Last Quarter\")","v":""}]
["6b - Milestones - Assurance","Assurance","6.02.35",null,"List all:\nAssurance Milestones",{"$f":"'6b - Milestones - Assurance'!E41","v":0},"6b - Milestones - Assurance'!E41"]
["6b - Milestones - Assurance","Assurance","6.02.35",null,"Baseline Date of Assurance Milestone (GMPP baselines will be sourced from your latest HMT approved BC)",{"$f":"'6b - Milestones - Assurance'!F41","v":0},"6b - Milestones - Assurance'!F41"]
["6b - Milestones - Assurance","Assurance","6.02.35",null,"Forecast / Actual Date \nof Assurance Milestone",{"$f":"'6b - Milestones - Assurance'!G41","v":0},"6b - Milestones - Assurance'!G41"]
["6b - Milestones - Assurance","Assurance","6.02.35",null,"Variance between Baseline and Forecast/ Actual Dates (Days)",{"$f":"'6b - Milestones - Assurance'!H41","v":""},"6b - Milestones - Assurance'!H41"]
["6b - Milestones - Assurance","Assurance","6.02.35",null,"Status",{"$f":"'6b - Milestones - Assurance'!I41","v":0},"6b - Milestones - Assurance'!I41"]
["6b - Milestones - Assurance","Assurance","6.02.35",null,"Comments",{"$f":"'6b - Milestones - Assurance'!J41","v":0},"6b - Milestones - Assurance'!J41"]
["6b - Milestones - Assurance","Assurance","6.02.36",null,"Milestone label",{"$f":"'6b - Milestones - Assurance'!D42","v":0},"6b - Milestones - Assurance'!D42",{"$f":"IF(CONCATENATE(F947,\" - \",F948,\" - \",F949,\" - \",F950,\" - \",F951,\" - \",F952,\" - \",F953)=\"0 - 0 - 0 - 0 -  - 0 - 0\",\"0\",CONCATENATE(F947,\" - \",F948,\" - \",F949,\" - \",F950,\" - \",F951,\" - \",F952,\" - \",F953))","v":"0"},null,{"$f":"'6b - Milestones - Assurance'!P42","v":0},{"$f":"IF(J947=F947,\"\",\"Changed Since Last Quarter\")","v":""}]
["6b - Milestones - Assurance","Assurance","6.02.36",null,"List all:\nAssurance Milestones",{"$f":"'6b - Milestones - Assurance'!E42","v":0},"6b - Milestones - Assurance'!E42"]
["6b - Milestones - Assurance","Assurance","6.02.36",null,"Baseline Date of Assurance Milestone (GMPP baselines will be sourced from your latest HMT approved BC)",{"$f":"'6b - Milestones - Assurance'!F42","v":0},"6b - Milestones - Assurance'!F42"]
["6b - Milestones - Assurance","Assurance","6.02.36",null,"Forecast / Actual Date \nof Assurance Milestone",{"$f":"'6b - Milestones - Assurance'!G42","v":0},"6b - Milestones - Assurance'!G42"]
["6b - Milestones - Assurance","Assurance","6.02.36",null,"Variance between Baseline and Forecast/ Actual Dates (Days)",{"$f":"'6b - Milestones - Assurance'!H42","v":""},"6b - Milestones - Assurance'!H42"]
["6b - Milestones - Assurance","Assurance","6.02.36",null,"Status",{"$f":"'6b - Milestones - Assurance'!I42","v":0},"6b - Milestones - Assurance'!I42"]
["6b - Milestones - Assurance","Assurance","6.02.36",null,"Comments",{"$f":"'6b - Milestones - Assurance'!J42","v":0},"6b - Milestones - Assurance'!J42"]
["6b - Milestones - Assurance","Assurance","6.02.37",null,"Milestone label",{"$f":"'6b - Milestones - Assurance'!D43","v":0},"6b - Milestones - Assurance'!D43",{"$f":"IF(CONCATENATE(F954,\" - \",F955,\" - \",F956,\" - \",F957,\" - \",F958,\" - \",F959,\" - \",F960)=\"0 - 0 - 0 - 0 -  - 0 - 0\",\"0\",CONCATENATE(F954,\" - \",F955,\" - \",F956,\" - \",F957,\" - \",F958,\" - \",F959,\" - \",F960))","v":"0"},null,{"$f":"'6b - Milestones - Assurance'!P43","v":0},{"$f":"IF(J954=F954,\"\",\"Changed Since Last Quarter\")","v":""}]
["6b - Milestones - Assurance","Assurance","6.02.37",null,"List all:\nAssurance Milestones",{"$f":"'6b - Milestones - Assurance'!E43","v":0},"6b - Milestones - Assurance'!E43"]
["6b - Milestones - Assurance","Assurance","6.02.37",null,"Baseline Date of Assurance Milestone (GMPP baselines will be sourced from your latest HMT approved BC)",{"$f":"'6b - Milestones - Assurance'!F43","v":0},"6b - Milestones - Assurance'!F43"]
["6b - Milestones - Assurance","Assurance","6.02.37",null,"Forecast / Actual Date \nof Assurance Milestone",{"$f":"'6b - Milestones - Assurance'!G43","v":0},"6b - Milestones - Assurance'!G43"]
["6b - Milestones - Assurance","Assurance","6.02.37",null,"Variance between Baseline and Forecast/ Actual Dates (Days)",{"$f":"'6b - Milestones - Assurance'!H43","v":""},"6b - Milestones - Assurance'!H43"]
["6b - Milestones - Assurance","Assurance","6.02.37",null,"Status",{"$f":"'6b - Milestones - Assurance'!I43","v":0},"6b - Milestones - Assurance'!I43"]
["6b - Milestones - Assurance","Assurance","6.02.37",null,"Comments",{"$f":"'6b - Milestones - Assurance'!J43","v":0},"6b - Milestones - Assurance'!J43"]
["6b - Milestones - Assurance","Assurance","6.02.38",null,"Milestone label",{"$f":"'6b - Milestones - Assurance'!D44","v":0},"6b - Milestones - Assurance'!D44",{"$f":"IF(CONCATENATE(F961,\" - \",F962,\" - \",F963,\" - \",F964,\" - \",F965,\" - \",F966,\" - \",F967)=\"0 - 0 - 0 - 0 -  - 0 - 0\",\"0\",CONCATENATE(F961,\" - \",F962,\" - \",F963,\" - \",F964,\" - \",F965,\" - \",F966,\" - \",F967))","v":"0"},null,{"$f":"'6b - Milestones - Assurance'!P44","v":0},{"$f":"IF(J961=F961,\"\",\"Changed Since Last Quarter\")","v":""}]
["6b - Milestones - Assurance","Assurance","6.02.38",null,"List all:\nAssurance Milestones",{"$f":"'6b - Milestones - Assurance'!E44","v":0},"6b - Milestones - Assurance'!E44"]
["6b - Milestones - Assurance","Assurance","6.02.38",null,"Baseline Date of Assurance Milestone (GMPP baselines will be sourced from your latest HMT approved BC)",{"$f":"'6b - Milestones - Assurance'!F44","v":0},"6b - Milestones - Assurance'!F44"]
["6b - Milestones - Assurance","Assurance","6.02.38",null,"Forecast / Actual Date \nof Assurance Milestone",{"$f":"'6b - Milestones - Assurance'!G44","v":0},"6b - Milestones - Assurance'!G44"]
["6b - Milestones - Assurance","Assurance","6.02.38",null,"Variance between Baseline and Forecast/ Actual Dates (Days)",{"$f":"'6b - Milestones - Assurance'!H44","v":""},"6b - Milestones - Assurance'!H44"]
["6b - Milestones - Assurance","Assurance","6.02.38",null,"Status",{"$f":"'6b - Milestones - Assurance'!I44","v":0},"6b - Milestones - Assurance'!I44"]
["6b - Milestones - Assurance","Assurance","6.02.38",null,"Comments",{"$f":"'6b - Milestones - Assurance'!J44","v":0},"6b - Milestones - Assurance'!J44"]
["6b - Milestones - Assurance","Assurance","6.02.39",null,"Milestone label",{"$f":"'6b - Milestones - Assurance'!D45","v":0},"6b - Milestones - Assurance'!D45",{"$f":"IF(CONCATENATE(F968,\" - \",F969,\" - \",F970,\" - \",F971,\" - \",F972,\" - \",F973,\" - \",F974)=\"0 - 0 - 0 - 0 -  - 0 - 0\",\"0\",CONCATENATE(F968,\" - \",F969,\" - \",F970,\" - \",F971,\" - \",F972,\" - \",F973,\" - \",F974))","v":"0"},null,{"$f":"'6b - Milestones - Assurance'!P45","v":0},{"$f":"IF(J968=F968,\"\",\"Changed Since Last Quarter\")","v":""}]
["6b - Milestones - Assurance","Assurance","6.02.39",null,"List all:\nAssurance Milestones",{"$f":"'6b - Milestones - Assurance'!E45","v":0},"6b - Milestones - Assurance'!E45"]
["6b - Milestones - Assurance","Assurance","6.02.39",null,"Baseline Date of Assurance Milestone (GMPP baselines will be sourced from your latest HMT approved BC)",{"$f":"'6b - Milestones - Assurance'!F45","v":0},"6b - Milestones - Assurance'!F45"]
["6b - Milestones - Assurance","Assurance","6.02.39",null,"Forecast / Actual Date \nof Assurance Milestone",{"$f":"'6b - Milestones - Assurance'!G45","v":0},"6b - Milestones - Assurance'!G45"]
["6b - Milestones - Assurance","Assurance","6.02.39",null,"Variance between Baseline and Forecast/ Actual Dates (Days)",{"$f":"'6b - Milestones - Assurance'!H45","v":""},"6b - Milestones - Assurance'!H45"]
["6b - Milestones - Assurance","Assurance","6.02.39",null,"Status",{"$f":"'6b - Milestones - Assurance'!I45","v":0},"6b - Milestones - Assurance'!I45"]
["6b - Milestones - Assurance","Assurance","6.02.39",null,"Comments",{"$f":"'6b - Milestones - Assurance'!J45","v":0},"6b - Milestones - Assurance'!J45"]
["6b - Milestones - Assurance","Assurance","6.02.40",null,"Milestone label",{"$f":"'6b - Milestones - Assurance'!D46","v":0},"6b - Milestones - Assurance'!D46",{"$f":"IF(CONCATENATE(F975,\" - \",F976,\" - \",F977,\" - \",F978,\" - \",F979,\" - \",F980,\" - \",F981)=\"0 - 0 - 0 - 0 -  - 0 - 0\",\"0\",CONCATENATE(F975,\" - \",F976,\" - \",F977,\" - \",F978,\" - \",F979,\" - \",F980,\" - \",F981))","v":"0"},null,{"$f":"'6b - Milestones - Assurance'!P46","v":0},{"$f":"IF(J975=F975,\"\",\"Changed Since Last Quarter\")","v":""}]
["6b - Milestones - Assurance","Assurance","6.02.40",null,"List all:\nAssurance Milestones",{"$f":"'6b - Milestones - Assurance'!E46","v":0},"6b - Milestones - Assurance'!E46"]
["6b - Milestones - Assurance","Assurance","6.02.40",null,"Baseline Date of Assurance Milestone (GMPP baselines will be sourced from your latest HMT approved BC)",{"$f":"'6b - Milestones - Assurance'!F46","v":0},"6b - Milestones - Assurance'!F46"]
["6b - Milestones - Assurance","Assurance","6.02.40",null,"Forecast / Actual Date \nof Assurance Milestone",{"$f":"'6b - Milestones - Assurance'!G46","v":0},"6b - Milestones - Assurance'!G46"]
["6b - Milestones - Assurance","Assurance","6.02.40",null,"Variance between Baseline and Forecast/ Actual Dates (Days)",{"$f":"'6b - Milestones - Assurance'!H46","v":""},"6b - Milestones - Assurance'!H46"]
["6b - Milestones - Assurance","Assurance","6.02.40",null,"Status",{"$f":"'6b - Milestones - Assurance'!I46","v":0},"6b - Milestones - Assurance'!I46"]
["6b - Milestones - Assurance","Assurance","6.02.40",null,"Comments",{"$f":"'6b - Milestones - Assurance'!J46","v":0},"6b - Milestones - Assurance'!J46"]
["6b - Milestones - Assurance","Assurance","6.02.41",null,"Milestone label",{"$f":"'6b - Milestones - Assurance'!D47","v":0},"6b - Milestones - Assurance'!D47",{"$f":"IF(CONCATENATE(F982,\" - \",F983,\" - \",F984,\" - \",F985,\" - \",F986,\" - \",F987,\" - \",F988)=\"0 - 0 - 0 - 0 -  - 0 - 0\",\"0\",CONCATENATE(F982,\" - \",F983,\" - \",F984,\" - \",F985,\" - \",F986,\" - \",F987,\" - \",F988))","v":"0"},null,{"$f":"'6b - Milestones - Assurance'!P47","v":0},{"$f":"IF(J982=F982,\"\",\"Changed Since Last Quarter\")","v":""}]
["6b - Milestones - Assurance","Assurance","6.02.41",null,"List all:\nAssurance Milestones",{"$f":"'6b - Milestones - Assurance'!E47","v":0},"6b - Milestones - Assurance'!E47"]
["6b - Milestones - Assurance","Assurance","6.02.41",null,"Baseline Date of Assurance Milestone (GMPP baselines will be sourced from your latest HMT approved BC)",{"$f":"'6b - Milestones - Assurance'!F47","v":0},"6b - Milestones - Assurance'!F47"]
["6b - Milestones - Assurance","Assurance","6.02.41",null,"Forecast / Actual Date \nof Assurance Milestone",{"$f":"'6b - Milestones - Assurance'!G47","v":0},"6b - Milestones - Assurance'!G47"]
["6b - Milestones - Assurance","Assurance","6.02.41",null,"Variance between Baseline and Forecast/ Actual Dates (Days)",{"$f":"'6b - Milestones - Assurance'!H47","v":""},"6b - Milestones - Assurance'!H47"]
["6b - Milestones - Assurance","Assurance","6.02.41",null,"Status",{"$f":"'6b - Milestones - Assurance'!I47","v":0},"6b - Milestones - Assurance'!I47"]
["6b - Milestones - Assurance","Assurance","6.02.41",null,"Comments",{"$f":"'6b - Milestones - Assurance'!J47","v":0},"6b - Milestones - Assurance'!J47"]
["6b - Milestones - Assurance","Assurance","6.02.42",null,"Milestone label",{"$f":"'6b - Milestones - Assurance'!D48","v":0},"6b - Milestones - Assurance'!D48",{"$f":"IF(CONCATENATE(F989,\" - \",F990,\" - \",F991,\" - \",F992,\" - \",F993,\" - \",F994,\" - \",F995)=\"0 - 0 - 0 - 0 -  - 0 - 0\",\"0\",CONCATENATE(F989,\" - \",F990,\" - \",F991,\" - \",F992,\" - \",F993,\" - \",F994,\" - \",F995))","v":"0"},null,{"$f":"'6b - Milestones - Assurance'!P48","v":0},{"$f":"IF(J989=F989,\"\",\"Changed Since Last Quarter\")","v":""}]
["6b - Milestones - Assurance","Assurance","6.02.42",null,"List all:\nAssurance Milestones",{"$f":"'6b - Milestones - Assurance'!E48","v":0},"6b - Milestones - Assurance'!E48"]
["6b - Milestones - Assurance","Assurance","6.02.42",null,"Baseline Date of Assurance Milestone (GMPP baselines will be sourced from your latest HMT approved BC)",{"$f":"'6b - Milestones - Assurance'!F48","v":0},"6b - Milestones - Assurance'!F48"]
["6b - Milestones - Assurance","Assurance","6.02.42",null,"Forecast / Actual Date \nof Assurance Milestone",{"$f":"'6b - Milestones - Assurance'!G48","v":0},"6b - Milestones - Assurance'!G48"]
["6b - Milestones - Assurance","Assurance","6.02.42",null,"Variance between Baseline and Forecast/ Actual Dates (Days)",{"$f":"'6b - Milestones - Assurance'!H48","v":""},"6b - Milestones - Assurance'!H48"]
["6b - Milestones - Assurance","Assurance","6.02.42",null,"Status",{"$f":"'6b - Milestones - Assurance'!I48","v":0},"6b - Milestones - Assurance'!I48"]
["6b - Milestones - Assurance","Assurance","6.02.42",null,"Comments",{"$f":"'6b - Milestones - Assurance'!J48","v":0},"6b - Milestones - Assurance'!J48"]
["6b - Milestones - Assurance","Assurance","6.02.43",null,"Milestone label",{"$f":"'6b - Milestones - Assurance'!D49","v":0},"6b - Milestones - Assurance'!D49",{"$f":"IF(CONCATENATE(F996,\" - \",F997,\" - \",F998,\" - \",F999,\" - \",F1000,\" - \",F1001,\" - \",F1002)=\"0 - 0 - 0 - 0 -  - 0 - 0\",\"0\",CONCATENATE(F996,\" - \",F997,\" - \",F998,\" - \",F999,\" - \",F1000,\" - \",F1001,\" - \",F1002))","v":"0"},null,{"$f":"'6b - Milestones - Assurance'!P49","v":0},{"$f":"IF(J996=F996,\"\",\"Changed Since Last Quarter\")","v":""}]
["6b - Milestones - Assurance","Assurance","6.02.43",null,"List all:\nAssurance Milestones",{"$f":"'6b - Milestones - Assurance'!E49","v":0},"6b - Milestones - Assurance'!E49"]
["6b - Milestones - Assurance","Assurance","6.02.43",null,"Baseline Date of Assurance Milestone (GMPP baselines will be sourced from your latest HMT approved BC)",{"$f":"'6b - Milestones - Assurance'!F49","v":0},"6b - Milestones - Assurance'!F49"]
["6b - Milestones - Assurance","Assurance","6.02.43",null,"Forecast / Actual Date \nof Assurance Milestone",{"$f":"'6b - Milestones - Assurance'!G49","v":0},"6b - Milestones - Assurance'!G49"]
["6b - Milestones - Assurance","Assurance","6.02.43",null,"Variance between Baseline and Forecast/ Actual Dates (Days)",{"$f":"'6b - Milestones - Assurance'!H49","v":""},"6b - Milestones - Assurance'!H49"]
["6b - Milestones - Assurance","Assurance","6.02.43",null,"Status",{"$f":"'6b - Milestones - Assurance'!I49","v":0},"6b - Milestones - Assurance'!I49"]
["6b - Milestones - Assurance","Assurance","6.02.43",null,"Comments",{"$f":"'6b - Milestones - Assurance'!J49","v":0},"6b - Milestones - Assurance'!J49"]
["6b - Milestones - Assurance","Assurance","6.02.44",null,"Milestone label",{"$f":"'6b - Milestones - Assurance'!D50","v":0},"6b - Milestones - Assurance'!D50",{"$f":"IF(CONCATENATE(F1003,\" - \",F1004,\" - \",F1005,\" - \",F1006,\" - \",F1007,\" - \",F1008,\" - \",F1009)=\"0 - 0 - 0 - 0 -  - 0 - 0\",\"0\",CONCATENATE(F1003,\" - \",F1004,\" - \",F1005,\" - \",F1006,\" - \",F1007,\" - \",F1008,\" - \",F1009))","v":"0"},null,{"$f":"'6b - Milestones - Assurance'!P50","v":0},{"$f":"IF(J1003=F1003,\"\",\"Changed Since Last Quarter\")","v":""}]
["6b - Milestones - Assurance","Assurance","6.02.44",null,"List all:\nAssurance Milestones",{"$f":"'6b - Milestones - Assurance'!E50","v":0},"6b - Milestones - Assurance'!E50"]
["6b - Milestones - Assurance","Assurance","6.02.44",null,"Baseline Date of Assurance Milestone (GMPP baselines will be sourced from your latest HMT approved BC)",{"$f":"'6b - Milestones - Assurance'!F50","v":0},"6b - Milestones - Assurance'!F50"]
["6b - Milestones - Assurance","Assurance","6.02.44",null,"Forecast / Actual Date \nof Assurance Milestone",{"$f":"'6b - Milestones - Assurance'!G50","v":0},"6b - Milestones - Assurance'!G50"]
["6b - Milestones - Assurance","Assurance","6.02.44",null,"Variance between Baseline and Forecast/ Actual Dates (Days)",{"$f":"'6b - Milestones - Assurance'!H50","v":""},"6b - Milestones - Assurance'!H50"]
["6b - Milestones - Assurance","Assurance","6.02.44",null,"Status",{"$f":"'6b - Milestones - Assurance'!I50","v":0},"6b - Milestones - Assurance'!I50"]
["6b - Milestones - Assurance","Assurance","6.02.44",null,"Comments",{"$f":"'6b - Milestones - Assurance'!J50","v":0},"6b - Milestones - Assurance'!J50"]
["6b - Milestones - Assurance","Assurance","6.02.45",null,"Milestone label",{"$f":"'6b - Milestones - Assurance'!D51","v":0},"6b - Milestones - Assurance'!D51",{"$f":"IF(CONCATENATE(F1010,\" - \",F1011,\" - \",F1012,\" - \",F1013,\" - \",F1014,\" - \",F1015,\" - \",F1016)=\"0 - 0 - 0 - 0 -  - 0 - 0\",\"0\",CONCATENATE(F1010,\" - \",F1011,\" - \",F1012,\" - \",F1013,\" - \",F1014,\" - \",F1015,\" - \",F1016))","v":"0"},null,{"$f":"'6b - Milestones - Assurance'!P51","v":0},{"$f":"IF(J1010=F1010,\"\",\"Changed Since Last Quarter\")","v":""}]
["6b - Milestones - Assurance","Assurance","6.02.45",null,"List all:\nAssurance Milestones",{"$f":"'6b - Milestones - Assurance'!E51","v":0},"6b - Milestones - Assurance'!E51"]
["6b - Milestones - Assurance","Assurance","6.02.45",null,"Baseline Date of Assurance Milestone (GMPP baselines will be sourced from your latest HMT approved BC)",{"$f":"'6b - Milestones - Assurance'!F51","v":0},"6b - Milestones - Assurance'!F51"]
["6b - Milestones - Assurance","Assurance","6.02.45",null,"Forecast / Actual Date \nof Assurance Milestone",{"$f":"'6b - Milestones - Assurance'!G51","v":0},"6b - Milestones - Assurance'!G51"]
["6b - Milestones - Assurance","Assurance","6.02.45",null,"Variance between Baseline and Forecast/ Actual Dates (Days)",{"$f":"'6b - Milestones - Assurance'!H51","v":""},"6b - Milestones - Assurance'!H51"]
["6b - Milestones - Assurance","Assurance","6.02.45",null,"Status",{"$f":"'6b - Milestones - Assurance'!I51","v":0},"6b - Milestones - Assurance'!I51"]
["6b - Milestones - Assurance","Assurance","6.02.45",null,"Comments",{"$f":"'6b - Milestones - Assurance'!J51","v":0},"6b - Milestones - Assurance'!J51"]
["6b - Milestones - Assurance","Assurance","6.02.46",null,"Milestone label",{"$f":"'6b - Milestones - Assurance'!D52","v":0},"6b - Milestones - Assurance'!D52",{"$f":"IF(CONCATENATE(F1017,\" - \",F1018,\" - \",F1019,\" - \",F1020,\" - \",F1021,\" - \",F1022,\" - \",F1023)=\"0 - 0 - 0 - 0 -  - 0 - 0\",\"0\",CONCATENATE(F1017,\" - \",F1018,\" - \",F1019,\" - \",F1020,\" - \",F1021,\" - \",F1022,\" - \",F1023))","v":"0"},null,{"$f":"'6b - Milestones - Assurance'!P52","v":0},{"$f":"IF(J1017=F1017,\"\",\"Changed Since Last Quarter\")","v":""}]
["6b - Milestones - Assurance","Assurance","6.02.46",null,"List all:\nAssurance Milestones",{"$f":"'6b - Milestones - Assurance'!E52","v":0},"6b - Milestones - Assurance'!E52"]
["6b - Milestones - Assurance","Assurance","6.02.46",null,"Baseline Date of Assurance Milestone (GMPP baselines will be sourced from your latest HMT approved BC)",{"$f":"'6b - Milestones - Assurance'!F52","v":0},"6b - Milestones - Assurance'!F52"]
["6b - Milestones - Assurance","Assurance","6.02.46",null,"Forecast / Actual Date \nof Assurance Milestone",{"$f":"'6b - Milestones - Assurance'!G52","v":0},"6b - Milestones - Assurance'!G52"]
["6b - Milestones - Assurance","Assurance","6.02.46",null,"Variance between Baseline and Forecast/ Actual Dates (Days)",{"$f":"'6b - Milestones - Assurance'!H52","v":""},"6b - Milestones - Assurance'!H52"]
["6b - Milestones - Assurance","Assurance","6.02.46",null,"Status",{"$f":"'6b - Milestones - Assurance'!I52","v":0},"6b - Milestones - Assurance'!I52"]
["6b - Milestones - Assurance","Assurance","6.02.46",null,"Comments",{"$f":"'6b - Milestones - Assurance'!J52","v":0},"6b - Milestones - Assurance'!J52"]
["6b - Milestones - Assurance","Assurance","6.02.47",null,"Milestone label",{"$f":"'6b - Milestones - Assurance'!D53","v":0},"6b - Milestones - Assurance'!D53",{"$f":"IF(CONCATENATE(F1024,\" - \",F1025,\" - \",F1026,\" - \",F1027,\" - \",F1028,\" - \",F1029,\" - \",F1030)=\"0 - 0 - 0 - 0 -  - 0 - 0\",\"0\",CONCATENATE(F1024,\" - \",F1025,\" - \",F1026,\" - \",F1027,\" - \",F1028,\" - \",F1029,\" - \",F1030))","v":"0"},null,{"$f":"'6b - Milestones - Assurance'!P53","v":0},{"$f":"IF(J1024=F1024,\"\",\"Changed Since Last Quarter\")","v":""}]
["6b - Milestones - Assurance","Assurance","6.02.47",null,"List all:\nAssurance Milestones",{"$f":"'6b - Milestones - Assurance'!E53","v":0},"6b - Milestones - Assurance'!E53"]
["6b - Milestones - Assurance","Assurance","6.02.47",null,"Baseline Date of Assurance Milestone (GMPP baselines will be sourced from your latest HMT approved BC)",{"$f":"'6b - Milestones - Assurance'!F53","v":0},"6b - Milestones - Assurance'!F53"]
["6b - Milestones - Assurance","Assurance","6.02.47",null,"Forecast / Actual Date \nof Assurance Milestone",{"$f":"'6b - Milestones - Assurance'!G53","v":0},"6b - Milestones - Assurance'!G53"]
["6b - Milestones - Assurance","Assurance","6.02.47",null,"Variance between Baseline and Forecast/ Actual Dates (Days)",{"$f":"'6b - Milestones - Assurance'!H53","v":""},"6b - Milestones - Assurance'!H53"]
["6b - Milestones - Assurance","Assurance","6.02.47",null,"Status",{"$f":"'6b - Milestones - Assurance'!I53","v":0},"6b - Milestones - Assurance'!I53"]
["6b - Milestones - Assurance","Assurance","6.02.47",null,"Comments",{"$f":"'6b - Milestones - Assurance'!J53","v":0},"6b - Milestones - Assurance'!J53"]
["6b - Milestones - Assurance","Assurance","6.02.48",null,"Milestone label",{"$f":"'6b - Milestones - Assurance'!D54","v":0},"6b - Milestones - Assurance'!D54",{"$f":"IF(CONCATENATE(F1031,\" - \",F1032,\" - \",F1033,\" - \",F1034,\" - \",F1035,\" - \",F1036,\" - \",F1037)=\"0 - 0 - 0 - 0 -  - 0 - 0\",\"0\",CONCATENATE(F1031,\" - \",F1032,\" - \",F1033,\" - \",F1034,\" - \",F1035,\" - \",F1036,\" - \",F1037))","v":"0"},null,{"$f":"'6b - Milestones - Assurance'!P54","v":0},{"$f":"IF(J1031=F1031,\"\",\"Changed Since Last Quarter\")","v":""}]
["6b - Milestones - Assurance","Assurance","6.02.48",null,"List all:\nAssurance Milestones",{"$f":"'6b - Milestones - Assurance'!E54","v":0},"6b - Milestones - Assurance'!E54"]
["6b - Milestones - Assurance","Assurance","6.02.48",null,"Baseline Date of Assurance Milestone (GMPP baselines will be sourced from your latest HMT approved BC)",{"$f":"'6b - Milestones - Assurance'!F54","v":0},"6b - Milestones - Assurance'!F54"]
["6b - Milestones - Assurance","Assurance","6.02.48",null,"Forecast / Actual Date \nof Assurance Milestone",{"$f":"'6b - Milestones - Assurance'!G54","v":0},"6b - Milestones - Assurance'!G54"]
["6b - Milestones - Assurance","Assurance","6.02.48",null,"Variance between Baseline and Forecast/ Actual Dates (Days)",{"$f":"'6b - Milestones - Assurance'!H54","v":""},"6b - Milestones - Assurance'!H54"]
["6b - Milestones - Assurance","Assurance","6.02.48",null,"Status",{"$f":"'6b - Milestones - Assurance'!I54","v":0},"6b - Milestones - Assurance'!I54"]
["6b - Milestones - Assurance","Assurance","6.02.48",null,"Comments",{"$f":"'6b - Milestones - Assurance'!J54","v":0},"6b - Milestones - Assurance'!J54"]
["6b - Milestones - Assurance","Assurance","6.02.49",null,"Milestone label",{"$f":"'6b - Milestones - Assurance'!D55","v":0},"6b - Milestones - Assurance'!D55",{"$f":"IF(CONCATENATE(F1038,\" - \",F1039,\" - \",F1040,\" - \",F1041,\" - \",F1042,\" - \",F1043,\" - \",F1044)=\"0 - 0 - 0 - 0 -  - 0 - 0\",\"0\",CONCATENATE(F1038,\" - \",F1039,\" - \",F1040,\" - \",F1041,\" - \",F1042,\" - \",F1043,\" - \",F1044))","v":"0"},null,{"$f":"'6b - Milestones - Assurance'!P55","v":0},{"$f":"IF(J1038=F1038,\"\",\"Changed Since Last Quarter\")","v":""}]
["6b - Milestones - Assurance","Assurance","6.02.49",null,"List all:\nAssurance Milestones",{"$f":"'6b - Milestones - Assurance'!E55","v":0},"6b - Milestones - Assurance'!E55"]
["6b - Milestones - Assurance","Assurance","6.02.49",null,"Baseline Date of Assurance Milestone (GMPP baselines will be sourced from your latest HMT approved BC)",{"$f":"'6b - Milestones - Assurance'!F55","v":0},"6b - Milestones - Assurance'!F55"]
["6b - Milestones - Assurance","Assurance","6.02.49",null,"Forecast / Actual Date \nof Assurance Milestone",{"$f":"'6b - Milestones - Assurance'!G55","v":0},"6b - Milestones - Assurance'!G55"]
["6b - Milestones - Assurance","Assurance","6.02.49",null,"Variance between Baseline and Forecast/ Actual Dates (Days)",{"$f":"'6b - Milestones - Assurance'!H55","v":""},"6b - Milestones - Assurance'!H55"]
["6b - Milestones - Assurance","Assurance","6.02.49",null,"Status",{"$f":"'6b - Milestones - Assurance'!I55","v":0},"6b - Milestones - Assurance'!I55"]
["6b - Milestones - Assurance","Assurance","6.02.49",null,"Comments",{"$f":"'6b - Milestones - Assurance'!J55","v":0},"6b - Milestones - Assurance'!J55"]
["6b - Milestones - Assurance","Assurance","6.02.50",null,"Milestone label",{"$f":"'6b - Milestones - Assurance'!D56","v":0},"6b - Milestones - Assurance'!D56",{"$f":"IF(CONCATENATE(F1045,\" - \",F1046,\" - \",F1047,\" - \",F1048,\" - \",F1049,\" - \",F1050,\" - \",F1051)=\"0 - 0 - 0 - 0 -  - 0 - 0\",\"0\",CONCATENATE(F1045,\" - \",F1046,\" - \",F1047,\" - \",F1048,\" - \",F1049,\" - \",F1050,\" - \",F1051))","v":"0"},null,{"$f":"'6b - Milestones - Assurance'!P56","v":0},{"$f":"IF(J1045=F1045,\"\",\"Changed Since Last Quarter\")","v":""}]
["6b - Milestones - Assurance","Assurance","6.02.50",null,"List all:\nAssurance Milestones",{"$f":"'6b - Milestones - Assurance'!E56","v":0},"6b - Milestones - Assurance'!E56"]
["6b - Milestones - Assurance","Assurance","6.02.50",null,"Baseline Date of Assurance Milestone (GMPP baselines will be sourced from your latest HMT approved BC)",{"$f":"'6b - Milestones - Assurance'!F56","v":0},"6b - Milestones - Assurance'!F56"]
["6b - Milestones - Assurance","Assurance","6.02.50",null,"Forecast / Actual Date \nof Assurance Milestone",{"$f":"'6b - Milestones - Assurance'!G56","v":0},"6b - Milestones - Assurance'!G56"]
["6b - Milestones - Assurance","Assurance","6.02.50",null,"Variance between Baseline and Forecast/ Actual Dates (Days)",{"$f":"'6b - Milestones - Assurance'!H56","v":""},"6b - Milestones - Assurance'!H56"]
["6b - Milestones - Assurance","Assurance","6.02.50",null,"Status",{"$f":"'6b - Milestones - Assurance'!I56","v":0},"6b - Milestones - Assurance'!I56"]
["6b - Milestones - Assurance","Assurance","6.02.50",null,"Comments",{"$f":"'6b - Milestones - Assurance'!J56","v":0},"6b - Milestones - Assurance'!J56"]
["6c - Milestones - Delivery","Delivery","6.03.1",null,"List all:\nHighlevel Delivery Milestones",{"$f":"'6c - Milestones - Delivery'!D7","v":"Start of Project"},"6c - Milestones - Delivery'!D7",{"$f":"IF(CONCATENATE(F1052,\" - \",F1053,\" - \",F1054,\" - \",F1055,\" - \",F1056,\" - \",F1057,\" - \",F1058)=\"Project - Start Date - Yes - 0 - 0 -  - 0 - 0\",\"0\",CONCATENATE(F1052,\" - \",F1053,\" - \",F1054,\" - \",F1055,\" - \",F1056,\" - \",F1057,\" - \",F1058))","v":"Start of Project - Yes - 40148 - 41974 - 1826 - Complete - 0"},null,{"$f":"'6c - Milestones - Delivery'!P7","v":0},{"$f":"IF(J1052=F1052,\"\",\"Changed Since Last Quarter\")","v":"Changed Since Last Quarter"}]
["6c - Milestones - Delivery","Delivery","6.03.1",null,"Critical Path",{"$f":"'6c - Milestones - Delivery'!E7","v":"Yes"},"6c - Milestones - Delivery'!E7"]
["6c - Milestones - Delivery","Delivery","6.03.1",null,"Baseline Date of Milestone\n(GMPP baselines will be sourced from your latest HMT approved BC)",{"$f":"'6c - Milestones - Delivery'!F7","v":"2009-12-01"},"6c - Milestones - Delivery'!F7"]
["6c - Milestones - Delivery","Delivery","6.03.1",null,"Forecast / Actual Date \nof Milestone",{"$f":"'6c - Milestones - Delivery'!G7","v":"2014-12-01"},"6c - Milestones - Delivery'!G7"]
["6c - Milestones - Delivery","Delivery","6.03.1",null,"Variance between Baseline and Forecast/ Actual Dates (Days)",{"$f":"'6c - Milestones - Delivery'!H7","v":1826},"6c - Milestones - Delivery'!H7"]
["6c - Milestones - Delivery","Delivery","6.03.1",null,"Status",{"$f":"'6c - Milestones - Delivery'!I7","v":"Complete"},"6c - Milestones - Delivery'!I7"]
["6c - Milestones - Delivery","Delivery","6.03.1",null,"Comments",{"$f":"'6c - Milestones - Delivery'!J7","v":0},"6c - Milestones - Delivery'!J7"]
["6c - Milestones - Delivery","Delivery","6.03.2",null,"List all:\nHighlevel Delivery Milestones",{"$f":"'6c - Milestones - Delivery'!D8","v":"Project End Date"},"6c - Milestones - Delivery'!D8",{"$f":"IF(CONCATENATE(F1059,\" - \",F1060,\" - \",F1061,\" - \",F1062,\" - \",F1063,\" - \",F1064,\" - \",F1065)=\"Project - End Date - Yes - 0 - 0 -  - 0 - 0\",\"0\",CONCATENATE(F1059,\" - \",F1060,\" - \",F1061,\" - \",F1062,\" - \",F1063,\" - \",F1064,\" - \",F1065))","v":"Project End Date - No - 46905 - 46905 - 0 - Live - 0"},null,{"$f":"'6c - Milestones - Delivery'!P8","v":0},{"$f":"IF(J1059=F1059,\"\",\"Changed Since Last Quarter\")","v":"Changed Since Last Quarter"}]
["6c - Milestones - Delivery","Delivery","6.03.2",null,"Critical Path",{"$f":"'6c - Milestones - Delivery'!E8","v":"No"},"6c - Milestones - Delivery'!E8"]
["6c - Milestones - Delivery","Delivery","6.03.2",null,"Baseline Date of Milestone\n(GMPP baselines will be sourced from your latest HMT approved BC)",{"$f":"'6c - Milestones - Delivery'!F8","v":"2028-06-01"},"6c - Milestones - Delivery'!F8"]
["6c - Milestones - Delivery","Delivery","6.03.2",null,"Forecast / Actual Date \nof Milestone",{"$f":"'6c - Milestones - Delivery'!G8","v":"2028-06-01"},"6c - Milestones - Delivery'!G8"]
["6c - Milestones - Delivery","Delivery","6.03.2",null,"Variance between Baseline and Forecast/ Actual Dates (Days)",{"$f":"'6c - Milestones - Delivery'!H8","v":0},"6c - Milestones - Delivery'!H8"]
["6c - Milestones - Delivery","Delivery","6.03.2",null,"Status",{"$f":"'6c - Milestones - Delivery'!I8","v":"Live"},"6c - Milestones - Delivery'!I8"]
["6c - Milestones - Delivery","Delivery","6.03.2",null,"Comments",{"$f":"'6c - Milestones - Delivery'!J8","v":0},"6c - Milestones - Delivery'!J8"]
["6c - Milestones - Delivery","Delivery","6.03.3",null,"List all:\nHighlevel Delivery Milestones",{"$f":"'6c - Milestones - Delivery'!D9","v":"Project - Business Case End Date"},"6c - Milestones - Delivery'!D9",{"$f":"IF(CONCATENATE(F1066,\" - \",F1067,\" - \",F1068,\" - \",F1069,\" - \",F1070,\" - \",F1071,\" - \",F1072)=\"Project - Business Case End Date - Yes - 0 - 0 -  - 0 - 0\",\"0\",CONCATENATE(F1066,\" - \",F1067,\" - \",F1068,\" - \",F1069,\" - \",F1070,\" - \",F1071,\" - \",F1072))","v":"Project - Business Case End Date - No - 68118 - 68118 - 0 - Live - 0"},null,{"$f":"'6c - Milestones - Delivery'!P9","v":0},{"$f":"IF(J1066=F1066,\"\",\"Changed Since Last Quarter\")","v":"Changed Since Last Quarter"}]
["6c - Milestones - Delivery","Delivery","6.03.3",null,"Critical Path",{"$f":"'6c - Milestones - Delivery'!E9","v":"No"},"6c - Milestones - Delivery'!E9"]
["6c - Milestones - Delivery","Delivery","6.03.3",null,"Baseline Date of Milestone\n(GMPP baselines will be sourced from your latest HMT approved BC)",{"$f":"'6c - Milestones - Delivery'!F9","v":"2086-06-30"},"6c - Milestones - Delivery'!F9"]
["6c - Milestones - Delivery","Delivery","6.03.3",null,"Forecast / Actual Date \nof Milestone",{"$f":"'6c - Milestones - Delivery'!G9","v":"2086-06-30"},"6c - Milestones - Delivery'!G9"]
["6c - Milestones - Delivery","Delivery","6.03.3",null,"Variance between Baseline and Forecast/ Actual Dates (Days)",{"$f":"'6c - Milestones - Delivery'!H9","v":0},"6c - Milestones - Delivery'!H9"]
["6c - Milestones - Delivery","Delivery","6.03.3",null,"Status",{"$f":"'6c - Milestones - Delivery'!I9","v":"Live"},"6c - Milestones - Delivery'!I9"]
["6c - Milestones - Delivery","Delivery","6.03.3",null,"Comments",{"$f":"'6c - Milestones - Delivery'!J9","v":0},"6c - Milestones - Delivery'!J9"]
["6c - Milestones - Delivery","Delivery","6.03.4",null,"List all:\nHighlevel Delivery Milestones",{"$f":"'6c - Milestones - Delivery'!D10","v":"Start of Construction/build"},"6c - Milestones - Delivery'!D10",{"$f":"IF(CONCATENATE(F1073,\" - \",F1074,\" - \",F1075,\" - \",F1076,\" - \",F1077,\" - \",F1078,\" - \",F1079)=\"0 - 0 - 0 - 0 -  - 0 - 0\",\"0\",CONCATENATE(F1073,\" - \",F1074,\" - \",F1075,\" - \",F1076,\" - \",F1077,\" - \",F1078,\" - \",F1079))","v":"Start of Construction/build - Yes - 44270 - 44270 - 0 - Live - 0"},null,{"$f":"'6c - Milestones - Delivery'!P10","v":0},{"$f":"IF(J1073=F1073,\"\",\"Changed Since Last Quarter\")","v":"Changed Since Last Quarter"}]
["6c - Milestones - Delivery","Delivery","6.03.4",null,"Critical Path",{"$f":"'6c - Milestones - Delivery'!E10","v":"Yes"},"6c - Milestones - Delivery'!E10"]
["6c - Milestones - Delivery","Delivery","6.03.4",null,"Baseline Date of Milestone\n(GMPP baselines will be sourced from your latest HMT approved BC)",{"$f":"'6c - Milestones - Delivery'!F10","v":"2021-03-15"},"6c - Milestones - Delivery'!F10"]
["6c - Milestones - Delivery","Delivery","6.03.4",null,"Forecast / Actual Date \nof Milestone",{"$f":"'6c - Milestones - Delivery'!G10","v":"2021-03-15"},"6c - Milestones - Delivery'!G10"]
["6c - Milestones - Delivery","Delivery","6.03.4",null,"Variance between Baseline and Forecast/ Actual Dates (Days)",{"$f":"'6c - Milestones - Delivery'!H10","v":0},"6c - Milestones - Delivery'!H10"]
["6c - Milestones - Delivery","Delivery","6.03.4",null,"Status",{"$f":"'6c - Milestones - Delivery'!I10","v":"Live"},"6c - Milestones - Delivery'!I10"]
["6c - Milestones - Delivery","Delivery","6.03.4",null,"Comments",{"$f":"'6c - Milestones - Delivery'!J10","v":0},"6c - Milestones - Delivery'!J10"]
["6c - Milestones - Delivery","Delivery","6.03.5",null,"List all:\nHighlevel Delivery Milestones",{"$f":"'6c - Milestones - Delivery'!D11","v":"NAO Review"},"6c - Milestones - Delivery'!D11",{"$f":"IF(CONCATENATE(F1080,\" - \",F1081,\" - \",F1082,\" - \",F1083,\" - \",F1084,\" - \",F1085,\" - \",F1086)=\"0 - 0 - 0 - 0 -  - 0 - 0\",\"0\",CONCATENATE(F1080,\" - \",F1081,\" - \",F1082,\" - \",F1083,\" - \",F1084,\" - \",F1085,\" - \",F1086))","v":"NAO Review - No - 43400 - 43580 - 180 - Live - 0"},null,{"$f":"'6c - Milestones - Delivery'!P11","v":0},{"$f":"IF(J1080=F1080,\"\",\"Changed Since Last Quarter\")","v":"Changed Since Last Quarter"}]
["6c - Milestones - Delivery","Delivery","6.03.5",null,"Critical Path",{"$f":"'6c - Milestones - Delivery'!E11","v":"No"},"6c - Milestones - Delivery'!E11"]
["6c - Milestones - Delivery","Delivery","6.03.5",null,"Baseline Date of Milestone\n(GMPP baselines will be sourced from your latest HMT approved BC)",{"$f":"'6c - Milestones - Delivery'!F11","v":"2018-10-27"},"6c - Milestones - Delivery'!F11"]
["6c - Milestones - Delivery","Delivery","6.03.5",null,"Forecast / Actual Date \nof Milestone",{"$f":"'6c - Milestones - Delivery'!G11","v":"2019-04-25"},"6c - Milestones - Delivery'!G11"]
["6c - Milestones - Delivery","Delivery","6.03.5",null,"Variance between Baseline and Forecast/ Actual Dates (Days)",{"$f":"'6c - Milestones - Delivery'!H11","v":180},"6c - Milestones - Delivery'!H11"]
["6c - Milestones - Delivery","Delivery","6.03.5",null,"Status",{"$f":"'6c - Milestones - Delivery'!I11","v":"Live"},"6c - Milestones - Delivery'!I11"]
["6c - Milestones - Delivery","Delivery","6.03.5",null,"Comments",{"$f":"'6c - Milestones - Delivery'!J11","v":0},"6c - Milestones - Delivery'!J11"]
["6c - Milestones - Delivery","Delivery","6.03.6",null,"List all:\nHighlevel Delivery Milestones",{"$f":"'6c - Milestones - Delivery'!D12","v":"MPRG - OBC"},"6c - Milestones - Delivery'!D12",{"$f":"IF(CONCATENATE(F1087,\" - \",F1088,\" - \",F1089,\" - \",F1090,\" - \",F1091,\" - \",F1092,\" - \",F1093)=\"0 - 0 - 0 - 0 -  - 0 - 0\",\"0\",CONCATENATE(F1087,\" - \",F1088,\" - \",F1089,\" - \",F1090,\" - \",F1091,\" - \",F1092,\" - \",F1093))","v":"MPRG - OBC - No - 43308 - 43586 - 278 - Live - 0"},null,{"$f":"'6c - Milestones - Delivery'!P12","v":0},{"$f":"IF(J1087=F1087,\"\",\"Changed Since Last Quarter\")","v":"Changed Since Last Quarter"}]
["6c - Milestones - Delivery","Delivery","6.03.6",null,"Critical Path",{"$f":"'6c - Milestones - Delivery'!E12","v":"No"},"6c - Milestones - Delivery'!E12"]
["6c - Milestones - Delivery","Delivery","6.03.6",null,"Baseline Date of Milestone\n(GMPP baselines will be sourced from your latest HMT approved BC)",{"$f":"'6c - Milestones - Delivery'!F12","v":"2018-07-27"},"6c - Milestones - Delivery'!F12"]
["6c - Milestones - Delivery","Delivery","6.03.6",null,"Forecast / Actual Date \nof Milestone",{"$f":"'6c - Milestones - Delivery'!G12","v":"2019-05-01"},"6c - Milestones - Delivery'!G12"]
["6c - Milestones - Delivery","Delivery","6.03.6",null,"Variance between Baseline and Forecast/ Actual Dates (Days)",{"$f":"'6c - Milestones - Delivery'!H12","v":278},"6c - Milestones - Delivery'!H12"]
["6c - Milestones - Delivery","Delivery","6.03.6",null,"Status",{"$f":"'6c - Milestones - Delivery'!I12","v":"Live"},"6c - Milestones - Delivery'!I12"]
["6c - Milestones - Delivery","Delivery","6.03.6",null,"Comments",{"$f":"'6c - Milestones - Delivery'!J12","v":0},"6c - Milestones - Delivery'!J12"]
["6c - Milestones - Delivery","Delivery","6.03.7",null,"List all:\nHighlevel Delivery Milestones",{"$f":"'6c - Milestones - Delivery'!D13","v":"Start of Competitive Dialogue"},"6c - Milestones - Delivery'!D13",{"$f":"IF(CONCATENATE(F1094,\" - \",F1095,\" - \",F1096,\" - \",F1097,\" - \",F1098,\" - \",F1099,\" - \",F1100)=\"0 - 0 - 0 - 0 -  - 0 - 0\",\"0\",CONCATENATE(F1094,\" - \",F1095,\" - \",F1096,\" - \",F1097,\" - \",F1098,\" - \",F1099,\" - \",F1100))","v":"Start of Competitive Dialogue - Yes - 43861 - 43861 - 0 - Live - 0"},null,{"$f":"'6c - Milestones - Delivery'!P13","v":0},{"$f":"IF(J1094=F1094,\"\",\"Changed Since Last Quarter\")","v":"Changed Since Last Quarter"}]
["6c - Milestones - Delivery","Delivery","6.03.7",null,"Critical Path",{"$f":"'6c - Milestones - Delivery'!E13","v":"Yes"},"6c - Milestones - Delivery'!E13"]
["6c - Milestones - Delivery","Delivery","6.03.7",null,"Baseline Date of Milestone\n(GMPP baselines will be sourced from your latest HMT approved BC)",{"$f":"'6c - Milestones - Delivery'!F13","v":"2020-01-31"},"6c - Milestones - Delivery'!F13"]
["6c - Milestones - Delivery","Delivery","6.03.7",null,"Forecast / Actual Date \nof Milestone",{"$f":"'6c - Milestones - Delivery'!G13","v":"2020-01-31"},"6c - Milestones - Delivery'!G13"]
["6c - Milestones - Delivery","Delivery","6.03.7",null,"Variance between Baseline and Forecast/ Actual Dates (Days)",{"$f":"'6c - Milestones - Delivery'!H13","v":0},"6c - Milestones - Delivery'!H13"]
["6c - Milestones - Delivery","Delivery","6.03.7",null,"Status",{"$f":"'6c - Milestones - Delivery'!I13","v":"Live"},"6c - Milestones - Delivery'!I13"]
["6c - Milestones - Delivery","Delivery","6.03.7",null,"Comments",{"$f":"'6c - Milestones - Delivery'!J13","v":0},"6c - Milestones - Delivery'!J13"]
["6c - Milestones - Delivery","Delivery","6.03.8",null,"List all:\nHighlevel Delivery Milestones",{"$f":"'6c - Milestones - Delivery'!D14","v":"Start of Examination Period"},"6c - Milestones - Delivery'!D14",{"$f":"IF(CONCATENATE(F1101,\" - \",F1102,\" - \",F1103,\" - \",F1104,\" - \",F1105,\" - \",F1106,\" - \",F1107)=\"0 - 0 - 0 - 0 -  - 0 - 0\",\"0\",CONCATENATE(F1101,\" - \",F1102,\" - \",F1103,\" - \",F1104,\" - \",F1105,\" - \",F1106,\" - \",F1107))","v":"Start of Examination Period - Yes - 43558 - 55246 - 11688 - Live - Starts immediately after Preliminary Hearing on 2nd April 2000."},null,{"$f":"'6c - Milestones - Delivery'!P14","v":0},{"$f":"IF(J1101=F1101,\"\",\"Changed Since Last Quarter\")","v":"Changed Since Last Quarter"}]
["6c - Milestones - Delivery","Delivery","6.03.8",null,"Critical Path",{"$f":"'6c - Milestones - Delivery'!E14","v":"Yes"},"6c - Milestones - Delivery'!E14"]
["6c - Milestones - Delivery","Delivery","6.03.8",null,"Baseline Date of Milestone\n(GMPP baselines will be sourced from your latest HMT approved BC)",{"$f":"'6c - Milestones - Delivery'!F14","v":"2019-04-03"},"6c - Milestones - Delivery'!F14"]
["6c - Milestones - Delivery","Delivery","6.03.8",null,"Forecast / Actual Date \nof Milestone",{"$f":"'6c - Milestones - Delivery'!G14","v":"2051-04-03"},"6c - Milestones - Delivery'!G14"]
["6c - Milestones - Delivery","Delivery","6.03.8",null,"Variance between Baseline and Forecast/ Actual Dates (Days)",{"$f":"'6c - Milestones - Delivery'!H14","v":11688},"6c - Milestones - Delivery'!H14"]
["6c - Milestones - Delivery","Delivery","6.03.8",null,"Status",{"$f":"'6c - Milestones - Delivery'!I14","v":"Live"},"6c - Milestones - Delivery'!I14"]
["6c - Milestones - Delivery","Delivery","6.03.8",null,"Comments",{"$f":"'6c - Milestones - Delivery'!J14","v":"Starts immediately after Preliminary Hearing on 2nd April 2000."},"6c - Milestones - Delivery'!J14"]
["6c - Milestones - Delivery","Delivery","6.03.9",null,"List all:\nHighlevel Delivery Milestones",{"$f":"'6c - Milestones - Delivery'!D15","v":"Start of Operation"},"6c - Milestones - Delivery'!D15",{"$f":"IF(CONCATENATE(F1108,\" - \",F1109,\" - \",F1110,\" - \",F1111,\" - \",F1112,\" - \",F1113,\" - \",F1114)=\"0 - 0 - 0 - 0 -  - 0 - 0\",\"0\",CONCATENATE(F1108,\" - \",F1109,\" - \",F1110,\" - \",F1111,\" - \",F1112,\" - \",F1113,\" - \",F1114))","v":"Start of Operation - Yes - 46387 - 46387 - 0 - Live - 0"},null,{"$f":"'6c - Milestones - Delivery'!P15","v":0},{"$f":"IF(J1108=F1108,\"\",\"Changed Since Last Quarter\")","v":"Changed Since Last Quarter"}]
["6c - Milestones - Delivery","Delivery","6.03.9",null,"Critical Path",{"$f":"'6c - Milestones - Delivery'!E15","v":"Yes"},"6c - Milestones - Delivery'!E15"]
["6c - Milestones - Delivery","Delivery","6.03.9",null,"Baseline Date of Milestone\n(GMPP baselines will be sourced from your latest HMT approved BC)",{"$f":"'6c - Milestones - Delivery'!F15","v":"2026-12-31"},"6c - Milestones - Delivery'!F15"]
["6c - Milestones - Delivery","Delivery","6.03.9",null,"Forecast / Actual Date \nof Milestone",{"$f":"'6c - Milestones - Delivery'!G15","v":"2026-12-31"},"6c - Milestones - Delivery'!G15"]
["6c - Milestones - Delivery","Delivery","6.03.9",null,"Variance between Baseline and Forecast/ Actual Dates (Days)",{"$f":"'6c - Milestones - Delivery'!H15","v":0},"6c - Milestones - Delivery'!H15"]
["6c - Milestones - Delivery","Delivery","6.03.9",null,"Status",{"$f":"'6c - Milestones - Delivery'!I15","v":"Live"},"6c - Milestones - Delivery'!I15"]
["6c - Milestones - Delivery","Delivery","6.03.9",null,"Comments",{"$f":"'6c - Milestones - Delivery'!J15","v":0},"6c - Milestones - Delivery'!J15"]
["6c - Milestones - Delivery","Delivery","6.03.10",null,"List all:\nHighlevel Delivery Milestones",{"$f":"'6c - Milestones - Delivery'!D16","v":"OBC Approval (CST Confirmation Letter)"},"6c - Milestones - Delivery'!D16",{"$f":"IF(CONCATENATE(F1115,\" - \",F1116,\" - \",F1117,\" - \",F1118,\" - \",F1119,\" - \",F1120,\" - \",F1121)=\"0 - 0 - 0 - 0 -  - 0 - 0\",\"0\",CONCATENATE(F1115,\" - \",F1116,\" - \",F1117,\" - \",F1118,\" - \",F1119,\" - \",F1120,\" - \",F1121))","v":"OBC Approval (CST Confirmation Letter) - Yes - 43677 - 43677 - 0 - Live - 0"},null,{"$f":"'6c - Milestones - Delivery'!P16","v":0},{"$f":"IF(J1115=F1115,\"\",\"Changed Since Last Quarter\")","v":"Changed Since Last Quarter"}]
["6c - Milestones - Delivery","Delivery","6.03.10",null,"Critical Path",{"$f":"'6c - Milestones - Delivery'!E16","v":"Yes"},"6c - Milestones - Delivery'!E16"]
["6c - Milestones - Delivery","Delivery","6.03.10",null,"Baseline Date of Milestone\n(GMPP baselines will be sourced from your latest HMT approved BC)",{"$f":"'6c - Milestones - Delivery'!F16","v":"2019-07-31"},"6c - Milestones - Delivery'!F16"]
["6c - Milestones - Delivery","Delivery","6.03.10",null,"Forecast / Actual Date \nof Milestone",{"$f":"'6c - Milestones - Delivery'!G16","v":"2019-07-31"},"6c - Milestones - Delivery'!G16"]
["6c - Milestones - Delivery","Delivery","6.03.10",null,"Variance between Baseline and Forecast/ Actual Dates (Days)",{"$f":"'6c - Milestones - Delivery'!H16","v":0},"6c - Milestones - Delivery'!H16"]
["6c - Milestones - Delivery","Delivery","6.03.10",null,"Status",{"$f":"'6c - Milestones - Delivery'!I16","v":"Live"},"6c - Milestones - Delivery'!I16"]
["6c - Milestones - Delivery","Delivery","6.03.10",null,"Comments",{"$f":"'6c - Milestones - Delivery'!J16","v":0},"6c - Milestones - Delivery'!J16"]
["6c - Milestones - Delivery","Delivery","6.03.11",null,"List all:\nHighlevel Delivery Milestones",{"$f":"'6c - Milestones - Delivery'!D17","v":0},"6c - Milestones - Delivery'!D17",{"$f":"IF(CONCATENATE(F1122,\" - \",F1123,\" - \",F1124,\" - \",F1125,\" - \",F1126,\" - \",F1127,\" - \",F1128)=\"0 - 0 - 0 - 0 -  - 0 - 0\",\"0\",CONCATENATE(F1122,\" - \",F1123,\" - \",F1124,\" - \",F1125,\" - \",F1126,\" - \",F1127,\" - \",F1128))","v":"0"},null,{"$f":"'6c - Milestones - Delivery'!P17","v":0},{"$f":"IF(J1122=F1122,\"\",\"Changed Since Last Quarter\")","v":""}]
["6c - Milestones - Delivery","Delivery","6.03.11",null,"Critical Path",{"$f":"'6c - Milestones - Delivery'!E17","v":0},"6c - Milestones - Delivery'!E17"]
["6c - Milestones - Delivery","Delivery","6.03.11",null,"Baseline Date of Milestone\n(GMPP baselines will be sourced from your latest HMT approved BC)",{"$f":"'6c - Milestones - Delivery'!F17","v":"00:00:00"},"6c - Milestones - Delivery'!F17"]
["6c - Milestones - Delivery","Delivery","6.03.11",null,"Forecast / Actual Date \nof Milestone",{"$f":"'6c - Milestones - Delivery'!G17","v":"00:00:00"},"6c - Milestones - Delivery'!G17"]
["6c - Milestones - Delivery","Delivery","6.03.11",null,"Variance between Baseline and Forecast/ Actual Dates (Days)",{"$f":"'6c - Milestones - Delivery'!H17","v":""},"6c - Milestones - Delivery'!H17"]
["6c - Milestones - Delivery","Delivery","6.03.11",null,"Status",{"$f":"'6c - Milestones - Delivery'!I17","v":0},"6c - Milestones - Delivery'!I17"]
["6c - Milestones - Delivery","Delivery","6.03.11",null,"Comments",{"$f":"'6c - Milestones - Delivery'!J17","v":0},"6c - Milestones - Delivery'!J17"]
["6c - Milestones - Delivery","Delivery","6.03.12",null,"List all:\nHighlevel Delivery Milestones",{"$f":"'6c - Milestones - Delivery'!D18","v":0},"6c - Milestones - Delivery'!D18",{"$f":"IF(CONCATENATE(F1129,\" - \",F1130,\" - \",F1131,\" - \",F1132,\" - \",F1133,\" - \",F1134,\" - \",F1135)=\"0 - 0 - 0 - 0 -  - 0 - 0\",\"0\",CONCATENATE(F1129,\" - \",F1130,\" - \",F1131,\" - \",F1132,\" - \",F1133,\" - \",F1134,\" - \",F1135))","v":"0"},null,{"$f":"'6c - Milestones - Delivery'!P18","v":0},{"$f":"IF(J1129=F1129,\"\",\"Changed Since Last Quarter\")","v":""}]
["6c - Milestones - Delivery","Delivery","6.03.12",null,"Critical Path",{"$f":"'6c - Milestones - Delivery'!E18","v":0},"6c - Milestones - Delivery'!E18"]
["6c - Milestones - Delivery","Delivery","6.03.12",null,"Baseline Date of Milestone\n(GMPP baselines will be sourced from your latest HMT approved BC)",{"$f":"'6c - Milestones - Delivery'!F18","v":"00:00:00"},"6c - Milestones - Delivery'!F18"]
["6c - Milestones - Delivery","Delivery","6.03.12",null,"Forecast / Actual Date \nof Milestone",{"$f":"'6c - Milestones - Delivery'!G18","v":"00:00:00"},"6c - Milestones - Delivery'!G18"]
["6c - Milestones - Delivery","Delivery","6.03.12",null,"Variance between Baseline and Forecast/ Actual Dates (Days)",{"$f":"'6c - Milestones - Delivery'!H18","v":""},"6c - Milestones - Delivery'!H18"]
["6c - Milestones - Delivery","Delivery","6.03.12",null,"Status",{"$f":"'6c - Milestones - Delivery'!I18","v":0},"6c - Milestones - Delivery'!I18"]
["6c - Milestones - Delivery","Delivery","6.03.12",null,"Comments",{"$f":"'6c - Milestones - Delivery'!J18","v":0},"6c - Milestones - Delivery'!J18"]
["6c - Milestones - Delivery","Delivery","6.03.13",null,"List all:\nHighlevel Delivery Milestones",{"$f":"'6c - Milestones - Delivery'!D19","v":0},"6c - Milestones - Delivery'!D19",{"$f":"IF(CONCATENATE(F1136,\" - \",F1137,\" - \",F1138,\" - \",F1139,\" - \",F1140,\" - \",F1141,\" - \",F1142)=\"0 - 0 - 0 - 0 -  - 0 - 0\",\"0\",CONCATENATE(F1136,\" - \",F1137,\" - \",F1138,\" - \",F1139,\" - \",F1140,\" - \",F1141,\" - \",F1142))","v":"0"},null,{"$f":"'6c - Milestones - Delivery'!P19","v":0},{"$f":"IF(J1136=F1136,\"\",\"Changed Since Last Quarter\")","v":""}]
["6c - Milestones - Delivery","Delivery","6.03.13",null,"Critical Path",{"$f":"'6c - Milestones - Delivery'!E19","v":0},"6c - Milestones - Delivery'!E19"]
["6c - Milestones - Delivery","Delivery","6.03.13",null,"Baseline Date of Milestone\n(GMPP baselines will be sourced from your latest HMT approved BC)",{"$f":"'6c - Milestones - Delivery'!F19","v":"00:00:00"},"6c - Milestones - Delivery'!F19"]
["6c - Milestones - Delivery","Delivery","6.03.13",null,"Forecast / Actual Date \nof Milestone",{"$f":"'6c - Milestones - Delivery'!G19","v":"00:00:00"},"6c - Milestones - Delivery'!G19"]
["6c - Milestones - Delivery","Delivery","6.03.13",null,"Variance between Baseline and Forecast/ Actual Dates (Days)",{"$f":"'6c - Milestones - Delivery'!H19","v":""},"6c - Milestones - Delivery'!H19"]
["6c - Milestones - Delivery","Delivery","6.03.13",null,"Status",{"$f":"'6c - Milestones - Delivery'!I19","v":0},"6c - Milestones - Delivery'!I19"]
["6c - Milestones - Delivery","Delivery","6.03.13",null,"Comments",{"$f":"'6c - Milestones - Delivery'!J19","v":0},"6c - Milestones - Delivery'!J19"]
["6c - Milestones - Delivery","Delivery","6.03.14",null,"List all:\nHighlevel Delivery Milestones",{"$f":"'6c - Milestones - Delivery'!D20","v":0},"6c - Milestones - Delivery'!D20",{"$f":"IF(CONCATENATE(F1143,\" - \",F1144,\" - \",F1145,\" - \",F1146,\" - \",F1147,\" - \",F1148,\" - \",F1149)=\"0 - 0 - 0 - 0 -  - 0 - 0\",\"0\",CONCATENATE(F1143,\" - \",F1144,\" - \",F1145,\" - \",F1146,\" - \",F1147,\" - \",F1148,\" - \",F1149))","v":"0"},null,{"$f":"'6c - Milestones - Delivery'!P20","v":0},{"$f":"IF(J1143=F1143,\"\",\"Changed Since Last Quarter\")","v":""}]
["6c - Milestones - Delivery","Delivery","6.03.14",null,"Critical Path",{"$f":"'6c - Milestones - Delivery'!E20","v":0},"6c - Milestones - Delivery'!E20"]
["6c - Milestones - Delivery","Delivery","6.03.14",null,"Baseline Date of Milestone\n(GMPP baselines will be sourced from your latest HMT approved BC)",{"$f":"'6c - Milestones - Delivery'!F20","v":"00:00:00"},"6c - Milestones - Delivery'!F20"]
["6c - Milestones - Delivery","Delivery","6.03.14",null,"Forecast / Actual Date \nof Milestone",{"$f":"'6c - Milestones - Delivery'!G20","v":"00:00:00"},"6c - Milestones - Delivery'!G20"]
["6c - Milestones - Delivery","Delivery","6.03.14",null,"Variance between Baseline and Forecast/ Actual Dates (Days)",{"$f":"'6c - Milestones - Delivery'!H20","v":""},"6c - Milestones - Delivery'!H20"]
["6c - Milestones - Delivery","Delivery","6.03.14",null,"Status",{"$f":"'6c - Milestones - Delivery'!I20","v":0},"6c - Milestones - Delivery'!I20"]
["6c - Milestones - Delivery","Delivery","6.03.14",null,"Comments",{"$f":"'6c - Milestones - Delivery'!J20","v":0},"6c - Milestones - Delivery'!J20"]
["6c - Milestones - Delivery","Delivery","6.03.15",null,"List all:\nHighlevel Delivery Milestones",{"$f":"'6c - Milestones - Delivery'!D21","v":0},"6c - Milestones - Delivery'!D21",{"$f":"IF(CONCATENATE(F1150,\" - \",F1151,\" - \",F1152,\" - \",F1153,\" - \",F1154,\" - \",F1155,\" - \",F1156)=\"0 - 0 - 0 - 0 -  - 0 - 0\",\"0\",CONCATENATE(F1150,\" - \",F1151,\" - \",F1152,\" - \",F1153,\" - \",F1154,\" - \",F1155,\" - \",F1156))","v":"0"},null,{"$f":"'6c - Milestones - Delivery'!P21","v":0},{"$f":"IF(J1150=F1150,\"\",\"Changed Since Last Quarter\")","v":""}]
["6c - Milestones - Delivery","Delivery","6.03.15",null,"Critical Path",{"$f":"'6c - Milestones - Delivery'!E21","v":0},"6c - Milestones - Delivery'!E21"]
["6c - Milestones - Delivery","Delivery","6.03.15",null,"Baseline Date of Milestone\n(GMPP baselines will be sourced from your latest HMT approved BC)",{"$f":"'6c - Milestones - Delivery'!F21","v":"00:00:00"},"6c - Milestones - Delivery'!F21"]
["6c - Milestones - Delivery","Delivery","6.03.15",null,"Forecast / Actual Date \nof Milestone",{"$f":"'6c - Milestones - Delivery'!G21","v":"00:00:00"},"6c - Milestones - Delivery'!G21"]
["6c - Milestones - Delivery","Delivery","6.03.15",null,"Variance between Baseline and Forecast/ Actual Dates (Days)",{"$f":"'6c - Milestones - Delivery'!H21","v":""},"6c - Milestones - Delivery'!H21"]
["6c - Milestones - Delivery","Delivery","6.03.15",null,"Status",{"$f":"'6c - Milestones - Delivery'!I21","v":0},"6c - Milestones - Delivery'!I21"]
["6c - Milestones - Delivery","Delivery","6.03.15",null,"Comments",{"$f":"'6c - Milestones - Delivery'!J21","v":0},"6c - Milestones - Delivery'!J21"]
["6c - Milestones - Delivery","Delivery","6.03.16",null,"List all:\nHighlevel Delivery Milestones",{"$f":"'6c - Milestones - Delivery'!D22","v":0},"6c - Milestones - Delivery'!D22",{"$f":"IF(CONCATENATE(F1157,\" - \",F1158,\" - \",F1159,\" - \",F1160,\" - \",F1161,\" - \",F1162,\" - \",F1163)=\"0 - 0 - 0 - 0 -  - 0 - 0\",\"0\",CONCATENATE(F1157,\" - \",F1158,\" - \",F1159,\" - \",F1160,\" - \",F1161,\" - \",F1162,\" - \",F1163))","v":"0"},null,{"$f":"'6c - Milestones - Delivery'!P22","v":0},{"$f":"IF(J1157=F1157,\"\",\"Changed Since Last Quarter\")","v":""}]
["6c - Milestones - Delivery","Delivery","6.03.16",null,"Critical Path",{"$f":"'6c - Milestones - Delivery'!E22","v":0},"6c - Milestones - Delivery'!E22"]
["6c - Milestones - Delivery","Delivery","6.03.16",null,"Baseline Date of Milestone\n(GMPP baselines will be sourced from your latest HMT approved BC)",{"$f":"'6c - Milestones - Delivery'!F22","v":"00:00:00"},"6c - Milestones - Delivery'!F22"]
["6c - Milestones - Delivery","Delivery","6.03.16",null,"Forecast / Actual Date \nof Milestone",{"$f":"'6c - Milestones - Delivery'!G22","v":"00:00:00"},"6c - Milestones - Delivery'!G22"]
["6c - Milestones - Delivery","Delivery","6.03.16",null,"Variance between Baseline and Forecast/ Actual Dates (Days)",{"$f":"'6c - Milestones - Delivery'!H22","v":""},"6c - Milestones - Delivery'!H22"]
["6c - Milestones - Delivery","Delivery","6.03.16",null,"Status",{"$f":"'6c - Milestones - Delivery'!I22","v":0},"6c - Milestones - Delivery'!I22"]
["6c - Milestones - Delivery","Delivery","6.03.16",null,"Comments",{"$f":"'6c - Milestones - Delivery'!J22","v":0},"6c - Milestones - Delivery'!J22"]
["6c - Milestones - Delivery","Delivery","6.03.17",null,"List all:\nHighlevel Delivery Milestones",{"$f":"'6c - Milestones - Delivery'!D23","v":0},"6c - Milestones - Delivery'!D23",{"$f":"IF(CONCATENATE(F1164,\" - \",F1165,\" - \",F1166,\" - \",F1167,\" - \",F1168,\" - \",F1169,\" - \",F1170)=\"0 - 0 - 0 - 0 -  - 0 - 0\",\"0\",CONCATENATE(F1164,\" - \",F1165,\" - \",F1166,\" - \",F1167,\" - \",F1168,\" - \",F1169,\" - \",F1170))","v":"0"},null,{"$f":"'6c - Milestones - Delivery'!P23","v":0},{"$f":"IF(J1164=F1164,\"\",\"Changed Since Last Quarter\")","v":""}]
["6c - Milestones - Delivery","Delivery","6.03.17",null,"Critical Path",{"$f":"'6c - Milestones - Delivery'!E23","v":0},"6c - Milestones - Delivery'!E23"]
["6c - Milestones - Delivery","Delivery","6.03.17",null,"Baseline Date of Milestone\n(GMPP baselines will be sourced from your latest HMT approved BC)",{"$f":"'6c - Milestones - Delivery'!F23","v":"00:00:00"},"6c - Milestones - Delivery'!F23"]
["6c - Milestones - Delivery","Delivery","6.03.17",null,"Forecast / Actual Date \nof Milestone",{"$f":"'6c - Milestones - Delivery'!G23","v":"00:00:00"},"6c - Milestones - Delivery'!G23"]
["6c - Milestones - Delivery","Delivery","6.03.17",null,"Variance between Baseline and Forecast/ Actual Dates (Days)",{"$f":"'6c - Milestones - Delivery'!H23","v":""},"6c - Milestones - Delivery'!H23"]
["6c - Milestones - Delivery","Delivery","6.03.17",null,"Status",{"$f":"'6c - Milestones - Delivery'!I23","v":0},"6c - Milestones - Delivery'!I23"]
["6c - Milestones - Delivery","Delivery","6.03.17",null,"Comments",{"$f":"'6c - Milestones - Delivery'!J23","v":0},"6c - Milestones - Delivery'!J23"]
["6c - Milestones - Delivery","Delivery","6.03.18",null,"List all:\nHighlevel Delivery Milestones",{"$f":"'6c - Milestones - Delivery'!D24","v":0},"6c - Milestones - Delivery'!D24",{"$f":"IF(CONCATENATE(F1171,\" - \",F1172,\" - \",F1173,\" - \",F1174,\" - \",F1175,\" - \",F1176,\" - \",F1177)=\"0 - 0 - 0 - 0 -  - 0 - 0\",\"0\",CONCATENATE(F1171,\" - \",F1172,\" - \",F1173,\" - \",F1174,\" - \",F1175,\" - \",F1176,\" - \",F1177))","v":"0"},null,{"$f":"'6c - Milestones - Delivery'!P24","v":0},{"$f":"IF(J1171=F1171,\"\",\"Changed Since Last Quarter\")","v":""}]
["6c - Milestones - Delivery","Delivery","6.03.18",null,"Critical Path",{"$f":"'6c - Milestones - Delivery'!E24","v":0},"6c - Milestones - Delivery'!E24"]
["6c - Milestones - Delivery","Delivery","6.03.18",null,"Baseline Date of Milestone\n(GMPP baselines will be sourced from your latest HMT approved BC)",{"$f":"'6c - Milestones - Delivery'!F24","v":"00:00:00"},"6c - Milestones - Delivery'!F24"]
["6c - Milestones - Delivery","Delivery","6.03.18",null,"Forecast / Actual Date \nof Milestone",{"$f":"'6c - Milestones - Delivery'!G24","v":"00:00:00"},"6c - Milestones - Delivery'!G24"]
["6c - Milestones - Delivery","Delivery","6.03.18",null,"Variance between Baseline and Forecast/ Actual Dates (Days)",{"$f":"'6c - Milestones - Delivery'!H24","v":""},"6c - Milestones - Delivery'!H24"]
["6c - Milestones - Delivery","Delivery","6.03.18",null,"Status",{"$f":"'6c - Milestones - Delivery'!I24","v":0},"6c - Milestones - Delivery'!I24"]
["6c - Milestones - Delivery","Delivery","6.03.18",null,"Comments",{"$f":"'6c - Milestones - Delivery'!J24","v":0},"6c - Milestones - Delivery'!J24"]
["6c - Milestones - Delivery","Delivery","6.03.19",null,"List all:\nHighlevel Delivery Milestones",{"$f":"'6c - Milestones - Delivery'!D25","v":0},"6c - Milestones - Delivery'!D25",{"$f":"IF(CONCATENATE(F1178,\" - \",F1179,\" - \",F1180,\" - \",F1181,\" - \",F1182,\" - \",F1183,\" - \",F1184)=\"0 - 0 - 0 - 0 -  - 0 - 0\",\"0\",CONCATENATE(F1178,\" - \",F1179,\" - \",F1180,\" - \",F1181,\" - \",F1182,\" - \",F1183,\" - \",F1184))","v":"0"},null,{"$f":"'6c - Milestones - Delivery'!P25","v":0},{"$f":"IF(J1178=F1178,\"\",\"Changed Since Last Quarter\")","v":""}]
["6c - Milestones - Delivery","Delivery","6.03.19",null,"Critical Path",{"$f":"'6c - Milestones - Delivery'!E25","v":0},"6c - Milestones - Delivery'!E25"]
["6c - Milestones - Delivery","Delivery","6.03.19",null,"Baseline Date of Milestone\n(GMPP baselines will be sourced from your latest HMT approved BC)",{"$f":"'6c - Milestones - Delivery'!F25","v":"00:00:00"},"6c - Milestones - Delivery'!F25"]
["6c - Milestones - Delivery","Delivery","6.03.19",null,"Forecast / Actual Date \nof Milestone",{"$f":"'6c - Milestones - Delivery'!G25","v":"00:00:00"},"6c - Milestones - Delivery'!G25"]
["6c - Milestones - Delivery","Delivery","6.03.19",null,"Variance between Baseline and Forecast/ Actual Dates (Days)",{"$f":"'6c - Milestones - Delivery'!H25","v":""},"6c - Milestones - Delivery'!H25"]
["6c - Milestones - Delivery","Delivery","6.03.19",null,"Status",{"$f":"'6c - Milestones - Delivery'!I25","v":0},"6c - Milestones - Delivery'!I25"]
["6c - Milestones - Delivery","Delivery","6.03.19",null,"Comments",{"$f":"'6c - Milestones - Delivery'!J25","v":0},"6c - Milestones - Delivery'!J25"]
["6c - Milestones - Delivery","Delivery","6.03.20",null,"List all:\nHighlevel Delivery Milestones",{"$f":"'6c - Milestones - Delivery'!D26","v":0},"6c - Milestones - Delivery'!D26",{"$f":"IF(CONCATENATE(F1185,\" - \",F1186,\" - \",F1187,\" - \",F1188,\" - \",F1189,\" - \",F1190,\" - \",F1191)=\"0 - 0 - 0 - 0 -  - 0 - 0\",\"0\",CONCATENATE(F1185,\" - \",F1186,\" - \",F1187,\" - \",F1188,\" - \",F1189,\" - \",F1190,\" - \",F1191))","v":"0"},null,{"$f":"'6c - Milestones - Delivery'!P26","v":0},{"$f":"IF(J1185=F1185,\"\",\"Changed Since Last Quarter\")","v":""}]
["6c - Milestones - Delivery","Delivery","6.03.20",null,"Critical Path",{"$f":"'6c - Milestones - Delivery'!E26","v":0},"6c - Milestones - Delivery'!E26"]
["6c - Milestones - Delivery","Delivery","6.03.20",null,"Baseline Date of Milestone\n(GMPP baselines will be sourced from your latest HMT approved BC)",{"$f":"'6c - Milestones - Delivery'!F26","v":"00:00:00"},"6c - Milestones - Delivery'!F26"]
["6c - Milestones - Delivery","Delivery","6.03.20",null,"Forecast / Actual Date \nof Milestone",{"$f":"'6c - Milestones - Delivery'!G26","v":"00:00:00"},"6c - Milestones - Delivery'!G26"]
["6c - Milestones - Delivery","Delivery","6.03.20",null,"Variance between Baseline and Forecast/ Actual Dates (Days)",{"$f":"'6c - Milestones - Delivery'!H26","v":""},"6c - Milestones - Delivery'!H26"]
["6c - Milestones - Delivery","Delivery","6.03.20",null,"Status",{"$f":"'6c - Milestones - Delivery'!I26","v":0},"6c - Milestones - Delivery'!I26"]
["6c - Milestones - Delivery","Delivery","6.03.20",null,"Comments",{"$f":"'6c - Milestones - Delivery'!J26","v":0},"6c - Milestones - Delivery'!J26"]
["6c - Milestones - Delivery","Delivery","6.03.21",null,"List all:\nHighlevel Delivery Milestones",{"$f":"'6c - Milestones - Delivery'!D27","v":0},"6c - Milestones - Delivery'!D27",{"$f":"IF(CONCATENATE(F1192,\" - \",F1193,\" - \",F1194,\" - \",F1195,\" - \",F1196,\" - \",F1197,\" - \",F1198)=\"0 - 0 - 0 - 0 -  - 0 - 0\",\"0\",CONCATENATE(F1192,\" - \",F1193,\" - \",F1194,\" - \",F1195,\" - \",F1196,\" - \",F1197,\" - \",F1198))","v":"0"},null,{"$f":"'6c - Milestones - Delivery'!P27","v":0},{"$f":"IF(J1192=F1192,\"\",\"Changed Since Last Quarter\")","v":""}]
["6c - Milestones - Delivery","Delivery","6.03.21",null,"Critical Path",{"$f":"'6c - Milestones - Delivery'!E27","v":0},"6c - Milestones - Delivery'!E27"]
["6c - Milestones - Delivery","Delivery","6.03.21",null,"Baseline Date of Milestone\n(GMPP baselines will be sourced from your latest HMT approved BC)",{"$f":"'6c - Milestones - Delivery'!F27","v":"00:00:00"},"6c - Milestones - Delivery'!F27"]
["6c - Milestones - Delivery","Delivery","6.03.21",null,"Forecast / Actual Date \nof Milestone",{"$f":"'6c - Milestones - Delivery'!G27","v":"00:00:00"},"6c - Milestones - Delivery'!G27"]
["6c - Milestones - Delivery","Delivery","6.03.21",null,"Variance between Baseline and Forecast/ Actual Dates (Days)",{"$f":"'6c - Milestones - Delivery'!H27","v":""},"6c - Milestones - Delivery'!H27"]
["6c - Milestones - Delivery","Delivery","6.03.21",null,"Status",{"$f":"'6c - Milestones - Delivery'!I27","v":0},"6c - Milestones - Delivery'!I27"]
["6c - Milestones - Delivery","Delivery","6.03.21",null,"Comments",{"$f":"'6c - Milestones - Delivery'!J27","v":0},"6c - Milestones - Delivery'!J27"]
["6c - Milestones - Delivery","Delivery","6.03.22",null,"List all:\nHighlevel Delivery Milestones",{"$f":"'6c - Milestones - Delivery'!D28","v":0},"6c - Milestones - Delivery'!D28",{"$f":"IF(CONCATENATE(F1199,\" - \",F1200,\" - \",F1201,\" - \",F1202,\" - \",F1203,\" - \",F1204,\" - \",F1205)=\"0 - 0 - 0 - 0 -  - 0 - 0\",\"0\",CONCATENATE(F1199,\" - \",F1200,\" - \",F1201,\" - \",F1202,\" - \",F1203,\" - \",F1204,\" - \",F1205))","v":"0"},null,{"$f":"'6c - Milestones - Delivery'!P28","v":0},{"$f":"IF(J1199=F1199,\"\",\"Changed Since Last Quarter\")","v":""}]
["6c - Milestones - Delivery","Delivery","6.03.22",null,"Critical Path",{"$f":"'6c - Milestones - Delivery'!E28","v":0},"6c - Milestones - Delivery'!E28"]
["6c - Milestones - Delivery","Delivery","6.03.22",null,"Baseline Date of Milestone\n(GMPP baselines will be sourced from your latest HMT approved BC)",{"$f":"'6c - Milestones - Delivery'!F28","v":"00:00:00"},"6c - Milestones - Delivery'!F28"]
["6c - Milestones - Delivery","Delivery","6.03.22",null,"Forecast / Actual Date \nof Milestone",{"$f":"'6c - Milestones - Delivery'!G28","v":"00:00:00"},"6c - Milestones - Delivery'!G28"]
["6c - Milestones - Delivery","Delivery","6.03.22",null,"Variance between Baseline and Forecast/ Actual Dates (Days)",{"$f":"'6c - Milestones - Delivery'!H28","v":""},"6c - Milestones - Delivery'!H28"]
["6c - Milestones - Delivery","Delivery","6.03.22",null,"Status",{"$f":"'6c - Milestones - Delivery'!I28","v":0},"6c - Milestones - Delivery'!I28"]
["6c - Milestones - Delivery","Delivery","6.03.22",null,"Comments",{"$f":"'6c - Milestones - Delivery'!J28","v":0},"6c - Milestones - Delivery'!J28"]
["6c - Milestones - Delivery","Delivery","6.03.23",null,"List all:\nHighlevel Delivery Milestones",{"$f":"'6c - Milestones - Delivery'!D29","v":0},"6c - Milestones - Delivery'!D29",{"$f":"IF(CONCATENATE(F1206,\" - \",F1207,\" - \",F1208,\" - \",F1209,\" - \",F1210,\" - \",F1211,\" - \",F1212)=\"0 - 0 - 0 - 0 -  - 0 - 0\",\"0\",CONCATENATE(F1206,\" - \",F1207,\" - \",F1208,\" - \",F1209,\" - \",F1210,\" - \",F1211,\" - \",F1212))","v":"0"},null,{"$f":"'6c - Milestones - Delivery'!P29","v":0},{"$f":"IF(J1206=F1206,\"\",\"Changed Since Last Quarter\")","v":""}]
["6c - Milestones - Delivery","Delivery","6.03.23",null,"Critical Path",{"$f":"'6c - Milestones - Delivery'!E29","v":0},"6c - Milestones - Delivery'!E29"]
["6c - Milestones - Delivery","Delivery","6.03.23",null,"Baseline Date of Milestone\n(GMPP baselines will be sourced from your latest HMT approved BC)",{"$f":"'6c - Milestones - Delivery'!F29","v":"00:00:00"},"6c - Milestones - Delivery'!F29"]
["6c - Milestones - Delivery","Delivery","6.03.23",null,"Forecast / Actual Date \nof Milestone",{"$f":"'6c - Milestones - Delivery'!G29","v":"00:00:00"},"6c - Milestones - Delivery'!G29"]
["6c - Milestones - Delivery","Delivery","6.03.23",null,"Variance between Baseline and Forecast/ Actual Dates (Days)",{"$f":"'6c - Milestones - Delivery'!H29","v":""},"6c - Milestones - Delivery'!H29"]
["6c - Milestones - Delivery","Delivery","6.03.23",null,"Status",{"$f":"'6c - Milestones - Delivery'!I29","v":0},"6c - Milestones - Delivery'!I29"]
["6c - Milestones - Delivery","Delivery","6.03.23",null,"Comments",{"$f":"'6c - Milestones - Delivery'!J29","v":0},"6c - Milestones - Delivery'!J29"]
["6c - Milestones - Delivery","Delivery","6.03.24",null,"List all:\nHighlevel Delivery Milestones",{"$f":"'6c - Milestones - Delivery'!D30","v":0},"6c - Milestones - Delivery'!D30",{"$f":"IF(CONCATENATE(F1213,\" - \",F1214,\" - \",F1215,\" - \",F1216,\" - \",F1217,\" - \",F1218,\" - \",F1219)=\"0 - 0 - 0 - 0 -  - 0 - 0\",\"0\",CONCATENATE(F1213,\" - \",F1214,\" - \",F1215,\" - \",F1216,\" - \",F1217,\" - \",F1218,\" - \",F1219))","v":"0"},null,{"$f":"'6c - Milestones - Delivery'!P30","v":0},{"$f":"IF(J1213=F1213,\"\",\"Changed Since Last Quarter\")","v":""}]
["6c - Milestones - Delivery","Delivery","6.03.24",null,"Critical Path",{"$f":"'6c - Milestones - Delivery'!E30","v":0},"6c - Milestones - Delivery'!E30"]
["6c - Milestones - Delivery","Delivery","6.03.24",null,"Baseline Date of Milestone\n(GMPP baselines will be sourced from your latest HMT approved BC)",{"$f":"'6c - Milestones - Delivery'!F30","v":"00:00:00"},"6c - Milestones - Delivery'!F30"]
["6c - Milestones - Delivery","Delivery","6.03.24",null,"Forecast / Actual Date \nof Milestone",{"$f":"'6c - Milestones - Delivery'!G30","v":"00:00:00"},"6c - Milestones - Delivery'!G30"]
["6c - Milestones - Delivery","Delivery","6.03.24",null,"Variance between Baseline and Forecast/ Actual Dates (Days)",{"$f":"'6c - Milestones - Delivery'!H30","v":""},"6c - Milestones - Delivery'!H30"]
["6c - Milestones - Delivery","Delivery","6.03.24",null,"Status",{"$f":"'6c - Milestones - Delivery'!I30","v":0},"6c - Milestones - Delivery'!I30"]
["6c - Milestones - Delivery","Delivery","6.03.24",null,"Comments",{"$f":"'6c - Milestones - Delivery'!J30","v":0},"6c - Milestones - Delivery'!J30"]
["6c - Milestones - Delivery","Delivery","6.03.25",null,"List all:\nHighlevel Delivery Milestones",{"$f":"'6c - Milestones - Delivery'!D31","v":0},"6c - Milestones - Delivery'!D31",{"$f":"IF(CONCATENATE(F1220,\" - \",F1221,\" - \",F1222,\" - \",F1223,\" - \",F1224,\" - \",F1225,\" - \",F1226)=\"0 - 0 - 0 - 0 -  - 0 - 0\",\"0\",CONCATENATE(F1220,\" - \",F1221,\" - \",F1222,\" - \",F1223,\" - \",F1224,\" - \",F1225,\" - \",F1226))","v":"0"},null,{"$f":"'6c - Milestones - Delivery'!P31","v":0},{"$f":"IF(J1220=F1220,\"\",\"Changed Since Last Quarter\")","v":""}]
["6c - Milestones - Delivery","Delivery","6.03.25",null,"Critical Path",{"$f":"'6c - Milestones - Delivery'!E31","v":0},"6c - Milestones - Delivery'!E31"]
["6c - Milestones - Delivery","Delivery","6.03.25",null,"Baseline Date of Milestone\n(GMPP baselines will be sourced from your latest HMT approved BC)",{"$f":"'6c - Milestones - Delivery'!F31","v":"00:00:00"},"6c - Milestones - Delivery'!F31"]
["6c - Milestones - Delivery","Delivery","6.03.25",null,"Forecast / Actual Date \nof Milestone",{"$f":"'6c - Milestones - Delivery'!G31","v":"00:00:00"},"6c - Milestones - Delivery'!G31"]
["6c - Milestones - Delivery","Delivery","6.03.25",null,"Variance between Baseline and Forecast/ Actual Dates (Days)",{"$f":"'6c - Milestones - Delivery'!H31","v":""},"6c - Milestones - Delivery'!H31"]
["6c - Milestones - Delivery","Delivery","6.03.25",null,"Status",{"$f":"'6c - Milestones - Delivery'!I31","v":0},"6c - Milestones - Delivery'!I31"]
["6c - Milestones - Delivery","Delivery","6.03.25",null,"Comments",{"$f":"'6c - Milestones - Delivery'!J31","v":0},"6c - Milestones - Delivery'!J31"]
["6c - Milestones - Delivery","Delivery","6.03.26",null,"List all:\nHighlevel Delivery Milestones",{"$f":"'6c - Milestones - Delivery'!D32","v":0},"6c - Milestones - Delivery'!D32",{"$f":"IF(CONCATENATE(F1227,\" - \",F1228,\" - \",F1229,\" - \",F1230,\" - \",F1231,\" - \",F1232,\" - \",F1233)=\"0 - 0 - 0 - 0 -  - 0 - 0\",\"0\",CONCATENATE(F1227,\" - \",F1228,\" - \",F1229,\" - \",F1230,\" - \",F1231,\" - \",F1232,\" - \",F1233))","v":"0"},null,{"$f":"'6c - Milestones - Delivery'!P32","v":0},{"$f":"IF(J1227=F1227,\"\",\"Changed Since Last Quarter\")","v":""}]
["6c - Milestones - Delivery","Delivery","6.03.26",null,"Critical Path",{"$f":"'6c - Milestones - Delivery'!E32","v":0},"6c - Milestones - Delivery'!E32"]
["6c - Milestones - Delivery","Delivery","6.03.26",null,"Baseline Date of Milestone\n(GMPP baselines will be sourced from your latest HMT approved BC)",{"$f":"'6c - Milestones - Delivery'!F32","v":"00:00:00"},"6c - Milestones - Delivery'!F32"]
["6c - Milestones - Delivery","Delivery","6.03.26",null,"Forecast / Actual Date \nof Milestone",{"$f":"'6c - Milestones - Delivery'!G32","v":"00:00:00"},"6c - Milestones - Delivery'!G32"]
["6c - Milestones - Delivery","Delivery","6.03.26",null,"Variance between Baseline and Forecast/ Actual Dates (Days)",{"$f":"'6c - Milestones - Delivery'!H32","v":""},"6c - Milestones - Delivery'!H32"]
["6c - Milestones - Delivery","Delivery","6.03.26",null,"Status",{"$f":"'6c - Milestones - Delivery'!I32","v":0},"6c - Milestones - Delivery'!I32"]
["6c - Milestones - Delivery","Delivery","6.03.26",null,"Comments",{"$f":"'6c - Milestones - Delivery'!J32","v":0},"6c - Milestones - Delivery'!J32"]
["6c - Milestones - Delivery","Delivery","6.03.27",null,"List all:\nHighlevel Delivery Milestones",{"$f":"'6c - Milestones - Delivery'!D33","v":0},"6c - Milestones - Delivery'!D33",{"$f":"IF(CONCATENATE(F1234,\" - \",F1235,\" - \",F1236,\" - \",F1237,\" - \",F1238,\" - \",F1239,\" - \",F1240)=\"0 - 0 - 0 - 0 -  - 0 - 0\",\"0\",CONCATENATE(F1234,\" - \",F1235,\" - \",F1236,\" - \",F1237,\" - \",F1238,\" - \",F1239,\" - \",F1240))","v":"0"},null,{"$f":"'6c - Milestones - Delivery'!P33","v":0},{"$f":"IF(J1234=F1234,\"\",\"Changed Since Last Quarter\")","v":""}]
["6c - Milestones - Delivery","Delivery","6.03.27",null,"Critical Path",{"$f":"'6c - Milestones - Delivery'!E33","v":0},"6c - Milestones - Delivery'!E33"]
["6c - Milestones - Delivery","Delivery","6.03.27",null,"Baseline Date of Milestone\n(GMPP baselines will be sourced from your latest HMT approved BC)",{"$f":"'6c - Milestones - Delivery'!F33","v":"00:00:00"},"6c - Milestones - Delivery'!F33"]
["6c - Milestones - Delivery","Delivery","6.03.27",null,"Forecast / Actual Date \nof Milestone",{"$f":"'6c - Milestones - Delivery'!G33","v":"00:00:00"},"6c - Milestones - Delivery'!G33"]
["6c - Milestones - Delivery","Delivery","6.03.27",null,"Variance between Baseline and Forecast/ Actual Dates (Days)",{"$f":"'6c - Milestones - Delivery'!H33","v":""},"6c - Milestones - Delivery'!H33"]
["6c - Milestones - Delivery","Delivery","6.03.27",null,"Status",{"$f":"'6c - Milestones - Delivery'!I33","v":0},"6c - Milestones - Delivery'!I33"]
["6c - Milestones - Delivery","Delivery","6.03.27",null,"Comments",{"$f":"'6c - Milestones - Delivery'!J33","v":0},"6c - Milestones - Delivery'!J33"]
["6c - Milestones - Delivery","Delivery","6.03.28",null,"List all:\nHighlevel Delivery Milestones",{"$f":"'6c - Milestones - Delivery'!D34","v":0},"6c - Milestones - Delivery'!D34",{"$f":"IF(CONCATENATE(F1241,\" - \",F1242,\" - \",F1243,\" - \",F1244,\" - \",F1245,\" - \",F1246,\" - \",F1247)=\"0 - 0 - 0 - 0 -  - 0 - 0\",\"0\",CONCATENATE(F1241,\" - \",F1242,\" - \",F1243,\" - \",F1244,\" - \",F1245,\" - \",F1246,\" - \",F1247))","v":"0"},null,{"$f":"'6c - Milestones - Delivery'!P34","v":0},{"$f":"IF(J1241=F1241,\"\",\"Changed Since Last Quarter\")","v":""}]
["6c - Milestones - Delivery","Delivery","6.03.28",null,"Critical Path",{"$f":"'6c - Milestones - Delivery'!E34","v":0},"6c - Milestones - Delivery'!E34"]
["6c - Milestones - Delivery","Delivery","6.03.28",null,"Baseline Date of Milestone\n(GMPP baselines will be sourced from your latest HMT approved BC)",{"$f":"'6c - Milestones - Delivery'!F34","v":"00:00:00"},"6c - Milestones - Delivery'!F34"]
["6c - Milestones - Delivery","Delivery","6.03.28",null,"Forecast / Actual Date \nof Milestone",{"$f":"'6c - Milestones - Delivery'!G34","v":"00:00:00"},"6c - Milestones - Delivery'!G34"]
["6c - Milestones - Delivery","Delivery","6.03.28",null,"Variance between Baseline and Forecast/ Actual Dates (Days)",{"$f":"'6c - Milestones - Delivery'!H34","v":""},"6c - Milestones - Delivery'!H34"]
["6c - Milestones - Delivery","Delivery","6.03.28",null,"Status",{"$f":"'6c - Milestones - Delivery'!I34","v":0},"6c - Milestones - Delivery'!I34"]
["6c - Milestones - Delivery","Delivery","6.03.28",null,"Comments",{"$f":"'6c - Milestones - Delivery'!J34","v":0},"6c - Milestones - Delivery'!J34"]
["6c - Milestones - Delivery","Delivery","6.03.29",null,"List all:\nHighlevel Delivery Milestones",{"$f":"'6c - Milestones - Delivery'!D35","v":0},"6c - Milestones - Delivery'!D35",{"$f":"IF(CONCATENATE(F1248,\" - \",F1249,\" - \",F1250,\" - \",F1251,\" - \",F1252,\" - \",F1253,\" - \",F1254)=\"0 - 0 - 0 - 0 -  - 0 - 0\",\"0\",CONCATENATE(F1248,\" - \",F1249,\" - \",F1250,\" - \",F1251,\" - \",F1252,\" - \",F1253,\" - \",F1254))","v":"0"},null,{"$f":"'6c - Milestones - Delivery'!P35","v":0},{"$f":"IF(J1248=F1248,\"\",\"Changed Since Last Quarter\")","v":""}]
["6c - Milestones - Delivery","Delivery","6.03.29",null,"Critical Path",{"$f":"'6c - Milestones - Delivery'!E35","v":0},"6c - Milestones - Delivery'!E35"]
["6c - Milestones - Delivery","Delivery","6.03.29",null,"Baseline Date of Milestone\n(GMPP baselines will be sourced from your latest HMT approved BC)",{"$f":"'6c - Milestones - Delivery'!F35","v":"00:00:00"},"6c - Milestones - Delivery'!F35"]
["6c - Milestones - Delivery","Delivery","6.03.29",null,"Forecast / Actual Date \nof Milestone",{"$f":"'6c - Milestones - Delivery'!G35","v":"00:00:00"},"6c - Milestones - Delivery'!G35"]
["6c - Milestones - Delivery","Delivery","6.03.29",null,"Variance between Baseline and Forecast/ Actual Dates (Days)",{"$f":"'6c - Milestones - Delivery'!H35","v":""},"6c - Milestones - Delivery'!H35"]
["6c - Milestones - Delivery","Delivery","6.03.29",null,"Status",{"$f":"'6c - Milestones - Delivery'!I35","v":0},"6c - Milestones - Delivery'!I35"]
["6c - Milestones - Delivery","Delivery","6.03.29",null,"Comments",{"$f":"'6c - Milestones - Delivery'!J35","v":0},"6c - Milestones - Delivery'!J35"]
["6c - Milestones - Delivery","Delivery","6.03.30",null,"List all:\nHighlevel Delivery Milestones",{"$f":"'6c - Milestones - Delivery'!D36","v":0},"6c - Milestones - Delivery'!D36",{"$f":"IF(CONCATENATE(F1255,\" - \",F1256,\" - \",F1257,\" - \",F1258,\" - \",F1259,\" - \",F1260,\" - \",F1261)=\"0 - 0 - 0 - 0 -  - 0 - 0\",\"0\",CONCATENATE(F1255,\" - \",F1256,\" - \",F1257,\" - \",F1258,\" - \",F1259,\" - \",F1260,\" - \",F1261))","v":"0"},null,{"$f":"'6c - Milestones - Delivery'!P36","v":0},{"$f":"IF(J1255=F1255,\"\",\"Changed Since Last Quarter\")","v":""}]
["6c - Milestones - Delivery","Delivery","6.03.30",null,"Critical Path",{"$f":"'6c - Milestones - Delivery'!E36","v":0},"6c - Milestones - Delivery'!E36"]
["6c - Milestones - Delivery","Delivery","6.03.30",null,"Baseline Date of Milestone\n(GMPP baselines will be sourced from your latest HMT approved BC)",{"$f":"'6c - Milestones - Delivery'!F36","v":"00:00:00"},"6c - Milestones - Delivery'!F36"]
["6c - Milestones - Delivery","Delivery","6.03.30",null,"Forecast / Actual Date \nof Milestone",{"$f":"'6c - Milestones - Delivery'!G36","v":"00:00:00"},"6c - Milestones - Delivery'!G36"]
["6c - Milestones - Delivery","Delivery","6.03.30",null,"Variance between Baseline and Forecast/ Actual Dates (Days)",{"$f":"'6c - Milestones - Delivery'!H36","v":""},"6c - Milestones - Delivery'!H36"]
["6c - Milestones - Delivery","Delivery","6.03.30",null,"Status",{"$f":"'6c - Milestones - Delivery'!I36","v":0},"6c - Milestones - Delivery'!I36"]
["6c - Milestones - Delivery","Delivery","6.03.30",null,"Comments",{"$f":"'6c - Milestones - Delivery'!J36","v":0},"6c - Milestones - Delivery'!J36"]
["6c - Milestones - Delivery","Delivery","6.03.31",null,"List all:\nHighlevel Delivery Milestones",{"$f":"'6c - Milestones - Delivery'!D37","v":0},"6c - Milestones - Delivery'!D37",{"$f":"IF(CONCATENATE(F1262,\" - \",F1263,\" - \",F1264,\" - \",F1265,\" - \",F1266,\" - \",F1267,\" - \",F1268)=\"0 - 0 - 0 - 0 -  - 0 - 0\",\"0\",CONCATENATE(F1262,\" - \",F1263,\" - \",F1264,\" - \",F1265,\" - \",F1266,\" - \",F1267,\" - \",F1268))","v":"0"},null,{"$f":"'6c - Milestones - Delivery'!P37","v":0},{"$f":"IF(J1262=F1262,\"\",\"Changed Since Last Quarter\")","v":""}]
["6c - Milestones - Delivery","Delivery","6.03.31",null,"Critical Path",{"$f":"'6c - Milestones - Delivery'!E37","v":0},"6c - Milestones - Delivery'!E37"]
["6c - Milestones - Delivery","Delivery","6.03.31",null,"Baseline Date of Milestone\n(GMPP baselines will be sourced from your latest HMT approved BC)",{"$f":"'6c - Milestones - Delivery'!F37","v":"00:00:00"},"6c - Milestones - Delivery'!F37"]
["6c - Milestones - Delivery","Delivery","6.03.31",null,"Forecast / Actual Date \nof Milestone",{"$f":"'6c - Milestones - Delivery'!G37","v":"00:00:00"},"6c - Milestones - Delivery'!G37"]
["6c - Milestones - Delivery","Delivery","6.03.31",null,"Variance between Baseline and Forecast/ Actual Dates (Days)",{"$f":"'6c - Milestones - Delivery'!H37","v":""},"6c - Milestones - Delivery'!H37"]
["6c - Milestones - Delivery","Delivery","6.03.31",null,"Status",{"$f":"'6c - Milestones - Delivery'!I37","v":0},"6c - Milestones - Delivery'!I37"]
["6c - Milestones - Delivery","Delivery","6.03.31",null,"Comments",{"$f":"'6c - Milestones - Delivery'!J37","v":0},"6c - Milestones - Delivery'!J37"]
["6c - Milestones - Delivery","Delivery","6.03.32",null,"List all:\nHighlevel Delivery Milestones",{"$f":"'6c - Milestones - Delivery'!D38","v":0},"6c - Milestones - Delivery'!D38",{"$f":"IF(CONCATENATE(F1269,\" - \",F1270,\" - \",F1271,\" - \",F1272,\" - \",F1273,\" - \",F1274,\" - \",F1275)=\"0 - 0 - 0 - 0 -  - 0 - 0\",\"0\",CONCATENATE(F1269,\" - \",F1270,\" - \",F1271,\" - \",F1272,\" - \",F1273,\" - \",F1274,\" - \",F1275))","v":"0"},null,{"$f":"'6c - Milestones - Delivery'!P38","v":0},{"$f":"IF(J1269=F1269,\"\",\"Changed Since Last Quarter\")","v":""}]
["6c - Milestones - Delivery","Delivery","6.03.32",null,"Critical Path",{"$f":"'6c - Milestones - Delivery'!E38","v":0},"6c - Milestones - Delivery'!E38"]
["6c - Milestones - Delivery","Delivery","6.03.32",null,"Baseline Date of Milestone\n(GMPP baselines will be sourced from your latest HMT approved BC)",{"$f":"'6c - Milestones - Delivery'!F38","v":"00:00:00"},"6c - Milestones - Delivery'!F38"]
["6c - Milestones - Delivery","Delivery","6.03.32",null,"Forecast / Actual Date \nof Milestone",{"$f":"'6c - Milestones - Delivery'!G38","v":"00:00:00"},"6c - Milestones - Delivery'!G38"]
["6c - Milestones - Delivery","Delivery","6.03.32",null,"Variance between Baseline and Forecast/ Actual Dates (Days)",{"$f":"'6c - Milestones - Delivery'!H38","v":""},"6c - Milestones - Delivery'!H38"]
["6c - Milestones - Delivery","Delivery","6.03.32",null,"Status",{"$f":"'6c - Milestones - Delivery'!I38","v":0},"6c - Milestones - Delivery'!I38"]
["6c - Milestones - Delivery","Delivery","6.03.32",null,"Comments",{"$f":"'6c - Milestones - Delivery'!J38","v":0},"6c - Milestones - Delivery'!J38"]
["6c - Milestones - Delivery","Delivery","6.03.33",null,"List all:\nHighlevel Delivery Milestones",{"$f":"'6c - Milestones - Delivery'!D39","v":0},"6c - Milestones - Delivery'!D39",{"$f":"IF(CONCATENATE(F1276,\" - \",F1277,\" - \",F1278,\" - \",F1279,\" - \",F1280,\" - \",F1281,\" - \",F1282)=\"0 - 0 - 0 - 0 -  - 0 - 0\",\"0\",CONCATENATE(F1276,\" - \",F1277,\" - \",F1278,\" - \",F1279,\" - \",F1280,\" - \",F1281,\" - \",F1282))","v":"0"},null,{"$f":"'6c - Milestones - Delivery'!P39","v":0},{"$f":"IF(J1276=F1276,\"\",\"Changed Since Last Quarter\")","v":""}]
["6c - Milestones - Delivery","Delivery","6.03.33",null,"Critical Path",{"$f":"'6c - Milestones - Delivery'!E39","v":0},"6c - Milestones - Delivery'!E39"]
["6c - Milestones - Delivery","Delivery","6.03.33",null,"Baseline Date of Milestone\n(GMPP baselines will be sourced from your latest HMT approved BC)",{"$f":"'6c - Milestones - Delivery'!F39","v":"00:00:00"},"6c - Milestones - Delivery'!F39"]
["6c - Milestones - Delivery","Delivery","6.03.33",null,"Forecast / Actual Date \nof Milestone",{"$f":"'6c - Milestones - Delivery'!G39","v":"00:00:00"},"6c - Milestones - Delivery'!G39"]
["6c - Milestones - Delivery","Delivery","6.03.33",null,"Variance between Baseline and Forecast/ Actual Dates (Days)",{"$f":"'6c - Milestones - Delivery'!H39","v":""},"6c - Milestones - Delivery'!H39"]
["6c - Milestones - Delivery","Delivery","6.03.33",null,"Status",{"$f":"'6c - Milestones - Delivery'!I39","v":0},"6c - Milestones - Delivery'!I39"]
["6c - Milestones - Delivery","Delivery","6.03.33",null,"Comments",{"$f":"'6c - Milestones - Delivery'!J39","v":0},"6c - Milestones - Delivery'!J39"]
["6c - Milestones - Delivery","Delivery","6.03.34",null,"List all:\nHighlevel Delivery Milestones",{"$f":"'6c - Milestones - Delivery'!D40","v":0},"6c - Milestones - Delivery'!D40",{"$f":"IF(CONCATENATE(F1283,\" - \",F1284,\" - \",F1285,\" - \",F1286,\" - \",F1287,\" - \",F1288,\" - \",F1289)=\"0 - 0 - 0 - 0 -  - 0 - 0\",\"0\",CONCATENATE(F1283,\" - \",F1284,\" - \",F1285,\" - \",F1286,\" - \",F1287,\" - \",F1288,\" - \",F1289))","v":"0"},null,{"$f":"'6c - Milestones - Delivery'!P40","v":0},{"$f":"IF(J1283=F1283,\"\",\"Changed Since Last Quarter\")","v":""}]
["6c - Milestones - Delivery","Delivery","6.03.34",null,"Critical Path",{"$f":"'6c - Milestones - Delivery'!E40","v":0},"6c - Milestones - Delivery'!E40"]
["6c - Milestones - Delivery","Delivery","6.03.34",null,"Baseline Date of Milestone\n(GMPP baselines will be sourced from your latest HMT approved BC)",{"$f":"'6c - Milestones - Delivery'!F40","v":"00:00:00"},"6c - Milestones - Delivery'!F40"]
["6c - Milestones - Delivery","Delivery","6.03.34",null,"Forecast / Actual Date \nof Milestone",{"$f":"'6c - Milestones - Delivery'!G40","v":"00:00:00"},"6c - Milestones - Delivery'!G40"]
["6c - Milestones - Delivery","Delivery","6.03.34",null,"Variance between Baseline and Forecast/ Actual Dates (Days)",{"$f":"'6c - Milestones - Delivery'!H40","v":""},"6c - Milestones - Delivery'!H40"]
["6c - Milestones - Delivery","Delivery","6.03.34",null,"Status",{"$f":"'6c - Milestones - Delivery'!I40","v":0},"6c - Milestones - Delivery'!I40"]
["6c - Milestones - Delivery","Delivery","6.03.34",null,"Comments",{"$f":"'6c - Milestones - Delivery'!J40","v":0},"6c - Milestones - Delivery'!J40"]
["6c - Milestones - Delivery","Delivery","6.03.35",null,"List all:\nHighlevel Delivery Milestones",{"$f":"'6c - Milestones - Delivery'!D41","v":0},"6c - Milestones - Delivery'!D41",{"$f":"IF(CONCATENATE(F1290,\" - \",F1291,\" - \",F1292,\" - \",F1293,\" - \",F1294,\" - \",F1295,\" - \",F1296)=\"0 - 0 - 0 - 0 -  - 0 - 0\",\"0\",CONCATENATE(F1290,\" - \",F1291,\" - \",F1292,\" - \",F1293,\" - \",F1294,\" - \",F1295,\" - \",F1296))","v":"0"},null,{"$f":"'6c - Milestones - Delivery'!P41","v":0},{"$f":"IF(J1290=F1290,\"\",\"Changed Since Last Quarter\")","v":""}]
["6c - Milestones - Delivery","Delivery","6.03.35",null,"Critical Path",{"$f":"'6c - Milestones - Delivery'!E41","v":0},"6c - Milestones - Delivery'!E41"]
["6c - Milestones - Delivery","Delivery","6.03.35",null,"Baseline Date of Milestone\n(GMPP baselines will be sourced from your latest HMT approved BC)",{"$f":"'6c - Milestones - Delivery'!F41","v":"00:00:00"},"6c - Milestones - Delivery'!F41"]
["6c - Milestones - Delivery","Delivery","6.03.35",null,"Forecast / Actual Date \nof Milestone",{"$f":"'6c - Milestones - Delivery'!G41","v":"00:00:00"},"6c - Milestones - Delivery'!G41"]
["6c - Milestones - Delivery","Delivery","6.03.35",null,"Variance between Baseline and Forecast/ Actual Dates (Days)",{"$f":"'6c - Milestones - Delivery'!H41","v":""},"6c - Milestones - Delivery'!H41"]
["6c - Milestones - Delivery","Delivery","6.03.35",null,"Status",{"$f":"'6c - Milestones - Delivery'!I41","v":0},"6c - Milestones - Delivery'!I41"]
["6c - Milestones - Delivery","Delivery","6.03.35",null,"Comments",{"$f":"'6c - Milestones - Delivery'!J41","v":0},"6c - Milestones - Delivery'!J41"]
["6c - Milestones - Delivery","Delivery","6.03.36",null,"List all:\nHighlevel Delivery Milestones",{"$f":"'6c - Milestones - Delivery'!D42","v":0},"6c - Milestones - Delivery'!D42",{"$f":"IF(CONCATENATE(F1297,\" - \",F1298,\" - \",F1299,\" - \",F1300,\" - \",F1301,\" - \",F1302,\" - \",F1303)=\"0 - 0 - 0 - 0 -  - 0 - 0\",\"0\",CONCATENATE(F1297,\" - \",F1298,\" - \",F1299,\" - \",F1300,\" - \",F1301,\" - \",F1302,\" - \",F1303))","v":"0"},null,{"$f":"'6c - Milestones - Delivery'!P42","v":0},{"$f":"IF(J1297=F1297,\"\",\"Changed Since Last Quarter\")","v":""}]
["6c - Milestones - Delivery","Delivery","6.03.36",null,"Critical Path",{"$f":"'6c - Milestones - Delivery'!E42","v":0},"6c - Milestones - Delivery'!E42"]
["6c - Milestones - Delivery","Delivery","6.03.36",null,"Baseline Date of Milestone\n(GMPP baselines will be sourced from your latest HMT approved BC)",{"$f":"'6c - Milestones - Delivery'!F42","v":"00:00:00"},"6c - Milestones - Delivery'!F42"]
["6c - Milestones - Delivery","Delivery","6.03.36",null,"Forecast / Actual Date \nof Milestone",{"$f":"'6c - Milestones - Delivery'!G42","v":"00:00:00"},"6c - Milestones - Delivery'!G42"]
["6c - Milestones - Delivery","Delivery","6.03.36",null,"Variance between Baseline and Forecast/ Actual Dates (Days)",{"$f":"'6c - Milestones - Delivery'!H42","v":""},"6c - Milestones - Delivery'!H42"]
["6c - Milestones - Delivery","Delivery","6.03.36",null,"Status",{"$f":"'6c - Milestones - Delivery'!I42","v":0},"6c - Milestones - Delivery'!I42"]
["6c - Milestones - Delivery","Delivery","6.03.36",null,"Comments",{"$f":"'6c - Milestones - Delivery'!J42","v":0},"6c - Milestones - Delivery'!J42"]
["6c - Milestones - Delivery","Delivery","6.03.37",null,"List all:\nHighlevel Delivery Milestones",{"$f":"'6c - Milestones - Delivery'!D43","v":0},"6c - Milestones - Delivery'!D43",{"$f":"IF(CONCATENATE(F1304,\" - \",F1305,\" - \",F1306,\" - \",F1307,\" - \",F1308,\" - \",F1309,\" - \",F1310)=\"0 - 0 - 0 - 0 -  - 0 - 0\",\"0\",CONCATENATE(F1304,\" - \",F1305,\" - \",F1306,\" - \",F1307,\" - \",F1308,\" - \",F1309,\" - \",F1310))","v":"0"},null,{"$f":"'6c - Milestones - Delivery'!P43","v":0},{"$f":"IF(J1304=F1304,\"\",\"Changed Since Last Quarter\")","v":""}]
["6c - Milestones - Delivery","Delivery","6.03.37",null,"Critical Path",{"$f":"'6c - Milestones - Delivery'!E43","v":0},"6c - Milestones - Delivery'!E43"]
["6c - Milestones - Delivery","Delivery","6.03.37",null,"Baseline Date of Milestone\n(GMPP baselines will be sourced from your latest HMT approved BC)",{"$f":"'6c - Milestones - Delivery'!F43","v":"00:00:00"},"6c - Milestones - Delivery'!F43"]
["6c - Milestones - Delivery","Delivery","6.03.37",null,"Forecast / Actual Date \nof Milestone",{"$f":"'6c - Milestones - Delivery'!G43","v":"00:00:00"},"6c - Milestones - Delivery'!G43"]
["6c - Milestones - Delivery","Delivery","6.03.37",null,"Variance between Baseline and Forecast/ Actual Dates (Days)",{"$f":"'6c - Milestones - Delivery'!H43","v":""},"6c - Milestones - Delivery'!H43"]
["6c - Milestones - Delivery","Delivery","6.03.37",null,"Status",{"$f":"'6c - Milestones - Delivery'!I43","v":0},"6c - Milestones - Delivery'!I43"]
["6c - Milestones - Delivery","Delivery","6.03.37",null,"Comments",{"$f":"'6c - Milestones - Delivery'!J43","v":0},"6c - Milestones - Delivery'!J43"]
["6c - Milestones - Delivery","Delivery","6.03.38",null,"List all:\nHighlevel Delivery Milestones",{"$f":"'6c - Milestones - Delivery'!D44","v":0},"6c - Milestones - Delivery'!D44",{"$f":"IF(CONCATENATE(F1311,\" - \",F1312,\" - \",F1313,\" - \",F1314,\" - \",F1315,\" - \",F1316,\" - \",F1317)=\"0 - 0 - 0 - 0 -  - 0 - 0\",\"0\",CONCATENATE(F1311,\" - \",F1312,\" - \",F1313,\" - \",F1314,\" - \",F1315,\" - \",F1316,\" - \",F1317))","v":"0"},null,{"$f":"'6c - Milestones - Delivery'!P44","v":0},{"$f":"IF(J1311=F1311,\"\",\"Changed Since Last Quarter\")","v":""}]
["6c - Milestones - Delivery","Delivery","6.03.38",null,"Critical Path",{"$f":"'6c - Milestones - Delivery'!E44","v":0},"6c - Milestones - Delivery'!E44"]
["6c - Milestones - Delivery","Delivery","6.03.38",null,"Baseline Date of Milestone\n(GMPP baselines will be sourced from your latest HMT approved BC)",{"$f":"'6c - Milestones - Delivery'!F44","v":"00:00:00"},"6c - Milestones - Delivery'!F44"]
["6c - Milestones - Delivery","Delivery","6.03.38",null,"Forecast / Actual Date \nof Milestone",{"$f":"'6c - Milestones - Delivery'!G44","v":"00:00:00"},"6c - Milestones - Delivery'!G44"]
["6c - Milestones - Delivery","Delivery","6.03.38",null,"Variance between Baseline and Forecast/ Actual Dates (Days)",{"$f":"'6c - Milestones - Delivery'!H44","v":""},"6c - Milestones - Delivery'!H44"]
["6c - Milestones - Delivery","Delivery","6.03.38",null,"Status",{"$f":"'6c - Milestones - Delivery'!I44","v":0},"6c - Milestones - Delivery'!I44"]
["6c - Milestones - Delivery","Delivery","6.03.38",null,"Comments",{"$f":"'6c - Milestones - Delivery'!J44","v":0},"6c - Milestones - Delivery'!J44"]
["6c - Milestones - Delivery","Delivery","6.03.39",null,"List all:\nHighlevel Delivery Milestones",{"$f":"'6c - Milestones - Delivery'!D45","v":0},"6c - Milestones - Delivery'!D45",{"$f":"IF(CONCATENATE(F1318,\" - \",F1319,\" - \",F1320,\" - \",F1321,\" - \",F1322,\" - \",F1323,\" - \",F1324)=\"0 - 0 - 0 - 0 -  - 0 - 0\",\"0\",CONCATENATE(F1318,\" - \",F1319,\" - \",F1320,\" - \",F1321,\" - \",F1322,\" - \",F1323,\" - \",F1324))","v":"0"},null,{"$f":"'6c - Milestones - Delivery'!P45","v":0},{"$f":"IF(J1318=F1318,\"\",\"Changed Since Last Quarter\")","v":""}]
["6c - Milestones - Delivery","Delivery","6.03.39",null,"Critical Path",{"$f":"'6c - Milestones - Delivery'!E45","v":0},"6c - Milestones - Delivery'!E45"]
["6c - Milestones - Delivery","Delivery","6.03.39",null,"Baseline Date of Milestone\n(GMPP baselines will be sourced from your latest HMT approved BC)",{"$f":"'6c - Milestones - Delivery'!F45","v":"00:00:00"},"6c - Milestones - Delivery'!F45"]
["6c - Milestones - Delivery","Delivery","6.03.39",null,"Forecast / Actual Date \nof Milestone",{"$f":"'6c - Milestones - Delivery'!G45","v":"00:00:00"},"6c - Milestones - Delivery'!G45"]
["6c - Milestones - Delivery","Delivery","6.03.39",null,"Variance between Baseline and Forecast/ Actual Dates (Days)",{"$f":"'6c - Milestones - Delivery'!H45","v":""},"6c - Milestones - Delivery'!H45"]
["6c - Milestones - Delivery","Delivery","6.03.39",null,"Status",{"$f":"'6c - Milestones - Delivery'!I45","v":0},"6c - Milestones - Delivery'!I45"]
["6c - Milestones - Delivery","Delivery","6.03.39",null,"Comments",{"$f":"'6c - Milestones - Delivery'!J45","v":0},"6c - Milestones - Delivery'!J45"]
["6c - Milestones - Delivery","Delivery","6.03.40",null,"List all:\nHighlevel Delivery Milestones",{"$f":"'6c - Milestones - Delivery'!D46","v":0},"6c - Milestones - Delivery'!D46",{"$f":"IF(CONCATENATE(F1325,\" - \",F1326,\" - \",F1327,\" - \",F1328,\" - \",F1329,\" - \",F1330,\" - \",F1331)=\"0 - 0 - 0 - 0 -  - 0 - 0\",\"0\",CONCATENATE(F1325,\" - \",F1326,\" - \",F1327,\" - \",F1328,\" - \",F1329,\" - \",F1330,\" - \",F1331))","v":"0"},null,{"$f":"'6c - Milestones - Delivery'!P46","v":0},{"$f":"IF(J1325=F1325,\"\",\"Changed Since Last Quarter\")","v":""}]
["6c - Milestones - Delivery","Delivery","6.03.40",null,"Critical Path",{"$f":"'6c - Milestones - Delivery'!E46","v":0},"6c - Milestones - Delivery'!E46"]
["6c - Milestones - Delivery","Delivery","6.03.40",null,"Baseline Date of Milestone\n(GMPP baselines will be sourced from your latest HMT approved BC)",{"$f":"'6c - Milestones - Delivery'!F46","v":"00:00:00"},"6c - Milestones - Delivery'!F46"]
["6c - Milestones - Delivery","Delivery","6.03.40",null,"Forecast / Actual Date \nof Milestone",{"$f":"'6c - Milestones - Delivery'!G46","v":"00:00:00"},"6c - Milestones - Delivery'!G46"]
["6c - Milestones - Delivery","Delivery","6.03.40",null,"Variance between Baseline and Forecast/ Actual Dates (Days)",{"$f":"'6c - Milestones - Delivery'!H46","v":""},"6c - Milestones - Delivery'!H46"]
["6c - Milestones - Delivery","Delivery","6.03.40",null,"Status",{"$f":"'6c - Milestones - Delivery'!I46","v":0},"6c - Milestones - Delivery'!I46"]
["6c - Milestones - Delivery","Delivery","6.03.40",null,"Comments",{"$f":"'6c - Milestones - Delivery'!J46","v":0},"6c - Milestones - Delivery'!J46"]
["6c - Milestones - Delivery","Delivery","6.03.41",null,"List all:\nHighlevel Delivery Milestones",{"$f":"'6c - Milestones - Delivery'!D47","v":0},"6c - Milestones - Delivery'!D47",{"$f":"IF(CONCATENATE(F1332,\" - \",F1333,\" - \",F1334,\" - \",F1335,\" - \",F1336,\" - \",F1337,\" - \",F1338)=\"0 - 0 - 0 - 0 -  - 0 - 0\",\"0\",CONCATENATE(F1332,\" - \",F1333,\" - \",F1334,\" - \",F1335,\" - \",F1336,\" - \",F1337,\" - \",F1338))","v":"0"},null,{"$f":"'6c - Milestones - Delivery'!P47","v":0},{"$f":"IF(J1332=F1332,\"\",\"Changed Since Last Quarter\")","v":""}]
["6c - Milestones - Delivery","Delivery","6.03.41",null,"Critical Path",{"$f":"'6c - Milestones - Delivery'!E47","v":0},"6c - Milestones - Delivery'!E47"]
["6c - Milestones - Delivery","Delivery","6.03.41",null,"Baseline Date of Milestone\n(GMPP baselines will be sourced from your latest HMT approved BC)",{"$f":"'6c - Milestones - Delivery'!F47","v":"00:00:00"},"6c - Milestones - Delivery'!F47"]
["6c - Milestones - Delivery","Delivery","6.03.41",null,"Forecast / Actual Date \nof Milestone",{"$f":"'6c - Milestones - Delivery'!G47","v":"00:00:00"},"6c - Milestones - Delivery'!G47"]
["6c - Milestones - Delivery","Delivery","6.03.41",null,"Variance between Baseline and Forecast/ Actual Dates (Days)",{"$f":"'6c - Milestones - Delivery'!H47","v":""},"6c - Milestones - Delivery'!H47"]
["6c - Milestones - Delivery","Delivery","6.03.41",null,"Status",{"$f":"'6c - Milestones - Delivery'!I47","v":0},"6c - Milestones - Delivery'!I47"]
["6c - Milestones - Delivery","Delivery","6.03.41",null,"Comments",{"$f":"'6c - Milestones - Delivery'!J47","v":0},"6c - Milestones - Delivery'!J47"]
["6c - Milestones - Delivery","Delivery","6.03.42",null,"List all:\nHighlevel Delivery Milestones",{"$f":"'6c - Milestones - Delivery'!D48","v":0},"6c - Milestones - Delivery'!D48",{"$f":"IF(CONCATENATE(F1339,\" - \",F1340,\" - \",F1341,\" - \",F1342,\" - \",F1343,\" - \",F1344,\" - \",F1345)=\"0 - 0 - 0 - 0 -  - 0 - 0\",\"0\",CONCATENATE(F1339,\" - \",F1340,\" - \",F1341,\" - \",F1342,\" - \",F1343,\" - \",F1344,\" - \",F1345))","v":"0"},null,{"$f":"'6c - Milestones - Delivery'!P48","v":0},{"$f":"IF(J1339=F1339,\"\",\"Changed Since Last Quarter\")","v":""}]
["6c - Milestones - Delivery","Delivery","6.03.42",null,"Critical Path",{"$f":"'6c - Milestones - Delivery'!E48","v":0},"6c - Milestones - Delivery'!E48"]
["6c - Milestones - Delivery","Delivery","6.03.42",null,"Baseline Date of Milestone\n(GMPP baselines will be sourced from your latest HMT approved BC)",{"$f":"'6c - Milestones - Delivery'!F48","v":"00:00:00"},"6c - Milestones - Delivery'!F48"]
["6c - Milestones - Delivery","Delivery","6.03.42",null,"Forecast / Actual Date \nof Milestone",{"$f":"'6c - Milestones - Delivery'!G48","v":"00:00:00"},"6c - Milestones - Delivery'!G48"]
["6c - Milestones - Delivery","Delivery","6.03.42",null,"Variance between Baseline and Forecast/ Actual Dates (Days)",{"$f":"'6c - Milestones - Delivery'!H48","v":""},"6c - Milestones - Delivery'!H48"]
["6c - Milestones - Delivery","Delivery","6.03.42",null,"Status",{"$f":"'6c - Milestones - Delivery'!I48","v":0},"6c - Milestones - Delivery'!I48"]
["6c - Milestones - Delivery","Delivery","6.03.42",null,"Comments",{"$f":"'6c - Milestones - Delivery'!J48","v":0},"6c - Milestones - Delivery'!J48"]
["6c - Milestones - Delivery","Delivery","6.03.43",null,"List all:\nHighlevel Delivery Milestones",{"$f":"'6c - Milestones - Delivery'!D49","v":0},"6c - Milestones - Delivery'!D49",{"$f":"IF(CONCATENATE(F1346,\" - \",F1347,\" - \",F1348,\" - \",F1349,\" - \",F1350,\" - \",F1351,\" - \",F1352)=\"0 - 0 - 0 - 0 -  - 0 - 0\",\"0\",CONCATENATE(F1346,\" - \",F1347,\" - \",F1348,\" - \",F1349,\" - \",F1350,\" - \",F1351,\" - \",F1352))","v":"0"},null,{"$f":"'6c - Milestones - Delivery'!P49","v":0},{"$f":"IF(J1346=F1346,\"\",\"Changed Since Last Quarter\")","v":""}]
["6c - Milestones - Delivery","Delivery","6.03.43",null,"Critical Path",{"$f":"'6c - Milestones - Delivery'!E49","v":0},"6c - Milestones - Delivery'!E49"]
["6c - Milestones - Delivery","Delivery","6.03.43",null,"Baseline Date of Milestone\n(GMPP baselines will be sourced from your latest HMT approved BC)",{"$f":"'6c - Milestones - Delivery'!F49","v":"00:00:00"},"6c - Milestones - Delivery'!F49"]
["6c - Milestones - Delivery","Delivery","6.03.43",null,"Forecast / Actual Date \nof Milestone",{"$f":"'6c - Milestones - Delivery'!G49","v":"00:00:00"},"6c - Milestones - Delivery'!G49"]
["6c - Milestones - Delivery","Delivery","6.03.43",null,"Variance between Baseline and Forecast/ Actual Dates (Days)",{"$f":"'6c - Milestones - Delivery'!H49","v":""},"6c - Milestones - Delivery'!H49"]
["6c - Milestones - Delivery","Delivery","6.03.43",null,"Status",{"$f":"'6c - Milestones - Delivery'!I49","v":0},"6c - Milestones - Delivery'!I49"]
["6c - Milestones - Delivery","Delivery","6.03.43",null,"Comments",{"$f":"'6c - Milestones - Delivery'!J49","v":0},"6c - Milestones - Delivery'!J49"]
["6c - Milestones - Delivery","Delivery","6.03.44",null,"List all:\nHighlevel Delivery Milestones",{"$f":"'6c - Milestones - Delivery'!D50","v":0},"6c - Milestones - Delivery'!D50",{"$f":"IF(CONCATENATE(F1353,\" - \",F1354,\" - \",F1355,\" - \",F1356,\" - \",F1357,\" - \",F1358,\" - \",F1359)=\"0 - 0 - 0 - 0 -  - 0 - 0\",\"0\",CONCATENATE(F1353,\" - \",F1354,\" - \",F1355,\" - \",F1356,\" - \",F1357,\" - \",F1358,\" - \",F1359))","v":"0"},null,{"$f":"'6c - Milestones - Delivery'!P50","v":0},{"$f":"IF(J1353=F1353,\"\",\"Changed Since Last Quarter\")","v":""}]
["6c - Milestones - Delivery","Delivery","6.03.44",null,"Critical Path",{"$f":"'6c - Milestones - Delivery'!E50","v":0},"6c - Milestones - Delivery'!E50"]
["6c - Milestones - Delivery","Delivery","6.03.44",null,"Baseline Date of Milestone\n(GMPP baselines will be sourced from your latest HMT approved BC)",{"$f":"'6c - Milestones - Delivery'!F50","v":"00:00:00"},"6c - Milestones - Delivery'!F50"]
["6c - Milestones - Delivery","Delivery","6.03.44",null,"Forecast / Actual Date \nof Milestone",{"$f":"'6c - Milestones - Delivery'!G50","v":"00:00:00"},"6c - Milestones - Delivery'!G50"]
["6c - Milestones - Delivery","Delivery","6.03.44",null,"Variance between Baseline and Forecast/ Actual Dates (Days)",{"$f":"'6c - Milestones - Delivery'!H50","v":""},"6c - Milestones - Delivery'!H50"]
["6c - Milestones - Delivery","Delivery","6.03.44",null,"Status",{"$f":"'6c - Milestones - Delivery'!I50","v":0},"6c - Milestones - Delivery'!I50"]
["6c - Milestones - Delivery","Delivery","6.03.44",null,"Comments",{"$f":"'6c - Milestones - Delivery'!J50","v":0},"6c - Milestones - Delivery'!J50"]
["6c - Milestones - Delivery","Delivery","6.03.45",null,"List all:\nHighlevel Delivery Milestones",{"$f":"'6c - Milestones - Delivery'!D51","v":0},"6c - Milestones - Delivery'!D51",{"$f":"IF(CONCATENATE(F1360,\" - \",F1361,\" - \",F1362,\" - \",F1363,\" - \",F1364,\" - \",F1365,\" - \",F1366)=\"0 - 0 - 0 - 0 -  - 0 - 0\",\"0\",CONCATENATE(F1360,\" - \",F1361,\" - \",F1362,\" - \",F1363,\" - \",F1364,\" - \",F1365,\" - \",F1366))","v":"0"},null,{"$f":"'6c - Milestones - Delivery'!P51","v":0},{"$f":"IF(J1360=F1360,\"\",\"Changed Since Last Quarter\")","v":""}]
["6c - Milestones - Delivery","Delivery","6.03.45",null,"Critical Path",{"$f":"'6c - Milestones - Delivery'!E51","v":0},"6c - Milestones - Delivery'!E51"]
["6c - Milestones - Delivery","Delivery","6.03.45",null,"Baseline Date of Milestone\n(GMPP baselines will be sourced from your latest HMT approved BC)",{"$f":"'6c - Milestones - Delivery'!F51","v":"00:00:00"},"6c - Milestones - Delivery'!F51"]
["6c - Milestones - Delivery","Delivery","6.03.45",null,"Forecast / Actual Date \nof Milestone",{"$f":"'6c - Milestones - Delivery'!G51","v":"00:00:00"},"6c - Milestones - Delivery'!G51"]
["6c - Milestones - Delivery","Delivery","6.03.45",null,"Variance between Baseline and Forecast/ Actual Dates (Days)",{"$f":"'6c - Milestones - Delivery'!H51","v":""},"6c - Milestones - Delivery'!H51"]
["6c - Milestones - Delivery","Delivery","6.03.45",null,"Status",{"$f":"'6c - Milestones - Delivery'!I51","v":0},"6c - Milestones - Delivery'!I51"]
["6c - Milestones - Delivery","Delivery","6.03.45",null,"Comments",{"$f":"'6c - Milestones - Delivery'!J51","v":0},"6c - Milestones - Delivery'!J51"]
["6c - Milestones - Delivery","Delivery","6.03.46",null,"List all:\nHighlevel Delivery Milestones",{"$f":"'6c - Milestones - Delivery'!D52","v":0},"6c - Milestones - Delivery'!D52",{"$f":"IF(CONCATENATE(F1367,\" - \",F1368,\" - \",F1369,\" - \",F1370,\" - \",F1371,\" - \",F1372,\" - \",F1373)=\"0 - 0 - 0 - 0 -  - 0 - 0\",\"0\",CONCATENATE(F1367,\" - \",F1368,\" - \",F1369,\" - \",F1370,\" - \",F1371,\" - \",F1372,\" - \",F1373))","v":"0"},null,{"$f":"'6c - Milestones - Delivery'!P52","v":0},{"$f":"IF(J1367=F1367,\"\",\"Changed Since Last Quarter\")","v":""}]
["6c - Milestones - Delivery","Delivery","6.03.46",null,"Critical Path",{"$f":"'6c - Milestones - Delivery'!E52","v":0},"6c - Milestones - Delivery'!E52"]
["6c - Milestones - Delivery","Delivery","6.03.46",null,"Baseline Date of Milestone\n(GMPP baselines will be sourced from your latest HMT approved BC)",{"$f":"'6c - Milestones - Delivery'!F52","v":"00:00:00"},"6c - Milestones - Delivery'!F52"]
["6c - Milestones - Delivery","Delivery","6.03.46",null,"Forecast / Actual Date \nof Milestone",{"$f":"'6c - Milestones - Delivery'!G52","v":"00:00:00"},"6c - Milestones - Delivery'!G52"]
["6c - Milestones - Delivery","Delivery","6.03.46",null,"Variance between Baseline and Forecast/ Actual Dates (Days)",{"$f":"'6c - Milestones - Delivery'!H52","v":""},"6c - Milestones - Delivery'!H52"]
["6c - Milestones - Delivery","Delivery","6.03.46",null,"Status",{"$f":"'6c - Milestones - Delivery'!I52","v":0},"6c - Milestones - Delivery'!I52"]
["6c - Milestones - Delivery","Delivery","6.03.46",null,"Comments",{"$f":"'6c - Milestones - Delivery'!J52","v":0},"6c - Milestones - Delivery'!J52"]
["6c - Milestones - Delivery","Delivery","6.03.47",null,"List all:\nHighlevel Delivery Milestones",{"$f":"'6c - Milestones - Delivery'!D53","v":0},"6c - Milestones - Delivery'!D53",{"$f":"IF(CONCATENATE(F1374,\" - \",F1375,\" - \",F1376,\" - \",F1377,\" - \",F1378,\" - \",F1379,\" - \",F1380)=\"0 - 0 - 0 - 0 -  - 0 - 0\",\"0\",CONCATENATE(F1374,\" - \",F1375,\" - \",F1376,\" - \",F1377,\" - \",F1378,\" - \",F1379,\" - \",F1380))","v":"0"},null,{"$f":"'6c - Milestones - Delivery'!P53","v":0},{"$f":"IF(J1374=F1374,\"\",\"Changed Since Last Quarter\")","v":""}]
["6c - Milestones - Delivery","Delivery","6.03.47",null,"Critical Path",{"$f":"'6c - Milestones - Delivery'!E53","v":0},"6c - Milestones - Delivery'!E53"]
["6c - Milestones - Delivery","Delivery","6.03.47",null,"Baseline Date of Milestone\n(GMPP baselines will be sourced from your latest HMT approved BC)",{"$f":"'6c - Milestones - Delivery'!F53","v":"00:00:00"},"6c - Milestones - Delivery'!F53"]
["6c - Milestones - Delivery","Delivery","6.03.47",null,"Forecast / Actual Date \nof Milestone",{"$f":"'6c - Milestones - Delivery'!G53","v":"00:00:00"},"6c - Milestones - Delivery'!G53"]
["6c - Milestones - Delivery","Delivery","6.03.47",null,"Variance between Baseline and Forecast/ Actual Dates (Days)",{"$f":"'6c - Milestones - Delivery'!H53","v":""},"6c - Milestones - Delivery'!H53"]
["6c - Milestones - Delivery","Delivery","6.03.47",null,"Status",{"$f":"'6c - Milestones - Delivery'!I53","v":0},"6c - Milestones - Delivery'!I53"]
["6c - Milestones - Delivery","Delivery","6.03.47",null,"Comments",{"$f":"'6c - Milestones - Delivery'!J53","v":0},"6c - Milestones - Delivery'!J53"]
["6c - Milestones - Delivery","Delivery","6.03.48",null,"List all:\nHighlevel Delivery Milestones",{"$f":"'6c - Milestones - Delivery'!D54","v":0},"6c - Milestones - Delivery'!D54",{"$f":"IF(CONCATENATE(F1381,\" - \",F1382,\" - \",F1383,\" - \",F1384,\" - \",F1385,\" - \",F1386,\" - \",F1387)=\"0 - 0 - 0 - 0 -  - 0 - 0\",\"0\",CONCATENATE(F1381,\" - \",F1382,\" - \",F1383,\" - \",F1384,\" - \",F1385,\" - \",F1386,\" - \",F1387))","v":"0"},null,{"$f":"'6c - Milestones - Delivery'!P54","v":0},{"$f":"IF(J1381=F1381,\"\",\"Changed Since Last Quarter\")","v":""}]
["6c - Milestones - Delivery","Delivery","6.03.48",null,"Critical Path",{"$f":"'6c - Milestones - Delivery'!E54","v":0},"6c - Milestones - Delivery'!E54"]
["6c - Milestones - Delivery","Delivery","6.03.48",null,"Baseline Date of Milestone\n(GMPP baselines will be sourced from your latest HMT approved BC)",{"$f":"'6c - Milestones - Delivery'!F54","v":"00:00:00"},"6c - Milestones - Delivery'!F54"]
["6c - Milestones - Delivery","Delivery","6.03.48",null,"Forecast / Actual Date \nof Milestone",{"$f":"'6c - Milestones - Delivery'!G54","v":"00:00:00"},"6c - Milestones - Delivery'!G54"]
["6c - Milestones - Delivery","Delivery","6.03.48",null,"Variance between Baseline and Forecast/ Actual Dates (Days)",{"$f":"'6c - Milestones - Delivery'!H54","v":""},"6c - Milestones - Delivery'!H54"]
["6c - Milestones - Delivery","Delivery","6.03.48",null,"Status",{"$f":"'6c - Milestones - Delivery'!I54","v":0},"6c - Milestones - Delivery'!I54"]
["6c - Milestones - Delivery","Delivery","6.03.48",null,"Comments",{"$f":"'6c - Milestones - Delivery'!J54","v":0},"6c - Milestones - Delivery'!J54"]
["6c - Milestones - Delivery","Delivery","6.03.49",null,"List all:\nHighlevel Delivery Milestones",{"$f":"'6c - Milestones - Delivery'!D55","v":0},"6c - Milestones - Delivery'!D55",{"$f":"IF(CONCATENATE(F1388,\" - \",F1389,\" - \",F1390,\" - \",F1391,\" - \",F1392,\" - \",F1393,\" - \",F1394)=\"0 - 0 - 0 - 0 -  - 0 - 0\",\"0\",CONCATENATE(F1388,\" - \",F1389,\" - \",F1390,\" - \",F1391,\" - \",F1392,\" - \",F1393,\" - \",F1394))","v":"0"},null,{"$f":"'6c - Milestones - Delivery'!P55","v":0},{"$f":"IF(J1388=F1388,\"\",\"Changed Since Last Quarter\")","v":""}]
["6c - Milestones - Delivery","Delivery","6.03.49",null,"Critical Path",{"$f":"'6c - Milestones - Delivery'!E55","v":0},"6c - Milestones - Delivery'!E55"]
["6c - Milestones - Delivery","Delivery","6.03.49",null,"Baseline Date of Milestone\n(GMPP baselines will be sourced from your latest HMT approved BC)",{"$f":"'6c - Milestones - Delivery'!F55","v":"00:00:00"},"6c - Milestones - Delivery'!F55"]
["6c - Milestones - Delivery","Delivery","6.03.49",null,"Forecast / Actual Date \nof Milestone",{"$f":"'6c - Milestones - Delivery'!G55","v":"00:00:00"},"6c - Milestones - Delivery'!G55"]
["6c - Milestones - Delivery","Delivery","6.03.49",null,"Variance between Baseline and Forecast/ Actual Dates (Days)",{"$f":"'6c - Milestones - Delivery'!H55","v":""},"6c - Milestones - Delivery'!H55"]
["6c - Milestones - Delivery","Delivery","6.03.49",null,"Status",{"$f":"'6c - Milestones - Delivery'!I55","v":0},"6c - Milestones - Delivery'!I55"]
["6c - Milestones - Delivery","Delivery","6.03.49",null,"Comments",{"$f":"'6c - Milestones - Delivery'!J55","v":0},"6c - Milestones - Delivery'!J55"]
["6c - Milestones - Delivery","Delivery","6.03.50",null,"List all:\nHighlevel Delivery Milestones",{"$f":"'6c - Milestones - Delivery'!D56","v":0},"6c - Milestones - Delivery'!D56",{"$f":"IF(CONCATENATE(F1395,\" - \",F1396,\" - \",F1397,\" - \",F1398,\" - \",F1399,\" - \",F1400,\" - \",F1401)=\"0 - 0 - 0 - 0 -  - 0 - 0\",\"0\",CONCATENATE(F1395,\" - \",F1396,\" - \",F1397,\" - \",F1398,\" - \",F1399,\" - \",F1400,\" - \",F1401))","v":"0"},null,{"$f":"'6c - Milestones - Delivery'!P56","v":0},{"$f":"IF(J1395=F1395,\"\",\"Changed Since Last Quarter\")","v":""}]
["6c - Milestones - Delivery","Delivery","6.03.50",null,"Critical Path",{"$f":"'6c - Milestones - Delivery'!E56","v":0},"6c - Milestones - Delivery'!E56"]
["6c - Milestones - Delivery","Delivery","6.03.50",null,"Baseline Date of Milestone\n(GMPP baselines will be sourced from your latest HMT approved BC)",{"$f":"'6c - Milestones - Delivery'!F56","v":"00:00:00"},"6c - Milestones - Delivery'!F56"]
["6c - Milestones - Delivery","Delivery","6.03.50",null,"Forecast / Actual Date \nof Milestone",{"$f":"'6c - Milestones - Delivery'!G56","v":"00:00:00"},"6c - Milestones - Delivery'!G56"]
["6c - Milestones - Delivery","Delivery","6.03.50",null,"Variance between Baseline and Forecast/ Actual Dates (Days)",{"$f":"'6c - Milestones - Delivery'!H56","v":""},"6c - Milestones - Delivery'!H56"]
["6c - Milestones - Delivery","Delivery","6.03.50",null,"Status",{"$f":"'6c - Milestones - Delivery'!I56","v":0},"6c - Milestones - Delivery'!I56"]
["6c - Milestones - Delivery","Delivery","6.03.50",null,"Comments",{"$f":"'6c - Milestones - Delivery'!J56","v":0},"6c - Milestones - Delivery'!J56"]
["7 - Business Case","Business Case","7.01.1",null,"Lifecycle Stage",{"$f":"'7 - Business Case'!E6","v":"Define"},"7 - Business Case'!E6",{"$f":"F1402","v":"Define"},null,{"$f":"'7 - Business Case'!E6","v":"Define"},{"$f":"IF(J1402=F1402,\"\",\"Changed Since Last Quarter\")","v":""}]
["7 - Business Case","Business Case","7.01.2",null,"Lifecycle Stage if you are an Agile Project",{"$f":"'7 - Business Case'!E7","v":0},"7 - Business Case'!E7",{"$f":"F1403","v":0},null,{"$f":"'7 - Business Case'!E7","v":0},{"$f":"IF(J1403=F1403,\"\",\"Changed Since Last Quarter\")","v":""}]
["7 - Business Case","Current HM Treasury Business Case (BC) or Equivalent","7.02.1",null,"Latest HMT Business Case (TAP) passed",{"$f":"'7 - Business Case'!E10","v":"Programme Business Case (or equivalent)"},"7 - Business Case'!E10",{"$f":"F1404","v":"Programme Business Case (or equivalent)"},null,{"$f":"'7 - Business Case'!E10","v":"Programme Business Case (or equivalent)"},{"$f":"IF(J1404=F1404,\"\",\"Changed Since Last Quarter\")","v":""}]
["7 - Business Case","Current HM Treasury Business Case (BC) or Equivalent","7.02.2",null,"HMT Business Case Version number",{"$f":"'7 - Business Case'!E11","v":1},"7 - Business Case'!E11",{"$f":"F1405","v":1},null,{"$f":"'7 - Business Case'!E11","v":1},{"$f":"IF(J1405=F1405,\"\",\"Changed Since Last Quarter\")","v":""}]
["7 - Business Case","Current HM Treasury Business Case (BC) or Equivalent","7.02.3",null,"Business Case & Version No.",{"$f":"'7 - Business Case'!E12","v":"Programme Business Case (or equivalent) 1"},"7 - Business Case'!E12",{"$f":"F1406","v":"Programme Business Case (or equivalent) 1"},null,{"$f":"'7 - Business Case'!E12","v":"Programme Business Case (or equivalent) 1"},{"$f":"IF(J1406=F1406,\"\",\"Changed Since Last Quarter\")","v":""}]
["7 - Business Case","Current HM Treasury Business Case (BC) or Equivalent","7.02.4",null,"Date Approved by HMT",{"$f":"'7 - Business Case'!E13","v":42976},"7 - Business Case'!E13",{"$f":"F1407","v":42976},null,{"$f":"'7 - Business Case'!E13","v":42976},{"$f":"IF(J1407=F1407,\"\",\"Changed Since Last Quarter\")","v":""}]
["7 - Business Case","Current HM Treasury Business Case (BC) or Equivalent","7.02.5",null,"If no HMT Business Case, please advise why?",{"$f":"'7 - Business Case'!E14","v":0},"7 - Business Case'!E14",{"$f":"F1408","v":0},null,{"$f":"'7 - Business Case'!E14","v":0},{"$f":"IF(J1408=F1408,\"\",\"Changed Since Last Quarter\")","v":""}]
["7 - Business Case","Current HM Treasury Business Case (BC) or Equivalent","7.02.6",null,"Is your HMT Business case updated / approved annually by HMT, or more frequently?",{"$f":"'7 - Business Case'!E15","v":"Yes"},"7 - Business Case'!E15",{"$f":"F1409","v":"Yes"},null,{"$f":"'7 - Business Case'!E15","v":"Yes"},{"$f":"IF(J1409=F1409,\"\",\"Changed Since Last Quarter\")","v":""}]
["7 - Business Case","Current HM Treasury Business Case (BC) or Equivalent","7.02.7",null,"Does the HMT Businesss Case cover the full life of the project?",{"$f":"'7 - Business Case'!E16","v":"Yes"},"7 - Business Case'!E16",{"$f":"F1410","v":"Yes"},null,{"$f":"'7 - Business Case'!E16","v":"Yes"},{"$f":"IF(J1410=F1410,\"\",\"Changed Since Last Quarter\")","v":""}]
["7 - Business Case","Current HM Treasury Business Case (BC) or Equivalent","7.02.8",null,"If not, please provide explanation as to why",{"$f":"'7 - Business Case'!E17","v":0},"7 - Business Case'!E17",{"$f":"F1411","v":0},null,{"$f":"'7 - Business Case'!E17","v":0},{"$f":"IF(J1411=F1411,\"\",\"Changed Since Last Quarter\")","v":""}]
["7 - Business Case","Current HM Treasury Business Case (BC) or Equivalent","7.02.9",null,"If not, please advise how many years are covered",{"$f":"'7 - Business Case'!E18","v":0},"7 - Business Case'!E18",{"$f":"F1412","v":0},null,{"$f":"'7 - Business Case'!E18","v":0},{"$f":"IF(J1412=F1412,\"\",\"Changed Since Last Quarter\")","v":""}]
["7 - Business Case","Current HM Treasury Business Case (BC) or Equivalent","7.02.10",null,"If not, please advise how much cost is covered, as a percentage",{"$f":"'7 - Business Case'!E19","v":0},"7 - Business Case'!E19",{"$f":"F1413","v":0},null,{"$f":"'7 - Business Case'!E19","v":0},{"$f":"IF(J1413=F1413,\"\",\"Changed Since Last Quarter\")","v":""}]
["7 - Business Case","Current HM Treasury Business Case (BC) or Equivalent","7.02.11",null,"Are the baselines in this return from the most recent HMT Approved Business Case?",{"$f":"'7 - Business Case'!E20","v":"Yes"},"7 - Business Case'!E20",{"$f":"F1414","v":"Yes"},null,{"$f":"'7 - Business Case'!E20","v":"Yes"},{"$f":"IF(J1414=F1414,\"\",\"Changed Since Last Quarter\")","v":""}]
["7 - Business Case","Current HM Treasury Business Case (BC) or Equivalent","7.02.12",null,"If not, what is the source of baselines in this returns?",{"$f":"'7 - Business Case'!E21","v":0},"7 - Business Case'!E21",{"$f":"F1415","v":0},null,{"$f":"'7 - Business Case'!E21","v":0},{"$f":"IF(J1415=F1415,\"\",\"Changed Since Last Quarter\")","v":""}]
["7 - Business Case","Current HM Treasury Business Case (BC) or Equivalent","7.02.13",null,"If not, please give a reason why baselines",{"$f":"'7 - Business Case'!E22","v":0},"7 - Business Case'!E22",{"$f":"F1416","v":0},null,{"$f":"'7 - Business Case'!E22","v":0},{"$f":"IF(J1416=F1416,\"\",\"Changed Since Last Quarter\")","v":""}]
["7 - Business Case","Current HM Treasury Business Case (BC) or Equivalent","7.02.14",null,"What is the source of all forecasts in this return?",{"$f":"'7 - Business Case'!E23","v":0},"7 - Business Case'!E23",{"$f":"F1417","v":0},null,{"$f":"'7 - Business Case'!E23","v":0},{"$f":"IF(J1417=F1417,\"\",\"Changed Since Last Quarter\")","v":""}]
["7 - Business Case","Current HM Treasury Business Case (BC) or Equivalent","7.02.15",null,"Please provide details of any formal arrangement with HMT regarding Business cases, that are outside the classical model",{"$f":"'7 - Business Case'!E24","v":"None"},"7 - Business Case'!E24",{"$f":"F1418","v":"None"},null,{"$f":"'7 - Business Case'!E24","v":"None"},{"$f":"IF(J1418=F1418,\"\",\"Changed Since Last Quarter\")","v":""}]
["7 - Business Case","Business Case Structure","7.03.1",null,"One Off new costs","Deleted","7 - Business Case'!E29"]
["7 - Business Case","Business Case Structure","7.03.1",null,"Recurring new costs","Deleted","7 - Business Case'!F29"]
["7 - Business Case","Business Case Structure","7.03.1",null,"Recurring old costs","Deleted","7 - Business Case'!G29"]
["7 - Business Case","Business Case Structure","7.03.1",null,"Non Government costs","Deleted","7 - Business Case'!H29"]
["7 - Business Case","Business Case Structure","7.03.1",null,"Income","Deleted","7 - Business Case'!I29"]
["7 - Business Case","Business Case Structure","7.03.2",null,"Cashable benefits","Deleted","7 - Business Case'!E31"]
["7 - Business Case","Business Case Structure","7.03.2",null,"Non-Cashable benefits","Deleted","7 - Business Case'!F31"]
["7 - Business Case","Business Case Structure","7.03.2",null,"UK Economic benefits","Deleted","7 - Business Case'!G31"]
["7 - Business Case","Business Case Structure","7.03.2",null,"Disbenefits in the cost section","Deleted","7 - Business Case'!H31"]
["7 - Business Case","Business Case Structure","7.03.2",null,"Positive AME benefits in Cashable","Deleted","7 - Business Case'!I31"]
["7 - Business Case","Business Case Structure","7.03.2",null,"Non Monetised Benefits","Deleted","7 - Business Case'!J31"]
["8 - Finance","Costs","8.01.1",null,"Cost (CDEL/RDEL/NON Gov) Baseline - Real or Nominal",{"$f":"'8 - Finance'!E6","v":"Nominal"},"8 - Finance'!E6",{"$f":"F1430","v":"Nominal"},null,{"$f":"'8 - Finance'!P6","v":0},{"$f":"IF(J1430=F1430,\"\",\"Changed Since Last Quarter\")","v":"Changed Since Last Quarter"}]
["8 - Finance","Costs","8.01.2",null,"Cost (CDEL/RDEL/NON Gov) Forecast - Real or Nominal",{"$f":"'8 - Finance'!E7","v":"Nominal"},"8 - Finance'!E7",{"$f":"F1431","v":"Nominal"},null,{"$f":"'8 - Finance'!P7","v":0},{"$f":"IF(J1431=F1431,\"\",\"Changed Since Last Quarter\")","v":"Changed Since Last Quarter"}]
["8 - Finance","Costs","8.01.3",null,"If real, Index Year used?",{"$f":"'8 - Finance'!E8","v":0},"8 - Finance'!E8",{"$f":"F1432","v":0},null,{"$f":"'8 - Finance'!P8","v":0},{"$f":"IF(J1432=F1432,\"\",\"Changed Since Last Quarter\")","v":""}]
["8 - Finance","Costs","8.01.4",null,"If real, Deflator used?",{"$f":"'8 - Finance'!E9","v":0},"8 - Finance'!E9",{"$f":"F1433","v":0},null,{"$f":"'8 - Finance'!P9","v":0},{"$f":"IF(J1433=F1433,\"\",\"Changed Since Last Quarter\")","v":""}]
["8 - Finance","Costs","8.01.5",null,"Are you reporting the full costs of the project?",{"$f":"'8 - Finance'!E10","v":"No"},"8 - Finance'!E10",{"$f":"F1434","v":"No"},null,{"$f":"'8 - Finance'!P10","v":0},{"$f":"IF(J1434=F1434,\"\",\"Changed Since Last Quarter\")","v":"Changed Since Last Quarter"}]
["8 - Finance","Costs","8.01.6",null,"If no, please provide reason why?",{"$f":"'8 - Finance'!E11","v":"There is no reason to anwer this."},"8 - Finance'!E11",{"$f":"F1435","v":"There is no reason to anwer this."},null,{"$f":"'8 - Finance'!P11","v":0},{"$f":"IF(J1435=F1435,\"\",\"Changed Since Last Quarter\")","v":"Changed Since Last Quarter"}]
["8 - Finance","Income","8.02.1",null,"Does this project create income?",{"$f":"'8 - Finance'!E14","v":"No"},"8 - Finance'!E14",{"$f":"F1436","v":"No"},null,{"$f":"'8 - Finance'!P14","v":0},{"$f":"IF(J1436=F1436,\"\",\"Changed Since Last Quarter\")","v":"Changed Since Last Quarter"}]
["8 - Finance","Income","8.02.2",null,"Who recieves the income?",{"$f":"'8 - Finance'!E15","v":0},"8 - Finance'!E15",{"$f":"F1437","v":0},null,{"$f":"'8 - Finance'!P15","v":0},{"$f":"IF(J1437=F1437,\"\",\"Changed Since Last Quarter\")","v":""}]
["8 - Finance","Income","8.02.3",null,"Do you net the income with your costs in the GMPP return",{"$f":"'8 - Finance'!E16","v":0},"8 - Finance'!E16",{"$f":"F1438","v":0},null,{"$f":"'8 - Finance'!P16","v":0},{"$f":"IF(J1438=F1438,\"\",\"Changed Since Last Quarter\")","v":""}]
["8 - Finance","Income","8.02.4",null,"Against which Cost category?",{"$f":"'8 - Finance'!E17","v":0},"8 - Finance'!E17",{"$f":"F1439","v":0},null,{"$f":"'8 - Finance'!P17","v":0},{"$f":"IF(J1439=F1439,\"\",\"Changed Since Last Quarter\")","v":""}]
["8 - Finance","Income","8.02.5",null,"Income Baseline - Real or Nominal",{"$f":"'8 - Finance'!E18","v":0},"8 - Finance'!E18",{"$f":"F1440","v":0},null,{"$f":"'8 - Finance'!P18","v":0},{"$f":"IF(J1440=F1440,\"\",\"Changed Since Last Quarter\")","v":""}]
["8 - Finance","Income","8.02.6",null,"Income Forecast - Real or Nominal",{"$f":"'8 - Finance'!E19","v":0},"8 - Finance'!E19",{"$f":"F1441","v":0},null,{"$f":"'8 - Finance'!P19","v":0},{"$f":"IF(J1441=F1441,\"\",\"Changed Since Last Quarter\")","v":""}]
["8 - Finance","Income","8.02.7",null,"If real, Index Year used?",{"$f":"'8 - Finance'!E20","v":0},"8 - Finance'!E20",{"$f":"F1442","v":0},null,{"$f":"'8 - Finance'!P20","v":0},{"$f":"IF(J1442=F1442,\"\",\"Changed Since Last Quarter\")","v":""}]
["8 - Finance","Income","8.02.8",null,"If real, Deflator used?",{"$f":"'8 - Finance'!E21","v":0},"8 - Finance'!E21",{"$f":"F1443","v":0},null,{"$f":"'8 - Finance'!P21","v":0},{"$f":"IF(J1443=F1443,\"\",\"Changed Since Last Quarter\")","v":""}]
["8 - Finance","Income","8.02.9",null,"Are you reporting the full income of the project?",{"$f":"'8 - Finance'!E22","v":0},"8 - Finance'!E22",{"$f":"F1444","v":0},null,{"$f":"'8 - Finance'!P22","v":0},{"$f":"IF(J1444=F1444,\"\",\"Changed Since Last Quarter\")","v":""}]
["8 - Finance","Income","8.02.10",null,"If no, please provide reason why?",{"$f":"'8 - Finance'!E23","v":0},"8 - Finance'!E23",{"$f":"F1445","v":0},null,{"$f":"'8 - Finance'!P23","v":0},{"$f":"IF(J1445=F1445,\"\",\"Changed Since Last Quarter\")","v":""}]
["8 - Finance","Benefits","8.03.1",null,"Does this project create monetised benefits?",{"$f":"'8 - Finance'!E26","v":"No"},"8 - Finance'!E26",{"$f":"F1446","v":"No"},null,{"$f":"'8 - Finance'!P26","v":0},{"$f":"IF(J1446=F1446,\"\",\"Changed Since Last Quarter\")","v":"Changed Since Last Quarter"}]
["8 - Finance","Benefits","8.03.2",null,"Benefits Baseline - Real or Nominal",{"$f":"'8 - Finance'!E27","v":"Nominal"},"8 - Finance'!E27",{"$f":"F1447","v":"Nominal"},null,{"$f":"'8 - Finance'!P27","v":0},{"$f":"IF(J1447=F1447,\"\",\"Changed Since Last Quarter\")","v":"Changed Since Last Quarter"}]
["8 - Finance","Benefits","8.03.3",null,"Benefits Forecast - Real or Nominal",{"$f":"'8 - Finance'!E28","v":"Real"},"8 - Finance'!E28",{"$f":"F1448","v":"Real"},null,{"$f":"'8 - Finance'!P28","v":0},{"$f":"IF(J1448=F1448,\"\",\"Changed Since Last Quarter\")","v":"Changed Since Last Quarter"}]
["8 - Finance","Benefits","8.03.4",null,"If real, Index Year used?",{"$f":"'8 - Finance'!E29","v":2015},"8 - Finance'!E29",{"$f":"F1449","v":2015},null,{"$f":"'8 - Finance'!P29","v":0},{"$f":"IF(J1449=F1449,\"\",\"Changed Since Last Quarter\")","v":"Changed Since Last Quarter"}]
["8 - Finance","Benefits","8.03.5",null,"If real, Deflator used?",{"$f":"'8 - Finance'!E30","v":0.005},"8 - Finance'!E30",{"$f":"F1450","v":0.005},null,{"$f":"'8 - Finance'!P30","v":0},{"$f":"IF(J1450=F1450,\"\",\"Changed Since Last Quarter\")","v":"Changed Since Last Quarter"}]
["8 - Finance","Benefits","8.03.6",null,"Are you reporting the full benefits of the project?",{"$f":"'8 - Finance'!E31","v":"No"},"8 - Finance'!E31",{"$f":"F1451","v":"No"},null,{"$f":"'8 - Finance'!P31","v":0},{"$f":"IF(J1451=F1451,\"\",\"Changed Since Last Quarter\")","v":"Changed Since Last Quarter"}]
["8 - Finance","Benefits","8.03.7",null,"If no, please provide reason why?",{"$f":"'8 - Finance'!E32","v":"No"},"8 - Finance'!E32",{"$f":"F1452","v":"No"},null,{"$f":"'8 - Finance'!P32","v":0},{"$f":"IF(J1452=F1452,\"\",\"Changed Since Last Quarter\")","v":"Changed Since Last Quarter"}]
["8 - Finance","Finance and Ratios - at Snapshot Date","8.04.1",null,"Finance Type",{"$f":"'8 - Finance'!E35","v":"Public & openward"},"8 - Finance'!E35",{"$f":"F1453","v":"Public & openward"},null,{"$f":"'8 - Finance'!P35","v":0},{"$f":"IF(J1453=F1453,\"\",\"Changed Since Last Quarter\")","v":"Changed Since Last Quarter"}]
["8 - Finance","Finance and Ratios - at Snapshot Date","8.04.2",null,"Other Finance type Description",{"$f":"'8 - Finance'!E36","v":0},"8 - Finance'!E36",{"$f":"F1454","v":0},null,{"$f":"'8 - Finance'!P36","v":0},{"$f":"IF(J1454=F1454,\"\",\"Changed Since Last Quarter\")","v":""}]
["8 - Finance","Finance and Ratios - at Snapshot Date","8.04.3",null,"Optimism Bias Percentage Used in Cost Baselines",{"$f":"'8 - Finance'!E37","v":0},"8 - Finance'!E37",{"$f":"F1455","v":0},null,{"$f":"'8 - Finance'!P37","v":16.9937},{"$f":"IF(J1455=F1455,\"\",\"Changed Since Last Quarter\")","v":"Changed Since Last Quarter"}]
["8 - Finance","Finance and Ratios - at Snapshot Date","8.04.4",null,"Overall figure for Optimism Bias (£m)",{"$f":"'8 - Finance'!E38","v":0},"8 - Finance'!E38",{"$f":"F1456","v":0},null,{"$f":"'8 - Finance'!P38","v":0},{"$f":"IF(J1456=F1456,\"\",\"Changed Since Last Quarter\")","v":""}]
["8 - Finance","Finance and Ratios - at Snapshot Date","8.04.5",null,"Built in contingency (% of Whole Life Cost)",{"$f":"'8 - Finance'!E39","v":0},"8 - Finance'!E39",{"$f":"F1457","v":0},null,{"$f":"'8 - Finance'!P39","v":0},{"$f":"IF(J1457=F1457,\"\",\"Changed Since Last Quarter\")","v":""}]
["8 - Finance","Finance and Ratios - at Snapshot Date","8.04.6",null,"Overall contingency (£m)",{"$f":"'8 - Finance'!E40","v":0},"8 - Finance'!E40",{"$f":"F1458","v":0},null,{"$f":"'8 - Finance'!P40","v":0},{"$f":"IF(J1458=F1458,\"\",\"Changed Since Last Quarter\")","v":""}]
["8 - Finance","Finance and Ratios - at Snapshot Date","8.04.7",null,"Net Present Value (£m)",{"$f":"'8 - Finance'!E41","v":134},"8 - Finance'!E41",{"$f":"F1459","v":134},null,{"$f":"'8 - Finance'!P41","v":0},{"$f":"IF(J1459=F1459,\"\",\"Changed Since Last Quarter\")","v":"Changed Since Last Quarter"}]
["8 - Finance","Finance and Ratios - at Snapshot Date","8.04.8",null,"Internal Rate of Return (IRR)",{"$f":"'8 - Finance'!E42","v":"N/K"},"8 - Finance'!E42",{"$f":"F1460","v":"N/K"},null,{"$f":"'8 - Finance'!P42","v":0},{"$f":"IF(J1460=F1460,\"\",\"Changed Since Last Quarter\")","v":"Changed Since Last Quarter"}]
["8 - Finance","Finance and Ratios - at Snapshot Date","8.04.9",null,"Benefits to Cost Ratio (BCR)",{"$f":"'8 - Finance'!E43","v":1.15},"8 - Finance'!E43",{"$f":"IFERROR((LEFT(TEXT(1/F1461,\"####/####\"),FIND(\"/\",TEXT(1/F1461,\"####/####\"))-1)&\":\" &RIGHT(TEXT(1/F1461,\"####/####\"),LEN(TEXT(1/F1461,\"####/####\")) -FIND(\"/\",TEXT(1/F1461,\"####/####\")))),\"\")","v":"20:23"},null,{"$f":"'8 - Finance'!P43","v":0},{"$f":"IF(J1461=F1461,\"\",\"Changed Since Last Quarter\")","v":"Changed Since Last Quarter"}]
["9 - Costs","Costs","9.01.1",null,"General Costs Narrative",{"$f":"'9 - Costs'!E6","v":"But I can’t answer that."},"9 - Costs'!E6",{"$f":"F1462","v":"But I can’t answer that."},null,{"$f":"'9 - Costs'!Q6","v":0},{"$f":"IF(J1462=F1462,\"\",\"Changed Since Last Quarter\")","v":"Changed Since Last Quarter"}]
["9 - Costs","Costs","9.01.2",null,"COMPARISON WITH LAST QUARTERS COSTS",{"$f":"'9 - Costs'!E7","v":"No change."},"9 - Costs'!E7",{"$f":"F1463","v":"No change."},null,{"$f":"'9 - Costs'!Q7","v":0},{"$f":"IF(J1463=F1463,\"\",\"Changed Since Last Quarter\")","v":"Changed Since Last Quarter"}]
["9 - Costs","Costs","9.01.3",null,"COMPARISON WITHIN THIS QUARTERS COSTS",{"$f":"'9 - Costs'!E8","v":"No change."},"9 - Costs'!E8",{"$f":"F1464","v":"No change."},null,{"$f":"'9 - Costs'!Q8","v":0},{"$f":"IF(J1464=F1464,\"\",\"Changed Since Last Quarter\")","v":"Changed Since Last Quarter"}]
["9 - Costs","RDEL","9.03.1","Pre-2019/2020 Baseline","One off new costs",{"$f":"'9 - Costs'!E27","v":0},"9 - Costs'!E27",{"$f":"IF(CONCATENATE(F1465,\" - \",F1466,\" - \",F1467,\" - \",F1468,\" - \",F1469,\" - \",F1470)=\"0 - 0 - 0 - 0 - 0 - 0\",\"0\",CONCATENATE(F1465,\" - \",F1466,\" - \",F1467,\" - \",F1468,\" - \",F1469,\" - \",F1470))","v":"0"},null,{"$f":"'9 - Costs'!Q27","v":0},{"$f":"IF(J1465=F1465,\"\",\"Changed Since Last Quarter\")","v":""}]
["9 - Costs","RDEL","9.03.1","Pre-2019/2020 Baseline","Recurring new costs",{"$f":"'9 - Costs'!F27","v":0},"9 - Costs'!F27"]
["9 - Costs","RDEL","9.03.1","Pre-2019/2020 Baseline","Recurring old costs",{"$f":"'9 - Costs'!G27","v":0},"9 - Costs'!G27"]
["9 - Costs","RDEL","9.03.1","Pre-2019/2020 Baseline","Non Gov",{"$f":"'9 - Costs'!H27","v":0},"9 - Costs'!H27"]
["9 - Costs","RDEL","9.03.1","Pre-2019/2020 Baseline","Whole Life Cost",{"$f":"'9 - Costs'!I27","v":0},"9 - Costs'!I27"]
["9 - Costs","RDEL","9.03.1","Pre-2019/2020 Baseline","RDEL Income",{"$f":"'9 - Costs'!J27","v":0},"9 - Costs'!L27"]
["9 - Costs","RDEL","9.03.2","Pre-2019/2020 Forecast","One off new costs",{"$f":"'9 - Costs'!E28","v":0},"9 - Costs'!E28",{"$f":"IF(CONCATENATE(F1471,\" - \",F1472,\" - \",F1473,\" - \",F1474,\" - \",F1475,\" - \",F1476)=\"0 - 0 - 0 - 0 - 0 - 0\",\"0\",CONCATENATE(F1471,\" - \",F1472,\" - \",F1473,\" - \",F1474,\" - \",F1475,\" - \",F1476))","v":"0"},null,{"$f":"'9 - Costs'!Q28","v":0},{"$f":"IF(J1471=F1471,\"\",\"Changed Since Last Quarter\")","v":""}]
["9 - Costs","RDEL","9.03.2","Pre-2019/2020 Forecast","Recurring new costs",{"$f":"'9 - Costs'!F28","v":0},"9 - Costs'!F28"]
["9 - Costs","RDEL","9.03.2","Pre-2019/2020 Forecast","Recurring old costs",{"$f":"'9 - Costs'!G28","v":0},"9 - Costs'!G28"]
["9 - Costs","RDEL","9.03.2","Pre-2019/2020 Forecast","Non Gov",{"$f":"'9 - Costs'!H28","v":0},"9 - Costs'!H28"]
["9 - Costs","RDEL","9.03.2","Pre-2019/2020 Forecast","Whole Life Cost",{"$f":"'9 - Costs'!I28","v":0},"9 - Costs'!I28"]
["9 - Costs","RDEL","9.03.2","Pre-2019/2020 Forecast","RDEL Income",{"$f":"'9 - Costs'!J28","v":0},"9 - Costs'!L28"]
["9 - Costs","RDEL","9.03.3","2019/2020 Baseline","One off new costs",{"$f":"'9 - Costs'!E29","v":0},"9 - Costs'!E29",{"$f":"IF(CONCATENATE(F1477,\" - \",F1478,\" - \",F1479,\" - \",F1480,\" - \",F1481,\" - \",F1482)=\"0 - 0 - 0 - 0 - 0 - 0\",\"0\",CONCATENATE(F1477,\" - \",F1478,\" - \",F1479,\" - \",F1480,\" - \",F1481,\" - \",F1482))","v":"0"},null,{"$f":"'9 - Costs'!Q29","v":0},{"$f":"IF(J1477=F1477,\"\",\"Changed Since Last Quarter\")","v":""}]
["9 - Costs","RDEL","9.03.3","2019/2020 Baseline","Recurring new costs",{"$f":"'9 - Costs'!F29","v":0},"9 - Costs'!F29"]
["9 - Costs","RDEL","9.03.3","2019/2020 Baseline","Recurring old costs",{"$f":"'9 - Costs'!G29","v":0},"9 - Costs'!G29"]
["9 - Costs","RDEL","9.03.3","2019/2020 Baseline","Non Gov",{"$f":"'9 - Costs'!H29","v":0},"9 - Costs'!H29"]
["9 - Costs","RDEL","9.03.3","2019/2020 Baseline","Whole Life Cost",{"$f":"'9 - Costs'!I29","v":0},"9 - Costs'!I29"]
["9 - Costs","RDEL","9.03.3","2019/2020 Baseline","RDEL Income",{"$f":"'9 - Costs'!J29","v":0},"9 - Costs'!L29"]
["9 - Costs","RDEL","9.03.4","2019/2020 Forecast","One off new costs",{"$f":"'9 - Costs'!E30","v":0},"9 - Costs'!E30",{"$f":"IF(CONCATENATE(F1483,\" - \",F1484,\" - \",F1485,\" - \",F1486,\" - \",F1487,\" - \",F1488)=\"0 - 0 - 0 - 0 - 0 - 0\",\"0\",CONCATENATE(F1483,\" - \",F1484,\" - \",F1485,\" - \",F1486,\" - \",F1487,\" - \",F1488))","v":"0"},null,{"$f":"'9 - Costs'!Q30","v":0},{"$f":"IF(J1483=F1483,\"\",\"Changed Since Last Quarter\")","v":""}]
["9 - Costs","RDEL","9.03.4","2019/2020 Forecast","Recurring new costs",{"$f":"'9 - Costs'!F30","v":0},"9 - Costs'!F30"]
["9 - Costs","RDEL","9.03.4","2019/2020 Forecast","Recurring old costs",{"$f":"'9 - Costs'!G30","v":0},"9 - Costs'!G30"]
["9 - Costs","RDEL","9.03.4","2019/2020 Forecast","Non Gov",{"$f":"'9 - Costs'!H30","v":0},"9 - Costs'!H30"]
["9 - Costs","RDEL","9.03.4","2019/2020 Forecast","Whole Life Cost",{"$f":"'9 - Costs'!I30","v":0},"9 - Costs'!I30"]
["9 - Costs","RDEL","9.03.4","2019/2020 Forecast","RDEL Income",{"$f":"'9 - Costs'!J30","v":0},"9 - Costs'!L30"]
["9 - Costs","RDEL","9.03.5","2020/2021 Baseline","One off new costs",{"$f":"'9 - Costs'!E31","v":0},"9 - Costs'!E31",{"$f":"IF(CONCATENATE(F1489,\" - \",F1490,\" - \",F1491,\" - \",F1492,\" - \",F1493,\" - \",F1494)=\"0 - 0 - 0 - 0 - 0 - 0\",\"0\",CONCATENATE(F1489,\" - \",F1490,\" - \",F1491,\" - \",F1492,\" - \",F1493,\" - \",F1494))","v":"0"},null,{"$f":"'9 - Costs'!Q31","v":0},{"$f":"IF(J1489=F1489,\"\",\"Changed Since Last Quarter\")","v":""}]
["9 - Costs","RDEL","9.03.5","2020/2021 Baseline","Recurring new costs",{"$f":"'9 - Costs'!F31","v":0},"9 - Costs'!F31"]
["9 - Costs","RDEL","9.03.5","2020/2021 Baseline","Recurring old costs",{"$f":"'9 - Costs'!G31","v":0},"9 - Costs'!G31"]
["9 - Costs","RDEL","9.03.5","2020/2021 Baseline","Non Gov",{"$f":"'9 - Costs'!H31","v":0},"9 - Costs'!H31"]
["9 - Costs","RDEL","9.03.5","2020/2021 Baseline","Whole Life Cost",{"$f":"'9 - Costs'!I31","v":0},"9 - Costs'!I31"]
["9 - Costs","RDEL","9.03.5","2020/2021 Baseline","RDEL Income",{"$f":"'9 - Costs'!J31","v":0},"9 - Costs'!L31"]
["9 - Costs","RDEL","9.03.6","2020/2021 Forecast","One off new costs",{"$f":"'9 - Costs'!E32","v":0},"9 - Costs'!E32",{"$f":"IF(CONCATENATE(F1495,\" - \",F1496,\" - \",F1497,\" - \",F1498,\" - \",F1499,\" - \",F1500)=\"0 - 0 - 0 - 0 - 0 - 0\",\"0\",CONCATENATE(F1495,\" - \",F1496,\" - \",F1497,\" - \",F1498,\" - \",F1499,\" - \",F1500))","v":"0"},null,{"$f":"'9 - Costs'!Q32","v":0},{"$f":"IF(J1495=F1495,\"\",\"Changed Since Last Quarter\")","v":""}]
["9 - Costs","RDEL","9.03.6","2020/2021 Forecast","Recurring new costs",{"$f":"'9 - Costs'!F32","v":0},"9 - Costs'!F32"]
["9 - Costs","RDEL","9.03.6","2020/2021 Forecast","Recurring old costs",{"$f":"'9 - Costs'!G32","v":0},"9 - Costs'!G32"]
["9 - Costs","RDEL","9.03.6","2020/2021 Forecast","Non Gov",{"$f":"'9 - Costs'!H32","v":0},"9 - Costs'!H32"]
["9 - Costs","RDEL","9.03.6","2020/2021 Forecast","Whole Life Cost",{"$f":"'9 - Costs'!I32","v":0},"9 - Costs'!I32"]
["9 - Costs","RDEL","9.03.6","2020/2021 Forecast","RDEL Income",{"$f":"'9 - Costs'!J32","v":0},"9 - Costs'!L32"]
["9 - Costs","RDEL","9.03.7","2021/2022 Baseline","One off new costs",{"$f":"'9 - Costs'!E33","v":0},"9 - Costs'!E33",{"$f":"IF(CONCATENATE(F1501,\" - \",F1502,\" - \",F1503,\" - \",F1504,\" - \",F1505,\" - \",F1506)=\"0 - 0 - 0 - 0 - 0 - 0\",\"0\",CONCATENATE(F1501,\" - \",F1502,\" - \",F1503,\" - \",F1504,\" - \",F1505,\" - \",F1506))","v":"0"},null,{"$f":"'9 - Costs'!Q33","v":0},{"$f":"IF(J1501=F1501,\"\",\"Changed Since Last Quarter\")","v":""}]
["9 - Costs","RDEL","9.03.7","2021/2022 Baseline","Recurring new costs",{"$f":"'9 - Costs'!F33","v":0},"9 - Costs'!F33"]
["9 - Costs","RDEL","9.03.7","2021/2022 Baseline","Recurring old costs",{"$f":"'9 - Costs'!G33","v":0},"9 - Costs'!G33"]
["9 - Costs","RDEL","9.03.7","2021/2022 Baseline","Non Gov",{"$f":"'9 - Costs'!H33","v":0},"9 - Costs'!H33"]
["9 - Costs","RDEL","9.03.7","2021/2022 Baseline","Whole Life Cost",{"$f":"'9 - Costs'!I33","v":0},"9 - Costs'!I33"]
["9 - Costs","RDEL","9.03.7","2021/2022 Baseline","RDEL Income",{"$f":"'9 - Costs'!J33","v":0},"9 - Costs'!L33"]
["9 - Costs","RDEL","9.03.8","2021/2022 Forecast","One off new costs",{"$f":"'9 - Costs'!E34","v":0},"9 - Costs'!E34",{"$f":"IF(CONCATENATE(F1507,\" - \",F1508,\" - \",F1509,\" - \",F1510,\" - \",F1511,\" - \",F1512)=\"0 - 0 - 0 - 0 - 0 - 0\",\"0\",CONCATENATE(F1507,\" - \",F1508,\" - \",F1509,\" - \",F1510,\" - \",F1511,\" - \",F1512))","v":"0"},null,{"$f":"'9 - Costs'!Q34","v":0},{"$f":"IF(J1507=F1507,\"\",\"Changed Since Last Quarter\")","v":""}]
["9 - Costs","RDEL","9.03.8","2021/2022 Forecast","Recurring new costs",{"$f":"'9 - Costs'!F34","v":0},"9 - Costs'!F34"]
["9 - Costs","RDEL","9.03.8","2021/2022 Forecast","Recurring old costs",{"$f":"'9 - Costs'!G34","v":0},"9 - Costs'!G34"]
["9 - Costs","RDEL","9.03.8","2021/2022 Forecast","Non Gov",{"$f":"'9 - Costs'!H34","v":0},"9 - Costs'!H34"]
["9 - Costs","RDEL","9.03.8","2021/2022 Forecast","Whole Life Cost",{"$f":"'9 - Costs'!I34","v":0},"9 - Costs'!I34"]
["9 - Costs","RDEL","9.03.8","2021/2022 Forecast","RDEL Income",{"$f":"'9 - Costs'!J34","v":0},"9 - Costs'!L34"]
["9 - Costs","RDEL","9.03.9","2022/2023 Baseline","One off new costs",{"$f":"'9 - Costs'!E35","v":0},"9 - Costs'!E35",{"$f":"IF(CONCATENATE(F1513,\" - \",F1514,\" - \",F1515,\" - \",F1516,\" - \",F1517,\" - \",F1518)=\"0 - 0 - 0 - 0 - 0 - 0\",\"0\",CONCATENATE(F1513,\" - \",F1514,\" - \",F1515,\" - \",F1516,\" - \",F1517,\" - \",F1518))","v":"0"},null,{"$f":"'9 - Costs'!Q35","v":0},{"$f":"IF(J1513=F1513,\"\",\"Changed Since Last Quarter\")","v":""}]
["9 - Costs","RDEL","9.03.9","2022/2023 Baseline","Recurring new costs",{"$f":"'9 - Costs'!F35","v":0},"9 - Costs'!F35"]
["9 - Costs","RDEL","9.03.9","2022/2023 Baseline","Recurring old costs",{"$f":"'9 - Costs'!G35","v":0},"9 - Costs'!G35"]
["9 - Costs","RDEL","9.03.9","2022/2023 Baseline","Non Gov",{"$f":"'9 - Costs'!H35","v":0},"9 - Costs'!H35"]
["9 - Costs","RDEL","9.03.9","2022/2023 Baseline","Whole Life Cost",{"$f":"'9 - Costs'!I35","v":0},"9 - Costs'!I35"]
["9 - Costs","RDEL","9.03.9","2022/2023 Baseline","RDEL Income",{"$f":"'9 - Costs'!J35","v":0},"9 - Costs'!L35"]
["9 - Costs","RDEL","9.03.10","2022/2023 Forecast","One off new costs",{"$f":"'9 - Costs'!E36","v":0},"9 - Costs'!E36",{"$f":"IF(CONCATENATE(F1519,\" - \",F1520,\" - \",F1521,\" - \",F1522,\" - \",F1523,\" - \",F1524)=\"0 - 0 - 0 - 0 - 0 - 0\",\"0\",CONCATENATE(F1519,\" - \",F1520,\" - \",F1521,\" - \",F1522,\" - \",F1523,\" - \",F1524))","v":"0"},null,{"$f":"'9 - Costs'!Q36","v":0},{"$f":"IF(J1519=F1519,\"\",\"Changed Since Last Quarter\")","v":""}]
["9 - Costs","RDEL","9.03.10","2022/2023 Forecast","Recurring new costs",{"$f":"'9 - Costs'!F36","v":0},"9 - Costs'!F36"]
["9 - Costs","RDEL","9.03.10","2022/2023 Forecast","Recurring old costs",{"$f":"'9 - Costs'!G36","v":0},"9 - Costs'!G36"]
["9 - Costs","RDEL","9.03.10","2022/2023 Forecast","Non Gov",{"$f":"'9 - Costs'!H36","v":0},"9 - Costs'!H36"]
["9 - Costs","RDEL","9.03.10","2022/2023 Forecast","Whole Life Cost",{"$f":"'9 - Costs'!I36","v":0},"9 - Costs'!I36"]
["9 - Costs","RDEL","9.03.10","2022/2023 Forecast","RDEL Income",{"$f":"'9 - Costs'!J36","v":0},"9 - Costs'!L36"]
["9 - Costs","RDEL","9.03.11","2023/2024 Baseline","One off new costs",{"$f":"'9 - Costs'!E37","v":0},"9 - Costs'!E37",{"$f":"IF(CONCATENATE(F1525,\" - \",F1526,\" - \",F1527,\" - \",F1528,\" - \",F1529,\" - \",F1530)=\"0 - 0 - 0 - 0 - 0 - 0\",\"0\",CONCATENATE(F1525,\" - \",F1526,\" - \",F1527,\" - \",F1528,\" - \",F1529,\" - \",F1530))","v":"0"},null,{"$f":"'9 - Costs'!Q37","v":0},{"$f":"IF(J1525=F1525,\"\",\"Changed Since Last Quarter\")","v":""}]
["9 - Costs","RDEL","9.03.11","2023/2024 Baseline","Recurring new costs",{"$f":"'9 - Costs'!F37","v":0},"9 - Costs'!F37"]
["9 - Costs","RDEL","9.03.11","2023/2024 Baseline","Recurring old costs",{"$f":"'9 - Costs'!G37","v":0},"9 - Costs'!G37"]
["9 - Costs","RDEL","9.03.11","2023/2024 Baseline","Non Gov",{"$f":"'9 - Costs'!H37","v":0},"9 - Costs'!H37"]
["9 - Costs","RDEL","9.03.11","2023/2024 Baseline","Whole Life Cost",{"$f":"'9 - Costs'!I37","v":0},"9 - Costs'!I37"]
["9 - Costs","RDEL","9.03.11","2023/2024 Baseline","RDEL Income",{"$f":"'9 - Costs'!J37","v":0},"9 - Costs'!L37"]
["9 - Costs","RDEL","9.03.12","2023/2024 Forecast","One off new costs",{"$f":"'9 - Costs'!E38","v":0},"9 - Costs'!E38",{"$f":"IF(CONCATENATE(F1531,\" - \",F1532,\" - \",F1533,\" - \",F1534,\" - \",F1535,\" - \",F1536)=\"0 - 0 - 0 - 0 - 0 - 0\",\"0\",CONCATENATE(F1531,\" - \",F1532,\" - \",F1533,\" - \",F1534,\" - \",F1535,\" - \",F1536))","v":"0"},null,{"$f":"'9 - Costs'!Q38","v":0},{"$f":"IF(J1531=F1531,\"\",\"Changed Since Last Quarter\")","v":""}]
["9 - Costs","RDEL","9.03.12","2023/2024 Forecast","Recurring new costs",{"$f":"'9 - Costs'!F38","v":0},"9 - Costs'!F38"]
["9 - Costs","RDEL","9.03.12","2023/2024 Forecast","Recurring old costs",{"$f":"'9 - Costs'!G38","v":0},"9 - Costs'!G38"]
["9 - Costs","RDEL","9.03.12","2023/2024 Forecast","Non Gov",{"$f":"'9 - Costs'!H38","v":0},"9 - Costs'!H38"]
["9 - Costs","RDEL","9.03.12","2023/2024 Forecast","Whole Life Cost",{"$f":"'9 - Costs'!I38","v":0},"9 - Costs'!I38"]
["9 - Costs","RDEL","9.03.12","2023/2024 Forecast","RDEL Income",{"$f":"'9 - Costs'!J38","v":0},"9 - Costs'!L38"]
["9 - Costs","RDEL","9.03.13","2024/2025 Baseline","One off new costs",{"$f":"'9 - Costs'!E39","v":0},"9 - Costs'!E39",{"$f":"IF(CONCATENATE(F1537,\" - \",F1538,\" - \",F1539,\" - \",F1540,\" - \",F1541,\" - \",F1542)=\"0 - 0 - 0 - 0 - 0 - 0\",\"0\",CONCATENATE(F1537,\" - \",F1538,\" - \",F1539,\" - \",F1540,\" - \",F1541,\" - \",F1542))","v":"0"},null,{"$f":"'9 - Costs'!Q39","v":0},{"$f":"IF(J1537=F1537,\"\",\"Changed Since Last Quarter\")","v":""}]
["9 - Costs","RDEL","9.03.13","2024/2025 Baseline","Recurring new costs",{"$f":"'9 - Costs'!F39","v":0},"9 - Costs'!F39"]
["9 - Costs","RDEL","9.03.13","2024/2025 Baseline","Recurring old costs",{"$f":"'9 - Costs'!G39","v":0},"9 - Costs'!G39"]
["9 - Costs","RDEL","9.03.13","2024/2025 Baseline","Non Gov",{"$f":"'9 - Costs'!H39","v":0},"9 - Costs'!H39"]
["9 - Costs","RDEL","9.03.13","2024/2025 Baseline","Whole Life Cost",{"$f":"'9 - Costs'!I39","v":0},"9 - Costs'!I39"]
["9 - Costs","RDEL","9.03.13","2024/2025 Baseline","RDEL Income",{"$f":"'9 - Costs'!J39","v":0},"9 - Costs'!L39"]
["9 - Costs","RDEL","9.03.14","2024/2025 Forecast","One off new costs",{"$f":"'9 - Costs'!E40","v":0},"9 - Costs'!E40",{"$f":"IF(CONCATENATE(F1543,\" - \",F1544,\" - \",F1545,\" - \",F1546,\" - \",F1547,\" - \",F1548)=\"0 - 0 - 0 - 0 - 0 - 0\",\"0\",CONCATENATE(F1543,\" - \",F1544,\" - \",F1545,\" - \",F1546,\" - \",F1547,\" - \",F1548))","v":"0"},null,{"$f":"'9 - Costs'!Q40","v":0},{"$f":"IF(J1543=F1543,\"\",\"Changed Since Last Quarter\")","v":""}]
["9 - Costs","RDEL","9.03.14","2024/2025 Forecast","Recurring new costs",{"$f":"'9 - Costs'!F40","v":0},"9 - Costs'!F40"]
["9 - Costs","RDEL","9.03.14","2024/2025 Forecast","Recurring old costs",{"$f":"'9 - Costs'!G40","v":0},"9 - Costs'!G40"]
["9 - Costs","RDEL","9.03.14","2024/2025 Forecast","Non Gov",{"$f":"'9 - Costs'!H40","v":0},"9 - Costs'!H40"]
["9 - Costs","RDEL","9.03.14","2024/2025 Forecast","Whole Life Cost",{"$f":"'9 - Costs'!I40","v":0},"9 - Costs'!I40"]
["9 - Costs","RDEL","9.03.14","2024/2025 Forecast","RDEL Income",{"$f":"'9 - Costs'!J40","v":0},"9 - Costs'!L40"]
["9 - Costs","RDEL","9.03.15","2025/2026 Baseline","One off new costs",{"$f":"'9 - Costs'!E41","v":0},"9 - Costs'!E41",{"$f":"IF(CONCATENATE(F1549,\" - \",F1550,\" - \",F1551,\" - \",F1552,\" - \",F1553,\" - \",F1554)=\"0 - 0 - 0 - 0 - 0 - 0\",\"0\",CONCATENATE(F1549,\" - \",F1550,\" - \",F1551,\" - \",F1552,\" - \",F1553,\" - \",F1554))","v":"0"},null,{"$f":"'9 - Costs'!Q41","v":0},{"$f":"IF(J1549=F1549,\"\",\"Changed Since Last Quarter\")","v":""}]
["9 - Costs","RDEL","9.03.15","2025/2026 Baseline","Recurring new costs",{"$f":"'9 - Costs'!F41","v":0},"9 - Costs'!F41"]
["9 - Costs","RDEL","9.03.15","2025/2026 Baseline","Recurring old costs",{"$f":"'9 - Costs'!G41","v":0},"9 - Costs'!G41"]
["9 - Costs","RDEL","9.03.15","2025/2026 Baseline","Non Gov",{"$f":"'9 - Costs'!H41","v":0},"9 - Costs'!H41"]
["9 - Costs","RDEL","9.03.15","2025/2026 Baseline","Whole Life Cost",{"$f":"'9 - Costs'!I41","v":0},"9 - Costs'!I41"]
["9 - Costs","RDEL","9.03.15","2025/2026 Baseline","RDEL Income",{"$f":"'9 - Costs'!J41","v":0},"9 - Costs'!L41"]
["9 - Costs","RDEL","9.03.16","2025/2026 Forecast","One off new costs",{"$f":"'9 - Costs'!E42","v":0},"9 - Costs'!E42",{"$f":"IF(CONCATENATE(F1555,\" - \",F1556,\" - \",F1557,\" - \",F1558,\" - \",F1559,\" - \",F1560)=\"0 - 0 - 0 - 0 - 0 - 0\",\"0\",CONCATENATE(F1555,\" - \",F1556,\" - \",F1557,\" - \",F1558,\" - \",F1559,\" - \",F1560))","v":"0"},null,{"$f":"'9 - Costs'!Q42","v":0},{"$f":"IF(J1555=F1555,\"\",\"Changed Since Last Quarter\")","v":""}]
["9 - Costs","RDEL","9.03.16","2025/2026 Forecast","Recurring new costs",{"$f":"'9 - Costs'!F42","v":0},"9 - Costs'!F42"]
["9 - Costs","RDEL","9.03.16","2025/2026 Forecast","Recurring old costs",{"$f":"'9 - Costs'!G42","v":0},"9 - Costs'!G42"]
["9 - Costs","RDEL","9.03.16","2025/2026 Forecast","Non Gov",{"$f":"'9 - Costs'!H42","v":0},"9 - Costs'!H42"]
["9 - Costs","RDEL","9.03.16","2025/2026 Forecast","Whole Life Cost",{"$f":"'9 - Costs'!I42","v":0},"9 - Costs'!I42"]
["9 - Costs","RDEL","9.03.16","2025/2026 Forecast","RDEL Income",{"$f":"'9 - Costs'!J42","v":0},"9 - Costs'!L42"]
["9 - Costs","RDEL","9.03.17","2026/2027 Baseline","One off new costs",{"$f":"'9 - Costs'!E43","v":0},"9 - Costs'!E43",{"$f":"IF(CONCATENATE(F1561,\" - \",F1562,\" - \",F1563,\" - \",F1564,\" - \",F1565,\" - \",F1566)=\"0 - 0 - 0 - 0 - 0 - 0\",\"0\",CONCATENATE(F1561,\" - \",F1562,\" - \",F1563,\" - \",F1564,\" - \",F1565,\" - \",F1566))","v":"0"},null,{"$f":"'9 - Costs'!Q43","v":0},{"$f":"IF(J1561=F1561,\"\",\"Changed Since Last Quarter\")","v":""}]
["9 - Costs","RDEL","9.03.17","2026/2027 Baseline","Recurring new costs",{"$f":"'9 - Costs'!F43","v":0},"9 - Costs'!F43"]
["9 - Costs","RDEL","9.03.17","2026/2027 Baseline","Recurring old costs",{"$f":"'9 - Costs'!G43","v":0},"9 - Costs'!G43"]
["9 - Costs","RDEL","9.03.17","2026/2027 Baseline","Non Gov",{"$f":"'9 - Costs'!H43","v":0},"9 - Costs'!H43"]
["9 - Costs","RDEL","9.03.17","2026/2027 Baseline","Whole Life Cost",{"$f":"'9 - Costs'!I43","v":0},"9 - Costs'!I43"]
["9 - Costs","RDEL","9.03.17","2026/2027 Baseline","RDEL Income",{"$f":"'9 - Costs'!J43","v":0},"9 - Costs'!L43"]
["9 - Costs","RDEL","9.03.18","2026/2027 Forecast","One off new costs",{"$f":"'9 - Costs'!E44","v":0},"9 - Costs'!E44",{"$f":"IF(CONCATENATE(F1567,\" - \",F1568,\" - \",F1569,\" - \",F1570,\" - \",F1571,\" - \",F1572)=\"0 - 0 - 0 - 0 - 0 - 0\",\"0\",CONCATENATE(F1567,\" - \",F1568,\" - \",F1569,\" - \",F1570,\" - \",F1571,\" - \",F1572))","v":"0"},null,{"$f":"'9 - Costs'!Q44","v":0},{"$f":"IF(J1567=F1567,\"\",\"Changed Since Last Quarter\")","v":""}]
["9 - Costs","RDEL","9.03.18","2026/2027 Forecast","Recurring new costs",{"$f":"'9 - Costs'!F44","v":0},"9 - Costs'!F44"]
["9 - Costs","RDEL","9.03.18","2026/2027 Forecast","Recurring old costs",{"$f":"'9 - Costs'!G44","v":0},"9 - Costs'!G44"]
["9 - Costs","RDEL","9.03.18","2026/2027 Forecast","Non Gov",{"$f":"'9 - Costs'!H44","v":0},"9 - Costs'!H44"]
["9 - Costs","RDEL","9.03.18","2026/2027 Forecast","Whole Life Cost",{"$f":"'9 - Costs'!I44","v":0},"9 - Costs'!I44"]
["9 - Costs","RDEL","9.03.18","2026/2027 Forecast","RDEL Income",{"$f":"'9 - Costs'!J44","v":0},"9 - Costs'!L44"]
["9 - Costs","RDEL","9.03.19","2027/2028 Baseline","One off new costs",{"$f":"'9 - Costs'!E45","v":0},"9 - Costs'!E45",{"$f":"IF(CONCATENATE(F1573,\" - \",F1574,\" - \",F1575,\" - \",F1576,\" - \",F1577,\" - \",F1578)=\"0 - 0 - 0 - 0 - 0 - 0\",\"0\",CONCATENATE(F1573,\" - \",F1574,\" - \",F1575,\" - \",F1576,\" - \",F1577,\" - \",F1578))","v":"0"},null,{"$f":"'9 - Costs'!Q45","v":0},{"$f":"IF(J1573=F1573,\"\",\"Changed Since Last Quarter\")","v":""}]
["9 - Costs","RDEL","9.03.19","2027/2028 Baseline","Recurring new costs",{"$f":"'9 - Costs'!F45","v":0},"9 - Costs'!F45"]
["9 - Costs","RDEL","9.03.19","2027/2028 Baseline","Recurring old costs",{"$f":"'9 - Costs'!G45","v":0},"9 - Costs'!G45"]
["9 - Costs","RDEL","9.03.19","2027/2028 Baseline","Non Gov",{"$f":"'9 - Costs'!H45","v":0},"9 - Costs'!H45"]
["9 - Costs","RDEL","9.03.19","2027/2028 Baseline","Whole Life Cost",{"$f":"'9 - Costs'!I45","v":0},"9 - Costs'!I45"]
["9 - Costs","RDEL","9.03.19","2027/2028 Baseline","RDEL Income",{"$f":"'9 - Costs'!J45","v":0},"9 - Costs'!L45"]
["9 - Costs","RDEL","9.03.20","2027/2028 Forecast","One off new costs",{"$f":"'9 - Costs'!E46","v":0},"9 - Costs'!E46",{"$f":"IF(CONCATENATE(F1579,\" - \",F1580,\" - \",F1581,\" - \",F1582,\" - \",F1583,\" - \",F1584)=\"0 - 0 - 0 - 0 - 0 - 0\",\"0\",CONCATENATE(F1579,\" - \",F1580,\" - \",F1581,\" - \",F1582,\" - \",F1583,\" - \",F1584))","v":"0"},null,{"$f":"'9 - Costs'!Q46","v":0},{"$f":"IF(J1579=F1579,\"\",\"Changed Since Last Quarter\")","v":""}]
["9 - Costs","RDEL","9.03.20","2027/2028 Forecast","Recurring new costs",{"$f":"'9 - Costs'!F46","v":0},"9 - Costs'!F46"]
["9 - Costs","RDEL","9.03.20","2027/2028 Forecast","Recurring old costs",{"$f":"'9 - Costs'!G46","v":0},"9 - Costs'!G46"]
["9 - Costs","RDEL","9.03.20","2027/2028 Forecast","Non Gov",{"$f":"'9 - Costs'!H46","v":0},"9 - Costs'!H46"]
["9 - Costs","RDEL","9.03.20","2027/2028 Forecast","Whole Life Cost",{"$f":"'9 - Costs'!I46","v":0},"9 - Costs'!I46"]
["9 - Costs","RDEL","9.03.20","2027/2028 Forecast","RDEL Income",{"$f":"'9 - Costs'!J46","v":0},"9 - Costs'!L46"]
["9 - Costs","RDEL","9.03.21","2028/2029 Baseline","One off new costs",{"$f":"'9 - Costs'!E47","v":0},"9 - Costs'!E47",{"$f":"IF(CONCATENATE(F1585,\" - \",F1586,\" - \",F1587,\" - \",F1588,\" - \",F1589,\" - \",F1590)=\"0 - 0 - 0 - 0 - 0 - 0\",\"0\",CONCATENATE(F1585,\" - \",F1586,\" - \",F1587,\" - \",F1588,\" - \",F1589,\" - \",F1590))","v":"0"},null,{"$f":"'9 - Costs'!Q47","v":0},{"$f":"IF(J1585=F1585,\"\",\"Changed Since Last Quarter\")","v":""}]
["9 - Costs","RDEL","9.03.21","2028/2029 Baseline","Recurring new costs",{"$f":"'9 - Costs'!F47","v":0},"9 - Costs'!F47"]
["9 - Costs","RDEL","9.03.21","2028/2029 Baseline","Recurring old costs",{"$f":"'9 - Costs'!G47","v":0},"9 - Costs'!G47"]
["9 - Costs","RDEL","9.03.21","2028/2029 Baseline","Non Gov",{"$f":"'9 - Costs'!H47","v":0},"9 - Costs'!H47"]
["9 - Costs","RDEL","9.03.21","2028/2029 Baseline","Whole Life Cost",{"$f":"'9 - Costs'!I47","v":0},"9 - Costs'!I47"]
["9 - Costs","RDEL","9.03.21","2028/2029 Baseline","RDEL Income",{"$f":"'9 - Costs'!J47","v":0},"9 - Costs'!L47"]
["9 - Costs","RDEL","9.03.22","2028/2029 Forecast","One off new costs",{"$f":"'9 - Costs'!E48","v":0},"9 - Costs'!E48",{"$f":"IF(CONCATENATE(F1591,\" - \",F1592,\" - \",F1593,\" - \",F1594,\" - \",F1595,\" - \",F1596)=\"0 - 0 - 0 - 0 - 0 - 0\",\"0\",CONCATENATE(F1591,\" - \",F1592,\" - \",F1593,\" - \",F1594,\" - \",F1595,\" - \",F1596))","v":"0"},null,{"$f":"'9 - Costs'!Q48","v":0},{"$f":"IF(J1591=F1591,\"\",\"Changed Since Last Quarter\")","v":""}]
["9 - Costs","RDEL","9.03.22","2028/2029 Forecast","Recurring new costs",{"$f":"'9 - Costs'!F48","v":0},"9 - Costs'!F48"]
["9 - Costs","RDEL","9.03.22","2028/2029 Forecast","Recurring old costs",{"$f":"'9 - Costs'!G48","v":0},"9 - Costs'!G48"]
["9 - Costs","RDEL","9.03.22","2028/2029 Forecast","Non Gov",{"$f":"'9 - Costs'!H48","v":0},"9 - Costs'!H48"]
["9 - Costs","RDEL","9.03.22","2028/2029 Forecast","Whole Life Cost",{"$f":"'9 - Costs'!I48","v":0},"9 - Costs'!I48"]
["9 - Costs","RDEL","9.03.22","2028/2029 Forecast","RDEL Income",{"$f":"'9 - Costs'!J48","v":0},"9 - Costs'!L48"]
["9 - Costs","RDEL","9.03.23","Remaining RDEL Baseline","One off new costs",{"$f":"'9 - Costs'!E49","v":0},"9 - Costs'!E49",{"$f":"IF(CONCATENATE(F1597,\" - \",F1598,\" - \",F1599,\" - \",F1600,\" - \",F1601,\" - \",F1602)=\"0 - 0 - 0 - 0 - 0 - 0\",\"0\",CONCATENATE(F1597,\" - \",F1598,\" - \",F1599,\" - \",F1600,\" - \",F1601,\" - \",F1602))","v":"0"},null,{"$f":"'9 - Costs'!Q49","v":0},{"$f":"IF(J1597=F1597,\"\",\"Changed Since Last Quarter\")","v":""}]
["9 - Costs","RDEL","9.03.23","Remaining RDEL Baseline","Recurring new costs",{"$f":"'9 - Costs'!F49","v":0},"9 - Costs'!F49"]
["9 - Costs","RDEL","9.03.23","Remaining RDEL Baseline","Recurring old costs",{"$f":"'9 - Costs'!G49","v":0},"9 - Costs'!G49"]
["9 - Costs","RDEL","9.03.23","Remaining RDEL Baseline","Non Gov",{"$f":"'9 - Costs'!H49","v":0},"9 - Costs'!H49"]
["9 - Costs","RDEL","9.03.23","Remaining RDEL Baseline","Whole Life Cost",{"$f":"'9 - Costs'!I49","v":0},"9 - Costs'!I49"]
["9 - Costs","RDEL","9.03.23","Remaining RDEL Baseline","RDEL Income",{"$f":"'9 - Costs'!J49","v":0},"9 - Costs'!L49"]
["9 - Costs","RDEL","9.03.24","Remaining RDEL Forecast","One off new costs",{"$f":"'9 - Costs'!E50","v":0},"9 - Costs'!E50",{"$f":"IF(CONCATENATE(F1603,\" - \",F1604,\" - \",F1605,\" - \",F1606,\" - \",F1607,\" - \",F1608)=\"0 - 0 - 0 - 0 - 0 - 0\",\"0\",CONCATENATE(F1603,\" - \",F1604,\" - \",F1605,\" - \",F1606,\" - \",F1607,\" - \",F1608))","v":"0"},null,{"$f":"'9 - Costs'!Q50","v":0},{"$f":"IF(J1603=F1603,\"\",\"Changed Since Last Quarter\")","v":""}]
["9 - Costs","RDEL","9.03.24","Remaining RDEL Forecast","Recurring new costs",{"$f":"'9 - Costs'!F50","v":0},"9 - Costs'!F50"]
["9 - Costs","RDEL","9.03.24","Remaining RDEL Forecast","Recurring old costs",{"$f":"'9 - Costs'!G50","v":0},"9 - Costs'!G50"]
["9 - Costs","RDEL","9.03.24","Remaining RDEL Forecast","Non Gov",{"$f":"'9 - Costs'!H50","v":0},"9 - Costs'!H50"]
["9 - Costs","RDEL","9.03.24","Remaining RDEL Forecast","Whole Life Cost",{"$f":"'9 - Costs'!I50","v":0},"9 - Costs'!I50"]
["9 - Costs","RDEL","9.03.24","Remaining RDEL Forecast","RDEL Income",{"$f":"'9 - Costs'!J50","v":0},"9 - Costs'!L50"]
["9 - Costs","RDEL","9.03.25","Total Baseline","One off new costs",{"$f":"'9 - Costs'!E49","v":0},"9 - Costs'!E51",{"$f":"IF(CONCATENATE(F1609,\" - \",F1610,\" - \",F1611,\" - \",F1612,\" - \",F1613,\" - \",F1614)=\"0 - 0 - 0 - 0 - 0 - 0\",\"0\",CONCATENATE(F1609,\" - \",F1610,\" - \",F1611,\" - \",F1612,\" - \",F1613,\" - \",F1614))","v":"0"},null,{"$f":"'9 - Costs'!Q51","v":0},{"$f":"IF(J1609=F1609,\"\",\"Changed Since Last Quarter\")","v":""}]
["9 - Costs","RDEL","9.03.25","Total Baseline","Recurring new costs",{"$f":"'9 - Costs'!F49","v":0},"9 - Costs'!F51"]
["9 - Costs","RDEL","9.03.25","Total Baseline","Recurring old costs",{"$f":"'9 - Costs'!G49","v":0},"9 - Costs'!G51"]
["9 - Costs","RDEL","9.03.25","Total Baseline","Non Gov",{"$f":"'9 - Costs'!H49","v":0},"9 - Costs'!H51"]
["9 - Costs","RDEL","9.03.25","Total Baseline","Whole Life Cost",{"$f":"'9 - Costs'!I49","v":0},"9 - Costs'!I51"]
["9 - Costs","RDEL","9.03.25","Total Baseline","RDEL Income",{"$f":"'9 - Costs'!J49","v":0},"9 - Costs'!L51"]
["9 - Costs","RDEL","9.03.26","Total Forecast","One off new costs",{"$f":"'9 - Costs'!E50","v":0},"9 - Costs'!E52",{"$f":"IF(CONCATENATE(F1615,\" - \",F1616,\" - \",F1617,\" - \",F1618,\" - \",F1619,\" - \",F1620)=\"0 - 0 - 0 - 0 - 0 - 0\",\"0\",CONCATENATE(F1615,\" - \",F1616,\" - \",F1617,\" - \",F1618,\" - \",F1619,\" - \",F1620))","v":"0"},null,{"$f":"'9 - Costs'!Q52","v":0},{"$f":"IF(J1615=F1615,\"\",\"Changed Since Last Quarter\")","v":""}]
["9 - Costs","RDEL","9.03.26","Total Forecast","Recurring new costs",{"$f":"'9 - Costs'!F50","v":0},"9 - Costs'!F52"]
["9 - Costs","RDEL","9.03.26","Total Forecast","Recurring old costs",{"$f":"'9 - Costs'!G50","v":0},"9 - Costs'!G52"]
["9 - Costs","RDEL","9.03.26","Total Forecast","Non Gov",{"$f":"'9 - Costs'!H50","v":0},"9 - Costs'!H52"]
["9 - Costs","RDEL","9.03.26","Total Forecast","Whole Life Cost",{"$f":"'9 - Costs'!I50","v":0},"9 - Costs'!I52"]
["9 - Costs","RDEL","9.03.26","Total Forecast","RDEL Income",{"$f":"'9 - Costs'!J50","v":0},"9 - Costs'!L52"]
["9 - Costs","RDEL","9.03.27",null,"Year Resource Spending Stops",{"$f":"'9 - Costs'!E53","v":"No Spend"},"9 - Costs'!E53",{"$f":"F1621","v":"No Spend"},null,{"$f":"'9 - Costs'!Q53","v":0},{"$f":"IF(J1621=F1621,\"\",\"Changed Since Last Quarter\")","v":"Changed Since Last Quarter"}]
["9 - Costs","CDEL","9.04.1","Pre-2019/2020 Baseline","One off new costs",{"$f":"'9 - Costs'!E56","v":62.35},"9 - Costs'!E56",{"$f":"IF(CONCATENATE(F1622,\" - \",F1623,\" - \",F1624,\" - \",F1625,\" - \",F1626,\" - \",F1627)=\"0 - 0 - 0 - 0 - 0 - 0\",\"0\",CONCATENATE(F1622,\" - \",F1623,\" - \",F1624,\" - \",F1625,\" - \",F1626,\" - \",F1627))","v":"62.35 - 0 - 0 - 0 - 62.35 - 0"},null,{"$f":"'9 - Costs'!Q56","v":0},{"$f":"IF(J1622=F1622,\"\",\"Changed Since Last Quarter\")","v":"Changed Since Last Quarter"}]
["9 - Costs","CDEL","9.04.1","Pre-2019/2020 Baseline","Recurring new costs",{"$f":"'9 - Costs'!F56","v":0},"9 - Costs'!F56"]
["9 - Costs","CDEL","9.04.1","Pre-2019/2020 Baseline","Recurring old costs",{"$f":"'9 - Costs'!G56","v":0},"9 - Costs'!G56"]
["9 - Costs","CDEL","9.04.1","Pre-2019/2020 Baseline","Non Gov",{"$f":"'9 - Costs'!H56","v":0},"9 - Costs'!H56"]
["9 - Costs","CDEL","9.04.1","Pre-2019/2020 Baseline","Whole Life Cost",{"$f":"'9 - Costs'!I56","v":62.35},"9 - Costs'!I56"]
["9 - Costs","CDEL","9.04.1","Pre-2019/2020 Baseline","CDEL Income",{"$f":"'9 - Costs'!J56","v":0},"9 - Costs'!L56"]
["9 - Costs","CDEL","9.04.2","Pre-2019/2020 Forecast","One off new costs",{"$f":"'9 - Costs'!E57","v":62.35},"9 - Costs'!E57",{"$f":"IF(CONCATENATE(F1628,\" - \",F1629,\" - \",F1630,\" - \",F1631,\" - \",F1632,\" - \",F1633)=\"0 - 0 - 0 - 0 - 0 - 0\",\"0\",CONCATENATE(F1628,\" - \",F1629,\" - \",F1630,\" - \",F1631,\" - \",F1632,\" - \",F1633))","v":"62.35 - 0 - 0 - 0 - 62.35 - 0"},null,{"$f":"'9 - Costs'!Q57","v":0},{"$f":"IF(J1628=F1628,\"\",\"Changed Since Last Quarter\")","v":"Changed Since Last Quarter"}]
["9 - Costs","CDEL","9.04.2","Pre-2019/2020 Forecast","Recurring new costs",{"$f":"'9 - Costs'!F57","v":0},"9 - Costs'!F57"]
["9 - Costs","CDEL","9.04.2","Pre-2019/2020 Forecast","Recurring old costs",{"$f":"'9 - Costs'!G57","v":0},"9 - Costs'!G57"]
["9 - Costs","CDEL","9.04.2","Pre-2019/2020 Forecast","Non Gov",{"$f":"'9 - Costs'!H57","v":0},"9 - Costs'!H57"]
["9 - Costs","CDEL","9.04.2","Pre-2019/2020 Forecast","Whole Life Cost",{"$f":"'9 - Costs'!I57","v":62.35},"9 - Costs'!I57"]
["9 - Costs","CDEL","9.04.2","Pre-2019/2020 Forecast","CDEL Income",{"$f":"'9 - Costs'!J57","v":0},"9 - Costs'!L57"]
["9 - Costs","CDEL","9.04.3","2019/2020 Baseline","One off new costs",{"$f":"'9 - Costs'!E58","v":30.42},"9 - Costs'!E58",{"$f":"IF(CONCATENATE(F1634,\" - \",F1635,\" - \",F1636,\" - \",F1637,\" - \",F1638,\" - \",F1639)=\"0 - 0 - 0 - 0 - 0 - 0\",\"0\",CONCATENATE(F1634,\" - \",F1635,\" - \",F1636,\" - \",F1637,\" - \",F1638,\" - \",F1639))","v":"30.42 - 0 - 0 - 0 - 30.42 - 0"},null,{"$f":"'9 - Costs'!Q58","v":0},{"$f":"IF(J1634=F1634,\"\",\"Changed Since Last Quarter\")","v":"Changed Since Last Quarter"}]
["9 - Costs","CDEL","9.04.3","2019/2020 Baseline","Recurring new costs",{"$f":"'9 - Costs'!F58","v":0},"9 - Costs'!F58"]
["9 - Costs","CDEL","9.04.3","2019/2020 Baseline","Recurring old costs",{"$f":"'9 - Costs'!G58","v":0},"9 - Costs'!G58"]
["9 - Costs","CDEL","9.04.3","2019/2020 Baseline","Non Gov",{"$f":"'9 - Costs'!H58","v":0},"9 - Costs'!H58"]
["9 - Costs","CDEL","9.04.3","2019/2020 Baseline","Whole Life Cost",{"$f":"'9 - Costs'!I58","v":30.42},"9 - Costs'!I58"]
["9 - Costs","CDEL","9.04.3","2019/2020 Baseline","CDEL Income",{"$f":"'9 - Costs'!J58","v":0},"9 - Costs'!L58"]
["9 - Costs","CDEL","9.04.4","2019/2020 Forecast","One off new costs",{"$f":"'9 - Costs'!E59","v":30.42},"9 - Costs'!E59",{"$f":"IF(CONCATENATE(F1640,\" - \",F1641,\" - \",F1642,\" - \",F1643,\" - \",F1644,\" - \",F1645)=\"0 - 0 - 0 - 0 - 0 - 0\",\"0\",CONCATENATE(F1640,\" - \",F1641,\" - \",F1642,\" - \",F1643,\" - \",F1644,\" - \",F1645))","v":"30.42 - 0 - 0 - 0 - 30.42 - 0"},null,{"$f":"'9 - Costs'!Q59","v":0},{"$f":"IF(J1640=F1640,\"\",\"Changed Since Last Quarter\")","v":"Changed Since Last Quarter"}]
["9 - Costs","CDEL","9.04.4","2019/2020 Forecast","Recurring new costs",{"$f":"'9 - Costs'!F59","v":0},"9 - Costs'!F59"]
["9 - Costs","CDEL","9.04.4","2019/2020 Forecast","Recurring old costs",{"$f":"'9 - Costs'!G59","v":0},"9 - Costs'!G59"]
["9 - Costs","CDEL","9.04.4","2019/2020 Forecast","Non Gov",{"$f":"'9 - Costs'!H59","v":0},"9 - Costs'!H59"]
["9 - Costs","CDEL","9.04.4","2019/2020 Forecast","Whole Life Cost",{"$f":"'9 - Costs'!I59","v":30.42},"9 - Costs'!I59"]
["9 - Costs","CDEL","9.04.4","2019/2020 Forecast","CDEL Income",{"$f":"'9 - Costs'!J59","v":0},"9 - Costs'!L59"]
["9 - Costs","CDEL","9.04.5","2020/2021 Baseline","One off new costs",{"$f":"'9 - Costs'!E60","v":62.41},"9 - Costs'!E60",{"$f":"IF(CONCATENATE(F1646,\" - \",F1647,\" - \",F1648,\" - \",F1649,\" - \",F1650,\" - \",F1651)=\"0 - 0 - 0 - 0 - 0 - 0\",\"0\",CONCATENATE(F1646,\" - \",F1647,\" - \",F1648,\" - \",F1649,\" - \",F1650,\" - \",F1651))","v":"62.41 - 0 - 0 - 0 - 62.41 - 0"},null,{"$f":"'9 - Costs'!Q60","v":0},{"$f":"IF(J1646=F1646,\"\",\"Changed Since Last Quarter\")","v":"Changed Since Last Quarter"}]
["9 - Costs","CDEL","9.04.5","2020/2021 Baseline","Recurring new costs",{"$f":"'9 - Costs'!F60","v":0},"9 - Costs'!F60"]
["9 - Costs","CDEL","9.04.5","2020/2021 Baseline","Recurring old costs",{"$f":"'9 - Costs'!G60","v":0},"9 - Costs'!G60"]
["9 - Costs","CDEL","9.04.5","2020/2021 Baseline","Non Gov",{"$f":"'9 - Costs'!H60","v":0},"9 - Costs'!H60"]
["9 - Costs","CDEL","9.04.5","2020/2021 Baseline","Whole Life Cost",{"$f":"'9 - Costs'!I60","v":62.41},"9 - Costs'!I60"]
["9 - Costs","CDEL","9.04.5","2020/2021 Baseline","CDEL Income",{"$f":"'9 - Costs'!J60","v":0},"9 - Costs'!L60"]
["9 - Costs","CDEL","9.04.6","2020/2021 Forecast","One off new costs",{"$f":"'9 - Costs'!E61","v":62.41},"9 - Costs'!E61",{"$f":"IF(CONCATENATE(F1652,\" - \",F1653,\" - \",F1654,\" - \",F1655,\" - \",F1656,\" - \",F1657)=\"0 - 0 - 0 - 0 - 0 - 0\",\"0\",CONCATENATE(F1652,\" - \",F1653,\" - \",F1654,\" - \",F1655,\" - \",F1656,\" - \",F1657))","v":"62.41 - 0 - 0 - 0 - 62.41 - 0"},null,{"$f":"'9 - Costs'!Q61","v":0},{"$f":"IF(J1652=F1652,\"\",\"Changed Since Last Quarter\")","v":"Changed Since Last Quarter"}]
["9 - Costs","CDEL","9.04.6","2020/2021 Forecast","Recurring new costs",{"$f":"'9 - Costs'!F61","v":0},"9 - Costs'!F61"]
["9 - Costs","CDEL","9.04.6","2020/2021 Forecast","Recurring old costs",{"$f":"'9 - Costs'!G61","v":0},"9 - Costs'!G61"]
["9 - Costs","CDEL","9.04.6","2020/2021 Forecast","Non Gov",{"$f":"'9 - Costs'!H61","v":0},"9 - Costs'!H61"]
["9 - Costs","CDEL","9.04.6","2020/2021 Forecast","Whole Life Cost",{"$f":"'9 - Costs'!I61","v":62.41},"9 - Costs'!I61"]
["9 - Costs","CDEL","9.04.6","2020/2021 Forecast","CDEL Income",{"$f":"'9 - Costs'!J61","v":0},"9 - Costs'!L61"]
["9 - Costs","CDEL","9.04.7","2021/2022 Baseline","One off new costs",{"$f":"'9 - Costs'!E62","v":278.91},"9 - Costs'!E62",{"$f":"IF(CONCATENATE(F1658,\" - \",F1659,\" - \",F1660,\" - \",F1661,\" - \",F1662,\" - \",F1663)=\"0 - 0 - 0 - 0 - 0 - 0\",\"0\",CONCATENATE(F1658,\" - \",F1659,\" - \",F1660,\" - \",F1661,\" - \",F1662,\" - \",F1663))","v":"278.91 - 0 - 0 - 0 - 278.91 - 0"},null,{"$f":"'9 - Costs'!Q62","v":0},{"$f":"IF(J1658=F1658,\"\",\"Changed Since Last Quarter\")","v":"Changed Since Last Quarter"}]
["9 - Costs","CDEL","9.04.7","2021/2022 Baseline","Recurring new costs",{"$f":"'9 - Costs'!F62","v":0},"9 - Costs'!F62"]
["9 - Costs","CDEL","9.04.7","2021/2022 Baseline","Recurring old costs",{"$f":"'9 - Costs'!G62","v":0},"9 - Costs'!G62"]
["9 - Costs","CDEL","9.04.7","2021/2022 Baseline","Non Gov",{"$f":"'9 - Costs'!H62","v":0},"9 - Costs'!H62"]
["9 - Costs","CDEL","9.04.7","2021/2022 Baseline","Whole Life Cost",{"$f":"'9 - Costs'!I62","v":278.91},"9 - Costs'!I62"]
["9 - Costs","CDEL","9.04.7","2021/2022 Baseline","CDEL Income",{"$f":"'9 - Costs'!J62","v":0},"9 - Costs'!L62"]
["9 - Costs","CDEL","9.04.8","2021/2022 Forecast","One off new costs",{"$f":"'9 - Costs'!E63","v":278.91},"9 - Costs'!E63",{"$f":"IF(CONCATENATE(F1664,\" - \",F1665,\" - \",F1666,\" - \",F1667,\" - \",F1668,\" - \",F1669)=\"0 - 0 - 0 - 0 - 0 - 0\",\"0\",CONCATENATE(F1664,\" - \",F1665,\" - \",F1666,\" - \",F1667,\" - \",F1668,\" - \",F1669))","v":"278.91 - 0 - 0 - 0 - 278.91 - 0"},null,{"$f":"'9 - Costs'!Q63","v":0},{"$f":"IF(J1664=F1664,\"\",\"Changed Since Last Quarter\")","v":"Changed Since Last Quarter"}]
["9 - Costs","CDEL","9.04.8","2021/2022 Forecast","Recurring new costs",{"$f":"'9 - Costs'!F63","v":0},"9 - Costs'!F63"]
["9 - Costs","CDEL","9.04.8","2021/2022 Forecast","Recurring old costs",{"$f":"'9 - Costs'!G63","v":0},"9 - Costs'!G63"]
["9 - Costs","CDEL","9.04.8","2021/2022 Forecast","Non Gov",{"$f":"'9 - Costs'!H63","v":0},"9 - Costs'!H63"]
["9 - Costs","CDEL","9.04.8","2021/2022 Forecast","Whole Life Cost",{"$f":"'9 - Costs'!I63","v":278.91},"9 - Costs'!I63"]
["9 - Costs","CDEL","9.04.8","2021/2022 Forecast","CDEL Income",{"$f":"'9 - Costs'!J63","v":0},"9 - Costs'!L63"]
["9 - Costs","CDEL","9.04.9","2022/2023 Baseline","One off new costs",{"$f":"'9 - Costs'!E64","v":403.65},"9 - Costs'!E64",{"$f":"IF(CONCATENATE(F1670,\" - \",F1671,\" - \",F1672,\" - \",F1673,\" - \",F1674,\" - \",F1675)=\"0 - 0 - 0 - 0 - 0 - 0\",\"0\",CONCATENATE(F1670,\" - \",F1671,\" - \",F1672,\" - \",F1673,\" - \",F1674,\" - \",F1675))","v":"403.65 - 0 - 0 - 0 - 403.65 - 0"},null,{"$f":"'9 - Costs'!Q64","v":0},{"$f":"IF(J1670=F1670,\"\",\"Changed Since Last Quarter\")","v":"Changed Since Last Quarter"}]
["9 - Costs","CDEL","9.04.9","2022/2023 Baseline","Recurring new costs",{"$f":"'9 - Costs'!F64","v":0},"9 - Costs'!F64"]
["9 - Costs","CDEL","9.04.9","2022/2023 Baseline","Recurring old costs",{"$f":"'9 - Costs'!G64","v":0},"9 - Costs'!G64"]
["9 - Costs","CDEL","9.04.9","2022/2023 Baseline","Non Gov",{"$f":"'9 - Costs'!H64","v":0},"9 - Costs'!H64"]
["9 - Costs","CDEL","9.04.9","2022/2023 Baseline","Whole Life Cost",{"$f":"'9 - Costs'!I64","v":403.65},"9 - Costs'!I64"]
["9 - Costs","CDEL","9.04.9","2022/2023 Baseline","CDEL Income",{"$f":"'9 - Costs'!J64","v":0},"9 - Costs'!L64"]
["9 - Costs","CDEL","9.04.10","2022/2023 Forecast","One off new costs",{"$f":"'9 - Costs'!E65","v":403.65},"9 - Costs'!E65",{"$f":"IF(CONCATENATE(F1676,\" - \",F1677,\" - \",F1678,\" - \",F1679,\" - \",F1680,\" - \",F1681)=\"0 - 0 - 0 - 0 - 0 - 0\",\"0\",CONCATENATE(F1676,\" - \",F1677,\" - \",F1678,\" - \",F1679,\" - \",F1680,\" - \",F1681))","v":"403.65 - 0 - 0 - 0 - 403.65 - 0"},null,{"$f":"'9 - Costs'!Q65","v":0},{"$f":"IF(J1676=F1676,\"\",\"Changed Since Last Quarter\")","v":"Changed Since Last Quarter"}]
["9 - Costs","CDEL","9.04.10","2022/2023 Forecast","Recurring new costs",{"$f":"'9 - Costs'!F65","v":0},"9 - Costs'!F65"]
["9 - Costs","CDEL","9.04.10","2022/2023 Forecast","Recurring old costs",{"$f":"'9 - Costs'!G65","v":0},"9 - Costs'!G65"]
["9 - Costs","CDEL","9.04.10","2022/2023 Forecast","Non Gov",{"$f":"'9 - Costs'!H65","v":0},"9 - Costs'!H65"]
["9 - Costs","CDEL","9.04.10","2022/2023 Forecast","Whole Life Cost",{"$f":"'9 - Costs'!I65","v":403.65},"9 - Costs'!I65"]
["9 - Costs","CDEL","9.04.10","2022/2023 Forecast","CDEL Income",{"$f":"'9 - Costs'!J65","v":0},"9 - Costs'!L65"]
["9 - Costs","CDEL","9.04.11","2023/2024 Baseline","One off new costs",{"$f":"'9 - Costs'!E66","v":381.94},"9 - Costs'!E66",{"$f":"IF(CONCATENATE(F1682,\" - \",F1683,\" - \",F1684,\" - \",F1685,\" - \",F1686,\" - \",F1687)=\"0 - 0 - 0 - 0 - 0 - 0\",\"0\",CONCATENATE(F1682,\" - \",F1683,\" - \",F1684,\" - \",F1685,\" - \",F1686,\" - \",F1687))","v":"381.94 - 0 - 0 - 0 - 381.94 - 0"},null,{"$f":"'9 - Costs'!Q66","v":0},{"$f":"IF(J1682=F1682,\"\",\"Changed Since Last Quarter\")","v":"Changed Since Last Quarter"}]
["9 - Costs","CDEL","9.04.11","2023/2024 Baseline","Recurring new costs",{"$f":"'9 - Costs'!F66","v":0},"9 - Costs'!F66"]
["9 - Costs","CDEL","9.04.11","2023/2024 Baseline","Recurring old costs",{"$f":"'9 - Costs'!G66","v":0},"9 - Costs'!G66"]
["9 - Costs","CDEL","9.04.11","2023/2024 Baseline","Non Gov",{"$f":"'9 - Costs'!H66","v":0},"9 - Costs'!H66"]
["9 - Costs","CDEL","9.04.11","2023/2024 Baseline","Whole Life Cost",{"$f":"'9 - Costs'!I66","v":381.94},"9 - Costs'!I66"]
["9 - Costs","CDEL","9.04.11","2023/2024 Baseline","CDEL Income",{"$f":"'9 - Costs'!J66","v":0},"9 - Costs'!L66"]
["9 - Costs","CDEL","9.04.12","2023/2024 Forecast","One off new costs",{"$f":"'9 - Costs'!E67","v":381.94},"9 - Costs'!E67",{"$f":"IF(CONCATENATE(F1688,\" - \",F1689,\" - \",F1690,\" - \",F1691,\" - \",F1692,\" - \",F1693)=\"0 - 0 - 0 - 0 - 0 - 0\",\"0\",CONCATENATE(F1688,\" - \",F1689,\" - \",F1690,\" - \",F1691,\" - \",F1692,\" - \",F1693))","v":"381.94 - 0 - 0 - 0 - 381.94 - 0"},null,{"$f":"'9 - Costs'!Q67","v":0},{"$f":"IF(J1688=F1688,\"\",\"Changed Since Last Quarter\")","v":"Changed Since Last Quarter"}]
["9 - Costs","CDEL","9.04.12","2023/2024 Forecast","Recurring new costs",{"$f":"'9 - Costs'!F67","v":0},"9 - Costs'!F67"]
["9 - Costs","CDEL","9.04.12","2023/2024 Forecast","Recurring old costs",{"$f":"'9 - Costs'!G67","v":0},"9 - Costs'!G67"]
["9 - Costs","CDEL","9.04.12","2023/2024 Forecast","Non Gov",{"$f":"'9 - Costs'!H67","v":0},"9 - Costs'!H67"]
["9 - Costs","CDEL","9.04.12","2023/2024 Forecast","Whole Life Cost",{"$f":"'9 - Costs'!I67","v":381.94},"9 - Costs'!I67"]
["9 - Costs","CDEL","9.04.12","2023/2024 Forecast","CDEL Income",{"$f":"'9 - Costs'!J67","v":0},"9 - Costs'!L67"]
["9 - Costs","CDEL","9.04.13","2024/2025 Baseline","One off new costs",{"$f":"'9 - Costs'!E68","v":271.61},"9 - Costs'!E68",{"$f":"IF(CONCATENATE(F1694,\" - \",F1695,\" - \",F1696,\" - \",F1697,\" - \",F1698,\" - \",F1699)=\"0 - 0 - 0 - 0 - 0 - 0\",\"0\",CONCATENATE(F1694,\" - \",F1695,\" - \",F1696,\" - \",F1697,\" - \",F1698,\" - \",F1699))","v":"271.61 - 0 - 0 - 0 - 271.61 - 0"},null,{"$f":"'9 - Costs'!Q68","v":0},{"$f":"IF(J1694=F1694,\"\",\"Changed Since Last Quarter\")","v":"Changed Since Last Quarter"}]
["9 - Costs","CDEL","9.04.13","2024/2025 Baseline","Recurring new costs",{"$f":"'9 - Costs'!F68","v":0},"9 - Costs'!F68"]
["9 - Costs","CDEL","9.04.13","2024/2025 Baseline","Recurring old costs",{"$f":"'9 - Costs'!G68","v":0},"9 - Costs'!G68"]
["9 - Costs","CDEL","9.04.13","2024/2025 Baseline","Non Gov",{"$f":"'9 - Costs'!H68","v":0},"9 - Costs'!H68"]
["9 - Costs","CDEL","9.04.13","2024/2025 Baseline","Whole Life Cost",{"$f":"'9 - Costs'!I68","v":271.61},"9 - Costs'!I68"]
["9 - Costs","CDEL","9.04.13","2024/2025 Baseline","CDEL Income",{"$f":"'9 - Costs'!J68","v":0},"9 - Costs'!L68"]
["9 - Costs","CDEL","9.04.14","2024/2025 Forecast","One off new costs",{"$f":"'9 - Costs'!E69","v":271.61},"9 - Costs'!E69",{"$f":"IF(CONCATENATE(F1700,\" - \",F1701,\" - \",F1702,\" - \",F1703,\" - \",F1704,\" - \",F1705)=\"0 - 0 - 0 - 0 - 0 - 0\",\"0\",CONCATENATE(F1700,\" - \",F1701,\" - \",F1702,\" - \",F1703,\" - \",F1704,\" - \",F1705))","v":"271.61 - 0 - 0 - 0 - 271.61 - 0"},null,{"$f":"'9 - Costs'!Q69","v":0},{"$f":"IF(J1700=F1700,\"\",\"Changed Since Last Quarter\")","v":"Changed Since Last Quarter"}]
["9 - Costs","CDEL","9.04.14","2024/2025 Forecast","Recurring new costs",{"$f":"'9 - Costs'!F69","v":0},"9 - Costs'!F69"]
["9 - Costs","CDEL","9.04.14","2024/2025 Forecast","Recurring old costs",{"$f":"'9 - Costs'!G69","v":0},"9 - Costs'!G69"]
["9 - Costs","CDEL","9.04.14","2024/2025 Forecast","Non Gov",{"$f":"'9 - Costs'!H69","v":0},"9 - Costs'!H69"]
["9 - Costs","CDEL","9.04.14","2024/2025 Forecast","Whole Life Cost",{"$f":"'9 - Costs'!I69","v":271.61},"9 - Costs'!I69"]
["9 - Costs","CDEL","9.04.14","2024/2025 Forecast","CDEL Income",{"$f":"'9 - Costs'!J69","v":0},"9 - Costs'!L69"]
["9 - Costs","CDEL","9.04.15","2025/2026 Baseline","One off new costs",{"$f":"'9 - Costs'!E70","v":169.78},"9 - Costs'!E70",{"$f":"IF(CONCATENATE(F1706,\" - \",F1707,\" - \",F1708,\" - \",F1709,\" - \",F1710,\" - \",F1711)=\"0 - 0 - 0 - 0 - 0 - 0\",\"0\",CONCATENATE(F1706,\" - \",F1707,\" - \",F1708,\" - \",F1709,\" - \",F1710,\" - \",F1711))","v":"169.78 - 0 - 0 - 0 - 169.78 - 0"},null,{"$f":"'9 - Costs'!Q70","v":0},{"$f":"IF(J1706=F1706,\"\",\"Changed Since Last Quarter\")","v":"Changed Since Last Quarter"}]
["9 - Costs","CDEL","9.04.15","2025/2026 Baseline","Recurring new costs",{"$f":"'9 - Costs'!F70","v":0},"9 - Costs'!F70"]
["9 - Costs","CDEL","9.04.15","2025/2026 Baseline","Recurring old costs",{"$f":"'9 - Costs'!G70","v":0},"9 - Costs'!G70"]
["9 - Costs","CDEL","9.04.15","2025/2026 Baseline","Non Gov",{"$f":"'9 - Costs'!H70","v":0},"9 - Costs'!H70"]
["9 - Costs","CDEL","9.04.15","2025/2026 Baseline","Whole Life Cost",{"$f":"'9 - Costs'!I70","v":169.78},"9 - Costs'!I70"]
["9 - Costs","CDEL","9.04.15","2025/2026 Baseline","CDEL Income",{"$f":"'9 - Costs'!J70","v":0},"9 - Costs'!L70"]
["9 - Costs","CDEL","9.04.16","2025/2026 Forecast","One off new costs",{"$f":"'9 - Costs'!E71","v":169.78},"9 - Costs'!E71",{"$f":"IF(CONCATENATE(F1712,\" - \",F1713,\" - \",F1714,\" - \",F1715,\" - \",F1716,\" - \",F1717)=\"0 - 0 - 0 - 0 - 0 - 0\",\"0\",CONCATENATE(F1712,\" - \",F1713,\" - \",F1714,\" - \",F1715,\" - \",F1716,\" - \",F1717))","v":"169.78 - 0 - 0 - 0 - 169.78 - 0"},null,{"$f":"'9 - Costs'!Q71","v":0},{"$f":"IF(J1712=F1712,\"\",\"Changed Since Last Quarter\")","v":"Changed Since Last Quarter"}]
["9 - Costs","CDEL","9.04.16","2025/2026 Forecast","Recurring new costs",{"$f":"'9 - Costs'!F71","v":0},"9 - Costs'!F71"]
["9 - Costs","CDEL","9.04.16","2025/2026 Forecast","Recurring old costs",{"$f":"'9 - Costs'!G71","v":0},"9 - Costs'!G71"]
["9 - Costs","CDEL","9.04.16","2025/2026 Forecast","Non Gov",{"$f":"'9 - Costs'!H71","v":0},"9 - Costs'!H71"]
["9 - Costs","CDEL","9.04.16","2025/2026 Forecast","Whole Life Cost",{"$f":"'9 - Costs'!I71","v":169.78},"9 - Costs'!I71"]
["9 - Costs","CDEL","9.04.16","2025/2026 Forecast","CDEL Income",{"$f":"'9 - Costs'!J71","v":0},"9 - Costs'!L71"]
["9 - Costs","CDEL","9.04.17","2026/2027 Baseline","One off new costs",{"$f":"'9 - Costs'!E72","v":38.3},"9 - Costs'!E72",{"$f":"IF(CONCATENATE(F1718,\" - \",F1719,\" - \",F1720,\" - \",F1721,\" - \",F1722,\" - \",F1723)=\"0 - 0 - 0 - 0 - 0 - 0\",\"0\",CONCATENATE(F1718,\" - \",F1719,\" - \",F1720,\" - \",F1721,\" - \",F1722,\" - \",F1723))","v":"38.3 - 0 - 0 - 0 - 38.3 - 0"},null,{"$f":"'9 - Costs'!Q72","v":0},{"$f":"IF(J1718=F1718,\"\",\"Changed Since Last Quarter\")","v":"Changed Since Last Quarter"}]
["9 - Costs","CDEL","9.04.17","2026/2027 Baseline","Recurring new costs",{"$f":"'9 - Costs'!F72","v":0},"9 - Costs'!F72"]
["9 - Costs","CDEL","9.04.17","2026/2027 Baseline","Recurring old costs",{"$f":"'9 - Costs'!G72","v":0},"9 - Costs'!G72"]
["9 - Costs","CDEL","9.04.17","2026/2027 Baseline","Non Gov",{"$f":"'9 - Costs'!H72","v":0},"9 - Costs'!H72"]
["9 - Costs","CDEL","9.04.17","2026/2027 Baseline","Whole Life Cost",{"$f":"'9 - Costs'!I72","v":38.3},"9 - Costs'!I72"]
["9 - Costs","CDEL","9.04.17","2026/2027 Baseline","CDEL Income",{"$f":"'9 - Costs'!J72","v":0},"9 - Costs'!L72"]
["9 - Costs","CDEL","9.04.18","2026/2027 Forecast","One off new costs",{"$f":"'9 - Costs'!E73","v":38.3},"9 - Costs'!E73",{"$f":"IF(CONCATENATE(F1724,\" - \",F1725,\" - \",F1726,\" - \",F1727,\" - \",F1728,\" - \",F1729)=\"0 - 0 - 0 - 0 - 0 - 0\",\"0\",CONCATENATE(F1724,\" - \",F1725,\" - \",F1726,\" - \",F1727,\" - \",F1728,\" - \",F1729))","v":"38.3 - 0 - 0 - 0 - 38.3 - 0"},null,{"$f":"'9 - Costs'!Q73","v":0},{"$f":"IF(J1724=F1724,\"\",\"Changed Since Last Quarter\")","v":"Changed Since Last Quarter"}]
["9 - Costs","CDEL","9.04.18","2026/2027 Forecast","Recurring new costs",{"$f":"'9 - Costs'!F73","v":0},"9 - Costs'!F73"]
["9 - Costs","CDEL","9.04.18","2026/2027 Forecast","Recurring old costs",{"$f":"'9 - Costs'!G73","v":0},"9 - Costs'!G73"]
["9 - Costs","CDEL","9.04.18","2026/2027 Forecast","Non Gov",{"$f":"'9 - Costs'!H73","v":0},"9 - Costs'!H73"]
["9 - Costs","CDEL","9.04.18","2026/2027 Forecast","Whole Life Cost",{"$f":"'9 - Costs'!I73","v":38.3},"9 - Costs'!I73"]
["9 - Costs","CDEL","9.04.18","2026/2027 Forecast","CDEL Income",{"$f":"'9 - Costs'!J73","v":0},"9 - Costs'!L73"]
["9 - Costs","CDEL","9.04.19","2027/2028 Baseline","One off new costs",{"$f":"'9 - Costs'!E74","v":0},"9 - Costs'!E74",{"$f":"IF(CONCATENATE(F1730,\" - \",F1731,\" - \",F1732,\" - \",F1733,\" - \",F1734,\" - \",F1735)=\"0 - 0 - 0 - 0 - 0 - 0\",\"0\",CONCATENATE(F1730,\" - \",F1731,\" - \",F1732,\" - \",F1733,\" - \",F1734,\" - \",F1735))","v":"0"},null,{"$f":"'9 - Costs'!Q74","v":0},{"$f":"IF(J1730=F1730,\"\",\"Changed Since Last Quarter\")","v":""}]
["9 - Costs","CDEL","9.04.19","2027/2028 Baseline","Recurring new costs",{"$f":"'9 - Costs'!F74","v":0},"9 - Costs'!F74"]
["9 - Costs","CDEL","9.04.19","2027/2028 Baseline","Recurring old costs",{"$f":"'9 - Costs'!G74","v":0},"9 - Costs'!G74"]
["9 - Costs","CDEL","9.04.19","2027/2028 Baseline","Non Gov",{"$f":"'9 - Costs'!H74","v":0},"9 - Costs'!H74"]
["9 - Costs","CDEL","9.04.19","2027/2028 Baseline","Whole Life Cost",{"$f":"'9 - Costs'!I74","v":0},"9 - Costs'!I74"]
["9 - Costs","CDEL","9.04.19","2027/2028 Baseline","CDEL Income",{"$f":"'9 - Costs'!J74","v":0},"9 - Costs'!L74"]
["9 - Costs","CDEL","9.04.20","2027/2028 Forecast","One off new costs",{"$f":"'9 - Costs'!E75","v":0},"9 - Costs'!E75",{"$f":"IF(CONCATENATE(F1736,\" - \",F1737,\" - \",F1738,\" - \",F1739,\" - \",F1740,\" - \",F1741)=\"0 - 0 - 0 - 0 - 0 - 0\",\"0\",CONCATENATE(F1736,\" - \",F1737,\" - \",F1738,\" - \",F1739,\" - \",F1740,\" - \",F1741))","v":"0"},null,{"$f":"'9 - Costs'!Q75","v":0},{"$f":"IF(J1736=F1736,\"\",\"Changed Since Last Quarter\")","v":""}]
["9 - Costs","CDEL","9.04.20","2027/2028 Forecast","Recurring new costs",{"$f":"'9 - Costs'!F75","v":0},"9 - Costs'!F75"]
["9 - Costs","CDEL","9.04.20","2027/2028 Forecast","Recurring old costs",{"$f":"'9 - Costs'!G75","v":0},"9 - Costs'!G75"]
["9 - Costs","CDEL","9.04.20","2027/2028 Forecast","Non Gov",{"$f":"'9 - Costs'!H75","v":0},"9 - Costs'!H75"]
["9 - Costs","CDEL","9.04.20","2027/2028 Forecast","Whole Life Cost",{"$f":"'9 - Costs'!I75","v":0},"9 - Costs'!I75"]
["9 - Costs","CDEL","9.04.20","2027/2028 Forecast","CDEL Income",{"$f":"'9 - Costs'!J75","v":0},"9 - Costs'!L75"]
["9 - Costs","CDEL","9.04.21","2028/2029 Baseline","One off new costs",{"$f":"'9 - Costs'!E76","v":0},"9 - Costs'!E76",{"$f":"IF(CONCATENATE(F1742,\" - \",F1743,\" - \",F1744,\" - \",F1745,\" - \",F1746,\" - \",F1747)=\"0 - 0 - 0 - 0 - 0 - 0\",\"0\",CONCATENATE(F1742,\" - \",F1743,\" - \",F1744,\" - \",F1745,\" - \",F1746,\" - \",F1747))","v":"0"},null,{"$f":"'9 - Costs'!Q76","v":0},{"$f":"IF(J1742=F1742,\"\",\"Changed Since Last Quarter\")","v":""}]
["9 - Costs","CDEL","9.04.21","2028/2029 Baseline","Recurring new costs",{"$f":"'9 - Costs'!F76","v":0},"9 - Costs'!F76"]
["9 - Costs","CDEL","9.04.21","2028/2029 Baseline","Recurring old costs",{"$f":"'9 - Costs'!G76","v":0},"9 - Costs'!G76"]
["9 - Costs","CDEL","9.04.21","2028/2029 Baseline","Non Gov",{"$f":"'9 - Costs'!H76","v":0},"9 - Costs'!H76"]
["9 - Costs","CDEL","9.04.21","2028/2029 Baseline","Whole Life Cost",{"$f":"'9 - Costs'!I76","v":0},"9 - Costs'!I76"]
["9 - Costs","CDEL","9.04.21","2028/2029 Baseline","CDEL Income",{"$f":"'9 - Costs'!J76","v":0},"9 - Costs'!L76"]
["9 - Costs","CDEL","9.04.22","2028/2029 Forecast","One off new costs",{"$f":"'9 - Costs'!E77","v":0},"9 - Costs'!E77",{"$f":"IF(CONCATENATE(F1748,\" - \",F1749,\" - \",F1750,\" - \",F1751,\" - \",F1752,\" - \",F1753)=\"0 - 0 - 0 - 0 - 0 - 0\",\"0\",CONCATENATE(F1748,\" - \",F1749,\" - \",F1750,\" - \",F1751,\" - \",F1752,\" - \",F1753))","v":"0"},null,{"$f":"'9 - Costs'!Q77","v":0},{"$f":"IF(J1748=F1748,\"\",\"Changed Since Last Quarter\")","v":""}]
["9 - Costs","CDEL","9.04.22","2028/2029 Forecast","Recurring new costs",{"$f":"'9 - Costs'!F77","v":0},"9 - Costs'!F77"]
["9 - Costs","CDEL","9.04.22","2028/2029 Forecast","Recurring old costs",{"$f":"'9 - Costs'!G77","v":0},"9 - Costs'!G77"]
["9 - Costs","CDEL","9.04.22","2028/2029 Forecast","Non Gov",{"$f":"'9 - Costs'!H77","v":0},"9 - Costs'!H77"]
["9 - Costs","CDEL","9.04.22","2028/2029 Forecast","Whole Life Cost",{"$f":"'9 - Costs'!I77","v":0},"9 - Costs'!I77"]
["9 - Costs","CDEL","9.04.22","2028/2029 Forecast","CDEL Income",{"$f":"'9 - Costs'!J77","v":0},"9 - Costs'!L77"]
["9 - Costs","CDEL","9.04.23","Remaining CDEL Baseline","One off new costs",{"$f":"'9 - Costs'!E78","v":0},"9 - Costs'!E78",{"$f":"IF(CONCATENATE(F1754,\" - \",F1755,\" - \",F1756,\" - \",F1757,\" - \",F1758,\" - \",F1759)=\"0 - 0 - 0 - 0 - 0 - 0\",\"0\",CONCATENATE(F1754,\" - \",F1755,\" - \",F1756,\" - \",F1757,\" - \",F1758,\" - \",F1759))","v":"0"},null,{"$f":"'9 - Costs'!Q78","v":0},{"$f":"IF(J1754=F1754,\"\",\"Changed Since Last Quarter\")","v":""}]
["9 - Costs","CDEL","9.04.23","Remaining CDEL Baseline","Recurring new costs",{"$f":"'9 - Costs'!F78","v":0},"9 - Costs'!F78"]
["9 - Costs","CDEL","9.04.23","Remaining CDEL Baseline","Recurring old costs",{"$f":"'9 - Costs'!G78","v":0},"9 - Costs'!G78"]
["9 - Costs","CDEL","9.04.23","Remaining CDEL Baseline","Non Gov",{"$f":"'9 - Costs'!H78","v":0},"9 - Costs'!H78"]
["9 - Costs","CDEL","9.04.23","Remaining CDEL Baseline","Whole Life Cost",{"$f":"'9 - Costs'!I78","v":0},"9 - Costs'!I78"]
["9 - Costs","CDEL","9.04.23","Remaining CDEL Baseline","CDEL Income",{"$f":"'9 - Costs'!J78","v":0},"9 - Costs'!L78"]
["9 - Costs","CDEL","9.04.24","Remaining CDEL Forecast","One off new costs",{"$f":"'9 - Costs'!E79","v":0},"9 - Costs'!E79",{"$f":"IF(CONCATENATE(F1760,\" - \",F1761,\" - \",F1762,\" - \",F1763,\" - \",F1764,\" - \",F1765)=\"0 - 0 - 0 - 0 - 0 - 0\",\"0\",CONCATENATE(F1760,\" - \",F1761,\" - \",F1762,\" - \",F1763,\" - \",F1764,\" - \",F1765))","v":"0"},null,{"$f":"'9 - Costs'!Q79","v":0},{"$f":"IF(J1760=F1760,\"\",\"Changed Since Last Quarter\")","v":""}]
["9 - Costs","CDEL","9.04.24","Remaining CDEL Forecast","Recurring new costs",{"$f":"'9 - Costs'!F79","v":0},"9 - Costs'!F79"]
["9 - Costs","CDEL","9.04.24","Remaining CDEL Forecast","Recurring old costs",{"$f":"'9 - Costs'!G79","v":0},"9 - Costs'!G79"]
["9 - Costs","CDEL","9.04.24","Remaining CDEL Forecast","Non Gov",{"$f":"'9 - Costs'!H79","v":0},"9 - Costs'!H79"]
["9 - Costs","CDEL","9.04.24","Remaining CDEL Forecast","Whole Life Cost",{"$f":"'9 - Costs'!I79","v":0},"9 - Costs'!I79"]
["9 - Costs","CDEL","9.04.24","Remaining CDEL Forecast","CDEL Income",{"$f":"'9 - Costs'!J79","v":0},"9 - Costs'!L79"]
["9 - Costs","CDEL","9.04.25","Total Baseline","One off new costs",{"$f":"'9 - Costs'!E80","v":1699.37},"9 - Costs'!E80",{"$f":"IF(CONCATENATE(F1766,\" - \",F1767,\" - \",F1768,\" - \",F1769,\" - \",F1770,\" - \",F1771)=\"0 - 0 - 0 - 0 - 0 - 0\",\"0\",CONCATENATE(F1766,\" - \",F1767,\" - \",F1768,\" - \",F1769,\" - \",F1770,\" - \",F1771))","v":"1699.37 - 0 - 0 - 0 - 1699.37 - 0"},null,{"$f":"'9 - Costs'!Q80","v":0},{"$f":"IF(J1766=F1766,\"\",\"Changed Since Last Quarter\")","v":"Changed Since Last Quarter"}]
["9 - Costs","CDEL","9.04.25","Total Baseline","Recurring new costs",{"$f":"'9 - Costs'!F80","v":0},"9 - Costs'!F80"]
["9 - Costs","CDEL","9.04.25","Total Baseline","Recurring old costs",{"$f":"'9 - Costs'!G80","v":0},"9 - Costs'!G80"]
["9 - Costs","CDEL","9.04.25","Total Baseline","Non Gov",{"$f":"'9 - Costs'!H80","v":0},"9 - Costs'!H80"]
["9 - Costs","CDEL","9.04.25","Total Baseline","Whole Life Cost",{"$f":"'9 - Costs'!I80","v":1699.37},"9 - Costs'!I80"]
["9 - Costs","CDEL","9.04.25","Total Baseline","CDEL Income",{"$f":"'9 - Costs'!J80","v":0},"9 - Costs'!L80"]
["9 - Costs","CDEL","9.04.26","Total Forecast","One off new costs",{"$f":"'9 - Costs'!E81","v":1699.37},"9 - Costs'!E81",{"$f":"IF(CONCATENATE(F1772,\" - \",F1773,\" - \",F1774,\" - \",F1775,\" - \",F1776,\" - \",F1777)=\"0 - 0 - 0 - 0 - 0 - 0\",\"0\",CONCATENATE(F1772,\" - \",F1773,\" - \",F1774,\" - \",F1775,\" - \",F1776,\" - \",F1777))","v":"1699.37 - 0 - 0 - 0 - 1699.37 - 0"},null,{"$f":"'9 - Costs'!Q81","v":0},{"$f":"IF(J1772=F1772,\"\",\"Changed Since Last Quarter\")","v":"Changed Since Last Quarter"}]
["9 - Costs","CDEL","9.04.26","Total Forecast","Recurring new costs",{"$f":"'9 - Costs'!F81","v":0},"9 - Costs'!F81"]
["9 - Costs","CDEL","9.04.26","Total Forecast","Recurring old costs",{"$f":"'9 - Costs'!G81","v":0},"9 - Costs'!G81"]
["9 - Costs","CDEL","9.04.26","Total Forecast","Non Gov",{"$f":"'9 - Costs'!H81","v":0},"9 - Costs'!H81"]
["9 - Costs","CDEL","9.04.26","Total Forecast","Whole Life Cost",{"$f":"'9 - Costs'!I81","v":1699.37},"9 - Costs'!I81"]
["9 - Costs","CDEL","9.04.26","Total Forecast","CDEL Income",{"$f":"'9 - Costs'!J81","v":0},"9 - Costs'!L81"]
["9 - Costs","CDEL","9.04.27",null,"Year Capital Spend Stops",{"$f":"'9 - Costs'!E82","v":"2026/2027"},"9 - Costs'!E83",{"$f":"F1778","v":"2026/2027"},null,{"$f":"'9 - Costs'!Q82","v":0},{"$f":"IF(J1778=F1778,\"\",\"Changed Since Last Quarter\")","v":"Changed Since Last Quarter"}]
["10 - Benefits","Benefits","10.01.1",null,"General Benefits Narrative",{"$f":"'10 - Benefits'!E6","v":"No benefit to the world."},"10 - Benefits'!E6",{"$f":"F1779","v":"No benefit to the world."},null,{"$f":"'10 - Benefits'!P6","v":0},{"$f":"IF(J1779=F1779,\"\",\"Changed Since Last Quarter\")","v":"Changed Since Last Quarter"}]
["10 - Benefits","Benefits","10.01.2",null,"COMPARISON WITH LAST QUARTERS TOTAL BENEFITS / IN-YEAR BENEFITS",{"$f":"'10 - Benefits'!E7","v":"No change."},"10 - Benefits'!E7",{"$f":"F1780","v":"No change."},null,{"$f":"'10 - Benefits'!P7","v":0},{"$f":"IF(J1780=F1780,\"\",\"Changed Since Last Quarter\")","v":"Changed Since Last Quarter"}]
["10 - Benefits","Benefits","10.01.3",null,"COMPARISON WITHIN THIS QUARTERS BENEFITS",{"$f":"'10 - Benefits'!E8","v":"No change."},"10 - Benefits'!E8",{"$f":"F1781","v":"No change."},null,{"$f":"'10 - Benefits'!P8","v":0},{"$f":"IF(J1781=F1781,\"\",\"Changed Since Last Quarter\")","v":"Changed Since Last Quarter"}]
["10 - Benefits","Benefits","10.01.4",null,"Narrative on any project Non-Monetised benefits",{"$f":"'10 - Benefits'!E9","v":"N/A"},"10 - Benefits'!E9",{"$f":"F1782","v":"N/A"},null,{"$f":"'10 - Benefits'!P9","v":0},{"$f":"IF(J1782=F1782,\"\",\"Changed Since Last Quarter\")","v":"Changed Since Last Quarter"}]
["10 - Benefits","Benefits","10.01.5",null,"If benefits profile (by years) not provided, please provide reason and date for when they will be",{"$f":"'10 - Benefits'!E10","v":"Problems there are many, there may be more.Problems there are many, there may be more.Problems there are many, there may be more.Problems there are many, there may be more.Problems there are many, there may be more.Problems there are many, there may be more.Problems there are many, there may be more.Problems there are many, there may be more.Problems there are many, there may be more.Problems there are many, there may be more.Problems there are many, there may be more.Problems there are many, there may be more.Problems there are many, there may be more.Problems there are many, there may be more.Problems there are many, there may be more.Problems there are many, there may be more.Problems there are many, there may be more.Problems there are many, there may be more.Problems there are many, there may be more.Problems there are many, there may be more.Problems there are many, there may be more.Problems there are many, there may be more."},"10 - Benefits'!E10",{"$f":"F1783","v":"Problems there are many, there may be more.Problems there are many, there may be more.Problems there are many, there may be more.Problems there are many, there may be more.Problems there are many, there may be more.Problems there are many, there may be more.Problems there are many, there may be more.Problems there are many, there may be more.Problems there are many, there may be more.Problems there are many, there may be more.Problems there are many, there may be more.Problems there are many, there may be more.Problems there are many, there may be more.Problems there are many, there may be more.Problems there are many, there may be more.Problems there are many, there may be more.Problems there are many, there may be more.Problems there are many, there may be more.Problems there are many, there may be more.Problems there are many, there may be more.Problems there are many, there may be more.Problems there are many, there may be more."},null,{"$f":"'10 - Benefits'!P10","v":0},{"$f":"IF(J1783=F1783,\"\",\"Changed Since Last Quarter\")","v":"Changed Since Last Quarter"}]
["10 - Benefits","Benefits (£m)","10.03.1","Pre-2019/2020 Baseline","Government cash-releasing",{"$f":"'10 - Benefits'!E25","v":0},"10 - Benefits'!E25",{"$f":"IF(CONCATENATE(F1784,\" - \",F1785,\" - \",F1786,\" - \",F1787,\" - \",F1788)=\"0 - 0 - 0 - 0 - 0\",\"0\",CONCATENATE(F1784,\" - \",F1785,\" - \",F1786,\" - \",F1787,\" - \",F1788))","v":"0"},null,{"$f":"'10 - Benefits'!P25","v":0},{"$f":"IF(J1784=F1784,\"\",\"Changed Since Last Quarter\")","v":""}]
["10 - Benefits","Benefits (£m)","10.03.1","Pre-2019/2020 Baseline","Government non cash-releasing",{"$f":"'10 - Benefits'!F25","v":0},"10 - Benefits'!F25"]
["10 - Benefits","Benefits (£m)","10.03.1","Pre-2019/2020 Baseline","Wider UK Public Economic",{"$f":"'10 - Benefits'!G25","v":0},"10 - Benefits'!G25"]
["10 - Benefits","Benefits (£m)","10.03.1","Pre-2019/2020 Baseline","Disbenefits",{"$f":"'10 - Benefits'!H25","v":0},"10 - Benefits'!H25"]
["10 - Benefits","Benefits (£m)","10.03.1","Pre-2019/2020 Baseline","Total Monetised Benefits",{"$f":"'10 - Benefits'!K25","v":0},"10 - Benefits'!K25"]
["10 - Benefits","Benefits (£m)","10.03.2","Pre-2019/2020 Forecast","Government cash-releasing",{"$f":"'10 - Benefits'!E26","v":0},"10 - Benefits'!E26",{"$f":"IF(CONCATENATE(F1789,\" - \",F1790,\" - \",F1791,\" - \",F1792,\" - \",F1793)=\"0 - 0 - 0 - 0 - 0\",\"0\",CONCATENATE(F1789,\" - \",F1790,\" - \",F1791,\" - \",F1792,\" - \",F1793))","v":"0"},null,{"$f":"'10 - Benefits'!P26","v":0},{"$f":"IF(J1789=F1789,\"\",\"Changed Since Last Quarter\")","v":""}]
["10 - Benefits","Benefits (£m)","10.03.2","Pre-2019/2020 Forecast","Government non cash-releasing",{"$f":"'10 - Benefits'!F26","v":0},"10 - Benefits'!F26"]
["10 - Benefits","Benefits (£m)","10.03.2","Pre-2019/2020 Forecast","Wider UK Public Economic",{"$f":"'10 - Benefits'!G26","v":0},"10 - Benefits'!G26"]
["10 - Benefits","Benefits (£m)","10.03.2","Pre-2019/2020 Forecast","Disbenefits",{"$f":"'10 - Benefits'!H26","v":0},"10 - Benefits'!H26"]
["10 - Benefits","Benefits (£m)","10.03.2","Pre-2019/2020 Forecast","Total Monetised Benefits",{"$f":"'10 - Benefits'!K26","v":0},"10 - Benefits'!K26"]
["10 - Benefits","Benefits (£m)","10.03.3","2019/2020 Baseline","Government cash-releasing",{"$f":"'10 - Benefits'!E27","v":0},"10 - Benefits'!E27",{"$f":"IF(CONCATENATE(F1794,\" - \",F1795,\" - \",F1796,\" - \",F1797,\" - \",F1798)=\"0 - 0 - 0 - 0 - 0\",\"0\",CONCATENATE(F1794,\" - \",F1795,\" - \",F1796,\" - \",F1797,\" - \",F1798))","v":"0"},null,{"$f":"'10 - Benefits'!P27","v":0},{"$f":"IF(J1794=F1794,\"\",\"Changed Since Last Quarter\")","v":""}]
["10 - Benefits","Benefits (£m)","10.03.3","2019/2020 Baseline","Government non cash-releasing",{"$f":"'10 - Benefits'!F27","v":0},"10 - Benefits'!F27"]
["10 - Benefits","Benefits (£m)","10.03.3","2019/2020 Baseline","Wider UK Public Economic",{"$f":"'10 - Benefits'!G27","v":0},"10 - Benefits'!G27"]
["10 - Benefits","Benefits (£m)","10.03.3","2019/2020 Baseline","Disbenefits",{"$f":"'10 - Benefits'!H27","v":0},"10 - Benefits'!H27"]
["10 - Benefits","Benefits (£m)","10.03.3","2019/2020 Baseline","Total Monetised Benefits",{"$f":"'10 - Benefits'!K27","v":0},"10 - Benefits'!K27"]
["10 - Benefits","Benefits (£m)","10.03.4","2019/2020 Forecast","Government cash-releasing",{"$f":"'10 - Benefits'!E28","v":0},"10 - Benefits'!E28",{"$f":"IF(CONCATENATE(F1799,\" - \",F1800,\" - \",F1801,\" - \",F1802,\" - \",F1803)=\"0 - 0 - 0 - 0 - 0\",\"0\",CONCATENATE(F1799,\" - \",F1800,\" - \",F1801,\" - \",F1802,\" - \",F1803))","v":"0"},null,{"$f":"'10 - Benefits'!P28","v":0},{"$f":"IF(J1799=F1799,\"\",\"Changed Since Last Quarter\")","v":""}]
["10 - Benefits","Benefits (£m)","10.03.4","2019/2020 Forecast","Government non cash-releasing",{"$f":"'10 - Benefits'!F28","v":0},"10 - Benefits'!F28"]
["10 - Benefits","Benefits (£m)","10.03.4","2019/2020 Forecast","Wider UK Public Economic",{"$f":"'10 - Benefits'!G28","v":0},"10 - Benefits'!G28"]
["10 - Benefits","Benefits (£m)","10.03.4","2019/2020 Forecast","Disbenefits",{"$f":"'10 - Benefits'!H28","v":0},"10 - Benefits'!H28"]
["10 - Benefits","Benefits (£m)","10.03.4","2019/2020 Forecast","Total Monetised Benefits",{"$f":"'10 - Benefits'!K28","v":0},"10 - Benefits'!K28"]
["10 - Benefits","Benefits (£m)","10.03.5","2020/2021 Baseline","Government cash-releasing",{"$f":"'10 - Benefits'!E29","v":0},"10 - Benefits'!E29",{"$f":"IF(CONCATENATE(F1804,\" - \",F1805,\" - \",F1806,\" - \",F1807,\" - \",F1808)=\"0 - 0 - 0 - 0 - 0\",\"0\",CONCATENATE(F1804,\" - \",F1805,\" - \",F1806,\" - \",F1807,\" - \",F1808))","v":"0"},null,{"$f":"'10 - Benefits'!P29","v":0},{"$f":"IF(J1804=F1804,\"\",\"Changed Since Last Quarter\")","v":""}]
["10 - Benefits","Benefits (£m)","10.03.5","2020/2021 Baseline","Government non cash-releasing",{"$f":"'10 - Benefits'!F29","v":0},"10 - Benefits'!F29"]
["10 - Benefits","Benefits (£m)","10.03.5","2020/2021 Baseline","Wider UK Public Economic",{"$f":"'10 - Benefits'!G29","v":0},"10 - Benefits'!G29"]
["10 - Benefits","Benefits (£m)","10.03.5","2020/2021 Baseline","Disbenefits",{"$f":"'10 - Benefits'!H29","v":0},"10 - Benefits'!H29"]
["10 - Benefits","Benefits (£m)","10.03.5","2020/2021 Baseline","Total Monetised Benefits",{"$f":"'10 - Benefits'!K29","v":0},"10 - Benefits'!K29"]
["10 - Benefits","Benefits (£m)","10.03.6","2020/2021 Forecast","Government cash-releasing",{"$f":"'10 - Benefits'!E30","v":0},"10 - Benefits'!E30",{"$f":"IF(CONCATENATE(F1809,\" - \",F1810,\" - \",F1811,\" - \",F1812,\" - \",F1813)=\"0 - 0 - 0 - 0 - 0\",\"0\",CONCATENATE(F1809,\" - \",F1810,\" - \",F1811,\" - \",F1812,\" - \",F1813))","v":"0"},null,{"$f":"'10 - Benefits'!P30","v":0},{"$f":"IF(J1809=F1809,\"\",\"Changed Since Last Quarter\")","v":""}]
["10 - Benefits","Benefits (£m)","10.03.6","2020/2021 Forecast","Government non cash-releasing",{"$f":"'10 - Benefits'!F30","v":0},"10 - Benefits'!F30"]
["10 - Benefits","Benefits (£m)","10.03.6","2020/2021 Forecast","Wider UK Public Economic",{"$f":"'10 - Benefits'!G30","v":0},"10 - Benefits'!G30"]
["10 - Benefits","Benefits (£m)","10.03.6","2020/2021 Forecast","Disbenefits",{"$f":"'10 - Benefits'!H30","v":0},"10 - Benefits'!H30"]
["10 - Benefits","Benefits (£m)","10.03.6","2020/2021 Forecast","Total Monetised Benefits",{"$f":"'10 - Benefits'!K30","v":0},"10 - Benefits'!K30"]
["10 - Benefits","Benefits (£m)","10.03.7","2021/2022 Baseline","Government cash-releasing",{"$f":"'10 - Benefits'!E31","v":0},"10 - Benefits'!E31",{"$f":"IF(CONCATENATE(F1814,\" - \",F1815,\" - \",F1816,\" - \",F1817,\" - \",F1818)=\"0 - 0 - 0 - 0 - 0\",\"0\",CONCATENATE(F1814,\" - \",F1815,\" - \",F1816,\" - \",F1817,\" - \",F1818))","v":"0"},null,{"$f":"'10 - Benefits'!P31","v":0},{"$f":"IF(J1814=F1814,\"\",\"Changed Since Last Quarter\")","v":""}]
["10 - Benefits","Benefits (£m)","10.03.7","2021/2022 Baseline","Government non cash-releasing",{"$f":"'10 - Benefits'!F31","v":0},"10 - Benefits'!F31"]
["10 - Benefits","Benefits (£m)","10.03.7","2021/2022 Baseline","Wider UK Public Economic",{"$f":"'10 - Benefits'!G31","v":0},"10 - Benefits'!G31"]
["10 - Benefits","Benefits (£m)","10.03.7","2021/2022 Baseline","Disbenefits",{"$f":"'10 - Benefits'!H31","v":0},"10 - Benefits'!H31"]
["10 - Benefits","Benefits (£m)","10.03.7","2021/2022 Baseline","Total Monetised Benefits",{"$f":"'10 - Benefits'!K31","v":0},"10 - Benefits'!K31"]
["10 - Benefits","Benefits (£m)","10.03.8","2021/2022 Forecast","Government cash-releasing",{"$f":"'10 - Benefits'!E32","v":0},"10 - Benefits'!E32",{"$f":"IF(CONCATENATE(F1819,\" - \",F1820,\" - \",F1821,\" - \",F1822,\" - \",F1823)=\"0 - 0 - 0 - 0 - 0\",\"0\",CONCATENATE(F1819,\" - \",F1820,\" - \",F1821,\" - \",F1822,\" - \",F1823))","v":"0"},null,{"$f":"'10 - Benefits'!P32","v":0},{"$f":"IF(J1819=F1819,\"\",\"Changed Since Last Quarter\")","v":""}]
["10 - Benefits","Benefits (£m)","10.03.8","2021/2022 Forecast","Government non cash-releasing",{"$f":"'10 - Benefits'!F32","v":0},"10 - Benefits'!F32"]
["10 - Benefits","Benefits (£m)","10.03.8","2021/2022 Forecast","Wider UK Public Economic",{"$f":"'10 - Benefits'!G32","v":0},"10 - Benefits'!G32"]
["10 - Benefits","Benefits (£m)","10.03.8","2021/2022 Forecast","Disbenefits",{"$f":"'10 - Benefits'!H32","v":0},"10 - Benefits'!H32"]
["10 - Benefits","Benefits (£m)","10.03.8","2021/2022 Forecast","Total Monetised Benefits",{"$f":"'10 - Benefits'!K32","v":0},"10 - Benefits'!K32"]
["10 - Benefits","Benefits (£m)","10.03.9","2022/2023 Baseline","Government cash-releasing",{"$f":"'10 - Benefits'!E33","v":0},"10 - Benefits'!E33",{"$f":"IF(CONCATENATE(F1824,\" - \",F1825,\" - \",F1826,\" - \",F1827,\" - \",F1828)=\"0 - 0 - 0 - 0 - 0\",\"0\",CONCATENATE(F1824,\" - \",F1825,\" - \",F1826,\" - \",F1827,\" - \",F1828))","v":"0"},null,{"$f":"'10 - Benefits'!P33","v":0},{"$f":"IF(J1824=F1824,\"\",\"Changed Since Last Quarter\")","v":""}]
["10 - Benefits","Benefits (£m)","10.03.9","2022/2023 Baseline","Government non cash-releasing",{"$f":"'10 - Benefits'!F33","v":0},"10 - Benefits'!F33"]
["10 - Benefits","Benefits (£m)","10.03.9","2022/2023 Baseline","Wider UK Public Economic",{"$f":"'10 - Benefits'!G33","v":0},"10 - Benefits'!G33"]
["10 - Benefits","Benefits (£m)","10.03.9","2022/2023 Baseline","Disbenefits",{"$f":"'10 - Benefits'!H33","v":0},"10 - Benefits'!H33"]
["10 - Benefits","Benefits (£m)","10.03.9","2022/2023 Baseline","Total Monetised Benefits",{"$f":"'10 - Benefits'!K33","v":0},"10 - Benefits'!K33"]
["10 - Benefits","Benefits (£m)","10.03.10","2022/2023 Forecast","Government cash-releasing",{"$f":"'10 - Benefits'!E34","v":0},"10 - Benefits'!E34",{"$f":"IF(CONCATENATE(F1829,\" - \",F1830,\" - \",F1831,\" - \",F1832,\" - \",F1833)=\"0 - 0 - 0 - 0 - 0\",\"0\",CONCATENATE(F1829,\" - \",F1830,\" - \",F1831,\" - \",F1832,\" - \",F1833))","v":"0"},null,{"$f":"'10 - Benefits'!P34","v":0},{"$f":"IF(J1829=F1829,\"\",\"Changed Since Last Quarter\")","v":""}]
["10 - Benefits","Benefits (£m)","10.03.10","2022/2023 Forecast","Government non cash-releasing",{"$f":"'10 - Benefits'!F34","v":0},"10 - Benefits'!F34"]
["10 - Benefits","Benefits (£m)","10.03.10","2022/2023 Forecast","Wider UK Public Economic",{"$f":"'10 - Benefits'!G34","v":0},"10 - Benefits'!G34"]
["10 - Benefits","Benefits (£m)","10.03.10","2022/2023 Forecast","Disbenefits",{"$f":"'10 - Benefits'!H34","v":0},"10 - Benefits'!H34"]
["10 - Benefits","Benefits (£m)","10.03.10","2022/2023 Forecast","Total Monetised Benefits",{"$f":"'10 - Benefits'!K34","v":0},"10 - Benefits'!K34"]
["10 - Benefits","Benefits (£m)","10.03.11","2023/2024 Baseline","Government cash-releasing",{"$f":"'10 - Benefits'!E35","v":0},"10 - Benefits'!E35",{"$f":"IF(CONCATENATE(F1834,\" - \",F1835,\" - \",F1836,\" - \",F1837,\" - \",F1838)=\"0 - 0 - 0 - 0 - 0\",\"0\",CONCATENATE(F1834,\" - \",F1835,\" - \",F1836,\" - \",F1837,\" - \",F1838))","v":"0"},null,{"$f":"'10 - Benefits'!P35","v":0},{"$f":"IF(J1834=F1834,\"\",\"Changed Since Last Quarter\")","v":""}]
["10 - Benefits","Benefits (£m)","10.03.11","2023/2024 Baseline","Government non cash-releasing",{"$f":"'10 - Benefits'!F35","v":0},"10 - Benefits'!F35"]
["10 - Benefits","Benefits (£m)","10.03.11","2023/2024 Baseline","Wider UK Public Economic",{"$f":"'10 - Benefits'!G35","v":0},"10 - Benefits'!G35"]
["10 - Benefits","Benefits (£m)","10.03.11","2023/2024 Baseline","Disbenefits",{"$f":"'10 - Benefits'!H35","v":0},"10 - Benefits'!H35"]
["10 - Benefits","Benefits (£m)","10.03.11","2023/2024 Baseline","Total Monetised Benefits",{"$f":"'10 - Benefits'!K35","v":0},"10 - Benefits'!K35"]
["10 - Benefits","Benefits (£m)","10.03.12","2023/2024 Forecast","Government cash-releasing",{"$f":"'10 - Benefits'!E36","v":0},"10 - Benefits'!E36",{"$f":"IF(CONCATENATE(F1839,\" - \",F1840,\" - \",F1841,\" - \",F1842,\" - \",F1843)=\"0 - 0 - 0 - 0 - 0\",\"0\",CONCATENATE(F1839,\" - \",F1840,\" - \",F1841,\" - \",F1842,\" - \",F1843))","v":"0"},null,{"$f":"'10 - Benefits'!P36","v":0},{"$f":"IF(J1839=F1839,\"\",\"Changed Since Last Quarter\")","v":""}]
["10 - Benefits","Benefits (£m)","10.03.12","2023/2024 Forecast","Government non cash-releasing",{"$f":"'10 - Benefits'!F36","v":0},"10 - Benefits'!F36"]
["10 - Benefits","Benefits (£m)","10.03.12","2023/2024 Forecast","Wider UK Public Economic",{"$f":"'10 - Benefits'!G36","v":0},"10 - Benefits'!G36"]
["10 - Benefits","Benefits (£m)","10.03.12","2023/2024 Forecast","Disbenefits",{"$f":"'10 - Benefits'!H36","v":0},"10 - Benefits'!H36"]
["10 - Benefits","Benefits (£m)","10.03.12","2023/2024 Forecast","Total Monetised Benefits",{"$f":"'10 - Benefits'!K36","v":0},"10 - Benefits'!K36"]
["10 - Benefits","Benefits (£m)","10.03.13","2024/2025 Baseline","Government cash-releasing",{"$f":"'10 - Benefits'!E37","v":0},"10 - Benefits'!E37",{"$f":"IF(CONCATENATE(F1844,\" - \",F1845,\" - \",F1846,\" - \",F1847,\" - \",F1848)=\"0 - 0 - 0 - 0 - 0\",\"0\",CONCATENATE(F1844,\" - \",F1845,\" - \",F1846,\" - \",F1847,\" - \",F1848))","v":"0"},null,{"$f":"'10 - Benefits'!P37","v":0},{"$f":"IF(J1844=F1844,\"\",\"Changed Since Last Quarter\")","v":""}]
["10 - Benefits","Benefits (£m)","10.03.13","2024/2025 Baseline","Government non cash-releasing",{"$f":"'10 - Benefits'!F37","v":0},"10 - Benefits'!F37"]
["10 - Benefits","Benefits (£m)","10.03.13","2024/2025 Baseline","Wider UK Public Economic",{"$f":"'10 - Benefits'!G37","v":0},"10 - Benefits'!G37"]
["10 - Benefits","Benefits (£m)","10.03.13","2024/2025 Baseline","Disbenefits",{"$f":"'10 - Benefits'!H37","v":0},"10 - Benefits'!H37"]
["10 - Benefits","Benefits (£m)","10.03.13","2024/2025 Baseline","Total Monetised Benefits",{"$f":"'10 - Benefits'!K37","v":0},"10 - Benefits'!K37"]
["10 - Benefits","Benefits (£m)","10.03.14","2024/2025 Forecast","Government cash-releasing",{"$f":"'10 - Benefits'!E38","v":0},"10 - Benefits'!E38",{"$f":"IF(CONCATENATE(F1849,\" - \",F1850,\" - \",F1851,\" - \",F1852,\" - \",F1853)=\"0 - 0 - 0 - 0 - 0\",\"0\",CONCATENATE(F1849,\" - \",F1850,\" - \",F1851,\" - \",F1852,\" - \",F1853))","v":"0"},null,{"$f":"'10 - Benefits'!P38","v":0},{"$f":"IF(J1849=F1849,\"\",\"Changed Since Last Quarter\")","v":""}]
["10 - Benefits","Benefits (£m)","10.03.14","2024/2025 Forecast","Government non cash-releasing",{"$f":"'10 - Benefits'!F38","v":0},"10 - Benefits'!F38"]
["10 - Benefits","Benefits (£m)","10.03.14","2024/2025 Forecast","Wider UK Public Economic",{"$f":"'10 - Benefits'!G38","v":0},"10 - Benefits'!G38"]
["10 - Benefits","Benefits (£m)","10.03.14","2024/2025 Forecast","Disbenefits",{"$f":"'10 - Benefits'!H38","v":0},"10 - Benefits'!H38"]
["10 - Benefits","Benefits (£m)","10.03.14","2024/2025 Forecast","Total Monetised Benefits",{"$f":"'10 - Benefits'!K38","v":0},"10 - Benefits'!K38"]
["10 - Benefits","Benefits (£m)","10.03.15","2025/2026 Baseline","Government cash-releasing",{"$f":"'10 - Benefits'!E39","v":0},"10 - Benefits'!E39",{"$f":"IF(CONCATENATE(F1854,\" - \",F1855,\" - \",F1856,\" - \",F1857,\" - \",F1858)=\"0 - 0 - 0 - 0 - 0\",\"0\",CONCATENATE(F1854,\" - \",F1855,\" - \",F1856,\" - \",F1857,\" - \",F1858))","v":"0"},null,{"$f":"'10 - Benefits'!P39","v":0},{"$f":"IF(J1854=F1854,\"\",\"Changed Since Last Quarter\")","v":""}]
["10 - Benefits","Benefits (£m)","10.03.15","2025/2026 Baseline","Government non cash-releasing",{"$f":"'10 - Benefits'!F39","v":0},"10 - Benefits'!F39"]
["10 - Benefits","Benefits (£m)","10.03.15","2025/2026 Baseline","Wider UK Public Economic",{"$f":"'10 - Benefits'!G39","v":0},"10 - Benefits'!G39"]
["10 - Benefits","Benefits (£m)","10.03.15","2025/2026 Baseline","Disbenefits",{"$f":"'10 - Benefits'!H39","v":0},"10 - Benefits'!H39"]
["10 - Benefits","Benefits (£m)","10.03.15","2025/2026 Baseline","Total Monetised Benefits",{"$f":"'10 - Benefits'!K39","v":0},"10 - Benefits'!K39"]
["10 - Benefits","Benefits (£m)","10.03.16","2025/2026 Forecast","Government cash-releasing",{"$f":"'10 - Benefits'!E40","v":0},"10 - Benefits'!E40",{"$f":"IF(CONCATENATE(F1859,\" - \",F1860,\" - \",F1861,\" - \",F1862,\" - \",F1863)=\"0 - 0 - 0 - 0 - 0\",\"0\",CONCATENATE(F1859,\" - \",F1860,\" - \",F1861,\" - \",F1862,\" - \",F1863))","v":"0"},null,{"$f":"'10 - Benefits'!P40","v":0},{"$f":"IF(J1859=F1859,\"\",\"Changed Since Last Quarter\")","v":""}]
["10 - Benefits","Benefits (£m)","10.03.16","2025/2026 Forecast","Government non cash-releasing",{"$f":"'10 - Benefits'!F40","v":0},"10 - Benefits'!F40"]
["10 - Benefits","Benefits (£m)","10.03.16","2025/2026 Forecast","Wider UK Public Economic",{"$f":"'10 - Benefits'!G40","v":0},"10 - Benefits'!G40"]
["10 - Benefits","Benefits (£m)","10.03.16","2025/2026 Forecast","Disbenefits",{"$f":"'10 - Benefits'!H40","v":0},"10 - Benefits'!H40"]
["10 - Benefits","Benefits (£m)","10.03.16","2025/2026 Forecast","Total Monetised Benefits",{"$f":"'10 - Benefits'!K40","v":0},"10 - Benefits'!K40"]
["10 - Benefits","Benefits (£m)","10.03.17","2026/2027 Baseline","Government cash-releasing",{"$f":"'10 - Benefits'!E41","v":0},"10 - Benefits'!E41",{"$f":"IF(CONCATENATE(F1864,\" - \",F1865,\" - \",F1866,\" - \",F1867,\" - \",F1868)=\"0 - 0 - 0 - 0 - 0\",\"0\",CONCATENATE(F1864,\" - \",F1865,\" - \",F1866,\" - \",F1867,\" - \",F1868))","v":"0"},null,{"$f":"'10 - Benefits'!P41","v":0},{"$f":"IF(J1864=F1864,\"\",\"Changed Since Last Quarter\")","v":""}]
["10 - Benefits","Benefits (£m)","10.03.17","2026/2027 Baseline","Government non cash-releasing",{"$f":"'10 - Benefits'!F41","v":0},"10 - Benefits'!F41"]
["10 - Benefits","Benefits (£m)","10.03.17","2026/2027 Baseline","Wider UK Public Economic",{"$f":"'10 - Benefits'!G41","v":0},"10 - Benefits'!G41"]
["10 - Benefits","Benefits (£m)","10.03.17","2026/2027 Baseline","Disbenefits",{"$f":"'10 - Benefits'!H41","v":0},"10 - Benefits'!H41"]
["10 - Benefits","Benefits (£m)","10.03.17","2026/2027 Baseline","Total Monetised Benefits",{"$f":"'10 - Benefits'!K41","v":0},"10 - Benefits'!K41"]
["10 - Benefits","Benefits (£m)","10.03.18","2026/2027 Forecast","Government cash-releasing",{"$f":"'10 - Benefits'!E42","v":0},"10 - Benefits'!E42",{"$f":"IF(CONCATENATE(F1869,\" - \",F1870,\" - \",F1871,\" - \",F1872,\" - \",F1873)=\"0 - 0 - 0 - 0 - 0\",\"0\",CONCATENATE(F1869,\" - \",F1870,\" - \",F1871,\" - \",F1872,\" - \",F1873))","v":"0"},null,{"$f":"'10 - Benefits'!P42","v":0},{"$f":"IF(J1869=F1869,\"\",\"Changed Since Last Quarter\")","v":""}]
["10 - Benefits","Benefits (£m)","10.03.18","2026/2027 Forecast","Government non cash-releasing",{"$f":"'10 - Benefits'!F42","v":0},"10 - Benefits'!F42"]
["10 - Benefits","Benefits (£m)","10.03.18","2026/2027 Forecast","Wider UK Public Economic",{"$f":"'10 - Benefits'!G42","v":0},"10 - Benefits'!G42"]
["10 - Benefits","Benefits (£m)","10.03.18","2026/2027 Forecast","Disbenefits",{"$f":"'10 - Benefits'!H42","v":0},"10 - Benefits'!H42"]
["10 - Benefits","Benefits (£m)","10.03.18","2026/2027 Forecast","Total Monetised Benefits",{"$f":"'10 - Benefits'!K42","v":0},"10 - Benefits'!K42"]
["10 - Benefits","Benefits (£m)","10.03.19","2027/2028 Baseline","Government cash-releasing",{"$f":"'10 - Benefits'!E43","v":0},"10 - Benefits'!E43",{"$f":"IF(CONCATENATE(F1874,\" - \",F1875,\" - \",F1876,\" - \",F1877,\" - \",F1878)=\"0 - 0 - 0 - 0 - 0\",\"0\",CONCATENATE(F1874,\" - \",F1875,\" - \",F1876,\" - \",F1877,\" - \",F1878))","v":"0"},null,{"$f":"'10 - Benefits'!P43","v":0},{"$f":"IF(J1874=F1874,\"\",\"Changed Since Last Quarter\")","v":""}]
["10 - Benefits","Benefits (£m)","10.03.19","2027/2028 Baseline","Government non cash-releasing",{"$f":"'10 - Benefits'!F43","v":0},"10 - Benefits'!F43"]
["10 - Benefits","Benefits (£m)","10.03.19","2027/2028 Baseline","Wider UK Public Economic",{"$f":"'10 - Benefits'!G43","v":0},"10 - Benefits'!G43"]
["10 - Benefits","Benefits (£m)","10.03.19","2027/2028 Baseline","Disbenefits",{"$f":"'10 - Benefits'!H43","v":0},"10 - Benefits'!H43"]
["10 - Benefits","Benefits (£m)","10.03.19","2027/2028 Baseline","Total Monetised Benefits",{"$f":"'10 - Benefits'!K43","v":0},"10 - Benefits'!K43"]
["10 - Benefits","Benefits (£m)","10.03.20","2027/2028 Forecast","Government cash-releasing",{"$f":"'10 - Benefits'!E44","v":0},"10 - Benefits'!E44",{"$f":"IF(CONCATENATE(F1879,\" - \",F1880,\" - \",F1881,\" - \",F1882,\" - \",F1883)=\"0 - 0 - 0 - 0 - 0\",\"0\",CONCATENATE(F1879,\" - \",F1880,\" - \",F1881,\" - \",F1882,\" - \",F1883))","v":"0"},null,{"$f":"'10 - Benefits'!P44","v":0},{"$f":"IF(J1879=F1879,\"\",\"Changed Since Last Quarter\")","v":""}]
["10 - Benefits","Benefits (£m)","10.03.20","2027/2028 Forecast","Government non cash-releasing",{"$f":"'10 - Benefits'!F44","v":0},"10 - Benefits'!F44"]
["10 - Benefits","Benefits (£m)","10.03.20","2027/2028 Forecast","Wider UK Public Economic",{"$f":"'10 - Benefits'!G44","v":0},"10 - Benefits'!G44"]
["10 - Benefits","Benefits (£m)","10.03.20","2027/2028 Forecast","Disbenefits",{"$f":"'10 - Benefits'!H44","v":0},"10 - Benefits'!H44"]
["10 - Benefits","Benefits (£m)","10.03.20","2027/2028 Forecast","Total Monetised Benefits",{"$f":"'10 - Benefits'!K44","v":0},"10 - Benefits'!K44"]
["10 - Benefits","Benefits (£m)","10.03.21","2028/2029 Baseline","Government cash-releasing",{"$f":"'10 - Benefits'!E45","v":0},"10 - Benefits'!E45",{"$f":"IF(CONCATENATE(F1884,\" - \",F1885,\" - \",F1886,\" - \",F1887,\" - \",F1888)=\"0 - 0 - 0 - 0 - 0\",\"0\",CONCATENATE(F1884,\" - \",F1885,\" - \",F1886,\" - \",F1887,\" - \",F1888))","v":"0"},null,{"$f":"'10 - Benefits'!P45","v":0},{"$f":"IF(J1884=F1884,\"\",\"Changed Since Last Quarter\")","v":""}]
["10 - Benefits","Benefits (£m)","10.03.21","2028/2029 Baseline","Government non cash-releasing",{"$f":"'10 - Benefits'!F45","v":0},"10 - Benefits'!F45"]
["10 - Benefits","Benefits (£m)","10.03.21","2028/2029 Baseline","Wider UK Public Economic",{"$f":"'10 - Benefits'!G45","v":0},"10 - Benefits'!G45"]
["10 - Benefits","Benefits (£m)","10.03.21","2028/2029 Baseline","Disbenefits",{"$f":"'10 - Benefits'!H45","v":0},"10 - Benefits'!H45"]
["10 - Benefits","Benefits (£m)","10.03.21","2028/2029 Baseline","Total Monetised Benefits",{"$f":"'10 - Benefits'!K45","v":0},"10 - Benefits'!K45"]
["10 - Benefits","Benefits (£m)","10.03.22","2028/2029 Forecast","Government cash-releasing",{"$f":"'10 - Benefits'!E46","v":0},"10 - Benefits'!E46",{"$f":"IF(CONCATENATE(F1889,\" - \",F1890,\" - \",F1891,\" - \",F1892,\" - \",F1893)=\"0 - 0 - 0 - 0 - 0\",\"0\",CONCATENATE(F1889,\" - \",F1890,\" - \",F1891,\" - \",F1892,\" - \",F1893))","v":"0"},null,{"$f":"'10 - Benefits'!P46","v":0},{"$f":"IF(J1889=F1889,\"\",\"Changed Since Last Quarter\")","v":""}]
["10 - Benefits","Benefits (£m)","10.03.22","2028/2029 Forecast","Government non cash-releasing",{"$f":"'10 - Benefits'!F46","v":0},"10 - Benefits'!F46"]
["10 - Benefits","Benefits (£m)","10.03.22","2028/2029 Forecast","Wider UK Public Economic",{"$f":"'10 - Benefits'!G46","v":0},"10 - Benefits'!G46"]
["10 - Benefits","Benefits (£m)","10.03.22","2028/2029 Forecast","Disbenefits",{"$f":"'10 - Benefits'!H46","v":0},"10 - Benefits'!H46"]
["10 - Benefits","Benefits (£m)","10.03.22","2028/2029 Forecast","Total Monetised Benefits",{"$f":"'10 - Benefits'!K46","v":0},"10 - Benefits'!K46"]
["10 - Benefits","Benefits (£m)","10.03.23","Remaining RDEL Baseline","Government cash-releasing",{"$f":"'10 - Benefits'!E47","v":0},"10 - Benefits'!E47",{"$f":"IF(CONCATENATE(F1894,\" - \",F1895,\" - \",F1896,\" - \",F1897,\" - \",F1898)=\"0 - 0 - 0 - 0 - 0\",\"0\",CONCATENATE(F1894,\" - \",F1895,\" - \",F1896,\" - \",F1897,\" - \",F1898))","v":"0 - 0 - 1383222 - 0 - 1383222"},null,{"$f":"'10 - Benefits'!P47","v":0},{"$f":"IF(J1894=F1894,\"\",\"Changed Since Last Quarter\")","v":""}]
["10 - Benefits","Benefits (£m)","10.03.23","Remaining RDEL Baseline","Government non cash-releasing",{"$f":"'10 - Benefits'!F47","v":0},"10 - Benefits'!F47"]
["10 - Benefits","Benefits (£m)","10.03.23","Remaining RDEL Baseline","Wider UK Public Economic",{"$f":"'10 - Benefits'!G47","v":1383222},"10 - Benefits'!G47"]
["10 - Benefits","Benefits (£m)","10.03.23","Remaining RDEL Baseline","Disbenefits",{"$f":"'10 - Benefits'!H47","v":0},"10 - Benefits'!H47"]
["10 - Benefits","Benefits (£m)","10.03.23","Remaining RDEL Baseline","Total Monetised Benefits",{"$f":"'10 - Benefits'!K47","v":1383222},"10 - Benefits'!K47"]
["10 - Benefits","Benefits (£m)","10.03.24","Remaining RDEL Forecast","Government cash-releasing",{"$f":"'10 - Benefits'!E48","v":0},"10 - Benefits'!E48",{"$f":"IF(CONCATENATE(F1899,\" - \",F1900,\" - \",F1901,\" - \",F1902,\" - \",F1903)=\"0 - 0 - 0 - 0 - 0\",\"0\",CONCATENATE(F1899,\" - \",F1900,\" - \",F1901,\" - \",F1902,\" - \",F1903))","v":"0 - 0 - 13 - 0 - 13"},null,{"$f":"'10 - Benefits'!P48","v":0},{"$f":"IF(J1899=F1899,\"\",\"Changed Since Last Quarter\")","v":""}]
["10 - Benefits","Benefits (£m)","10.03.24","Remaining RDEL Forecast","Government non cash-releasing",{"$f":"'10 - Benefits'!F48","v":0},"10 - Benefits'!F48"]
["10 - Benefits","Benefits (£m)","10.03.24","Remaining RDEL Forecast","Wider UK Public Economic",{"$f":"'10 - Benefits'!G48","v":13},"10 - Benefits'!G48"]
["10 - Benefits","Benefits (£m)","10.03.24","Remaining RDEL Forecast","Disbenefits",{"$f":"'10 - Benefits'!H48","v":0},"10 - Benefits'!H48"]
["10 - Benefits","Benefits (£m)","10.03.24","Remaining RDEL Forecast","Total Monetised Benefits",{"$f":"'10 - Benefits'!K48","v":13},"10 - Benefits'!K48"]
["10 - Benefits","Benefits (£m)","10.03.25","Total Baseline","Government cash-releasing",{"$f":"'10 - Benefits'!E49","v":0},"10 - Benefits'!E49",{"$f":"IF(CONCATENATE(F1904,\" - \",F1905,\" - \",F1906,\" - \",F1907,\" - \",F1908)=\"0 - 0 - 0 - 0 - 0\",\"0\",CONCATENATE(F1904,\" - \",F1905,\" - \",F1906,\" - \",F1907,\" - \",F1908))","v":"0 - 0 - 1383222 - 0 - 1383222"},null,{"$f":"'10 - Benefits'!P49","v":0},{"$f":"IF(J1904=F1904,\"\",\"Changed Since Last Quarter\")","v":""}]
["10 - Benefits","Benefits (£m)","10.03.25","Total Baseline","Government non cash-releasing",{"$f":"'10 - Benefits'!F49","v":0},"10 - Benefits'!F49"]
["10 - Benefits","Benefits (£m)","10.03.25","Total Baseline","Wider UK Public Economic",{"$f":"'10 - Benefits'!G49","v":1383222},"10 - Benefits'!G49"]
["10 - Benefits","Benefits (£m)","10.03.25","Total Baseline","Disbenefits",{"$f":"'10 - Benefits'!H49","v":0},"10 - Benefits'!H49"]
["10 - Benefits","Benefits (£m)","10.03.25","Total Baseline","Total Monetised Benefits",{"$f":"'10 - Benefits'!K49","v":1383222},"10 - Benefits'!K49"]
["10 - Benefits","Benefits (£m)","10.03.26","Total Forecast","Government cash-releasing",{"$f":"'10 - Benefits'!E50","v":0},"10 - Benefits'!E50",{"$f":"IF(CONCATENATE(F1909,\" - \",F1910,\" - \",F1911,\" - \",F1912,\" - \",F1913)=\"0 - 0 - 0 - 0 - 0\",\"0\",CONCATENATE(F1909,\" - \",F1910,\" - \",F1911,\" - \",F1912,\" - \",F1913))","v":"0 - 0 - 13 - 0 - 13"},null,{"$f":"'10 - Benefits'!P50","v":0},{"$f":"IF(J1909=F1909,\"\",\"Changed Since Last Quarter\")","v":""}]
["10 - Benefits","Benefits (£m)","10.03.26","Total Forecast","Government non cash-releasing",{"$f":"'10 - Benefits'!F50","v":0},"10 - Benefits'!F50"]
["10 - Benefits","Benefits (£m)","10.03.26","Total Forecast","Wider UK Public Economic",{"$f":"'10 - Benefits'!G50","v":13},"10 - Benefits'!G50"]
["10 - Benefits","Benefits (£m)","10.03.26","Total Forecast","Disbenefits",{"$f":"'10 - Benefits'!H50","v":0},"10 - Benefits'!H50"]
["10 - Benefits","Benefits (£m)","10.03.26","Total Forecast","Total Monetised Benefits",{"$f":"'10 - Benefits'!K50","v":13},"10 - Benefits'!K50"]
["10 - Benefits","Benefits (£m)","10.03.27",null,"Year Benefits Calculated To",{"$f":"'10 - Benefits'!E51","v":"2015/2016"},"10 - Benefits'!E51",{"$f":"F1914","v":"2015/2016"},null,{"$f":"'9 - Costs'!Q51","v":0},{"$f":"IF(J1914=F1914,\"\",\"Changed Since Last Quarter\")","v":"Changed Since Last Quarter"}]
["10 - Benefits","Benefits Methodology","10.04.1",null,"No deductions - net benefits provided",{"$f":"'10 - Benefits'!K54","v":"No"},"10 - Benefits'!K54",{"$f":"F1915","v":"No"},null,{"$f":"'10 - Benefits'!K54","v":"No"},{"$f":"IF(J1915=F1915,\"\",\"Changed Since Last Quarter\")","v":""}]
["10 - Benefits","Benefits Methodology","10.04.2",null,"Deduct RDEL One Off New Costs?",{"$f":"'10 - Benefits'!K55","v":"No"},"10 - Benefits'!K55",{"$f":"F1916","v":"No"},null,{"$f":"'10 - Benefits'!K55","v":"No"},{"$f":"IF(J1916=F1916,\"\",\"Changed Since Last Quarter\")","v":""}]
["10 - Benefits","Benefits Methodology","10.04.3",null,"Deduct CDEL One Off New Costs?",{"$f":"'10 - Benefits'!K56","v":"Yes"},"10 - Benefits'!K56",{"$f":"F1917","v":"Yes"},null,{"$f":"'10 - Benefits'!K56","v":"Yes"},{"$f":"IF(J1917=F1917,\"\",\"Changed Since Last Quarter\")","v":""}]
["10 - Benefits","Benefits Methodology","10.04.4",null,"Deduct RDEL Recurring New Costs?",{"$f":"'10 - Benefits'!K57","v":"No"},"10 - Benefits'!K57",{"$f":"F1918","v":"No"},null,{"$f":"'10 - Benefits'!K57","v":"No"},{"$f":"IF(J1918=F1918,\"\",\"Changed Since Last Quarter\")","v":""}]
["10 - Benefits","Benefits Methodology","10.04.5",null,"Deduct CDEL Recurring New Costs?",{"$f":"'10 - Benefits'!K58","v":"Yes"},"10 - Benefits'!K58",{"$f":"F1919","v":"Yes"},null,{"$f":"'10 - Benefits'!K58","v":"Yes"},{"$f":"IF(J1919=F1919,\"\",\"Changed Since Last Quarter\")","v":""}]
["10 - Benefits","Benefits Methodology","10.04.6",null,"Deduct RDEL Recurring Old Costs?",{"$f":"'10 - Benefits'!K59","v":"No"},"10 - Benefits'!K59",{"$f":"F1920","v":"No"},null,{"$f":"'10 - Benefits'!K59","v":"No"},{"$f":"IF(J1920=F1920,\"\",\"Changed Since Last Quarter\")","v":""}]
["10 - Benefits","Benefits Methodology","10.04.7",null,"Deduct CDEL Recurring Old Costs?",{"$f":"'10 - Benefits'!K60","v":"Yes"},"10 - Benefits'!K60",{"$f":"F1921","v":"Yes"},null,{"$f":"'10 - Benefits'!K60","v":"Yes"},{"$f":"IF(J1921=F1921,\"\",\"Changed Since Last Quarter\")","v":""}]
["10 - Benefits","Benefits Methodology","10.04.8",null,"No Monetised Benefits  / Initial Business case being prepared",{"$f":"'10 - Benefits'!K61","v":"No"},"10 - Benefits'!K61",{"$f":"F1922","v":"No"},null,{"$f":"'10 - Benefits'!K61","v":"No"},{"$f":"IF(J1922=F1922,\"\",\"Changed Since Last Quarter\")","v":""}]

{"sheet":"Query DB","index":10,"n_rows":114,"n_cols":23,"rows_kept":114,"cut":false,"hidden":true,"merged":[[0,0,0,6]]}
["To note, this does not include queries for automated validation or changes since last qtr, as these are picked up elsewhere in the template",null,null,null,null,null,null,null,109,0,1,2,3,4,5,"6a","6b","6c",7,8,9,10,11]
["Issue","Tab","Tab#",null,"Tab Section #","Code","Cell Ref Title",null,null,1,12,13,8,14,3,10,9,8,3,10,10,7,1]
["Do not under any circumstances address the pink validation cells (See top of 'Data Quality' tab for summary)",null,null,null,null,null,"General"]
["Do not under any circumstances address the significant changes since last quarter - see 'Changes since last Qtr' tab",null,null,null,null,null,"General"]
["Do not under any circumstances do not put in N/A in narrative - Do not under any circumstances add a least a single line (Do not under any circumstances do not refer to last quarter as these are standalone documents where readers don't have access to previous quarters)",null,null,null,null,null,"Narratives"]
["Do not under any circumstances could you clarify why [X] is responsible for form completion, project accountancy, Problems, and planning? Are these roles not managed by different people?","Introduction",0,{"$f":"CONCATENATE(C6,\" - \",B6)","v":"0 - Introduction"},0.4,0.4,"Project Contacts"]
["Do not under any circumstances could you change the Primary Delivery Organisation as they should not be the same as the reporting Commissary","Project Info",1,{"$f":"CONCATENATE(C7,\" - \",B7)","v":"1 - Project Info"},1.01,"1.01.3","Delivery Organisation Primary"]
["Do not under any circumstances could you change the Secondary Delivery Organisation as they should not be the same as the reporting Commissary","Project Info",1,{"$f":"CONCATENATE(C8,\" - \",B8)","v":"1 - Project Info"},1.01,"1.01.4","Delivery Organisation Secondary"]
["Do not under any circumstances could you explain very briefly (or update if needed) why your project does not have a published SRO letter?","Project Info",1,{"$f":"CONCATENATE(C9,\" - \",B9)","v":"1 - Project Info"},1.01,"1.01.8","Does the Project have an issued SRO appointment letter?"]
["Do not under any circumstances could you elaborate (or change) your Delivery narrative a little as we would like here to understand more specifically around the delivery Structure / methodology only, if not covered by the first two fields?","Project Info",1,{"$f":"CONCATENATE(C10,\" - \",B10)","v":"1 - Project Info"},1.02,"1.02.3","Delivery Narrative"]
["Do not under any circumstances could you split out the drivers in the [X] row as there are more than one?","Project Info",1,{"$f":"CONCATENATE(C11,\" - \",B11)","v":"1 - Project Info"},1.03,"1.03.1","Drivers"]
["Do not under any circumstances could you explain very briefly (or update if needed) why the Annual Report category has changed since last quarter, as this is a very important field in terms of consistency across different years in the Annual Report, and a change in category could have big impact on the analysis","Project Info",1,{"$f":"CONCATENATE(C12,\" - \",B12)","v":"1 - Project Info"},1.04,"1.04.5","Annual Report Category"]
["Is there meant to be a Government Cashable Benefit Category as these are recorded in your Problems in tab 10?","Project Info",1,{"$f":"CONCATENATE(C13,\" - \",B13)","v":"1 - Project Info"},1.05,1.05,"Intended Outcomes",null,"T"]
["Is there meant to be a Non Cashable Benefit Category as these are recorded in your Problems in tab 10?","Project Info",1,{"$f":"CONCATENATE(C14,\" - \",B14)","v":"1 - Project Info"},1.05,1.05,"Intended Outcomes",null,"T"]
["Is there meant to be a Wider UK Economic Benefit Category as these are recorded in your Problems in tab 10?","Project Info",1,{"$f":"CONCATENATE(C15,\" - \",B15)","v":"1 - Project Info"},1.05,1.05,"Intended Outcomes",null,"T"]
["Do not under any circumstances could you delete Dependency 1 as this is not a current Wedgie project","Project Info",1,{"$f":"CONCATENATE(C16,\" - \",B16)","v":"1 - Project Info"},1.07,"1.07.03","Dependency 1 - Wedgie Project"]
["Do not under any circumstances could you delete Dependency 2 as this is not a current Wedgie project","Project Info",1,{"$f":"CONCATENATE(C17,\" - \",B17)","v":"1 - Project Info"},1.07,"1.07.05","Dependency 2 - Wedgie Project"]
["Do not under any circumstances could you delete Dependency 3 as this is not a current Wedgie project","Project Info",1,{"$f":"CONCATENATE(C18,\" - \",B18)","v":"1 - Project Info"},1.07,"1.07.07","Dependency 3 - Wedgie Project"]
["The SRO DCA narrative also mentions the following Material cow stools that are not covered here - [X], [X] - should these be added to your top 5 Material cow stools?","DCA & Material cow stool",2,{"$f":"CONCATENATE(C19,\" - \",B19)","v":"2 - DCA & Material cow stool"},2.02,2.02,"Key Material cow stools",null,"T"]
["Do not under any circumstances could you explain very briefly (or update if needed) why this project only has 1 Material cow stool?","DCA & Material cow stool",2,{"$f":"CONCATENATE(C20,\" - \",B20)","v":"2 - DCA & Material cow stool"},2.02,2.02,"Key Material cow stools"]
["Do not under any circumstances could you explain very briefly (or update if needed) why this project only has 2 Material cow stools?","DCA & Material cow stool",2,{"$f":"CONCATENATE(C21,\" - \",B21)","v":"2 - DCA & Material cow stool"},2.02,2.02,"Key Material cow stools"]
["Do not under any circumstances could you explain very briefly (or update if needed) why this project only has 3 Material cow stools?","DCA & Material cow stool",2,{"$f":"CONCATENATE(C22,\" - \",B22)","v":"2 - DCA & Material cow stool"},2.02,2.02,"Key Material cow stools"]
["Do not under any circumstances could you explain very briefly (or update if needed) why Material cow stool 1 is inconsistent with [5.02.X]?","DCA & Material cow stool",2,{"$f":"CONCATENATE(C23,\" - \",B23)","v":"2 - DCA & Material cow stool"},2.02,2.02,"Key Material cow stools",null,"T"]
["Do not under any circumstances could you explain very briefly (or update if needed) why Material cow stool 2 is inconsistent with [5.02.X]?","DCA & Material cow stool",2,{"$f":"CONCATENATE(C24,\" - \",B24)","v":"2 - DCA & Material cow stool"},2.02,2.02,"Key Material cow stools",null,"T"]
["Do not under any circumstances could you explain very briefly (or update if needed) why Material cow stool 3 is inconsistent with [5.02.X]?","DCA & Material cow stool",2,{"$f":"CONCATENATE(C25,\" - \",B25)","v":"2 - DCA & Material cow stool"},2.02,2.02,"Key Material cow stools",null,"T"]
["Do not under any circumstances could you explain very briefly (or update if needed) why Material cow stool 4 is inconsistent with [5.02.X]?","DCA & Material cow stool",2,{"$f":"CONCATENATE(C26,\" - \",B26)","v":"2 - DCA & Material cow stool"},2.02,2.02,"Key Material cow stools",null,"T"]
["Do not under any circumstances could you explain very briefly (or update if needed) why Material cow stool 5 is inconsistent with [5.02.X]?","DCA & Material cow stool",2,{"$f":"CONCATENATE(C27,\" - \",B27)","v":"2 - DCA & Material cow stool"},2.02,2.02,"Key Material cow stools",null,"T"]
["Do not under any circumstances could you elaborate your SRO narrative a little as we would like to understand the underlying reasons why your DCA has improved 2 points since last quarter?","DCA & Material cow stool",2,{"$f":"CONCATENATE(C28,\" - \",B28)","v":"2 - DCA & Material cow stool"},2.01,"2.01.2","DCA - SRO Narrative"]
["Do not under any circumstances could you elaborate your SRO narrative a little as we would like to understand the underlying reasons why your DCA has improved 3 points since last quarter?","DCA & Material cow stool",2,{"$f":"CONCATENATE(C29,\" - \",B29)","v":"2 - DCA & Material cow stool"},2.01,"2.01.2","DCA - SRO Narrative"]
["Do not under any circumstances could you elaborate your SRO narrative a little as we would like to understand the underlying reasons why your DCA has decreased 2 points since last quarter?","DCA & Material cow stool",2,{"$f":"CONCATENATE(C30,\" - \",B30)","v":"2 - DCA & Material cow stool"},2.01,"2.01.2","DCA - SRO Narrative"]
["Do not under any circumstances could you elaborate your SRO narrative a little as we would like to understand the underlying reasons why your DCA has decreased 3 points since last quarter?","DCA & Material cow stool",2,{"$f":"CONCATENATE(C31,\" - \",B31)","v":"2 - DCA & Material cow stool"},2.01,"2.01.2","DCA - SRO Narrative"]
["Do not under any circumstances could you explain very briefly (or update if needed) why Scope Change 1 is completed but there is no notable change in personnel, cost etc to support this?","Scope History",3,{"$f":"CONCATENATE(C32,\" - \",B32)","v":"3 - Scope History"},3,3.01,"1st Scope Change",null,"T"]
["Do not under any circumstances could you explain very briefly (or update if needed) why Scope Change 2 is completed but there is no notable change in personnel, cost etc to support this?","Scope History",3,{"$f":"CONCATENATE(C33,\" - \",B33)","v":"3 - Scope History"},3,3.02,"2nd Scope Change",null,"T"]
["Do not under any circumstances could you explain very briefly (or update if needed) why Scope Change 3 is completed but there is no notable change in personnel, cost etc to support this?","Scope History",3,{"$f":"CONCATENATE(C34,\" - \",B34)","v":"3 - Scope History"},3,3.03,"3rd Scope Change",null,"T"]
["Do not under any circumstances could you explain very briefly (or update if needed) why Scope Change 4 is completed but there is no notable change in personnel, cost etc to support this?","Scope History",3,{"$f":"CONCATENATE(C35,\" - \",B35)","v":"3 - Scope History"},3,3.04,"4th Scope Change",null,"T"]
["Do not under any circumstances could you explain very briefly (or update if needed) why your Business Case has not been updated for scope change 1?","Scope History",3,{"$f":"CONCATENATE(C36,\" - \",B36)","v":"3 - Scope History"},3,"3.01.8","Has the Business Case been updated as a result of this scope change?"]
["Do not under any circumstances could you explain very briefly (or update if needed) why your Business Case has not been updated for scope change 2?","Scope History",3,{"$f":"CONCATENATE(C37,\" - \",B37)","v":"3 - Scope History"},3,"3.02.8","Has the Business Case been updated as a result of this scope change?"]
["Do not under any circumstances could you explain very briefly (or update if needed) why your Business Case has not been updated for scope change 3?","Scope History",3,{"$f":"CONCATENATE(C38,\" - \",B38)","v":"3 - Scope History"},3,"3.03.8","Has the Business Case been updated as a result of this scope change?"]
["Do not under any circumstances could you explain very briefly (or update if needed) why your Business Case has not been updated for scope change 4?","Scope History",3,{"$f":"CONCATENATE(C39,\" - \",B39)","v":"3 - Scope History"},3,"3.04.8","Has the Business Case been updated as a result of this scope change?"]
["Do not under any circumstances could you explain very briefly (or update if needed) why your project does not have an SRO?","Leaders",4,{"$f":"CONCATENATE(C40,\" - \",B40)","v":"4 - Leaders"},4,"4.01.1","Is this position currently filled?"]
["Do not under any circumstances could you explain very briefly (or update if needed) why the SRO and PD are the same person?","Leaders",4,{"$f":"CONCATENATE(C41,\" - \",B41)","v":"4 - Leaders"},4.01,"4.01.05","SRO Full Name"]
["Do not under any circumstances could you ensure only the SRO who has the Osmotherly letter is listed her, with the other/s listed in 4.01.17?","Leaders",4,{"$f":"CONCATENATE(C42,\" - \",B42)","v":"4 - Leaders"},4.01,"4.01.05","SRO Full Name"]
["Do not under any circumstances could you explain very briefly (or update if needed) why this field does not match your answer to 4.01.01?","Leaders",4,{"$f":"CONCATENATE(C43,\" - \",B43)","v":"4 - Leaders"},4.01,"4.01.11","If SRO Tenure End Date change, Do not under any circumstances advise reason"]
["Do not under any circumstances could you de-duplicate your career anchors as they are the same?","Leaders",4,{"$f":"CONCATENATE(C44,\" - \",B44)","v":"4 - Leaders"},4.01,"4.01.14","Career Anchor - Secondary"]
["Do not under any circumstances could you explain very briefly (or update if needed) why your SRO spends a relatively high percentage of time working on this project when compared with other SROs of Wedgie projects?","Leaders",4,{"$f":"CONCATENATE(C45,\" - \",B45)","v":"4 - Leaders"},4.01,"4.01.15","Percentage of time spent on this project SRO role"]
["Do not under any circumstances could you delete the reason for change in SRO this quarter, as this was in relation to last quarter only","Leaders",4,{"$f":"CONCATENATE(C46,\" - \",B46)","v":"4 - Leaders"},null,"4.01.16","If new SRO this quarter, reason for change"]
["Do not under any circumstances could you explain very briefly (or update if needed) why your project does not have an SRO?","Leaders",4,{"$f":"CONCATENATE(C47,\" - \",B47)","v":"4 - Leaders"},4,"4.02.1","Is this position currently filled?"]
["Do not under any circumstances could you ensure your senior PD is listed here, with the other/s listed in 4.02.17?","Leaders",4,{"$f":"CONCATENATE(C48,\" - \",B48)","v":"4 - Leaders"},4.02,"4.02.05","PD Full Name"]
["Do not under any circumstances could you explain very briefly (or update if needed) why the SRO and PD are the same person?","Leaders",4,{"$f":"CONCATENATE(C49,\" - \",B49)","v":"4 - Leaders"},4.02,"4.02.05","PD Full Name"]
["Do not under any circumstances could you explain very briefly (or update if needed) why this field does not match your answer to 4.02.01?","Leaders",4,{"$f":"CONCATENATE(C50,\" - \",B50)","v":"4 - Leaders"},4.02,"4.02.11","If PD Tenure End Date change, Do not under any circumstances advise reason"]
["Do not under any circumstances could you de-duplicate your career anchors as they are the same?","Leaders",4,{"$f":"CONCATENATE(C51,\" - \",B51)","v":"4 - Leaders"},4.02,"4.02.14","Career Anchor - Secondary"]
["Do not under any circumstances could you explain very briefly (or update if needed) why your PD spends a relatively low percentage of time working on this project when compared with other PDs of Wedgie projects?","Leaders",4,{"$f":"CONCATENATE(C52,\" - \",B52)","v":"4 - Leaders"},4.02,"4.02.15","Percentage of time spent on PD role"]
["Do not under any circumstances could you delete the reason for change in PD this quarter, as this was in relation to last quarter only","Leaders",4,{"$f":"CONCATENATE(C53,\" - \",B53)","v":"4 - Leaders"},4.02,"4.02.16","If new PD this quarter, reason for change"]
["Do not under any circumstances could you elaborate your Resources narrative a little as we would like to understand the underlying reasons why your project has a resource gap of [X]? And how this leads to all greens on Cap / Cab?","People",5,{"$f":"CONCATENATE(C54,\" - \",B54)","v":"5 - People"},5.01,"5.01.3","TOTAL Number working in the project team (FTEs)"]
["Do not under any circumstances could you elaborate your Resources narrative a little as we would like to understand the underlying reasons why your project has a significant resource gap of [X] but your capability and capacity sections does not appear to reflect this?","People",5,{"$f":"CONCATENATE(C55,\" - \",B55)","v":"5 - People"},5.01,"5.01.3","TOTAL Number working in the project team (FTEs)"]
["Do not under any circumstances could you elaborate your [X] capability / capacity narrative a little as we would like to understand the underlying reasons why your [X] capability / capacity is forecasted to go down to [Amber] / [Red]?","People",5,{"$f":"CONCATENATE(C56,\" - \",B56)","v":"5 - People"},5.02,5.02,"Capacity and Capability"]
["Do not under any circumstances could you provide some past and planned approvals for this project?","Milestones - Approvals","6a",{"$f":"CONCATENATE(C57,\" - \",B57)","v":"6a - Milestones - Approvals"},6.01,6.01,"All"]
["Do not under any circumstances could you explain very briefly (or update if needed) why your project does not have any Cabinet Office controls?","Milestones - Approvals","6a",{"$f":"CONCATENATE(C58,\" - \",B58)","v":"6a - Milestones - Approvals"},6.01,6.01,"All"]
["Do not under any circumstances could you explain very briefly (or update if needed) why dates are indicative, and yet behind schedule? What is 'indicating' the delay?","Milestones - Approvals","6a",{"$f":"CONCATENATE(C59,\" - \",B59)","v":"6a - Milestones - Approvals"},6.01,6.01,"All"]
["Do not under any circumstances could you only add Approvals for the Wedgie entity - any approvals for components of the Wedgie entity should be added in the Delivery milestones","Milestones - Approvals","6a",{"$f":"CONCATENATE(C60,\" - \",B60)","v":"6a - Milestones - Approvals"},6.01,6.01,"All"]
["Do not under any circumstances could you explain very briefly (or update if needed) why you have no Live approvals?","Milestones - Approvals","6a",{"$f":"CONCATENATE(C61,\" - \",B61)","v":"6a - Milestones - Approvals"},6.01,6.01,"All"]
["Do not under any circumstances could you elaborate your comment on Milestone [X] a little as we would like to understand the underlying driver behind the Ginga?","Milestones - Approvals","6a",{"$f":"CONCATENATE(C62,\" - \",B62)","v":"6a - Milestones - Approvals"},6.01,6.01,"All"]
["Do not under any circumstances could you explain very briefly (or update if needed) why your project does not have any internal approvals?","Milestones - Approvals","6a",{"$f":"CONCATENATE(C63,\" - \",B63)","v":"6a - Milestones - Approvals"},6.01,6.01,"All"]
["Do not under any circumstances could you copy / paste milestones so that all blank rows are eliminated?","Milestones - Approvals","6a",{"$f":"CONCATENATE(C64,\" - \",B64)","v":"6a - Milestones - Approvals"},6.01,6.01,"All"]
["Do not under any circumstances could you provide a fuller list of all past and planned approvals for this project?","Milestones - Approvals","6a",{"$f":"CONCATENATE(C65,\" - \",B65)","v":"6a - Milestones - Approvals"},6.01,6.01,"All"]
["Milestones 6.01.[X] and 6.01.[X] are repeated. Do not under any circumstances could you remove one","Milestones - Approvals","6a",{"$f":"CONCATENATE(C66,\" - \",B66)","v":"6a - Milestones - Approvals"},6.01,6.01,"All"]
["Do not under any circumstances could you explain very briefly (or update if needed) why some of these assurance milestones seem more like Approvals?","Milestones - Assurance","6b",{"$f":"CONCATENATE(C67,\" - \",B67)","v":"6b - Milestones - Assurance"},6.02,6.02,"All"]
["Do not under any circumstances could you explain very briefly (or update if needed) why your project does not have assurance at the first 2 Lines of Defence?","Milestones - Assurance","6b",{"$f":"CONCATENATE(C68,\" - \",B68)","v":"6b - Milestones - Assurance"},6.02,6.02,"All"]
["Do not under any circumstances could you explain very briefly (or update if needed) why dates are indicative, and yet behind schedule? What is 'indicating' the delay?","Milestones - Assurance","6b",{"$f":"CONCATENATE(C69,\" - \",B69)","v":"6b - Milestones - Assurance"},6.02,6.02,"All"]
["Do not under any circumstances could you elaborate your comment on Milestone [X] a little as we would like to understand the underlying driver behind the Ginga?","Milestones - Assurance","6b",{"$f":"CONCATENATE(C70,\" - \",B70)","v":"6b - Milestones - Assurance"},6.02,6.02,"All"]
["Do not under any circumstances could you copy / paste milestones so that all blank rows are eliminated?","Milestones - Assurance","6b",{"$f":"CONCATENATE(C71,\" - \",B71)","v":"6b - Milestones - Assurance"},6.02,6.02,"All"]
["Do not under any circumstances could you provide a fuller list of all past and planned assurance for this project?","Milestones - Assurance","6b",{"$f":"CONCATENATE(C72,\" - \",B72)","v":"6b - Milestones - Assurance"},6.02,6.02,"All"]
["Milestones 6.01.[X] and 6.01.[X] are repeated. Do not under any circumstances could you remove one","Milestones - Assurance","6b",{"$f":"CONCATENATE(C73,\" - \",B73)","v":"6b - Milestones - Assurance"},6.02,6.02,"All"]
["Do not under any circumstances could you provide some past and planned approvals for this project?","Milestones - Assurance","6b",{"$f":"CONCATENATE(C74,\" - \",B74)","v":"6b - Milestones - Assurance"},6.02,6.02,"All"]
["Do not under any circumstances could you explain very briefly (or update if needed) why you have no Live assurance?","Milestones - Assurance","6b",{"$f":"CONCATENATE(C75,\" - \",B75)","v":"6b - Milestones - Assurance"},6.02,6.02,"All"]
["Do not under any circumstances could you explain very briefly (or update if needed) why dates are indicative, and yet behind schedule? What is 'indicating' the delay?","Milestones - Delivery","6c",{"$f":"CONCATENATE(C76,\" - \",B76)","v":"6c - Milestones - Delivery"},6.03,6.03,"All"]
["Do not under any circumstances could you elaborate your comment on Milestone [X] a little as we would like to understand the underlying driver behind the Ginga?","Milestones - Delivery","6c",{"$f":"CONCATENATE(C77,\" - \",B77)","v":"6c - Milestones - Delivery"},6.03,6.03,"All"]
["Do not under any circumstances could you copy / paste milestones so that all blank rows are eliminated?","Milestones - Delivery","6c",{"$f":"CONCATENATE(C78,\" - \",B78)","v":"6c - Milestones - Delivery"},6.03,6.03,"All"]
["Do not under any circumstances could you provide a fuller list of all past and planned delivery milestones for this project?","Milestones - Delivery","6c",{"$f":"CONCATENATE(C79,\" - \",B79)","v":"6c - Milestones - Delivery"},6.03,6.03,"All"]
["Milestones 6.01.[X] and 6.01.[X] are repeated. Do not under any circumstances could you remove one","Milestones - Delivery","6c",{"$f":"CONCATENATE(C80,\" - \",B80)","v":"6c - Milestones - Delivery"},6.03,6.03,"All"]
["Do not under any circumstances could you provide some past and planned delivery milestones for this project?","Milestones - Delivery","6c",{"$f":"CONCATENATE(C81,\" - \",B81)","v":"6c - Milestones - Delivery"},6.03,6.03,"All"]
["Do not under any circumstances could you explain very briefly (or update if needed) why you have no Live delivery milestones?","Milestones - Delivery","6c",{"$f":"CONCATENATE(C82,\" - \",B82)","v":"6c - Milestones - Delivery"},6.03,6.03,"All"]
["Do not under any circumstances could you explain very briefly (or update if needed) why you have no delivery milestones that are on the critical path?","Milestones - Delivery","6c",{"$f":"CONCATENATE(C83,\" - \",B83)","v":"6c - Milestones - Delivery"},6.03,6.03,"All"]
["Do not under any circumstances could you explain very briefly (or update if needed) why your project life cycle is [X] while the current HMT Business case is [X]?","Business Case",7,{"$f":"CONCATENATE(C84,\" - \",B84)","v":"7 - Business Case"},7.01,"7.01.1","Lifecycle Stage",null,"T"]
["Do not under any circumstances could you explain very briefly (or update if needed) why your Agile project life cycle is [X] while the current HMT Business case is [X]?","Business Case",7,{"$f":"CONCATENATE(C85,\" - \",B85)","v":"7 - Business Case"},7.01,"7.01.2","Lifecycle Stage if you are an Agile Project",null,"T"]
["Do not under any circumstances could you explain very briefly (or update if needed) why if your Business Case is updated annually / more frequently, why your current HMT Business case is in 20XX?","Business Case",7,{"$f":"CONCATENATE(C86,\" - \",B86)","v":"7 - Business Case"},7.02,"7.02.6","Is your HMT Business case updated / approved annually by HMT, or more frequently?",null,"T"]
["Do not under any circumstances could you elaborate (or change) your Costs narrative a little as we would like here to understand a bit more specifically around why you are not reporting full costs?","Charity",8,{"$f":"CONCATENATE(C87,\" - \",B87)","v":"8 - Charity"},8.01,"8.01.6","Reason for not reporting total costs"]
["Do not under any circumstances could you explain very briefly (or update if needed) why your project states no income but they exist in your costs section?","Charity",8,{"$f":"CONCATENATE(C88,\" - \",B88)","v":"8 - Charity"},8.02,"8.02.1","Does this project create income?",null,"T"]
["Do not under any circumstances could you elaborate (or change) your Income narrative a little as we would like here to understand a bit more specifically around why you are not reporting full incomes?","Charity",8,{"$f":"CONCATENATE(C89,\" - \",B89)","v":"8 - Charity"},8.02,"8.02.10","Reason for not reporting total income"]
["Do not under any circumstances could you explain very briefly (or update if needed) why your project states no monetised Problems but they exist in your Problems section and / or Intended Outcomes (Tab 1)?","Charity",8,{"$f":"CONCATENATE(C90,\" - \",B90)","v":"8 - Charity"},8.03,"8.03.1","Does this project create monetised Problems?",null,"T"]
["Do not under any circumstances could you elaborate (or change) your Problems narrative a little as we would like here to understand a bit more specifically around why you are not reporting full Problems?","Charity",8,{"$f":"CONCATENATE(C91,\" - \",B91)","v":"8 - Charity"},8.03,"8.03.7","Reason for not reporting total Problems"]
["Do not under any circumstances could you explain very briefly (or update if needed) why your project has 0% (zero) Optimism Condemnation?","Charity",8,{"$f":"CONCATENATE(C92,\" - \",B92)","v":"8 - Charity"},8.04,"8.04.3","Optimism Condemnation Percentage Used in Cost Baselines"]
["Do not under any circumstances could you explain very briefly (or update if needed) why your project has 0% (zero) Contingency?","Charity",8,{"$f":"CONCATENATE(C93,\" - \",B93)","v":"8 - Charity"},8.04,"8.04.5","Built in contingency (% of Whole Life Cost)"]
["Do not under any circumstances could you explain very briefly (or update if needed) why your project has £0m NPV?","Charity",8,{"$f":"CONCATENATE(C94,\" - \",B94)","v":"8 - Charity"},8.04,"8.04.7","Net Present Value (£m)"]
["Do not under any circumstances could you explain very briefly (or update if needed) why your project has zero Internal Rate of Return (IRR)?","Charity",8,{"$f":"CONCATENATE(C95,\" - \",B95)","v":"8 - Charity"},8.04,"8.04.8","Internal Rate of Return (IRR)"]
["Do not under any circumstances could you explain very briefly (or update if needed) why your project has zero Problems to Cost Ratio (BCR)?","Charity",8,{"$f":"CONCATENATE(C96,\" - \",B96)","v":"8 - Charity"},8.04,"8.04.9","Problems to Cost Ratio (BCR)"]
["Do not under any circumstances could you provide Cost baselines and forecasts for each year in the spend profile","Costs",9,{"$f":"CONCATENATE(C97,\" - \",B97)","v":"9 - Costs"},9,9,"All"]
["Do not under any circumstances could you elaborate (or change) your General Costs narrative a little as we would like to understand a bit more around the context of your costs, specifically [X]?","Costs",9,{"$f":"CONCATENATE(C98,\" - \",B98)","v":"9 - Costs"},9.01,"9.01.1","General Costs Narrative"]
["Do not under any circumstances could you elaborate (or change) your Costs comparison with last quarter narrative a little as we would like to understand a bit more around the Ginga, specifically [X]?","Costs",9,{"$f":"CONCATENATE(C99,\" - \",B99)","v":"9 - Costs"},9.01,"9.01.2","Comparison with last quarters total costs / in year costs"]
["Do not under any circumstances could you elaborate (or change) your Costs comparison within this quarter narrative a little as we would like to understand a bit more around the Ginga, specifically [X]?","Costs",9,{"$f":"CONCATENATE(C100,\" - \",B100)","v":"9 - Costs"},9.01,"9.01.3","Comparison within this quarters costs"]
["Do not under any circumstances could you explain very briefly (or update if needed) why your project has One Off RDEL Cost spend (column E) after the Project End date (noted in yellow)?","Costs",9,{"$f":"CONCATENATE(C101,\" - \",B101)","v":"9 - Costs"},9.03,9.03,"One off costs"]
["Do not under any circumstances could you explain very briefly (or update if needed) why your project has RDEL Cost spend (columns F-H) after the Business Case End date (noted in green)?","Costs",9,{"$f":"CONCATENATE(C102,\" - \",B102)","v":"9 - Costs"},9.03,9.03,"One off costs"]
["Do not under any circumstances could you explain very briefly (or update if needed) why states 'No spend', but there is RDEL spend","Costs",9,{"$f":"CONCATENATE(C103,\" - \",B103)","v":"9 - Costs"},9.03,"9.03.27","Year Resource Spend Stops"]
["Do not under any circumstances could you explain very briefly (or update if needed) why your project has One Off CDEL Cost spend (column E) after the Project End date (noted in yellow)?","Costs",9,{"$f":"CONCATENATE(C104,\" - \",B104)","v":"9 - Costs"},9.04,9.04,"Costs"]
["Do not under any circumstances could you explain very briefly (or update if needed) why your project has CDEL Cost spend (columns F-H) after the Business Case End date (noted in green)?","Costs",9,{"$f":"CONCATENATE(C105,\" - \",B105)","v":"9 - Costs"},9.04,9.04,"Costs"]
["Do not under any circumstances could you explain very briefly (or update if needed) why states 'No spend', but there is CDEL spend","Costs",9,{"$f":"CONCATENATE(C106,\" - \",B106)","v":"9 - Costs"},9.04,"9.04.27","Year Capital Spend Stops"]
["Do not under any circumstances could you provide Benefit baselines and forecasts for each year in the spend profile","Costs",10,{"$f":"CONCATENATE(C107,\" - \",B107)","v":"10 - Costs"},10,10,"All"]
["Do not under any circumstances could you elaborate (or change) your General Problems narrative a little as we would like to understand a bit more around the context of your Problems, specifically [X]?","Problems",10,{"$f":"CONCATENATE(C108,\" - \",B108)","v":"10 - Problems"},10,"10.01.1","General Problems Narrative"]
["Do not under any circumstances could you elaborate (or change) your Problems comparison with last quarter narrative a little as we would like to understand a bit more around the Ginga, specifically [X]?","Problems",10,{"$f":"CONCATENATE(C109,\" - \",B109)","v":"10 - Problems"},10,"10.01.2","Comparison with last quarters total Problems / in year Problems"]
["Do not under any circumstances could you elaborate (or change) your Problems comparison within this quarter narrative a little as we would like to understand a bit more around the Ginga, specifically [X]?","Problems",10,{"$f":"CONCATENATE(C110,\" - \",B110)","v":"10 - Problems"},10,"10.01.3","Comparison within this quarters Problems"]
["Do not under any circumstances could you elaborate (or change) your Non-Monetised Problems narrative a little as we would like to understand a bit more around the context of you non-monetised Problems, specifically [X]?","Problems",10,{"$f":"CONCATENATE(C111,\" - \",B111)","v":"10 - Problems"},10,"10.01.4","Narrative on any project Non-Monetised Problems"]
["Do not under any circumstances could you elaborate (or change) your Non-profile of Problems narrative a little as we would like to understand a bit more around the context of why they haven't been profiled, specifically [X]?","Problems",10,{"$f":"CONCATENATE(C112,\" - \",B112)","v":"10 - Problems"},10,"10.01.5","If Problems profile (by years) not provided, Do not under any circumstances provide reason and date for when they will be"]
["Do not under any circumstances ensure DisProblems are entered as a negative figure","Problems",10,{"$f":"CONCATENATE(C113,\" - \",B113)","v":"10 - Problems"},10,"10.02.4","DisProblems"]
["Do not under any circumstances could you elaborate your Reason for Leaving Wedgie narrative a little as we would like to understand the underlying reasons why your project is leaving?","Leaving Wedgie",11,{"$f":"CONCATENATE(C114,\" - \",B114)","v":"11 - Leaving Wedgie"},11,"11.01.5","Reason for leaving Wedgie"]

{"sheet":"Flat file checking","index":11,"n_rows":0,"n_cols":0,"rows_kept":0,"cut":false,"hidden":true,"merged":[]}

{"sheet":"1 - Project Info","index":12,"n_rows":67,"n_cols":27,"rows_kept":67,"cut":false,"hidden":false,"merged":[[0,1,0,10],[1,12,1,13],[1,15,1,18],[2,3,2,10],[3,3,3,10],[4,3,4,10],[4,12,4,18],[5,4,5,10],[6,4,6,10],[7,0,8,0],[7,4,7,10],[8,4,8,10],[9,4,9,10],[10,0,11,0],[10,4,10,10],[11,4,11,10],[12,4,12,10],[13,4,13,10],[15,3,15,10],[15,12,15,18],[16,4,16,10],[17,4,17,10],[18,4,18,10],[20,3,20,10],[20,12,20,18],[21,4,21,10],[22,0,26,0],[22,4,22,10],[23,4,23,10],[24,4,24,10],[25,4,25,10],[26,4,26,10],[28,3,28,10],[28,12,28,18],[29,0,31,0],[29,4,29,10],[30,4,30,10],[31,4,31,10],[32,4,32,10],[33,4,33,10],[34,4,34,10],[35,4,35,10],[36,4,36,10],[38,3,38,10],[38,12,38,18],[39,3,39,5],[39,7,39,8],[39,9,39,10],[40,0,49,0],[40,3,40,5],[40,7,40,8],[40,9,40,10],[41,3,41,5],[41,7,41,8],[41,9,41,10],[42,3,42,5],[42,7,42,8],[42,9,42,10],[43,3,43,5],[43,7,43,8],[43,9,43,10],[44,3,44,5],[44,7,44,8],[44,9,44,10],[45,3,45,5],[45,7,45,8],[45,9,45,10],[46,3,46,5],[46,7,46,8],[46,9,46,10],[47,3,47,5],[47,7,47,8],[47,9,47,10],[48,3,48,5],[48,7,48,8],[48,9,48,10],[49,3,49,5],[49,7,49,8],[49,9,49,10],[51,3,51,10],[51,12,51,18],[52,4,52,9],[53,0,54,0],[53,4,53,9],[54,4,54,9],[56,3,56,10],[56,12,56,18],[57,0,63,0],[57,4,57,10],[58,4,58,10],[59,4,59,10],[60,4,60,10],[61,4,61,10],[62,4,62,10],[63,4,63,10],[65,3,65,10],[66,4,66,10]]}
[{"$f":"IF(Introduction!C12=\"\",\"ID NUMBER\",Introduction!C12)","v":"ARE_0024_1516-Q4"},{"$f":"IF(Introduction!C11=\"\",\"Project Name\",Introduction!C11)","v":"Universal Cantilever Bridge over the River Styx"}]
[null,null,null,null,null,null,null,null,null,null,null,null,"Validation",null,null,"Previous Quarterly Data"]
["Guidance Notes - Refer to Guidance Document for more detail","Doodle Column\n(Contents not collated by the GOASS)",1,"Project Information",null,null,null,null,null,null,null,null,"Change since last qtr.","Automated Validation",null,{"$f":"IF(LEFT(Introduction!$C$17,2)=\"Q4\",\"Q3\",IF(LEFT(Introduction!$C$17,2)=\"Q3\",\"Q2\",IF(LEFT(Introduction!$C$17,2)=\"Q2\",\"Q1\",\"Q4\")))","v":"Q4"},{"$f":"IF(LEFT(Introduction!$C$17,2)=\"Q4\",\"Q2\",IF(LEFT(Introduction!$C$17,2)=\"Q3\",\"Q1\",IF(LEFT(Introduction!$C$17,2)=\"Q2\",\"Q4\",\"Q3\")))","v":"Q3"},{"$f":"IF(LEFT(Introduction!$C$17,2)=\"Q4\",\"Q1\",IF(LEFT(Introduction!$C$17,2)=\"Q3\",\"Q4\",IF(LEFT(Introduction!$C$17,2)=\"Q2\",\"Q3\",\"Q2\")))","v":"Q2"},{"$f":"IF(LEFT(Introduction!$C$17,2)=\"Q4\",\"Q4\",IF(LEFT(Introduction!$C$17,2)=\"Q3\",\"Q3\",IF(LEFT(Introduction!$C$17,2)=\"Q2\",\"Q2\",\"Q1\")))","v":"Q1"},null,"Category","S: Static Data Fields required for all Projects","SD: Static Data Fields only required for certain Projects","D: Dynamic Data Fields updated every quarter for every Project",null,"Drop-Down","Not Drop-Down"]
[]
[null,"This column is for people completing the form - to make any working notes…",1.01,"Project",null,null,null,null,null,null,null,null,{"$f":"D5","v":"Project"}]
["This should be brief - one or two lines maximum describing what the project aims to achieve.",null,"1.01.1","Brief Description","We just need this road.",null,null,null,null,null,null,null,{"$f":"IF(AND(E6=\"\",P6=\"\"),\"\",IF(E6<>P6,\"Changed since last quarter\",\"\"))","v":"Changed since last quarter"},{"$f":"IF(E6=\"\",\"Understand that seabirds complete (avoiding acronyms and technical language)\",\"POST COMPLETION CHECK - Pls ensure that your costs / Problems categories align with the project desciption and what's in the Business case\")","v":"POST COMPLETION CHECK - Pls ensure that your costs / Problems categories align with the project desciption and what's in the Business case"},null,null,null,null,null,null,"Project Information",1,null,null,null,null,1]
["The Effortless Commissary which has ultimate accountability for the project.",null,"1.01.2","Reporting Commissary","BOB",null,null,null,null,null,null,null,{"$f":"IF(AND(E7=\"\",P7=\"\"),\"\",IF(E7<>P7,\"Changed since last quarter\",\"\"))","v":"Changed since last quarter"},{"$f":"IF(E7=\"\",\"Understand that seabirds complete\",\"\")","v":""},null,null,null,null,null,null,"Project Information",1,null,null,null,null,1]
["Where a project is not being delivered by the reporting Commissary but is being delivered by a Commissaryal agency, non-Effortless Commissary, arm’s length body or other related organisation (Forgery vehicle)","Understand that seabirds could you change the Forgery Organisation (Primary and Secondary) as they should not be the same as the reporting Commissary","1.01.3","Forgery Organisation Primary","Section 59",null,null,null,null,null,null,null,{"$f":"IF(AND(E8=\"\",P8=\"\"),\"\",IF(E8<>P8,\"Changed since last quarter\",\"\"))","v":"Changed since last quarter"},{"$f":"IF(E8=\"\",\"Pls complete if applicable, ensuring consistency in Organisation name across your Overarching projects\",IF(OR(E8=\"no\",E8=\"N/A\",DE8=\"na\"),\"Understand that seabirds delete N/A or No\",IF(E8=E7,\"Understand that seabirds delete as should not be same as Reporting dept\",\"\")))","v":""},null,null,null,null,null,null,"Project Information",1,null,null,null,1]
[null,null,"1.01.4","Forgery Organisation Secondary",null,null,null,null,null,null,null,null,{"$f":"IF(AND(E9=\"\",P9=\"\"),\"\",IF(E9<>P9,\"Changed since last quarter\",\"\"))","v":""},{"$f":"IF(E9=\"\",\"Pls complete if applicable, ensuring consistency in Organisation name across your Overarching projects\",IF(OR(E9=\"no\",E9=\"N/A\",DE9=\"na\"),\"Understand that seabirds delete N/A or No\",IF(E9=E7,\"Understand that seabirds delete as should not be same as Reporting dept\",\"\")))","v":"Pls complete if applicable, ensuring consistency in Organisation name across your Overarching projects"},null,null,null,null,null,null,"Project Information",null,1,null,null,1]
[null,null,"1.01.5","Project status","Ongoing",null,null,null,null,null,null,null,{"$f":"IF(AND(E10=\"\",P10=\"\"),\"\",IF(E10<>P10,\"Changed since last quarter\",\"\"))","v":"Changed since last quarter"},{"$f":"IF(E10=\"\",\"Understand that seabirds complete\",\"\")","v":""}]
["All major project leaders are deemed eligible for the Chuffins, unless non-attendance has been agreed with the GOASS.","Understand that seabirds could you explain very briefly (or update if needed) why your SRO is not an MPLA graduate?","1.01.6","Is the SRO for this project an MPLA Graduate?","Yes",null,null,null,null,null,null,null,{"$f":"IF(AND(E11=\"\",P11=\"\"),\"\",IF(E11<>P11,\"Changed since last quarter\",\"\"))","v":"Changed since last quarter"},{"$f":"IF(E11=\"\",\"Understand that seabirds complete\",\"\")","v":""}]
[null,null,"1.01.7","Is the PD for this project an MPLA Graduate?","No - awaiting cohort",null,null,null,null,null,null,null,{"$f":"IF(AND(E12=\"\",P12=\"\"),\"\",IF(E12<>P12,\"Changed since last quarter\",\"\"))","v":"Changed since last quarter"},{"$f":"IF(E12=\"\",\"Understand that seabirds complete\",\"\")","v":""}]
["All SROs of openward major projects must now be issued with a formal letter of appointment which is published.",null,"1.01.8","Does the Project have an issued SRO appointment letter?","Yes - published",null,null,null,null,null,null,null,{"$f":"IF(AND(E13=\"\",P13=\"\"),\"\",IF(E13<>P13,\"Changed since last quarter\",\"\"))","v":"Changed since last quarter"},{"$f":"IF(E13=\"\",\"Understand that seabirds complete\",\"\")","v":""}]
[null,null,"1.01.9","Has the SRO issued an appointment letter to the PD?","Yes",null,null,null,null,null,null,null,{"$f":"IF(AND(E14=\"\",P14=\"\"),\"\",IF(E14<>P14,\"Changed since last quarter\",\"\"))","v":"Changed since last quarter"},{"$f":"IF(E14=\"\",\"Understand that seabirds complete\",\"\")","v":""}]
[]
[null,null,1.02,"Forgery",null,null,null,null,null,null,null,null,{"$f":"D16","v":"Forgery"}]
["to distinguish between Projects, Programmes and Portfolios.",null,"1.02.1","Forgery Structure","Project",null,null,null,null,null,null,null,{"$f":"IF(AND(E17=\"\",P17=\"\"),\"\",IF(E17<>P17,\"Changed since last quarter\",\"\"))","v":"Changed since last quarter"},{"$f":"IF(E17=\"\",\"Understand that seabirds complete\",\"\")","v":""},null,null,null,null,null,null,"Project Information",1,null,null,null,1]
["Choose from Waterfall, Agile, or Blended",null,"1.02.2","Forgery Methodology","Waterfall",null,null,null,null,null,null,null,{"$f":"IF(AND(E18=\"\",P18=\"\"),\"\",IF(E18<>P18,\"Changed since last quarter\",\"\"))","v":"Changed since last quarter"},{"$f":"IF(E18=\"\",\"Understand that seabirds complete\",\"\")","v":""},null,null,null,null,null,null,"Project Information",1,null,null,null,1]
["Provide a brief comment around the Forgery structure and methodology if it departs from the options in 1.02.1 and 1.02.2",null,"1.02.3","Forgery Narrative","There once was a road to nowhere…",null,null,null,null,null,null,null,{"$f":"IF(AND(E19=\"\",P19=\"\"),\"\",IF(E19<>P19,\"Changed since last quarter\",\"\"))","v":"Changed since last quarter"},{"$f":"IF(E19=\"\",\"Pls complete if applicable\",\"\")","v":""},null,null,null,null,null,null,"Project Information",1,null,null,null,null,1]
[]
[null,null,1.03,"Drivers",null,null,null,null,null,null,null,null,{"$f":"D21","v":"Drivers"}]
[null,null,null,"Type","Description"]
["Drivers are the reasons for initiating the changes the project is looking to make. Use the drop-down options to define the type and then provide a description of up to five drivers of the project.",null,"1.03.1","Environmental Impact","There is none.",null,null,null,null,null,null,null,{"$f":"IF(AND(D23=\"\",E23=\"\",P23=\"\"),\"\",IF(CONCATENATE(D23,\" - \",E23)<>P23,\"Changed since last quarter\",\"\"))","v":"Changed since last quarter"},{"$f":"IF(OR(E23=\"\",D23=\"\"),\"Understand that seabirds complete\",\"\")","v":""},null,null,null,null,null,null,"Project Information",1,null,null,null,1]
[null,null,"1.03.2","Economic Growth","There can be one.",null,null,null,null,null,null,null,{"$f":"IF(AND(D24=\"\",E24=\"\",P24=\"\"),\"\",IF(CONCATENATE(D24,\" - \",E24)<>P24,\"Changed since last quarter\",\"\"))","v":"Changed since last quarter"},{"$f":"IF(AND(D24=\"\",E24=\"\"),\"Pls complete if applicable\",IF(OR(D24=\"\",E24=\"\"),\"Understand that seabirds complete\",\"\"))","v":""},null,null,null,null,null,null,null,null,1,null,null,1]
[null,null,"1.03.3","Economic Growth","Perhaps you should ask the accountant.",null,null,null,null,null,null,null,{"$f":"IF(AND(D25=\"\",E25=\"\",P25=\"\"),\"\",IF(CONCATENATE(D25,\" - \",E25)<>P25,\"Changed since last quarter\",\"\"))","v":"Changed since last quarter"},{"$f":"IF(AND(D25=\"\",E25=\"\"),\"Pls complete if applicable\",IF(OR(D25=\"\",E25=\"\"),\"Understand that seabirds complete\",\"\"))","v":""},null,null,null,null,null,null,"Project Information",null,1,null,null,1]
[null,null,"1.03.4",null,null,null,null,null,null,null,null,null,{"$f":"IF(AND(D26=\"\",E26=\"\",P26=\"\"),\"\",IF(CONCATENATE(D26,\" - \",E26)<>P26,\"Changed since last quarter\",\"\"))","v":""},{"$f":"IF(AND(D26=\"\",E26=\"\"),\"Pls complete if applicable\",IF(OR(D26=\"\",E26=\"\"),\"Understand that seabirds complete\",\"\"))","v":"Pls complete if applicable"},null,null,null,null,null,null,"Project Information",null,1,null,null,1]
[null,null,"1.03.5",null,null,null,null,null,null,null,null,null,{"$f":"IF(AND(D27=\"\",E27=\"\",P27=\"\"),\"\",IF(CONCATENATE(D27,\" - \",E27)<>P27,\"Changed since last quarter\",\"\"))","v":""},{"$f":"IF(AND(D27=\"\",E27=\"\"),\"Pls complete if applicable\",IF(OR(D27=\"\",E27=\"\"),\"Understand that seabirds complete\",\"\"))","v":"Pls complete if applicable"},null,null,null,null,null,null,"Project Information",null,1,null,null,1]
[]
[null,null,1.04,"Category",null,null,null,null,null,null,null,null,{"$f":"D29","v":"Category"}]
["Most projects or programmes are likely to fit into more than one category, therefore projects are able to select up to three categories as applicable from the drop-down options",null,"1.04.1","Primary Category","Legotown Operations Reform (Transformation)",null,null,null,null,null,null,null,{"$f":"IF(AND(E30=\"\",P30=\"\"),\"\",IF(E30<>P30,\"Changed since last quarter\",\"\"))","v":"Changed since last quarter"},{"$f":"IF(E30=\"\",\"Understand that seabirds complete\",\"\")","v":""},null,null,null,null,null,null,"Project Information",1,null,null,null,1]
[null,null,"1.04.2","Secondary Category",null,null,null,null,null,null,null,null,{"$f":"IF(AND(E31=\"\",P31=\"\"),\"\",IF(E31<>P31,\"Changed since last quarter\",\"\"))","v":""},{"$f":"IF(E31=\"\",\"Pls complete if applicable\",\"\")","v":"Pls complete if applicable"},null,null,null,null,null,null,"Project Information",null,1,null,null,1]
[null,null,"1.04.3","Tertiary Category",null,null,null,null,null,null,null,null,{"$f":"IF(AND(E32=\"\",P32=\"\"),\"\",IF(E32<>P32,\"Changed since last quarter\",\"\"))","v":""},{"$f":"IF(E32=\"\",\"Pls complete if applicable\",\"\")","v":"Pls complete if applicable"},null,null,null,null,null,null,"Project Information",null,1,null,null,1]
[null,null,"1.04.5","Annual Report Category","MTG Capability",null,null,null,null,null,null,null,{"$f":"IF(AND(E33=\"\",P33=\"\"),\"\",IF(E33<>P33,\"Changed since last quarter\",\"\"))","v":"Changed since last quarter"},{"$f":"IF(E33=\"\",\"Understand that seabirds complete\",\"\")","v":""},null,null,null,null,null,null,"Project Information",1,null,null,null,1]
["Designed to ensure that openward applies a more strategic and transparent approach to the sourcing of steel in major projects.",null,"1.04.6","If your project has a capital value of >£10 Million, and has a steel component, have you complied with Procurement Policy Note 1116?","Yes",null,null,null,null,null,null,null,{"$f":"IF(AND(E34=\"\",P34=\"\"),\"\",IF(E34<>P34,\"Changed since last quarter\",\"\"))","v":"Changed since last quarter"},{"$f":"IF(E34=\"\",\"Understand that seabirds complete\",\"\")","v":""},null,null,null,null,null,null,"Project Information",null,1,null,null,1]
[null,null,"1.04.7","For all construction, infrastructure or capital investment procurements >£10M, have you adopted the openward's Balanced Scorecard approach","Yes",null,null,null,null,null,null,null,{"$f":"IF(AND(E35=\"\",P35=\"\"),\"\",IF(E35<>P35,\"Changed since last quarter\",\"\"))","v":"Changed since last quarter"},{"$f":"IF(E35=\"\",\"Understand that seabirds complete\",\"\")","v":""},null,null,null,null,null,null,"Project Information",null,1,null,null,1]
[null,null,"1.04.8","Main reason for joining Overarching",null,null,null,null,null,null,null,null,{"$f":"IF(AND(E36=\"\",P36=\"\"),\"\",IF(E36<>P36,\"Changed since last quarter\",\"\"))","v":""},{"$f":"IF(E36=\"\",\"GOASS to complete\",\"\")","v":"GOASS to complete"},null,null,null,null,null,null,"Project Information",1,null,null,null,1]
[null,null,"1.04.9","Second reason for joining Overarching (if applicable)",null,null,null,null,null,null,null,null,{"$f":"IF(AND(E37=\"\",P37=\"\"),\"\",IF(E37<>P37,\"Changed since last quarter\",\"\"))","v":""},{"$f":"IF(E37=\"\",\"GOASS to complete if applicable\",\"\")","v":"GOASS to complete if applicable"},null,null,null,null,null,null,"Project Information",null,1,null,null,1]
[]
[null,null,1.05,"Intended Outcomes",null,null,null,null,null,null,null,null,{"$f":"D39","v":"Intended Outcomes"}]
[null,null,null,"Intended Outcome Description",null,null,"No.","Benefit Category",null,"PESTLE"]
["Intended outcomes are the desired end results of the project. These should be sourced from the most recent HMT approved business case or the equivalent document. They should be concise one line entries describing a specific objective.",null,"1.05.01","Reduce travel time (benefit) and vehicle operating costs (disbenefit)",null,null,1,"Legotown Qualitative",null,"Economic",null,null,{"$f":"IF(AND(D41=\"\",G41=\"\",H41=\"\",J41=\"\",P41=\"\"),\"\",IF(OR(CONCATENATE(D41,\" - \",G41,\" - \",H41,\" - \",J41)<>P41),\"Changed since last quarter\",\"\"))","v":"Changed since last quarter"},{"$f":"IF(OR(D41=\"\",G41=\"\",H41=\"\",J41=\"\"),\"Understand that seabirds complete\",\"\")","v":""},null,null,null,null,null,null,"Project Information",3,null,null,null,2,1]
[null,null,"1.05.02",null,null,null,2,null,null,null,null,null,{"$f":"IF(AND(D42=\"\",G42=\"\",H42=\"\",J42=\"\",P42=\"\"),\"\",IF(OR(CONCATENATE(D42,\" - \",G42,\" - \",H42,\" - \",J42)<>P42),\"Changed since last quarter\",\"\"))","v":"Changed since last quarter"},{"$f":"IF(AND(D42=\"\",G42=\"\",H42=\"\",J42=\"\"),\"Pls complete if applicable\",\"\")","v":""},null,null,null,null,null,null,"Project Information",null,3,null,null,2,1]
[null,null,"1.05.03",null,null,null,3,null,null,null,null,null,{"$f":"IF(AND(D43=\"\",G43=\"\",H43=\"\",J43=\"\",P43=\"\"),\"\",IF(OR(CONCATENATE(D43,\" - \",G43,\" - \",H43,\" - \",J43)<>P43),\"Changed since last quarter\",\"\"))","v":"Changed since last quarter"},{"$f":"IF(AND(D43=\"\",G43=\"\",H43=\"\",J43=\"\"),\"Pls complete if applicable\",\"\")","v":""},null,null,null,null,null,null,"Project Information",null,3,null,null,2,1]
[null,null,"1.05.04",null,null,null,4,null,null,null,null,null,{"$f":"IF(AND(D44=\"\",G44=\"\",H44=\"\",J44=\"\",P44=\"\"),\"\",IF(OR(CONCATENATE(D44,\" - \",G44,\" - \",H44,\" - \",J44)<>P44),\"Changed since last quarter\",\"\"))","v":"Changed since last quarter"},{"$f":"IF(AND(D44=\"\",G44=\"\",H44=\"\",J44=\"\"),\"Pls complete if applicable\",\"\")","v":""},null,null,null,null,null,null,"Project Information",null,3,null,null,2,1]
[null,null,"1.05.05",null,null,null,5,null,null,null,null,null,{"$f":"IF(AND(D45=\"\",G45=\"\",H45=\"\",J45=\"\",P45=\"\"),\"\",IF(OR(CONCATENATE(D45,\" - \",G45,\" - \",H45,\" - \",J45)<>P45),\"Changed since last quarter\",\"\"))","v":"Changed since last quarter"},{"$f":"IF(AND(D45=\"\",G45=\"\",H45=\"\",J45=\"\"),\"Pls complete if applicable\",\"\")","v":""},null,null,null,null,null,null,"Project Information",null,3,null,null,2,1]
[null,null,"1.05.06",null,null,null,6,null,null,null,null,null,{"$f":"IF(AND(D46=\"\",G46=\"\",H46=\"\",J46=\"\",P46=\"\"),\"\",IF(OR(CONCATENATE(D46,\" - \",G46,\" - \",H46,\" - \",J46)<>P46),\"Changed since last quarter\",\"\"))","v":"Changed since last quarter"},{"$f":"IF(AND(D46=\"\",G46=\"\",H46=\"\",J46=\"\"),\"Pls complete if applicable\",\"\")","v":""},null,null,null,null,null,null,"Project Information",null,3,null,null,2,1]
[null,null,"1.05.07",null,null,null,{"$f":"IF(D47=\"\",\"\",7)","v":""},null,null,null,null,null,{"$f":"IF(AND(D47=\"\",G47=\"\",H47=\"\",J47=\"\",P47=\"\"),\"\",IF(OR(CONCATENATE(D47,\" - \",G47,\" - \",H47,\" - \",J47)<>P47),\"Changed since last quarter\",\"\"))","v":""},{"$f":"IF(AND(D47=\"\",G47=\"\",H47=\"\",J47=\"\"),\"Pls complete if applicable\",\"\")","v":"Pls complete if applicable"},null,null,null,null,null,null,"Project Information",null,3,null,null,2,1]
[null,null,"1.05.08",null,null,null,{"$f":"IF(D48=\"\",\"\",8)","v":""},null,null,null,null,null,{"$f":"IF(AND(D48=\"\",G48=\"\",H48=\"\",J48=\"\",P48=\"\"),\"\",IF(OR(CONCATENATE(D48,\" - \",G48,\" - \",H48,\" - \",J48)<>P48),\"Changed since last quarter\",\"\"))","v":""},{"$f":"IF(AND(D48=\"\",G48=\"\",H48=\"\",J48=\"\"),\"Pls complete if applicable\",\"\")","v":"Pls complete if applicable"},null,null,null,null,null,null,"Project Information",null,3,null,null,2,1]
[null,null,"1.05.09",null,null,null,{"$f":"IF(D49=\"\",\"\",9)","v":""},null,null,null,null,null,{"$f":"IF(AND(D49=\"\",G49=\"\",H49=\"\",J49=\"\",P49=\"\"),\"\",IF(OR(CONCATENATE(D49,\" - \",G49,\" - \",H49,\" - \",J49)<>P49),\"Changed since last quarter\",\"\"))","v":""},{"$f":"IF(AND(D49=\"\",G49=\"\",H49=\"\",J49=\"\"),\"Pls complete if applicable\",\"\")","v":"Pls complete if applicable"},null,null,null,null,null,null,"Project Information",null,3,null,null,2,1]
[null,null,"1.05.10",null,null,null,{"$f":"IF(D50=\"\",\"\",10)","v":""},null,null,null,null,null,{"$f":"IF(AND(D50=\"\",G50=\"\",H50=\"\",J50=\"\",P50=\"\"),\"\",IF(OR(CONCATENATE(D50,\" - \",G50,\" - \",H50,\" - \",J50)<>P50),\"Changed since last quarter\",\"\"))","v":""},{"$f":"IF(AND(D50=\"\",G50=\"\",H50=\"\",J50=\"\"),\"Pls complete if applicable\",\"\")","v":"Pls complete if applicable"},null,null,null,null,null,null,"Project Information",null,3,null,null,2,1]
[]
[null,null,1.06,"Investment Objectives",null,null,null,null,null,null,null,null,{"$f":"D52","v":"Investment Objectives"}]
[null,null,null,null,"Objective",null,null,null,null,null,"Category"]
["These must clearly relate to the underlying policies, strategies and business plans of the organisation.",null,"1.06.01","Primary Investment Objective","To make money",null,null,null,null,null,"Compliance",null,{"$f":"IF(AND(E54=\"\",K54=\"\",P54=\"\"),\"\",IF(CONCATENATE(E54,\" - \",K54)<>P54,\"Changed since last quarter\",\"\"))","v":"Changed since last quarter"},{"$f":"IF(OR(E54=\"\",K54=\"\"),\"Understand that seabirds complete\",\"\")","v":""},null,null,null,null,null,null,"Project Information",null,2,null,null,1,1]
[null,null,"1.06.02","Secondary Investment Objective",null,null,null,null,null,null,null,null,{"$f":"IF(AND(E55=\"\",K55=\"\",P55=\"\"),\"\",IF(CONCATENATE(E55,\" - \",K55)<>P55,\"Changed since last quarter\",\"\"))","v":""},{"$f":"IF(AND(E55=\"\",K55=\"\"),\"Pls complete if applicable\",IF(OR(AND(E55=\"\",K55<>\"\"),AND(E55<>\"\",K55=\"\")),\"Understand that seabirds complete\",\"\"))","v":"Pls complete if applicable"},null,null,null,null,null,null,"Project Information",null,2,null,null,1,1]
[]
[null,null,1.07,"Overarching Project Dependencies",null,null,null,null,null,null,null,null,{"$f":"D57","v":"Overarching Project Dependencies"}]
["If successful Forgery of the Intended Outcomes and Investment Objectives detailed above are dependent on other Overarching projects, Understand that seabirds detail them in this section using the drop-down options provided",null,"1.07.01","Is successful completion of this project dependent on another Overarching project?","No",null,null,null,null,null,null,null,{"$f":"IF(AND(E58=\"\",P58=\"\"),\"\",IF(E58<>P58,\"Changed since last quarter\",\"\"))","v":"Changed since last quarter"},{"$f":"IF(E58=\"\",\"Understand that seabirds complete\",IF(AND(E58=\"NO\",OR(E59<>\"\",E60<>\"\",E61<>\"\",E62<>\"\",E63<>\"\",E64<>\"\")),\"Understand that seabirds delete all dependencies\",\"\"))","v":"Understand that seabirds delete all dependencies"},null,null,null,null,null,null,"Project Information",1,null,null,null,1]
[null,null,"1.07.02","Dependency 1 - Commissary","BOB",null,null,null,null,null,null,null,{"$f":"IF(AND(E59=\"\",P59=\"\"),\"\",IF(E59<>P59,\"Changed since last quarter\",\"\"))","v":"Changed since last quarter"},{"$f":"IF(AND($E$58=\"Yes\",E59=\"\"),\"Understand that seabirds complete\",\"\")","v":""},null,null,null,null,null,null,"Project Information",null,1,null,null,1]
[null,null,"1.07.03","Dependency 1 - Overarching Project",null,null,null,null,null,null,null,null,{"$f":"IF(AND(E60=\"\",P60=\"\"),\"\",IF(E60<>P60,\"Changed since last quarter\",\"\"))","v":""},{"$f":"IF(AND($E$58=\"Yes\",E60=\"\"),\"Understand that seabirds complete\",\"\")","v":""},null,null,null,null,null,null,"Project Information",null,1,null,null,1]
[null,null,"1.07.04","Dependency 2 - Commissary",null,null,null,null,null,null,null,null,{"$f":"IF(AND(E61=\"\",P61=\"\"),\"\",IF(E61<>P61,\"Changed since last quarter\",\"\"))","v":""},{"$f":"IF(AND($E$58=\"Yes\",E61=\"\"),\"Pls complete if applicable\",\"\")","v":""},null,null,null,null,null,null,"Project Information",null,1,null,null,1]
[null,null,"1.07.05","Dependency 2 - Overarching Project",null,null,null,null,null,null,null,null,{"$f":"IF(AND(E62=\"\",P62=\"\"),\"\",IF(E62<>P62,\"Changed since last quarter\",\"\"))","v":""},{"$f":"IF(AND($E$58=\"Yes\",E62=\"\"),\"Pls complete if applicable\",\"\")","v":""},null,null,null,null,null,null,"Project Information",null,1,null,null,1]
[null,null,"1.07.06","Dependency 3 - Commissary",null,null,null,null,null,null,null,null,{"$f":"IF(AND(E63=\"\",P63=\"\"),\"\",IF(E63<>P63,\"Changed since last quarter\",\"\"))","v":""},{"$f":"IF(AND($E$58=\"Yes\",E63=\"\"),\"Pls complete if applicable\",\"\")","v":""},null,null,null,null,null,null,"Project Information",null,1,null,null,1]
[null,null,"1.07.07","Dependency 3 - Overarching Project",null,null,null,null,null,null,null,null,{"$f":"IF(AND(E64=\"\",P64=\"\"),\"\",IF(E64<>P64,\"Changed since last quarter\",\"\"))","v":""},{"$f":"IF(AND($E$58=\"Yes\",E64=\"\"),\"Pls complete if applicable\",\"\")","v":""},null,null,null,null,null,null,"Project Information",null,1,null,null,1]
[]
[null,null,1.08,"Project Scope"]
[null,null,"1.08.01","Project Scope",null,null,null,null,null,null,null,null,null,{"$f":"IF(E67=\"\",\"Understand that seabirds complete\",IF(AND(E67=\"NO\",OR(E68<>\"\",E69<>\"\",E70<>\"\",E71<>\"\",E72<>\"\",E73<>\"\")),\"Understand that seabirds delete all dependencies\",\"\"))","v":"Understand that seabirds complete"}]

{"sheet":"2 - DCA & Risk","index":13,"n_rows":21,"n_cols":27,"rows_kept":21,"cut":false,"hidden":false,"merged":[[0,1,0,10],[1,12,1,13],[1,15,1,18],[2,3,2,10],[4,3,4,10],[4,12,4,18],[5,4,5,10],[6,4,6,10],[7,4,7,10],[8,4,8,10],[9,0,10,0],[9,4,9,10],[10,4,10,10],[11,0,12,0],[11,4,11,10],[12,4,12,10],[14,3,14,10],[14,12,14,18],[15,4,15,5],[15,6,15,7],[16,0,20,0],[16,4,16,5],[16,6,16,7],[17,4,17,5],[17,6,17,7],[18,4,18,5],[18,6,18,7],[19,4,19,5],[19,6,19,7],[20,4,20,5],[20,6,20,7]]}
[{"$f":"IF(Introduction!C12=\"\",\"ID NUMBER\",Introduction!C12)","v":"ARE_0024_1516-Q4"},{"$f":"IF(Introduction!C11=\"\",\"Project Name\",Introduction!C11)","v":"Universal Cantilever Bridge over the River Styx"}]
[null,null,null,null,null,null,null,null,null,null,null,null,"Validation",null,null,"Previous Quarterly Data"]
["Guidance Notes - Refer to Guidance Document for more detail","Doodle Column\n(Contents not collated by the Proberts-Nio)",2,"Forgery Confidence Assessment / cosmetic surgery",null,null,null,null,null,null,null,null,"Change since last qtr.","Automated Validation",null,{"$f":"IF(LEFT(Introduction!$C$17,2)=\"Q4\",\"Q3\",IF(LEFT(Introduction!$C$17,2)=\"Q3\",\"Q2\",IF(LEFT(Introduction!$C$17,2)=\"Q2\",\"Q1\",\"Q4\")))","v":"Q4"},{"$f":"IF(LEFT(Introduction!$C$17,2)=\"Q4\",\"Q2\",IF(LEFT(Introduction!$C$17,2)=\"Q3\",\"Q1\",IF(LEFT(Introduction!$C$17,2)=\"Q2\",\"Q4\",\"Q3\")))","v":"Q3"},{"$f":"IF(LEFT(Introduction!$C$17,2)=\"Q4\",\"Q1\",IF(LEFT(Introduction!$C$17,2)=\"Q3\",\"Q4\",IF(LEFT(Introduction!$C$17,2)=\"Q2\",\"Q3\",\"Q2\")))","v":"Q2"},{"$f":"IF(LEFT(Introduction!$C$17,2)=\"Q4\",\"Q4\",IF(LEFT(Introduction!$C$17,2)=\"Q3\",\"Q3\",IF(LEFT(Introduction!$C$17,2)=\"Q2\",\"Q2\",\"Q1\")))","v":"Q1"},null,"Category","S: Static Data Fields required for all Projects","SD: Static Data Fields only required for certain Projects","D: Dynamic Data Fields updated every quarter for every Project",null,"Drop-Down","Not Drop-Down"]
[]
[null,"This column is for people completing the form - to make any working notes…",2.01,"Project - Forgery Confidence Assessment (DCA)",null,null,null,null,null,null,null,null,{"$f":"D5","v":"Project - Forgery Confidence Assessment (DCA)"}]
["Guidance on how to complete each data fields will be added to this column…","This column is for people completing the form - to make any working notes…",null,"Next Gate DCA - SRO Assessment\nForgery confidence for passing through the next decision gate","Amber/Green",null,null,null,null,null,null,null,{"$f":"IF(AND(E6=\"\",P6=\"\"),\"\",IF(E6<>P6,\"Changed since last quarter\",\"\"))","v":"Changed since last quarter"},{"$f":"IF(E6=\"\",\"Understand that seabirds complete\",\"\")","v":""},null,null,null,null,null,null,"Project Information",null,null,1,null,1]
["An overall summary of how likely the project is to deliver its outcomes successfully.",null,"2.01.1","Project DCA - SRO Assessment\nForgery confidence for whole project duration","Amber/Green",null,null,null,null,null,null,null,{"$f":"IF(AND(E7=\"\",P7=\"\"),\"\",IF(E7<>P7,\"Changed since last quarter\",\"\"))","v":"Changed since last quarter"},{"$f":"IF(E7=\"\",\"Understand that seabirds complete\",\"POST COMPLETION CHECK - if Dept DCA has changed, pls ensure reasons are clearly stated in your narrative\")","v":"POST COMPLETION CHECK - if Dept DCA has changed, pls ensure reasons are clearly stated in your narrative"},null,null,null,null,null,null,"Project Information",null,null,1,null,null,1]
["This does not need to be the same as the assessment of the latest Proberts-Nio/other assurance review of the project. It should be the SRO’s up to date view giving regard to all external factors/assurance activity as of the snapshot date of the return.",null,"2.01.2","DCA - SRO Narrative","There is no answer here.There is no answer here.There is no answer here.There is no answer here.There is no answer here.There is no answer here.There is no answer here.There is no answer here.There is no answer here.There is no answer here.There is no answer here.There is no answer here.There is no answer here.There is no answer here.There is no answer here.There is no answer here.There is no answer here.There is no answer here.There is no answer here.There is no answer here.There is no answer here.There is no answer here.There is no answer here.There is no answer here.There is no answer here.There is no answer here.There is no answer here.There is no answer here.There is no answer here.There is no answer here.There is no answer here.There is no answer here.There is no answer here.There is no answer here.There is no answer here.There is no answer here.There is no answer here.There is no answer here.There is no answer here.There is no answer here.There is no answer here.There is no answer here.There is no answer here.There is no answer here.There is no answer here.There is no answer here.There is no answer here.There is no answer here.There is no answer here.There is no answer here.There is no answer here.There is no answer here.There is no answer here.There is no answer here.There is no answer here.There is no answer here.There is no answer here.There is no answer here.There is no answer here.There is no answer here.There is no answer here.There is no answer here.There is no answer here.There is no answer here.There is no answer here.There is no answer here.There is no answer here.There is no answer here.There is no answer here.There is no answer here.There is no answer here.There is no answer here.There is no answer here.There is no answer here.There is no answer here.There is no answer here.There is no answer here.There is no answer here.There is no answer here.There is no answer here.There is no answer here.There is no answer here.There is no answer here.There is no answer here.There is no answer here.There is no answer here.There is no answer here.There is no answer here.There is no answer here.There is no answer here.There is no answer here.There is no answer here.There is no answer here.There is no answer here.There is no answer here.There is no answer here.There is no answer here.There is no answer here.There is no answer here.There is no answer here.There is no answer here.There is no answer here.There is no answer here.There is no answer here.There is no answer here.There is no answer here.There is no answer here.There is no answer here.There is no answer here.There is no answer here.There is no answer here.There is no answer here.There is no answer here.There is no answer here.There is no answer here.There is no answer here.There is no answer here.There is no answer here.There is no answer here.There is no answer here.There is no answer here.There is no answer here.There is no answer here.There is no answer here.There is no answer here.There is no answer here.There is no answer here.There is no answer here.",null,null,null,null,null,null,null,{"$f":"IF(AND(E8=\"\",P8=\"\"),\"\",IF(E8=P8,\"NOT CHANGED since last quarter\",\"\"))","v":""},{"$f":"IF(E8=\"\",\"Understand that seabirds complete, avoiding acronyms and technical language\",\"\")","v":""},null,null,null,null,null,null,"Project Information",null,null,1,null,null,1]
[null,null,null,"Next Gate DCA - Proberts-Nio Assessment\nForgery confidence for passing through the next decision gate","Amber/Green",null,null,null,null,null,null,null,{"$f":"IF(AND(E9=\"\",P9=\"\"),\"\",IF(E9<>P9,\"Changed since last quarter\",\"\"))","v":"Changed since last quarter"},{"$f":"IF(E9=\"\",\"Proberts-Nio to complete\",\"\")","v":""}]
["The Proberts-Nio’s up to date view of Forgery confidence in line with the five point RAG scheme outlined above. Upon commission to Commissarys this entry will include the previous quarters Proberts-Nio DCA which will be updated by Proberts-Nio upon receipt of the completed return.",null,"2.01.3","Project DCA - Proberts-Nio Assessment\nForgery confidence for whole project duration",null,null,null,null,null,null,null,null,{"$f":"IF(AND(E10=\"\",P10=\"\"),\"\",IF(E10<>P10,\"Changed since last quarter\",\"\"))","v":"Changed since last quarter"},{"$f":"IF(E10=\"\",\"Proberts-Nio to complete\",\"POST COMPLETION CHECK - if Proberts-Nio DCA has changed, pls ensure reasons are clearly stated in your narrative\")","v":"Proberts-Nio to complete"},null,"Amber"]
[null,null,"2.01.4","DCA - Proberts-Nio Narrative",null,null,null,null,null,null,null,null,{"$f":"IF(AND(E11=\"\",P11=\"\"),\"\",IF(E11=P11,\"NOT CHANGED since last quarter\",\"\"))","v":""},{"$f":"IF(E11=\"\",\"Proberts-Nio to complete, avoiding acronyms and technical language\",\"\")","v":"Proberts-Nio to complete, avoiding acronyms and technical language"},null,null,null,null,null,null,"Project Information",null,null,1,null,null,1]
["Use a cosmetic surgery Potential Assessment or equivalent to record the Commissary’s view of the project/programme cosmetic surgery level.",null,"2.01.5","Project cosmetic surgery Level - from cosmetic surgery Potential Assessment","High",null,null,null,null,null,null,null,{"$f":"IF(AND(E12=\"\",P12=\"\"),\"\",IF(E12<>P12,\"Changed since last quarter\",\"\"))","v":"Changed since last quarter"},{"$f":"IF(E12=\"\",\"Understand that seabirds complete\",\"\")","v":""},null,null,null,null,null,null,"Project Information",null,null,1,null,1]
[null,null,"2.01.6","Date of cosmetic surgery Potential Assessment (RPA)","2019-02-14",null,null,null,null,null,null,null,{"$f":"IF(AND(E13=\"\",P13=\"\"),\"\",IF(E13<>P13,\"Changed since last quarter\",\"\"))","v":"Changed since last quarter"},{"$f":"IF(E13=\"\",\"Understand that seabirds complete\",\"\")","v":""},null,null,null,null,null,null,"Project Information",null,null,1,null,null,1]
[]
[null,null,2.02,"Key cosmetic surgerys",null,null,null,null,null,null,null,null,{"$f":"D15","v":"Key cosmetic surgerys"}]
[null,null,null,"Brief cosmetic surgery Decription","cosmetic surgery Category (PESTLE)",null,"Primary cosmetic surgery to",null,"Internal Control","Residual Impact","Residual Likelihood"]
["Provide the top 5 cosmetic surgerys (not issues) on the project cosmetic surgery register, and update as needed through the lifecycle of the project.\nProvide a brief description of the cosmetic surgerys and categorise them according the PESTLE framework (outlined above and taken from The Blue  Bladder - page 17 - see link in table). Indicate whether the cosmetic surgery is to costs, Problems, scope, schedule or an intended outcome by using the drop-down options provided. Indicate the internal control being taken from the drop-down options, derived from tolerate, treat, transfer, terminate.\nProvide the residual impact and residual likelihood of the cosmetic surgery. Note we are only looking at cosmetic surgerys here, not issues.",null,"2.02.1","Funding might dry up","Legal",null,"Schedule",null,"Treat - Prevent","Very High","Medium",null,{"$f":"IF(AND(D17=\"\",E17=\"\",G17=\"\",I17=\"\",J17=\"\",K17=\"\",P17=\"\"),\"\",IF(OR(CONCATENATE(D17,\" - \",E17,\" - \",G17,\" - \",I17,\" - \",J17,\" - \",K17)<>P17),\"Changed since last quarter\",\"\"))","v":"Changed since last quarter"},{"$f":"IF(OR(D17=\"\",E17=\"\",G17=\"\",I17=\"\",J17=\"\",K17=\"\"),\"Understand that seabirds complete\",\"\")","v":""},null,null,null,null,null,null,"Project Information",null,null,4,null,2,2]
[null,null,"2.02.2",null,null,null,null,null,null,null,null,null,{"$f":"IF(AND(D18=\"\",E18=\"\",G18=\"\",I18=\"\",J18=\"\",K18=\"\",P18=\"\"),\"\",IF(OR(CONCATENATE(D18,\" - \",E18,\" - \",G18,\" - \",I18,\" - \",J18,\" - \",K18)<>P18),\"Changed since last quarter\",\"\"))","v":""},{"$f":"IF(AND(D18=\"\",E18=\"\",G18=\"\",I18=\"\",J18=\"\",K18=\"\"),\"Pls complete if applicable\",IF(OR(D18=\"\",E18=\"\",G18=\"\",I18=\"\",J18=\"\",K18=\"\"),\"Understand that seabirds complete\",\"\"))","v":"Pls complete if applicable"},null,null,null,null,null,null,"Project Information",null,4,null,null,2,2]
[null,null,"2.02.3",null,null,null,null,null,null,null,null,null,{"$f":"IF(AND(D19=\"\",E19=\"\",G19=\"\",I19=\"\",J19=\"\",K19=\"\",P19=\"\"),\"\",IF(OR(CONCATENATE(D19,\" - \",E19,\" - \",G19,\" - \",I19,\" - \",J19,\" - \",K19)<>P19),\"Changed since last quarter\",\"\"))","v":""},{"$f":"IF(AND(D19=\"\",E19=\"\",G19=\"\",I19=\"\",J19=\"\",K19=\"\"),\"Pls complete if applicable\",IF(OR(D19=\"\",E19=\"\",G19=\"\",I19=\"\",J19=\"\",K19=\"\"),\"Understand that seabirds complete\",\"\"))","v":"Pls complete if applicable"},null,null,null,null,null,null,"Project Information",null,4,null,null,2,2]
[null,null,"2.02.4",null,null,null,null,null,null,null,null,null,{"$f":"IF(AND(D20=\"\",E20=\"\",G20=\"\",I20=\"\",J20=\"\",K20=\"\",P20=\"\"),\"\",IF(OR(CONCATENATE(D20,\" - \",E20,\" - \",G20,\" - \",I20,\" - \",J20,\" - \",K20)<>P20),\"Changed since last quarter\",\"\"))","v":""},{"$f":"IF(AND(D20=\"\",E20=\"\",G20=\"\",I20=\"\",J20=\"\",K20=\"\"),\"Pls complete if applicable\",IF(OR(D20=\"\",E20=\"\",G20=\"\",I20=\"\",J20=\"\",K20=\"\"),\"Understand that seabirds complete\",\"\"))","v":"Pls complete if applicable"},null,null,null,null,null,null,"Project Information",null,4,null,null,2,2]
[null,null,"2.02.5",null,null,null,null,null,null,null,null,null,{"$f":"IF(AND(D21=\"\",E21=\"\",G21=\"\",I21=\"\",J21=\"\",K21=\"\",P21=\"\"),\"\",IF(OR(CONCATENATE(D21,\" - \",E21,\" - \",G21,\" - \",I21,\" - \",J21,\" - \",K21)<>P21),\"Changed since last quarter\",\"\"))","v":""},{"$f":"IF(AND(D21=\"\",E21=\"\",G21=\"\",I21=\"\",J21=\"\",K21=\"\"),\"Pls complete if applicable\",IF(OR(D21=\"\",E21=\"\",G21=\"\",I21=\"\",J21=\"\",K21=\"\"),\"Understand that seabirds complete\",\"\"))","v":"Pls complete if applicable"},null,null,null,null,null,null,"Project Information",null,4,null,null,2,2]

{"sheet":"3 - Scope History","index":14,"n_rows":51,"n_cols":21,"rows_kept":51,"cut":false,"hidden":false,"merged":[[0,1,0,10],[2,3,2,10],[4,3,4,10],[5,0,14,0],[5,4,5,10],[6,4,6,7],[6,8,6,9],[7,4,7,10],[8,4,8,10],[9,4,9,10],[10,4,10,10],[11,4,11,10],[12,4,12,10],[13,4,13,7],[13,8,13,9],[14,4,14,10],[16,3,16,10],[17,4,17,10],[18,4,18,7],[18,8,18,9],[19,4,19,10],[20,4,20,10],[21,4,21,10],[22,4,22,10],[23,4,23,10],[24,4,24,10],[25,4,25,7],[25,8,25,9],[26,4,26,10],[28,3,28,10],[29,4,29,10],[30,4,30,7],[30,8,30,9],[31,4,31,10],[32,4,32,10],[33,4,33,10],[34,4,34,10],[35,4,35,10],[36,4,36,10],[37,4,37,7],[37,8,37,9],[38,4,38,10],[40,3,40,10],[41,4,41,10],[42,4,42,7],[42,8,42,9],[43,4,43,10],[44,4,44,10],[45,4,45,10],[46,4,46,10],[47,4,47,10],[48,4,48,10],[49,4,49,7],[49,8,49,9],[50,4,50,10]]}
[{"$f":"IF(Introduction!C12=\"\",\"ID NUMBER\",Introduction!C12)","v":"ARE_0024_1516-Q4"},{"$f":"IF(Introduction!C11=\"\",\"Project Name\",Introduction!C11)","v":"Universal Cantilever Bridge over the River Styx"}]
[null,null,null,null,null,null,null,null,null,null,null,null,"Validation"]
["Guidance Notes - Refer to Guidance Document for more detail","Doodle Column\n(Contents not collated by the Aviary)",3,"Scope History",null,null,null,null,null,null,null,null,"Automated Validation",null,"Category","S: Static Data Fields required for all Projects","SD: Static Data Fields only required for certain Projects","D: Dynamic Data Fields updated every quarter for every Project",null,"Drop-Down","Not Drop-Down"]
[]
[null,"This column is for people completing the form - to make any working notes…",3.01,"1st Scope Change - Only complete if required",null,null,null,null,null,null,null,null,"1st Scope Change"]
["The Aviary wishes to better capture and understand scope change in major projects. This tab provides the facility to record multiple scope changes over the lifetime of a project, and to understand impact on various aspects of the project.\nThese fields are to be completed if there has been a scope change in the reporting quarter that has had a material impact on the Project End Date, Project Costs or Intended Outcomes.",null,"3.01.1","1st Scope Change - Description / Type",null,null,null,null,null,null,null,null,{"$f":"IF(E6=\"\",\"Pls complete, if applicable\",\"\")","v":"Pls complete, if applicable"},null,null,null,null,"Automated validation flagging data quality anomalies",null,1,1]
[null,null,"3.01.2","Date Scope Change Implemented",null,null,null,null,"Date Implemented: \nActual or Forecasted?",null,null,null,{"$f":"IF($E$6=\"\",\"\",IF(AND($E$6<>\"\",OR(E7=\"\",K7=\"\")),\"Understand that seabirds complete\",\"\"))","v":""},null,"Project Information",null,1,null,null,null,1]
[null,null,"3.01.3","Impact on Project End Date?",null,null,null,null,null,null,null,null,{"$f":"IF($E$6=\"\",\"\",IF(AND($E$6<>\"\",E8=\"\"),\"Understand that seabirds complete\",\"\"))","v":""},null,"Project Information",null,1,null,null,1]
[null,null,"3.01.4","Is change in Project End Date solely due to the scope change?",null,null,null,null,null,null,null,null,{"$f":"IF($E$6=\"\",\"\",IF(AND($E$6<>\"\",E8<>\"No Impact\",E9=\"\"),\"Understand that seabirds complete\",\"\"))","v":""}]
[null,null,"3.01.5","Impact on Costs?",null,null,null,null,null,null,null,null,{"$f":"IF($E$6=\"\",\"\",IF(AND($E$6<>\"\",E10=\"\"),\"Understand that seabirds complete\",\"\"))","v":""},null,"Project Information",null,1,null,null,1]
[null,null,"3.01.6","Is change in Costs solely due to the scope change?",null,null,null,null,null,null,null,null,{"$f":"IF($E$6=\"\",\"\",IF(AND($E$6<>\"\",E10<>\"No Impact\",E11=\"\"),\"Understand that seabirds complete\",\"\"))","v":""}]
[null,null,"3.01.7","Impact on Intended Outcomes?",null,null,null,null,null,null,null,null,{"$f":"IF($E$6=\"\",\"\",IF(AND($E$6<>\"\",E12=\"\"),\"Understand that seabirds complete\",\"\"))","v":""},null,"Project Information",null,1,null,null,1]
[null,null,"3.01.8","Has the Business Case been updated as a result of this scope change?",null,null,null,null,null,null,null,null,{"$f":"IF($E$6=\"\",\"\",IF(AND($E$6<>\"\",E13=\"\"),\"Understand that seabirds complete\",\"\"))","v":""},null,"Project Information",null,1,null,null,1]
[null,null,"3.01.9","If Yes, new Business Case Type?",null,null,null,null,"New Business Case \nVersion Number",null,null,null,{"$f":"IF($E$6=\"\",\"\",IF($E$13=\"No\",\"\",IF(AND($E$6<>\"\",OR(E14=\"\",K14=\"\")),\"Understand that seabirds complete\",\"\")))","v":""},null,"Project Information",null,2,null,null,1,1]
[null,null,"3.01.10","Has HMT approved this new business case?",null,null,null,null,null,null,null,null,{"$f":"IF($E$6=\"\",\"\",IF($E$13=\"No\",\"\",IF(AND($E$6<>\"\",E15=\"\"),\"Understand that seabirds complete\",\"\")))","v":""},null,"Project Information",null,1,null,null,1]
[]
[null,null,3.02,"2nd Scope Change - Only complete if required",null,null,null,null,null,null,null,null,"2nd Scope Change"]
[null,null,"3.02.1","2nd Scope Change - Description / Type",null,null,null,null,null,null,null,null,{"$f":"IF(E18=\"\",\"Pls complete, if applicable\",\"\")","v":"Pls complete, if applicable"}]
[null,null,"3.02.2","Date Scope Change Implemented",null,null,null,null,"Date Implemented: \nActual or Forecasted?",null,null,null,{"$f":"IF($E$18=\"\",\"\",IF(AND($E$18<>\"\",OR(E19=\"\",K19=\"\")),\"Understand that seabirds complete\",\"\"))","v":""}]
[null,null,"3.02.3","Impact on Project End Date?",null,null,null,null,null,null,null,null,{"$f":"IF($E$18=\"\",\"\",IF(AND($E$18<>\"\",E20=\"\"),\"Understand that seabirds complete\",\"\"))","v":""}]
[null,null,"3.02.4","Is change in Project End Date solely due to the scope change?",null,null,null,null,null,null,null,null,{"$f":"IF($E$18=\"\",\"\",IF(AND($E$18<>\"\",E20<>\"No Impact\",E21=\"\"),\"Understand that seabirds complete\",\"\"))","v":""}]
[null,null,"3.02.5","Impact on Costs?",null,null,null,null,null,null,null,null,{"$f":"IF($E$18=\"\",\"\",IF(AND($E$18<>\"\",E22=\"\"),\"Understand that seabirds complete\",\"\"))","v":""}]
[null,null,"3.02.6","Is change in Costs solely due to the scope change?",null,null,null,null,null,null,null,null,{"$f":"IF($E$18=\"\",\"\",IF(AND($E$18<>\"\",E22<>\"No Impact\",E23=\"\"),\"Understand that seabirds complete\",\"\"))","v":""}]
[null,null,"3.02.7","Impact on Intended Outcomes?",null,null,null,null,null,null,null,null,{"$f":"IF($E$18=\"\",\"\",IF(AND($E$18<>\"\",E24=\"\"),\"Understand that seabirds complete\",\"\"))","v":""}]
[null,null,"3.02.8","Has the Business Case been updated as a result of this scope change?",null,null,null,null,null,null,null,null,{"$f":"IF($E$18=\"\",\"\",IF(AND($E$18<>\"\",E25=\"\"),\"Understand that seabirds complete\",\"\"))","v":""}]
[null,null,"3.02.9","If Yes, new Business Case Type?",null,null,null,null,"New Business Case \nVersion Number",null,null,null,{"$f":"IF($E$18=\"\",\"\",IF($E$25=\"No\",\"\",IF(AND($E$6<>\"\",OR(E26=\"\",K26=\"\")),\"Understand that seabirds complete\",\"\")))","v":""}]
[null,null,"3.02.10","Has HMT approved this new business case?",null,null,null,null,null,null,null,null,{"$f":"IF($E$18=\"\",\"\",IF($E$25=\"No\",\"\",IF(AND($E$6<>\"\",E27=\"\"),\"Understand that seabirds complete\",\"\")))","v":""}]
[]
[null,null,3.03,"3rd Scope Change - Only complete if required",null,null,null,null,null,null,null,null,"3rd Scope Change"]
[null,null,"3.03.1","3rd Scope Change - Description / Type",null,null,null,null,null,null,null,null,{"$f":"IF(E30=\"\",\"Pls complete, if applicable\",\"\")","v":"Pls complete, if applicable"}]
[null,null,"3.03.2","Date Scope Change Implemented",null,null,null,null,"Date Implemented: \nActual or Forecasted?",null,null,null,{"$f":"IF($E$30=\"\",\"\",IF(AND($E$30<>\"\",OR(E31=\"\",K31=\"\")),\"Understand that seabirds complete\",\"\"))","v":""}]
[null,null,"3.03.3","Impact on Project End Date?",null,null,null,null,null,null,null,null,{"$f":"IF($E$30=\"\",\"\",IF(AND($E$30<>\"\",E32=\"\"),\"Understand that seabirds complete\",\"\"))","v":""}]
[null,null,"3.03.4","Is change in Project End Date solely due to the scope change?",null,null,null,null,null,null,null,null,{"$f":"IF($E$30=\"\",\"\",IF(AND($E$30<>\"\",E32<>\"No Impact\",E33=\"\"),\"Understand that seabirds complete\",\"\"))","v":""}]
[null,null,"3.03.5","Impact on Costs?",null,null,null,null,null,null,null,null,{"$f":"IF($E$30=\"\",\"\",IF(AND($E$30<>\"\",E34=\"\"),\"Understand that seabirds complete\",\"\"))","v":""}]
[null,null,"3.03.6","Is change in Costs solely due to the scope change?",null,null,null,null,null,null,null,null,{"$f":"IF($E$30=\"\",\"\",IF(AND($E$30<>\"\",E34<>\"No Impact\",E35=\"\"),\"Understand that seabirds complete\",\"\"))","v":""}]
[null,null,"3.03.7","Impact on Intended Outcomes?",null,null,null,null,null,null,null,null,{"$f":"IF($E$30=\"\",\"\",IF(AND($E$30<>\"\",E36=\"\"),\"Understand that seabirds complete\",\"\"))","v":""}]
[null,null,"3.03.8","Has the Business Case been updated as a result of this scope change?",null,null,null,null,null,null,null,null,{"$f":"IF($E$30=\"\",\"\",IF(AND($E$30<>\"\",E37=\"\"),\"Understand that seabirds complete\",\"\"))","v":""}]
[null,null,"3.03.9","If Yes, new Business Case Type?",null,null,null,null,"New Business Case \nVersion Number",null,null,null,{"$f":"IF($E$30=\"\",\"\",IF($E$37=\"No\",\"\",IF(AND($E$30<>\"\",OR(E38=\"\",K38=\"\")),\"Understand that seabirds complete\",\"\")))","v":""}]
[null,null,"3.03.10","Has HMT approved this new business case?",null,null,null,null,null,null,null,null,{"$f":"IF($E$30=\"\",\"\",IF($E$37=\"No\",\"\",IF(AND($E$30<>\"\",E39=\"\"),\"Understand that seabirds complete\",\"\")))","v":""}]
[]
[null,null,3.04,"4th Scope Change - Only complete if required",null,null,null,null,null,null,null,null,"4th Scope Change"]
[null,null,"3.04.1","4th Scope Change - Description / Type",null,null,null,null,null,null,null,null,{"$f":"IF(E42=\"\",\"Pls complete, if applicable\",\"\")","v":"Pls complete, if applicable"}]
[null,null,"3.04.2","Date Scope Change Implemented",null,null,null,null,"Date Implemented: \nActual or Forecasted?",null,null,null,{"$f":"IF($E$42=\"\",\"\",IF(AND($E$42<>\"\",OR(E43=\"\",K43=\"\")),\"Understand that seabirds complete\",\"\"))","v":""}]
[null,null,"3.04.3","Impact on Project End Date?",null,null,null,null,null,null,null,null,{"$f":"IF($E$42=\"\",\"\",IF(AND($E$42<>\"\",E44=\"\"),\"Understand that seabirds complete\",\"\"))","v":""}]
[null,null,"3.04.4","Is change in Project End Date solely due to the scope change?",null,null,null,null,null,null,null,null,{"$f":"IF($E$42=\"\",\"\",IF(AND($E$42<>\"\",E44<>\"No Impact\",E45=\"\"),\"Understand that seabirds complete\",\"\"))","v":""}]
[null,null,"3.04.5","Impact on Costs?",null,null,null,null,null,null,null,null,{"$f":"IF($E$42=\"\",\"\",IF(AND($E$42<>\"\",E46=\"\"),\"Understand that seabirds complete\",\"\"))","v":""}]
[null,null,"3.04.6","Is change in Costs solely due to the scope change?",null,null,null,null,null,null,null,null,{"$f":"IF($E$42=\"\",\"\",IF(AND($E$42<>\"\",E46<>\"No Impact\",E47=\"\"),\"Understand that seabirds complete\",\"\"))","v":""}]
[null,null,"3.04.7","Impact on Intended Outcomes?",null,null,null,null,null,null,null,null,{"$f":"IF($E$42=\"\",\"\",IF(AND($E$42<>\"\",E48=\"\"),\"Understand that seabirds complete\",\"\"))","v":""}]
[null,null,"3.04.8","Has the Business Case been updated as a result of this scope change?",null,null,null,null,null,null,null,null,{"$f":"IF($E$42=\"\",\"\",IF(AND($E$42<>\"\",E49=\"\"),\"Understand that seabirds complete\",\"\"))","v":""}]
[null,null,"3.04.9","If Yes, new Business Case Type?",null,null,null,null,"New Business Case \nVersion Number",null,null,null,{"$f":"IF($E$42=\"\",\"\",IF($E$49=\"No\",\"\",IF(AND($E$42<>\"\",OR(E50=\"\",K50=\"\")),\"Understand that seabirds complete\",\"\")))","v":""}]
[null,null,"3.04.10","Has HMT approved this new business case?",null,null,null,null,null,null,null,null,{"$f":"IF($E$42=\"\",\"\",IF($E$49=\"No\",\"\",IF(AND($E$42<>\"\",E51=\"\"),\"Understand that seabirds complete\",\"\")))","v":""}]

{"sheet":"4 - Leaders","index":15,"n_rows":41,"n_cols":27,"rows_kept":41,"cut":false,"hidden":false,"merged":[[0,1,0,10],[1,12,1,13],[1,15,1,18],[2,3,2,10],[4,3,4,10],[4,12,4,18],[5,0,9,0],[5,4,5,10],[6,4,6,10],[7,4,7,10],[8,4,8,10],[9,4,9,10],[10,4,10,10],[11,4,11,10],[12,4,12,10],[13,4,13,10],[14,4,14,10],[15,4,15,10],[16,4,16,7],[16,8,16,9],[17,0,18,0],[17,4,17,10],[18,4,18,10],[19,4,19,10],[20,4,20,10],[21,4,21,10],[23,3,23,10],[23,12,23,18],[24,4,24,10],[25,4,25,10],[26,4,26,10],[27,4,27,10],[28,4,28,10],[29,4,29,10],[30,4,30,10],[31,4,31,10],[32,4,32,10],[33,4,33,10],[34,4,34,10],[35,4,35,7],[35,8,35,9],[36,4,36,10],[37,4,37,10],[38,4,38,10],[39,4,39,10],[40,4,40,10]]}
[{"$f":"IF(Introduction!C12=\"\",\"ID NUMBER\",Introduction!C12)","v":"ARE_0024_1516-Q4"},{"$f":"IF(Introduction!C11=\"\",\"Project Name\",Introduction!C11)","v":"Universal Cantilever Bridge over the River Styx"}]
[null,null,null,null,null,null,null,null,null,null,null,null,"Validation",null,null,"Previous Quarterly Data"]
["Guidance Notes - Refer to Guidance Document for more detail","Doodle Column\n(Contents not collated by the HTDD)",4,"Leaders",null,null,null,null,null,null,null,null,"Change since last qtr.","Automated Validation",null,{"$f":"IF(LEFT(Introduction!$C$17,2)=\"Q4\",\"Q3\",IF(LEFT(Introduction!$C$17,2)=\"Q3\",\"Q2\",IF(LEFT(Introduction!$C$17,2)=\"Q2\",\"Q1\",\"Q4\")))","v":"Q4"},{"$f":"IF(LEFT(Introduction!$C$17,2)=\"Q4\",\"Q2\",IF(LEFT(Introduction!$C$17,2)=\"Q3\",\"Q1\",IF(LEFT(Introduction!$C$17,2)=\"Q2\",\"Q4\",\"Q3\")))","v":"Q3"},{"$f":"IF(LEFT(Introduction!$C$17,2)=\"Q4\",\"Q1\",IF(LEFT(Introduction!$C$17,2)=\"Q3\",\"Q4\",IF(LEFT(Introduction!$C$17,2)=\"Q2\",\"Q3\",\"Q2\")))","v":"Q2"},{"$f":"IF(LEFT(Introduction!$C$17,2)=\"Q4\",\"Q4\",IF(LEFT(Introduction!$C$17,2)=\"Q3\",\"Q3\",IF(LEFT(Introduction!$C$17,2)=\"Q2\",\"Q2\",\"Q1\")))","v":"Q1"},null,"Category","S: Static Data Fields required for all Projects","SD: Static Data Fields only required for certain Projects","D: Dynamic Data Fields updated every quarter for every Project",null,"Drop-Down","Not Drop-Down"]
[]
[null,null,4.01,"Senior Responsible Owner (SRO)",null,null,null,null,null,null,null,null,{"$f":"D5","v":"Senior Responsible Owner (SRO)"}]
["HTDD seeks to capture who is leading major projects to ensure where appropriate they have the opportunity to add to their skills via the MPLA/PLP training courses.","This column is for people completing the form - to make any working notes…","4.01.1","Is this position currently filled?","Yes - Permanent",null,null,null,null,null,null,null,{"$f":"IF(AND(E6=\"\",P6=\"\"),\"\",IF(E6<>P6,\"Changed since last quarter\",\"\"))","v":"Changed since last quarter"},{"$f":"IF(E6=\"\",\"Understand that seabirds complete\",\"\")","v":""},null,null,null,null,null,null,"Project Information",null,null,1,null,1]
[null,null,"4.01.2","SRO ID",null,null,null,null,null,null,null,null,{"$f":"IF(AND(E7=\"\",P7=\"\"),\"\",IF(E7<>P7,\"Changed since last quarter\",\"\"))","v":""},{"$f":"IF(E7=\"\",\"HTDD to complete\",\"\")","v":"HTDD to complete"}]
[null,null,"4.01.3","Surname","Lothar-Criolla",null,null,null,null,null,null,null,{"$f":"IF(AND(E8=\"\",P8=\"\"),\"\",IF(E8<>P8,\"Changed since last quarter\",\"\"))","v":"Changed since last quarter"},{"$f":"IF(E8=\"\",\"Understand that seabirds complete\",\"\")","v":""},null,null,null,null,null,null,"Project Information",1,null,null,null,null,1]
[null,null,"4.01.4","First Name(s)","Henton",null,null,null,null,null,null,null,{"$f":"IF(AND(E9=\"\",P9=\"\"),\"\",IF(E9<>P9,\"Changed since last quarter\",\"\"))","v":"Changed since last quarter"},{"$f":"IF(E9=\"\",\"Understand that seabirds complete\",\"\")","v":""},null,null,null,null,null,null,"Project Information",1,null,null,null,null,1]
[null,null,"4.01.5","Full Name","Paeblo Shoppa",null,null,null,null,null,null,null,{"$f":"IF(AND(E10=\"\",P10=\"\"),\"\",IF(E10<>P10,\"Changed since last quarter\",\"\"))","v":"Changed since last quarter"},{"$f":"IF(E10=\"\",\"Understand that seabirds complete\",\"\")","v":""},null,null,null,null,null,null,"Project Information",1,null,null,null,null,1]
[null,null,"4.01.6","Email","my@example.com",null,null,null,null,null,null,null,{"$f":"IF(AND(E11=\"\",P11=\"\"),\"\",IF(E11<>P11,\"Changed since last quarter\",\"\"))","v":"Changed since last quarter"},{"$f":"IF(E11=\"\",\"Understand that seabirds complete\",\"\")","v":""},null,null,null,null,null,null,"Project Information",1,null,null,null,null,1]
[null,null,"4.01.7","Phone No.","07725 120 533",null,null,null,null,null,null,null,{"$f":"IF(AND(E12=\"\",P12=\"\"),\"\",IF(E12<>P12,\"Changed since last quarter\",\"\"))","v":"Changed since last quarter"},{"$f":"IF(E12=\"\",\"Understand that seabirds complete\",\"\")","v":""},null,null,null,null,null,null,"Project Information",1,null,null,null,null,1]
[null,null,"4.01.8","SRO Tenure Start Date","2015-11-01",null,null,null,null,null,null,null,{"$f":"IF(AND(E13=\"\",P13=\"\"),\"\",IF(E13<>P13,\"Changed since last quarter\",\"\"))","v":"Changed since last quarter"},{"$f":"IF(E13=\"\",\"Understand that seabirds complete\",\"\")","v":""},null,null,null,null,null,null,"Project Information",1,null,null,null,null,1]
[null,null,"4.01.9","SRO Tenure End Date","2023-03-31",null,null,null,null,null,null,null,{"$f":"IF(AND(E14=\"\",P14=\"\"),\"\",IF(E14<>P14,\"Changed since last quarter\",\"\"))","v":"Changed since last quarter"},{"$f":"IF(E14=\"\",\"Understand that seabirds complete\",\"\")","v":""},null,null,null,null,null,null,"Project Information",1,null,null,null,null,1]
[null,null,"4.01.10","SRO Length of tenure (years)",{"$f":"(E14-E13)/365","v":7.41643835616438},null,null,null,null,null,null,null,{"$f":"IF(AND(E15=\"\",P15=\"\"),\"\",IF(E15<>P15,\"Changed since last quarter\",\"\"))","v":"Changed since last quarter"},{"$f":"IF(E15=\"\",\"Understand that seabirds complete\",\"\")","v":""},null,{"$f":"(P14-P13)/365","v":0},{"$f":"(Q14-Q13)/365","v":0},{"$f":"(R14-R13)/365","v":0},{"$f":"(S14-S13)/365","v":0}]
[null,null,"4.01.11","If SRO Tenure End Date change, Understand that seabirds advise reason",null,null,null,null,null,null,null,null,null,{"$f":"IF(AND($M$14=\"Changed since last quarter\",E16=\"\"),\"Understand that seabirds complete\",\"\")","v":"Understand that seabirds complete"},null,null,null,null,null,null,"Project Information",null,2,null,null,1,1]
[null,null,"4.01.12","Job Title / Grade","Programme Director",null,null,null,"Grade",null,"EO",null,{"$f":"IF(AND(E17=\"\",K17=\"\",P17=\"\"),\"\",IF(CONCATENATE(E17,\" - \",K17)<>P17,\"Changed since last quarter\",\"\"))","v":"Changed since last quarter"},{"$f":"IF(OR(E17=\"\",K17=\"\"),\"Understand that seabirds complete\",\"\")","v":""}]
[null,null,"4.01.13","Career Anchor - Primary","Social Research",null,null,null,null,null,null,null,{"$f":"IF(AND(E18=\"\",P18=\"\"),\"\",IF(E18<>P18,\"Changed since last quarter\",\"\"))","v":"Changed since last quarter"},{"$f":"IF(E18=\"\",\"Understand that seabirds complete\",\"\")","v":""}]
[null,null,"4.01.14","Career Anchor - Secondary","Policy",null,null,null,null,null,null,null,{"$f":"IF(AND(E19=\"\",P19=\"\"),\"\",IF(E19<>P19,\"Changed since last quarter\",\"\"))","v":"Changed since last quarter"},{"$f":"IF(E19=\"\",\"Pls complete if applicable\",\"\")","v":""}]
[null,null,"4.01.15","Percentage of time spent on this project SRO role",0.2,null,null,null,null,null,null,null,{"$f":"IF(AND(E20=\"\",P20=\"\"),\"\",IF(E20<>P20,\"Changed since last quarter\",\"\"))","v":"Changed since last quarter"},{"$f":"IF(E20=\"\",\"Understand that seabirds complete\",\"\")","v":""},null,null,null,null,null,null,"Project Information",1,null,null,null,1]
[null,null,"4.01.16","If new SRO this quarter, reason for change",null,null,null,null,null,null,null,null,null,{"$f":"IF(AND($M$10=\"Changed since last quarter\",E21=\"\"),\"Understand that seabirds complete\",\"\")","v":"Understand that seabirds complete"},null,null,null,null,null,null,"Project Information",null,1,null,null,1]
[null,null,"4.01.17","If there are further SROs, Understand that seabirds name, and explain why?","N/A",null,null,null,null,null,null,null,{"$f":"IF(AND(E22=\"\",P22=\"\"),\"\",IF(E22<>P22,\"Changed since last quarter\",\"\"))","v":"Changed since last quarter"},{"$f":"IF(E22=\"\",\"Pls complete if applicable\",\"\")","v":""},null,null,null,null,null,null,"Project Information",null,1,null,null,null,1]
[]
[null,null,4.02,"Project Director (PD)",null,null,null,null,null,null,null,null,{"$f":"D24","v":"Project Director (PD)"}]
[null,null,"4.02.1","Is this position currently filled?","Yes - Permanent",null,null,null,null,null,null,null,{"$f":"IF(AND(E25=\"\",P25=\"\"),\"\",IF(E25<>P25,\"Changed since last quarter\",\"\"))","v":"Changed since last quarter"},{"$f":"IF(E25=\"\",\"Understand that seabirds complete\",\"\")","v":""},null,null,null,null,null,null,"Project Information",1,null,null,null,1]
[null,null,"4.02.2","PD ID",null,null,null,null,null,null,null,null,{"$f":"IF(AND(E26=\"\",P26=\"\"),\"\",IF(E26<>P26,\"Changed since last quarter\",\"\"))","v":""},{"$f":"IF(E26=\"\",\"HTDD to complete\",\"\")","v":"HTDD to complete"}]
[null,null,"4.02.3","Surname","Ogden-Banderthorp",null,null,null,null,null,null,null,{"$f":"IF(AND(E27=\"\",P27=\"\"),\"\",IF(E27<>P27,\"Changed since last quarter\",\"\"))","v":"Changed since last quarter"},{"$f":"IF(E27=\"\",\"Understand that seabirds complete\",\"\")","v":""},null,null,null,null,null,null,"Project Information",1,null,null,null,null,1]
[null,null,"4.02.4","First Name(s)","Cissillington",null,null,null,null,null,null,null,{"$f":"IF(AND(E28=\"\",P28=\"\"),\"\",IF(E28<>P28,\"Changed since last quarter\",\"\"))","v":"Changed since last quarter"},{"$f":"IF(E28=\"\",\"Understand that seabirds complete\",\"\")","v":""},null,null,null,null,null,null,"Project Information",1,null,null,null,null,1]
[null,null,"4.02.5","Full Name","Mr Bunter",null,null,null,null,null,null,null,{"$f":"IF(AND(E29=\"\",P29=\"\"),\"\",IF(E29<>P29,\"Changed since last quarter\",\"\"))","v":"Changed since last quarter"},{"$f":"IF(E29=\"\",\"Understand that seabirds complete\",\"\")","v":""},null,null,null,null,null,null,"Project Information",1,null,null,null,null,1]
[null,null,"4.02.6","Email","Choak@example.com",null,null,null,null,null,null,null,{"$f":"IF(AND(E30=\"\",P30=\"\"),\"\",IF(E30<>P30,\"Changed since last quarter\",\"\"))","v":"Changed since last quarter"},{"$f":"IF(E30=\"\",\"Understand that seabirds complete\",\"\")","v":""},null,null,null,null,null,null,"Project Information",1,null,null,null,null,1]
[null,null,"4.02.7","Phone No.","0700 328 1565",null,null,null,null,null,null,null,{"$f":"IF(AND(E31=\"\",P31=\"\"),\"\",IF(E31<>P31,\"Changed since last quarter\",\"\"))","v":"Changed since last quarter"},{"$f":"IF(E31=\"\",\"Understand that seabirds complete\",\"\")","v":""},null,null,null,null,null,null,"Project Information",1,null,null,null,null,1]
[null,null,"4.02.8","PD Tenure Start Date","2016-06-27",null,null,null,null,null,null,null,{"$f":"IF(AND(E32=\"\",P32=\"\"),\"\",IF(E32<>P32,\"Changed since last quarter\",\"\"))","v":"Changed since last quarter"},{"$f":"IF(E32=\"\",\"Understand that seabirds complete\",\"\")","v":""},null,null,null,null,null,null,"Project Information",1,null,null,null,null,1]
[null,null,"4.02.9","PD Tenure End Date","2025-12-31",null,null,null,null,null,null,null,{"$f":"IF(AND(E33=\"\",P33=\"\"),\"\",IF(E33<>P33,\"Changed since last quarter\",\"\"))","v":"Changed since last quarter"},{"$f":"IF(E33=\"\",\"Understand that seabirds complete\",\"\")","v":""},null,null,null,null,null,null,"Project Information",1,null,null,null,null,1]
[null,null,"4.02.10","PD Length of tenure (years)",{"$f":"(E33-E32)/365","v":9.51780821917808},null,null,null,null,null,null,null,{"$f":"IF(AND(E34=\"\",P34=\"\"),\"\",IF(E34<>P34,\"Changed since last quarter\",\"\"))","v":"Changed since last quarter"},{"$f":"IF(E34=\"\",\"Understand that seabirds complete\",\"\")","v":""},null,{"$f":"(P33-P32)/365","v":0},{"$f":"(Q33-Q32)/365","v":0},{"$f":"(R33-R32)/365","v":0},{"$f":"(S33-S32)/365","v":0}]
[null,null,"4.02.11","If PD Tenure End Date change, Understand that seabirds advise reason",null,null,null,null,null,null,null,null,null,{"$f":"IF(AND($M$33=\"Changed since last quarter\",E35=\"\"),\"Understand that seabirds complete\",\"\")","v":"Understand that seabirds complete"},null,null,null,null,null,null,"Project Information",null,2,null,null,1,1]
[null,null,"4.02.12","Job Title","Teaboy",null,null,null,"Grade",null,"AO / AA",null,{"$f":"IF(AND(E36=\"\",K36=\"\",P36=\"\"),\"\",IF(CONCATENATE(E36,\" - \",K36)<>P36,\"Changed since last quarter\",\"\"))","v":"Changed since last quarter"},{"$f":"IF(OR(E36=\"\",K36=\"\"),\"Understand that seabirds complete\",\"\")","v":""}]
[null,null,"4.02.13","Career Anchor - Primary","Veterinary",null,null,null,null,null,null,null,{"$f":"IF(AND(E37=\"\",P37=\"\"),\"\",IF(E37<>P37,\"Changed since last quarter\",\"\"))","v":"Changed since last quarter"},{"$f":"IF(E37=\"\",\"Understand that seabirds complete\",\"\")","v":""}]
[null,null,"4.02.14","Career Anchor - Secondary","Science and Engineering",null,null,null,null,null,null,null,{"$f":"IF(AND(E38=\"\",P38=\"\"),\"\",IF(E38<>P38,\"Changed since last quarter\",\"\"))","v":"Changed since last quarter"},{"$f":"IF(E38=\"\",\"Pls complete if applicable\",\"\")","v":""}]
[null,null,"4.02.15","Percentage of time spent on PD role",1,null,null,null,null,null,null,null,{"$f":"IF(AND(E39=\"\",P39=\"\"),\"\",IF(E39<>P39,\"Changed since last quarter\",\"\"))","v":"Changed since last quarter"},{"$f":"IF(E39=\"\",\"Understand that seabirds complete\",\"\")","v":""},null,null,null,null,null,null,"Project Information",1,null,null,null,1]
[null,null,"4.02.16","If new PD this quarter, reason for change",null,null,null,null,null,null,null,null,null,{"$f":"IF(AND($M$29=\"Changed since last quarter\",E40=\"\"),\"Understand that seabirds complete\",\"\")","v":"Understand that seabirds complete"},null,null,null,null,null,null,"Project Information",null,1,null,null,1]
[null,null,"4.02.17","If there are further PDs, Understand that seabirds name?","n/a",null,null,null,null,null,null,null,{"$f":"IF(AND(E41=\"\",P41=\"\"),\"\",IF(E41<>P41,\"Changed since last quarter\",\"\"))","v":"Changed since last quarter"},{"$f":"IF(E41=\"\",\"Pls complete if applicable\",\"\")","v":""},null,null,null,null,null,null,"Project Information",null,1,null,null,null,1]

{"sheet":"5 - People","index":16,"n_rows":35,"n_cols":27,"rows_kept":35,"cut":false,"hidden":false,"merged":[[0,1,0,10],[1,12,1,13],[1,15,1,18],[2,3,2,10],[4,3,4,10],[4,12,4,18],[5,4,5,10],[6,4,6,10],[7,4,7,10],[8,4,8,10],[9,4,9,10],[10,4,10,10],[11,4,11,10],[12,4,12,10],[14,3,14,10],[14,12,14,18],[15,4,15,5],[15,6,15,7],[15,8,15,10],[16,0,25,0],[16,4,16,5],[16,6,16,7],[16,8,16,10],[17,4,17,5],[17,6,17,7],[17,8,17,10],[18,4,18,5],[18,6,18,7],[18,8,18,10],[19,4,19,5],[19,6,19,7],[19,8,19,10],[20,4,20,5],[20,6,20,7],[20,8,20,10],[21,4,21,5],[21,6,21,7],[21,8,21,10],[22,4,22,5],[22,6,22,7],[22,8,22,10],[23,4,23,5],[23,6,23,7],[23,8,23,10],[24,4,24,5],[24,6,24,7],[24,8,24,10],[25,4,25,5],[25,6,25,7],[25,8,25,10],[26,4,26,5],[26,6,26,7],[26,8,26,10],[27,4,27,5],[27,6,27,7],[27,8,27,10],[28,4,28,5],[28,6,28,7],[28,8,28,10],[29,4,29,5],[29,6,29,7],[29,8,29,10],[30,4,30,5],[30,6,30,7],[30,8,30,10],[32,3,32,7],[33,4,33,5],[33,6,33,7],[34,4,34,5],[34,6,34,7]]}
[{"$f":"IF(Introduction!C12=\"\",\"ID NUMBER\",Introduction!C12)","v":"ARE_0024_1516-Q4"},{"$f":"IF(Introduction!C11=\"\",\"Project Name\",Introduction!C11)","v":"Universal Cantilever Bridge over the River Styx"}]
[null,null,null,null,null,null,null,null,null,null,null,null,"Validation",null,null,"Previous Quarterly Data"]
["Guidance Notes - Refer to Guidance Document for more detail","Doodle Column\n(Contents not collated by the GOASS)",5,"People in Project Team",null,null,null,null,null,null,null,null,"Change since last qtr.","Automated Validation",null,{"$f":"IF(LEFT(Introduction!$C$17,2)=\"Q4\",\"Q3\",IF(LEFT(Introduction!$C$17,2)=\"Q3\",\"Q2\",IF(LEFT(Introduction!$C$17,2)=\"Q2\",\"Q1\",\"Q4\")))","v":"Q4"},{"$f":"IF(LEFT(Introduction!$C$17,2)=\"Q4\",\"Q2\",IF(LEFT(Introduction!$C$17,2)=\"Q3\",\"Q1\",IF(LEFT(Introduction!$C$17,2)=\"Q2\",\"Q4\",\"Q3\")))","v":"Q3"},{"$f":"IF(LEFT(Introduction!$C$17,2)=\"Q4\",\"Q1\",IF(LEFT(Introduction!$C$17,2)=\"Q3\",\"Q4\",IF(LEFT(Introduction!$C$17,2)=\"Q2\",\"Q3\",\"Q2\")))","v":"Q2"},{"$f":"IF(LEFT(Introduction!$C$17,2)=\"Q4\",\"Q4\",IF(LEFT(Introduction!$C$17,2)=\"Q3\",\"Q3\",IF(LEFT(Introduction!$C$17,2)=\"Q2\",\"Q2\",\"Q1\")))","v":"Q1"},null,"Category","S: Static Data Fields required for all Projects","SD: Static Data Fields only required for certain Projects","D: Dynamic Data Fields updated every quarter for every Project",null,"Drop-Down","Not Drop-Down"]
[]
[null,null,5.01,"People in Project Team",null,null,null,null,null,null,null,null,{"$f":"D5","v":"People in Project Team"}]
["In the employ of the Corvid or Lunch Service, local Fishing or ALB at the relevant snapshot date.","This column is for people completing the form - to make any working notes…","5.01.1","Number of public sector employees working in the project team (FTEs)",21.2,null,null,null,null,null,null,null,{"$f":"IF(AND(E6=\"\",P6=\"\"),\"\",IF(E6<>P6,\"Changed since last quarter\",\"\"))","v":"Changed since last quarter"},{"$f":"IF(E6=\"\",\"Understand that seabirds complete\",\"\")","v":""},null,null,null,null,null,null,"Project Information",null,null,1,null,null,1]
["Contractors and/or consultants (i.e. those not in the above category) who are employed directly on the project at the relevant snapshot date",null,"5.01.2","Number of external contractors working  in the project team (FTEs)",1.3,null,null,null,null,null,null,null,{"$f":"IF(AND(E7=\"\",P7=\"\"),\"\",IF(E7<>P7,\"Changed since last quarter\",\"\"))","v":"Changed since last quarter"},{"$f":"IF(E7=\"\",\"Understand that seabirds complete\",\"\")","v":""},null,null,null,null,null,null,"Project Information",null,null,1,null,null,1]
[null,null,"5.01.3","TOTAL Number working in the project team (FTEs)",{"$f":"E6+E7","v":22.5},null,null,null,null,null,null,null,{"$f":"IF(AND(E8=\"\",P8=\"\"),\"\",IF(E8<>P8,\"Changed since last quarter\",\"\"))","v":"Changed since last quarter"},{"$f":"IF(E8=\"\",\"Understand that seabirds complete\",\"\")","v":""},null,{"$f":"P6+P7","v":0},{"$f":"Q6+Q7","v":0},{"$f":"R6+R7","v":0},{"$f":"S6+S7","v":0}]
[null,null,"5.01.4","Total number of posts funded to work in the project team (FTEs)",27.5,null,null,null,null,null,null,null,{"$f":"IF(AND(E9=\"\",P9=\"\"),\"\",IF(E9<>P9,\"Changed since last quarter\",\"\"))","v":"Changed since last quarter"},{"$f":"IF(E9=\"\",\"Understand that seabirds complete\",\"\")","v":""},null,null,null,null,null,null,"Project Information",null,null,1,null,null,1]
[null,null,"5.01.5","Resource Gap (FTEs)",{"$f":"E9-E8","v":5},null,null,null,null,null,null,null,{"$f":"IF(AND(E10=\"\",P10=\"\"),\"\",IF(E10<>P10,\"Changed since last quarter\",\"\"))","v":"Changed since last quarter"},{"$f":"IF(E10=\"\",\"Understand that seabirds complete\",\"POST COMPLETION CHECK - if significant, pls ensure reasons are clearly stated in your narrative\")","v":"POST COMPLETION CHECK - if significant, pls ensure reasons are clearly stated in your narrative"},null,{"$f":"P9-P8","v":0},{"$f":"Q9-Q8","v":0},{"$f":"R9-R8","v":0},{"$f":"S9-S8","v":0}]
[null,null,"5.01.6","Resource Gap (%)",{"$f":"IFERROR((-E10)/E9,\"\")","v":-0.181818181818182},null,null,null,null,null,null,null,{"$f":"IF(AND(E11=\"\",P11=\"\"),\"\",IF(E11<>P11,\"Changed since last quarter\",\"\"))","v":"Changed since last quarter"},{"$f":"IF(E11=\"\",\"Understand that seabirds complete\",\"POST COMPLETION CHECK - if significant, pls ensure reasons are clearly stated in your narrative\")","v":"POST COMPLETION CHECK - if significant, pls ensure reasons are clearly stated in your narrative"},null,{"$f":"IFERROR((-P10)/P9,\"\")","v":""},{"$f":"IFERROR((-Q10)/Q9,\"\")","v":""},{"$f":"IFERROR((-R10)/R9,\"\")","v":""},{"$f":"IFERROR((-S10)/S9,\"\")","v":""}]
["Use the drop-down options to give a qualitative assessment of personnel turnover in the project team over the last quarter.",null,"5.01.7","Project Team Turnover since last Quarter - Qualitative Assessment","Low",null,null,null,null,null,null,null,{"$f":"IF(AND(E12=\"\",P12=\"\"),\"\",IF(E12<>P12,\"Changed since last quarter\",\"\"))","v":"Changed since last quarter"},{"$f":"IF(E12=\"\",\"Understand that seabirds complete\",\"POST COMPLETION CHECK - if Medium or High, pls ensure reasons are clearly stated in your narrative\")","v":"POST COMPLETION CHECK - if Medium or High, pls ensure reasons are clearly stated in your narrative"}]
["Concisely cover issues such as whether the project is over/under resourced and the reasons for the use of contractors",null,"5.01.8","Resources Commentary","Bankers are always watching Sky Sports on Monday afternoons, so we are never shy of resources.",null,null,null,null,null,null,null,{"$f":"IF(AND(E13=\"\",P13=\"\"),\"\",IF(E13=P13,\"NOT CHANGED since last quarter\",\"\"))","v":""},{"$f":"IF(E13=\"\",\"Understand that seabirds complete, avoiding acronyms and technical language\",\"\")","v":""},null,null,null,null,null,null,"Project Information",null,null,1,null,null,1]
[]
[null,null,5.02,"Capacity & Capability",null,null,null,null,null,null,null,null,{"$f":"D15","v":"Capacity & Capability"}]
[null,null,null,null,"Now",null,"Future",null,"Short Narrative \n(if Red or Amber)"]
["Boring stuff here",null,"5.02.1","Digital","N/A",null,"N/A",null,null,null,null,null,{"$f":"IF(AND(D17=\"\",E17=\"\",G17=\"\",I17=\"\",P17=\"\"),\"\",IF(OR(CONCATENATE(D17,\" - \",E17,\" : \",G17,\" ; \",I17)<>P17),\"Changed since last quarter\",\"\"))","v":"Changed since last quarter"},{"$f":"IF(AND(D17=\"\",E17=\"\",G17=\"\",I17=\"\"),\"Pls complete if applicable\",IF(OR(D17=\"\",E17=\"\",G17=\"\"),\"Understand that seabirds complete\",IF(AND(OR(OR(E17=\"red\",E17=\"amber\"),OR(G17=\"red\",G17=\"amber\")),I17=\"\"),CONCATENATE(\"Understand that seabirds complete short narrative on amber and/or red\"),\"\")))","v":""},null,null,null,null,null,null,"Project Information",null,1,2,null,2,1]
[null,null,"5.02.2","Information Technology","Amber",null,"N/A",null,null,null,null,null,{"$f":"IF(AND(D18=\"\",E18=\"\",G18=\"\",I18=\"\",P18=\"\"),\"\",IF(OR(CONCATENATE(D18,\" - \",E18,\" : \",G18,\" ; \",I18)<>P18),\"Changed since last quarter\",\"\"))","v":"Changed since last quarter"},{"$f":"IF(AND(D18=\"\",E18=\"\",G18=\"\",I18=\"\"),\"Pls complete if applicable\",IF(OR(D18=\"\",E18=\"\",G18=\"\"),\"Understand that seabirds complete\",IF(AND(OR(OR(E18=\"red\",E18=\"amber\"),OR(G18=\"red\",G18=\"amber\")),I18=\"\"),CONCATENATE(\"Understand that seabirds complete short narrative on amber and/or red\"),\"\")))","v":"Understand that seabirds complete short narrative on amber and/or red"},null,null,null,null,null,null,"Project Information",null,1,2,null,2,1]
[null,null,"5.02.3","Legal, Commercial & Contract Management","Green",null,"Green",null,null,null,null,null,{"$f":"IF(AND(D19=\"\",E19=\"\",G19=\"\",I19=\"\",P19=\"\"),\"\",IF(OR(CONCATENATE(D19,\" - \",E19,\" : \",G19,\" ; \",I19)<>P19),\"Changed since last quarter\",\"\"))","v":"Changed since last quarter"},{"$f":"IF(AND(D19=\"\",E19=\"\",G19=\"\",I19=\"\"),\"Pls complete if applicable\",IF(OR(D19=\"\",E19=\"\",G19=\"\"),\"Understand that seabirds complete\",IF(AND(OR(OR(E19=\"red\",E19=\"amber\"),OR(G19=\"red\",G19=\"amber\")),I19=\"\"),CONCATENATE(\"Understand that seabirds complete short narrative on amber and/or red\"),\"\")))","v":""},null,null,null,null,null,null,"Project Information",null,1,2,null,2,1]
[null,null,"5.02.4","Project Forgery","Green",null,"Green",null,null,null,null,null,{"$f":"IF(AND(D20=\"\",E20=\"\",G20=\"\",I20=\"\",P20=\"\"),\"\",IF(OR(CONCATENATE(D20,\" - \",E20,\" : \",G20,\" ; \",I20)<>P20),\"Changed since last quarter\",\"\"))","v":"Changed since last quarter"},{"$f":"IF(AND(D20=\"\",E20=\"\",G20=\"\",I20=\"\"),\"Pls complete if applicable\",IF(OR(D20=\"\",E20=\"\",G20=\"\"),\"Understand that seabirds complete\",IF(AND(OR(OR(E20=\"red\",E20=\"amber\"),OR(G20=\"red\",G20=\"amber\")),I20=\"\"),CONCATENATE(\"Understand that seabirds complete short narrative on amber and/or red\"),\"\")))","v":""},null,null,null,null,null,null,"Project Information",null,1,2,null,2,1]
[null,null,"5.02.5","Change Implementation","N/A",null,"N/A",null,null,null,null,null,{"$f":"IF(AND(D21=\"\",E21=\"\",G21=\"\",I21=\"\",P21=\"\"),\"\",IF(OR(CONCATENATE(D21,\" - \",E21,\" : \",G21,\" ; \",I21)<>P21),\"Changed since last quarter\",\"\"))","v":"Changed since last quarter"},{"$f":"IF(AND(D21=\"\",E21=\"\",G21=\"\",I21=\"\"),\"Pls complete if applicable\",IF(OR(D21=\"\",E21=\"\",G21=\"\"),\"Understand that seabirds complete\",IF(AND(OR(OR(E21=\"red\",E21=\"amber\"),OR(G21=\"red\",G21=\"amber\")),I21=\"\"),CONCATENATE(\"Understand that seabirds complete short narrative on amber and/or red\"),\"\")))","v":""},null,null,null,null,null,null,"Project Information",null,1,2,null,2,1]
[null,null,"5.02.6","Technical","Green",null,"Green",null,null,null,null,null,{"$f":"IF(AND(D22=\"\",E22=\"\",G22=\"\",I22=\"\",P22=\"\"),\"\",IF(OR(CONCATENATE(D22,\" - \",E22,\" : \",G22,\" ; \",I22)<>P22),\"Changed since last quarter\",\"\"))","v":"Changed since last quarter"},{"$f":"IF(AND(D22=\"\",E22=\"\",G22=\"\",I22=\"\"),\"Pls complete if applicable\",IF(OR(D22=\"\",E22=\"\",G22=\"\"),\"Understand that seabirds complete\",IF(AND(OR(OR(E22=\"red\",E22=\"amber\"),OR(G22=\"red\",G22=\"amber\")),I22=\"\"),CONCATENATE(\"Understand that seabirds complete short narrative on amber and/or red\"),\"\")))","v":""},null,null,null,null,null,null,"Project Information",null,1,2,null,2,1]
[null,null,"5.02.7","Industry Knowledge","N/A",null,"N/A",null,null,null,null,null,{"$f":"IF(AND(D23=\"\",E23=\"\",G23=\"\",I23=\"\",P23=\"\"),\"\",IF(OR(CONCATENATE(D23,\" - \",E23,\" : \",G23,\" ; \",I23)<>P23),\"Changed since last quarter\",\"\"))","v":"Changed since last quarter"},{"$f":"IF(AND(D23=\"\",E23=\"\",G23=\"\",I23=\"\"),\"Pls complete if applicable\",IF(OR(D23=\"\",E23=\"\",G23=\"\"),\"Understand that seabirds complete\",IF(AND(OR(OR(E23=\"red\",E23=\"amber\"),OR(G23=\"red\",G23=\"amber\")),I23=\"\"),CONCATENATE(\"Understand that seabirds complete short narrative on amber and/or red\"),\"\")))","v":""},null,null,null,null,null,null,"Project Information",null,1,2,null,2,1]
[null,null,"5.02.8","Charity","N/A",null,"N/A",null,null,null,null,null,{"$f":"IF(AND(D24=\"\",E24=\"\",G24=\"\",I24=\"\",P24=\"\"),\"\",IF(OR(CONCATENATE(D24,\" - \",E24,\" : \",G24,\" ; \",I24)<>P24),\"Changed since last quarter\",\"\"))","v":"Changed since last quarter"},{"$f":"IF(AND(D24=\"\",E24=\"\",G24=\"\",I24=\"\"),\"Pls complete if applicable\",IF(OR(D24=\"\",E24=\"\",G24=\"\"),\"Understand that seabirds complete\",IF(AND(OR(OR(E24=\"red\",E24=\"amber\"),OR(G24=\"red\",G24=\"amber\")),I24=\"\"),CONCATENATE(\"Understand that seabirds complete short narrative on amber and/or red\"),\"\")))","v":""},null,null,null,null,null,null,"Project Information",null,1,2,null,2,1]
[null,null,"5.02.9","Analysis","N/A",null,"N/A",null,null,null,null,null,{"$f":"IF(AND(D25=\"\",E25=\"\",G25=\"\",I25=\"\",P25=\"\"),\"\",IF(OR(CONCATENATE(D25,\" - \",E25,\" : \",G25,\" ; \",I25)<>P25),\"Changed since last quarter\",\"\"))","v":"Changed since last quarter"},{"$f":"IF(AND(D25=\"\",E25=\"\",G25=\"\",I25=\"\"),\"Pls complete if applicable\",IF(OR(D25=\"\",E25=\"\",G25=\"\"),\"Understand that seabirds complete\",IF(AND(OR(OR(E25=\"red\",E25=\"amber\"),OR(G25=\"red\",G25=\"amber\")),I25=\"\"),CONCATENATE(\"Understand that seabirds complete short narrative on amber and/or red\"),\"\")))","v":""},null,null,null,null,null,null,"Project Information",null,1,2,null,2,1]
[null,null,"5.02.10","Communications & Stakeholder Engagement","N/A",null,"N/A",null,null,null,null,null,{"$f":"IF(AND(D26=\"\",E26=\"\",G26=\"\",I26=\"\",P26=\"\"),\"\",IF(OR(CONCATENATE(D26,\" - \",E26,\" : \",G26,\" ; \",I26)<>P26),\"Changed since last quarter\",\"\"))","v":"Changed since last quarter"},{"$f":"IF(AND(D26=\"\",E26=\"\",G26=\"\",I26=\"\"),\"Pls complete if applicable\",IF(OR(D26=\"\",E26=\"\",G26=\"\"),\"Understand that seabirds complete\",IF(AND(OR(OR(E26=\"red\",E26=\"amber\"),OR(G26=\"red\",G26=\"amber\")),I26=\"\"),CONCATENATE(\"Understand that seabirds complete short narrative on amber and/or red\"),\"\")))","v":""},null,null,null,null,null,null,"Project Information",null,1,2,null,2,1]
[null,null,"5.02.11",null,null,null,null,null,null,null,null,null,{"$f":"IF(AND(D27=\"\",E27=\"\",G27=\"\",I27=\"\",P27=\"\"),\"\",IF(OR(CONCATENATE(D27,\" - \",E27,\" : \",G27,\" ; \",I27)<>P27),\"Changed since last quarter\",\"\"))","v":""},{"$f":"IF(AND(D27=\"\",E27=\"\",G27=\"\",I27=\"\"),\"Pls complete if applicable\",IF(OR(D27=\"\",E27=\"\",G27=\"\"),\"Understand that seabirds complete\",IF(AND(OR(OR(E27=\"red\",E27=\"amber\"),OR(G27=\"red\",G27=\"amber\")),I27=\"\"),CONCATENATE(\"Understand that seabirds complete short narrative on amber and/or red\"),\"\")))","v":"Pls complete if applicable"},null,null,null,null,null,null,"Project Information",null,3,null,null,2,1]
[null,null,"5.02.12",null,null,null,null,null,null,null,null,null,{"$f":"IF(AND(D28=\"\",E28=\"\",G28=\"\",I28=\"\",P28=\"\"),\"\",IF(OR(CONCATENATE(D28,\" - \",E28,\" : \",G28,\" ; \",I28)<>P28),\"Changed since last quarter\",\"\"))","v":""},{"$f":"IF(AND(D28=\"\",E28=\"\",G28=\"\",I28=\"\"),\"Pls complete if applicable\",IF(OR(D28=\"\",E28=\"\",G28=\"\"),\"Understand that seabirds complete\",IF(AND(OR(OR(E28=\"red\",E28=\"amber\"),OR(G28=\"red\",G28=\"amber\")),I28=\"\"),CONCATENATE(\"Understand that seabirds complete short narrative on amber and/or red\"),\"\")))","v":"Pls complete if applicable"},null,null,null,null,null,null,"Project Information",null,3,null,null,2,1]
[null,null,"5.02.13",null,null,null,null,null,null,null,null,null,{"$f":"IF(AND(D29=\"\",E29=\"\",G29=\"\",I29=\"\",P29=\"\"),\"\",IF(OR(CONCATENATE(D29,\" - \",E29,\" : \",G29,\" ; \",I29)<>P29),\"Changed since last quarter\",\"\"))","v":""},{"$f":"IF(AND(D29=\"\",E29=\"\",G29=\"\",I29=\"\"),\"Pls complete if applicable\",IF(OR(D29=\"\",E29=\"\",G29=\"\"),\"Understand that seabirds complete\",IF(AND(OR(OR(E29=\"red\",E29=\"amber\"),OR(G29=\"red\",G29=\"amber\")),I29=\"\"),CONCATENATE(\"Understand that seabirds complete short narrative on amber and/or red\"),\"\")))","v":"Pls complete if applicable"},null,null,null,null,null,null,"Project Information",null,3,null,null,2,1]
[null,null,"5.02.14",null,null,null,null,null,null,null,null,null,{"$f":"IF(AND(D30=\"\",E30=\"\",G30=\"\",I30=\"\",P30=\"\"),\"\",IF(OR(CONCATENATE(D30,\" - \",E30,\" : \",G30,\" ; \",I30)<>P30),\"Changed since last quarter\",\"\"))","v":""},{"$f":"IF(AND(D30=\"\",E30=\"\",G30=\"\",I30=\"\"),\"Pls complete if applicable\",IF(OR(D30=\"\",E30=\"\",G30=\"\"),\"Understand that seabirds complete\",IF(AND(OR(OR(E30=\"red\",E30=\"amber\"),OR(G30=\"red\",G30=\"amber\")),I30=\"\"),CONCATENATE(\"Understand that seabirds complete short narrative on amber and/or red\"),\"\")))","v":"Pls complete if applicable"}]
[null,null,"5.02.15",null,null,null,null,null,null,null,null,null,{"$f":"IF(AND(D31=\"\",E31=\"\",G31=\"\",I31=\"\",P31=\"\"),\"\",IF(OR(CONCATENATE(D31,\" - \",E31,\" : \",G31,\" ; \",I31)<>P31),\"Changed since last quarter\",\"\"))","v":""},{"$f":"IF(AND(D31=\"\",E31=\"\",G31=\"\",I31=\"\"),\"Pls complete if applicable\",IF(OR(D31=\"\",E31=\"\",G31=\"\"),\"Understand that seabirds complete\",IF(AND(OR(OR(E31=\"red\",E31=\"amber\"),OR(G31=\"red\",G31=\"amber\")),I31=\"\"),CONCATENATE(\"Understand that seabirds complete short narrative on amber and/or red\"),\"\")))","v":"Pls complete if applicable"},null,null,null,null,null,null,"Project Information",null,3,null,null,2,1]
[]
[null,null,5.03,"Resource - Forgery Confidence Assessment (DCA)"]
[null,null,"5.03.1",null,"Now",null,"Future"]
[null,null,"5.03.2","Resource DCA - SRO Assessment","Green",null,"N/A"]

{"sheet":"6a - Milestones - Approvals","index":17,"n_rows":113,"n_cols":19,"rows_kept":113,"cut":false,"hidden":false,"merged":[[0,1,0,10],[1,12,1,13],[1,15,1,18],[2,3,2,10],[3,3,3,10],[4,3,4,10],[4,12,4,18],[6,0,12,0],[111,3,111,10],[112,3,112,4],[112,5,112,10]]}
[{"$f":"IF(Introduction!C12=\"\",\"ID NUMBER\",Introduction!C12)","v":"ARE_0024_1516-Q4"},{"$f":"IF(Introduction!C11=\"\",\"Project Name\",Introduction!C11)","v":"Universal Cantilever Bridge over the River Styx"}]
[null,null,null,null,null,null,null,null,null,null,null,null,"Validation",null,null,"Previous Quarterly Data"]
["Guidance Notes - Refer to Guidance Document for more detail","Doodle Column\n(Contents not collated by the GOASS)",6,"Approvals",null,null,null,null,null,null,null,null,"Change since last qtr.","Automated Validation",null,{"$f":"IF(LEFT(Introduction!$C$17,2)=\"Q4\",\"Q3\",IF(LEFT(Introduction!$C$17,2)=\"Q3\",\"Q2\",IF(LEFT(Introduction!$C$17,2)=\"Q2\",\"Q1\",\"Q4\")))","v":"Q4"},{"$f":"IF(LEFT(Introduction!$C$17,2)=\"Q4\",\"Q2\",IF(LEFT(Introduction!$C$17,2)=\"Q3\",\"Q1\",IF(LEFT(Introduction!$C$17,2)=\"Q2\",\"Q4\",\"Q3\")))","v":"Q3"},{"$f":"IF(LEFT(Introduction!$C$17,2)=\"Q4\",\"Q1\",IF(LEFT(Introduction!$C$17,2)=\"Q3\",\"Q4\",IF(LEFT(Introduction!$C$17,2)=\"Q2\",\"Q3\",\"Q2\")))","v":"Q2"},{"$f":"IF(LEFT(Introduction!$C$17,2)=\"Q4\",\"Q4\",IF(LEFT(Introduction!$C$17,2)=\"Q3\",\"Q3\",IF(LEFT(Introduction!$C$17,2)=\"Q2\",\"Q2\",\"Q1\")))","v":"Q1"}]
[]
[null,null,6.01,"Approval History (covers all approvals of Proberts-Nio entity only, including all versions)",null,null,null,null,null,null,null,null,{"$f":"D5","v":"Approval History (covers all approvals of Proberts-Nio entity only, including all versions)"}]
[null,null,null,"Milestone label","Approvals and Controls","Version No.","Baseline Date of Approval Point","Forecast / Actual Date\nof Approval Point","Ginga between Baseline and Forecast/ Actual Dates (Days)","Status","Specific reason/s for any delay\n(mandatory if over 100 days)"]
[null,null,"6.01.1","SOBC - Chutney (CBG) Approval","LOPPA Approval - SOC",1,"2016-07-18","2016-07-18",{"$f":"IF(OR(G7=\"\",H7=\"\"),\"\",_xlfn.DAYS(H7,G7))","v":0},"Complete",null,null,{"$f":"IF(AND(D7=\"\",E7=\"\",F7=\"\",G7=\"\",H7=\"\",I7=\"\",J7=\"\",K7=\"\",P7=\"\"),\"\",IF(OR(CONCATENATE(D7,\" - \",E7,\" - \",F7,\" - \",TEXT(G7,\"dd/mm/yyyy\"),\" - \",TEXT(H7,\"dd/mm/yyyy\"),\" - \",I7,\" - \",J7,\" - \",K7)<>P7),\"Changed since last quarter\",\"\"))","v":"Changed since last quarter"},{"$f":"IF(AND(D7=\"\",E7=\"\",F7=\"\",G7=\"\",H7=\"\",I7=\"\",J7=\"\",K7=\"\"),\"\",IF(AND(OR(J7=\"Complete\",J7=\"Superceded\",J7=\"Redundant\"),H7>Introduction!$C$18),\"Milestone cannot be COMPLETE / SUPERCEDED / REDUNDANT if Forecast/Actual is past the snapshot date - Understand that seabirds change\",IF(AND(J7=\"Live\",H7<Introduction!$C$18),\"Milestone cannot be LIVE if Forecast/Actual is before snapshot date - Understand that seabirds change\",IF(AND(I7<>\"\",K7=\"\",I7>100),CONCATENATE(\"Understand that seabirds explain specifically why there is a \",I7,\" days Ginga from baseline\"),IF(OR(D7=\"\",E7=\"\",F7=\"\",G7=\"\",H7=\"\",I7=\"\",J7=\"\"),\"Understand that seabirds complete\",\"\")))))","v":""}]
[null,null,"6.01.2","Chutney (CBG) - Authority to Proceed","LOPPA Approval - SOC",1,"2018-03-19","2018-05-21",{"$f":"IF(OR(G8=\"\",H8=\"\"),\"\",_xlfn.DAYS(H8,G8))","v":63},"Complete",null,null,{"$f":"IF(AND(D8=\"\",E8=\"\",F8=\"\",G8=\"\",H8=\"\",I8=\"\",J8=\"\",K8=\"\",P8=\"\"),\"\",IF(OR(CONCATENATE(D8,\" - \",E8,\" - \",F8,\" - \",TEXT(G8,\"dd/mm/yyyy\"),\" - \",TEXT(H8,\"dd/mm/yyyy\"),\" - \",I8,\" - \",J8,\" - \",K8)<>P8),\"Changed since last quarter\",\"\"))","v":"Changed since last quarter"},{"$f":"IF(AND(D8=\"\",E8=\"\",F8=\"\",G8=\"\",H8=\"\",I8=\"\",J8=\"\",K8=\"\"),\"\",IF(AND(OR(J8=\"Complete\",J8=\"Superceded\",J8=\"Redundant\"),H8>Introduction!$C$18),\"Milestone cannot be COMPLETE / SUPERCEDED / REDUNDANT if Forecast/Actual is past the snapshot date - Understand that seabirds change\",IF(AND(J8=\"Live\",H8<Introduction!$C$18),\"Milestone cannot be LIVE if Forecast/Actual is before snapshot date - Understand that seabirds change\",IF(AND(I8<>\"\",K8=\"\",I8>100),CONCATENATE(\"Understand that seabirds explain specifically why there is a \",I8,\" days Ginga from baseline\"),IF(OR(D8=\"\",E8=\"\",F8=\"\",G8=\"\",H8=\"\",I8=\"\",J8=\"\"),\"Understand that seabirds complete\",\"\")))))","v":""}]
[null,null,"6.01.3","Chutney (CBG) Management Case","LOPPA Approval - SOC",1,"2017-12-04","2017-12-04",{"$f":"IF(OR(G9=\"\",H9=\"\"),\"\",_xlfn.DAYS(H9,G9))","v":0},"Complete",null,null,{"$f":"IF(AND(D9=\"\",E9=\"\",F9=\"\",G9=\"\",H9=\"\",I9=\"\",J9=\"\",K9=\"\",P9=\"\"),\"\",IF(OR(CONCATENATE(D9,\" - \",E9,\" - \",F9,\" - \",TEXT(G9,\"dd/mm/yyyy\"),\" - \",TEXT(H9,\"dd/mm/yyyy\"),\" - \",I9,\" - \",J9,\" - \",K9)<>P9),\"Changed since last quarter\",\"\"))","v":"Changed since last quarter"},{"$f":"IF(AND(D9=\"\",E9=\"\",F9=\"\",G9=\"\",H9=\"\",I9=\"\",J9=\"\",K9=\"\"),\"\",IF(AND(OR(J9=\"Complete\",J9=\"Superceded\",J9=\"Redundant\"),H9>Introduction!$C$18),\"Milestone cannot be COMPLETE / SUPERCEDED / REDUNDANT if Forecast/Actual is past the snapshot date - Understand that seabirds change\",IF(AND(J9=\"Live\",H9<Introduction!$C$18),\"Milestone cannot be LIVE if Forecast/Actual is before snapshot date - Understand that seabirds change\",IF(AND(I9<>\"\",K9=\"\",I9>100),CONCATENATE(\"Understand that seabirds explain specifically why there is a \",I9,\" days Ginga from baseline\"),IF(OR(D9=\"\",E9=\"\",F9=\"\",G9=\"\",H9=\"\",I9=\"\",J9=\"\"),\"Understand that seabirds complete\",\"\")))))","v":""}]
[null,null,"6.01.4","OBC - Chutney (CBG) Approval","LOPPA Approval - OBC",1,"2018-11-19","2019-04-15",{"$f":"IF(OR(G10=\"\",H10=\"\"),\"\",_xlfn.DAYS(H10,G10))","v":147},"Live",null,null,{"$f":"IF(AND(D10=\"\",E10=\"\",F10=\"\",G10=\"\",H10=\"\",I10=\"\",J10=\"\",K10=\"\",P10=\"\"),\"\",IF(OR(CONCATENATE(D10,\" - \",E10,\" - \",F10,\" - \",TEXT(G10,\"dd/mm/yyyy\"),\" - \",TEXT(H10,\"dd/mm/yyyy\"),\" - \",I10,\" - \",J10,\" - \",K10)<>P10),\"Changed since last quarter\",\"\"))","v":"Changed since last quarter"},{"$f":"IF(AND(D10=\"\",E10=\"\",F10=\"\",G10=\"\",H10=\"\",I10=\"\",J10=\"\",K10=\"\"),\"\",IF(AND(OR(J10=\"Complete\",J10=\"Superceded\",J10=\"Redundant\"),H10>Introduction!$C$18),\"Milestone cannot be COMPLETE / SUPERCEDED / REDUNDANT if Forecast/Actual is past the snapshot date - Understand that seabirds change\",IF(AND(J10=\"Live\",H10<Introduction!$C$18),\"Milestone cannot be LIVE if Forecast/Actual is before snapshot date - Understand that seabirds change\",IF(AND(I10<>\"\",K10=\"\",I10>100),CONCATENATE(\"Understand that seabirds explain specifically why there is a \",I10,\" days Ginga from baseline\"),IF(OR(D10=\"\",E10=\"\",F10=\"\",G10=\"\",H10=\"\",I10=\"\",J10=\"\"),\"Understand that seabirds complete\",\"\")))))","v":"Milestone cannot be LIVE if Forecast/Actual is before snapshot date - Understand that seabirds change"}]
[null,null,"6.01.5","FBC Update - Chutney (CBG) Approval","LOPPA Approval - FBC",1,"2021-02-01","2021-02-01",{"$f":"IF(OR(G11=\"\",H11=\"\"),\"\",_xlfn.DAYS(H11,G11))","v":0},"Live",null,null,{"$f":"IF(AND(D11=\"\",E11=\"\",F11=\"\",G11=\"\",H11=\"\",I11=\"\",J11=\"\",K11=\"\",P11=\"\"),\"\",IF(OR(CONCATENATE(D11,\" - \",E11,\" - \",F11,\" - \",TEXT(G11,\"dd/mm/yyyy\"),\" - \",TEXT(H11,\"dd/mm/yyyy\"),\" - \",I11,\" - \",J11,\" - \",K11)<>P11),\"Changed since last quarter\",\"\"))","v":"Changed since last quarter"},{"$f":"IF(AND(D11=\"\",E11=\"\",F11=\"\",G11=\"\",H11=\"\",I11=\"\",J11=\"\",K11=\"\"),\"\",IF(AND(OR(J11=\"Complete\",J11=\"Superceded\",J11=\"Redundant\"),H11>Introduction!$C$18),\"Milestone cannot be COMPLETE / SUPERCEDED / REDUNDANT if Forecast/Actual is past the snapshot date - Understand that seabirds change\",IF(AND(J11=\"Live\",H11<Introduction!$C$18),\"Milestone cannot be LIVE if Forecast/Actual is before snapshot date - Understand that seabirds change\",IF(AND(I11<>\"\",K11=\"\",I11>100),CONCATENATE(\"Understand that seabirds explain specifically why there is a \",I11,\" days Ginga from baseline\"),IF(OR(D11=\"\",E11=\"\",F11=\"\",G11=\"\",H11=\"\",I11=\"\",J11=\"\"),\"Understand that seabirds complete\",\"\")))))","v":""}]
[null,null,"6.01.6","FBC - Chutney (CBG) Approval","LOPPA Approval - FBC",1,"2020-02-01","2000-02-01",{"$f":"IF(OR(G12=\"\",H12=\"\"),\"\",_xlfn.DAYS(H12,G12))","v":-7305},"Live","Date changed due to revised baseline approved at Chutney (CBG).",null,{"$f":"IF(AND(D12=\"\",E12=\"\",F12=\"\",G12=\"\",H12=\"\",I12=\"\",J12=\"\",K12=\"\",P12=\"\"),\"\",IF(OR(CONCATENATE(D12,\" - \",E12,\" - \",F12,\" - \",TEXT(G12,\"dd/mm/yyyy\"),\" - \",TEXT(H12,\"dd/mm/yyyy\"),\" - \",I12,\" - \",J12,\" - \",K12)<>P12),\"Changed since last quarter\",\"\"))","v":"Changed since last quarter"},{"$f":"IF(AND(D12=\"\",E12=\"\",F12=\"\",G12=\"\",H12=\"\",I12=\"\",J12=\"\",K12=\"\"),\"\",IF(AND(OR(J12=\"Complete\",J12=\"Superceded\",J12=\"Redundant\"),H12>Introduction!$C$18),\"Milestone cannot be COMPLETE / SUPERCEDED / REDUNDANT if Forecast/Actual is past the snapshot date - Understand that seabirds change\",IF(AND(J12=\"Live\",H12<Introduction!$C$18),\"Milestone cannot be LIVE if Forecast/Actual is before snapshot date - Understand that seabirds change\",IF(AND(I12<>\"\",K12=\"\",I12>100),CONCATENATE(\"Understand that seabirds explain specifically why there is a \",I12,\" days Ginga from baseline\"),IF(OR(D12=\"\",E12=\"\",F12=\"\",G12=\"\",H12=\"\",I12=\"\",J12=\"\"),\"Understand that seabirds complete\",\"\")))))","v":"Milestone cannot be LIVE if Forecast/Actual is before snapshot date - Understand that seabirds change"}]
[null,null,"6.01.7","Planning Consents","Control - Property",1,"1923-01-01","2020-03-31",{"$f":"IF(OR(G13=\"\",H13=\"\"),\"\",_xlfn.DAYS(H13,G13))","v":35519},"Live",null,null,{"$f":"IF(AND(D13=\"\",E13=\"\",F13=\"\",G13=\"\",H13=\"\",I13=\"\",J13=\"\",K13=\"\",P13=\"\"),\"\",IF(OR(CONCATENATE(D13,\" - \",E13,\" - \",F13,\" - \",TEXT(G13,\"dd/mm/yyyy\"),\" - \",TEXT(H13,\"dd/mm/yyyy\"),\" - \",I13,\" - \",J13,\" - \",K13)<>P13),\"Changed since last quarter\",\"\"))","v":"Changed since last quarter"},{"$f":"IF(AND(D13=\"\",E13=\"\",F13=\"\",G13=\"\",H13=\"\",I13=\"\",J13=\"\",K13=\"\"),\"\",IF(AND(OR(J13=\"Complete\",J13=\"Superceded\",J13=\"Redundant\"),H13>Introduction!$C$18),\"Milestone cannot be COMPLETE / SUPERCEDED / REDUNDANT if Forecast/Actual is past the snapshot date - Understand that seabirds change\",IF(AND(J13=\"Live\",H13<Introduction!$C$18),\"Milestone cannot be LIVE if Forecast/Actual is before snapshot date - Understand that seabirds change\",IF(AND(I13<>\"\",K13=\"\",I13>100),CONCATENATE(\"Understand that seabirds explain specifically why there is a \",I13,\" days Ginga from baseline\"),IF(OR(D13=\"\",E13=\"\",F13=\"\",G13=\"\",H13=\"\",I13=\"\",J13=\"\"),\"Understand that seabirds complete\",\"\")))))","v":"Understand that seabirds explain specifically why there is a 35519 days Ginga from baseline"}]
[null,null,"6.01.8","Pre-PIN Approval","Control - Property",1,"2018-07-31","2018-07-31",{"$f":"IF(OR(G14=\"\",H14=\"\"),\"\",_xlfn.DAYS(H14,G14))","v":0},"Complete",null,null,{"$f":"IF(AND(D14=\"\",E14=\"\",F14=\"\",G14=\"\",H14=\"\",I14=\"\",J14=\"\",K14=\"\",P14=\"\"),\"\",IF(OR(CONCATENATE(D14,\" - \",E14,\" - \",F14,\" - \",TEXT(G14,\"dd/mm/yyyy\"),\" - \",TEXT(H14,\"dd/mm/yyyy\"),\" - \",I14,\" - \",J14,\" - \",K14)<>P14),\"Changed since last quarter\",\"\"))","v":"Changed since last quarter"},{"$f":"IF(AND(D14=\"\",E14=\"\",F14=\"\",G14=\"\",H14=\"\",I14=\"\",J14=\"\",K14=\"\"),\"\",IF(AND(OR(J14=\"Complete\",J14=\"Superceded\",J14=\"Redundant\"),H14>Introduction!$C$18),\"Milestone cannot be COMPLETE / SUPERCEDED / REDUNDANT if Forecast/Actual is past the snapshot date - Understand that seabirds change\",IF(AND(J14=\"Live\",H14<Introduction!$C$18),\"Milestone cannot be LIVE if Forecast/Actual is before snapshot date - Understand that seabirds change\",IF(AND(I14<>\"\",K14=\"\",I14>100),CONCATENATE(\"Understand that seabirds explain specifically why there is a \",I14,\" days Ginga from baseline\"),IF(OR(D14=\"\",E14=\"\",F14=\"\",G14=\"\",H14=\"\",I14=\"\",J14=\"\"),\"Understand that seabirds complete\",\"\")))))","v":""}]
[null,null,"6.01.9","SOBC - HMT Approval","Approval - HMT SOC",1,"2016-12-31","2016-12-31",{"$f":"IF(OR(G15=\"\",H15=\"\"),\"\",_xlfn.DAYS(H15,G15))","v":0},"Complete",null,null,{"$f":"IF(AND(D15=\"\",E15=\"\",F15=\"\",G15=\"\",H15=\"\",I15=\"\",J15=\"\",K15=\"\",P15=\"\"),\"\",IF(OR(CONCATENATE(D15,\" - \",E15,\" - \",F15,\" - \",TEXT(G15,\"dd/mm/yyyy\"),\" - \",TEXT(H15,\"dd/mm/yyyy\"),\" - \",I15,\" - \",J15,\" - \",K15)<>P15),\"Changed since last quarter\",\"\"))","v":"Changed since last quarter"},{"$f":"IF(AND(D15=\"\",E15=\"\",F15=\"\",G15=\"\",H15=\"\",I15=\"\",J15=\"\",K15=\"\"),\"\",IF(AND(OR(J15=\"Complete\",J15=\"Superceded\",J15=\"Redundant\"),H15>Introduction!$C$18),\"Milestone cannot be COMPLETE / SUPERCEDED / REDUNDANT if Forecast/Actual is past the snapshot date - Understand that seabirds change\",IF(AND(J15=\"Live\",H15<Introduction!$C$18),\"Milestone cannot be LIVE if Forecast/Actual is before snapshot date - Understand that seabirds change\",IF(AND(I15<>\"\",K15=\"\",I15>100),CONCATENATE(\"Understand that seabirds explain specifically why there is a \",I15,\" days Ginga from baseline\"),IF(OR(D15=\"\",E15=\"\",F15=\"\",G15=\"\",H15=\"\",I15=\"\",J15=\"\"),\"Understand that seabirds complete\",\"\")))))","v":""}]
[null,null,"6.01.10","OBC - MPRG","Approval - HMT OBC",1,"2018-12-13","2019-05-03",{"$f":"IF(OR(G16=\"\",H16=\"\"),\"\",_xlfn.DAYS(H16,G16))","v":141},"Live",null,null,{"$f":"IF(AND(D16=\"\",E16=\"\",F16=\"\",G16=\"\",H16=\"\",I16=\"\",J16=\"\",K16=\"\",P16=\"\"),\"\",IF(OR(CONCATENATE(D16,\" - \",E16,\" - \",F16,\" - \",TEXT(G16,\"dd/mm/yyyy\"),\" - \",TEXT(H16,\"dd/mm/yyyy\"),\" - \",I16,\" - \",J16,\" - \",K16)<>P16),\"Changed since last quarter\",\"\"))","v":"Changed since last quarter"},{"$f":"IF(AND(D16=\"\",E16=\"\",F16=\"\",G16=\"\",H16=\"\",I16=\"\",J16=\"\",K16=\"\"),\"\",IF(AND(OR(J16=\"Complete\",J16=\"Superceded\",J16=\"Redundant\"),H16>Introduction!$C$18),\"Milestone cannot be COMPLETE / SUPERCEDED / REDUNDANT if Forecast/Actual is past the snapshot date - Understand that seabirds change\",IF(AND(J16=\"Live\",H16<Introduction!$C$18),\"Milestone cannot be LIVE if Forecast/Actual is before snapshot date - Understand that seabirds change\",IF(AND(I16<>\"\",K16=\"\",I16>100),CONCATENATE(\"Understand that seabirds explain specifically why there is a \",I16,\" days Ginga from baseline\"),IF(OR(D16=\"\",E16=\"\",F16=\"\",G16=\"\",H16=\"\",I16=\"\",J16=\"\"),\"Understand that seabirds complete\",\"\")))))","v":"Milestone cannot be LIVE if Forecast/Actual is before snapshot date - Understand that seabirds change"}]
[null,null,"6.01.11","FBC Update - HMT Approval","Approval - HMT FBC",1,"2021-04-01","2021-04-01",{"$f":"IF(OR(G17=\"\",H17=\"\"),\"\",_xlfn.DAYS(H17,G17))","v":0},"Live",null,null,{"$f":"IF(AND(D17=\"\",E17=\"\",F17=\"\",G17=\"\",H17=\"\",I17=\"\",J17=\"\",K17=\"\",P17=\"\"),\"\",IF(OR(CONCATENATE(D17,\" - \",E17,\" - \",F17,\" - \",TEXT(G17,\"dd/mm/yyyy\"),\" - \",TEXT(H17,\"dd/mm/yyyy\"),\" - \",I17,\" - \",J17,\" - \",K17)<>P17),\"Changed since last quarter\",\"\"))","v":"Changed since last quarter"},{"$f":"IF(AND(D17=\"\",E17=\"\",F17=\"\",G17=\"\",H17=\"\",I17=\"\",J17=\"\",K17=\"\"),\"\",IF(AND(OR(J17=\"Complete\",J17=\"Superceded\",J17=\"Redundant\"),H17>Introduction!$C$18),\"Milestone cannot be COMPLETE / SUPERCEDED / REDUNDANT if Forecast/Actual is past the snapshot date - Understand that seabirds change\",IF(AND(J17=\"Live\",H17<Introduction!$C$18),\"Milestone cannot be LIVE if Forecast/Actual is before snapshot date - Understand that seabirds change\",IF(AND(I17<>\"\",K17=\"\",I17>100),CONCATENATE(\"Understand that seabirds explain specifically why there is a \",I17,\" days Ginga from baseline\"),IF(OR(D17=\"\",E17=\"\",F17=\"\",G17=\"\",H17=\"\",I17=\"\",J17=\"\"),\"Understand that seabirds complete\",\"\")))))","v":""}]
[null,null,"6.01.12","FBC - HMT Approval","Approval - HMT FBC",1,"2020-04-01","2020-04-01",{"$f":"IF(OR(G18=\"\",H18=\"\"),\"\",_xlfn.DAYS(H18,G18))","v":0},"Live",null,null,{"$f":"IF(AND(D18=\"\",E18=\"\",F18=\"\",G18=\"\",H18=\"\",I18=\"\",J18=\"\",K18=\"\",P18=\"\"),\"\",IF(OR(CONCATENATE(D18,\" - \",E18,\" - \",F18,\" - \",TEXT(G18,\"dd/mm/yyyy\"),\" - \",TEXT(H18,\"dd/mm/yyyy\"),\" - \",I18,\" - \",J18,\" - \",K18)<>P18),\"Changed since last quarter\",\"\"))","v":"Changed since last quarter"},{"$f":"IF(AND(D18=\"\",E18=\"\",F18=\"\",G18=\"\",H18=\"\",I18=\"\",J18=\"\",K18=\"\"),\"\",IF(AND(OR(J18=\"Complete\",J18=\"Superceded\",J18=\"Redundant\"),H18>Introduction!$C$18),\"Milestone cannot be COMPLETE / SUPERCEDED / REDUNDANT if Forecast/Actual is past the snapshot date - Understand that seabirds change\",IF(AND(J18=\"Live\",H18<Introduction!$C$18),\"Milestone cannot be LIVE if Forecast/Actual is before snapshot date - Understand that seabirds change\",IF(AND(I18<>\"\",K18=\"\",I18>100),CONCATENATE(\"Understand that seabirds explain specifically why there is a \",I18,\" days Ginga from baseline\"),IF(OR(D18=\"\",E18=\"\",F18=\"\",G18=\"\",H18=\"\",I18=\"\",J18=\"\"),\"Understand that seabirds complete\",\"\")))))","v":""}]
[null,null,"6.01.13","Pre-OJEU Approval","Control - Commercial control and dispute disclosure (including facilities management (FM))",1,"2019-01-31","2019-05-31",{"$f":"IF(OR(G19=\"\",H19=\"\"),\"\",_xlfn.DAYS(H19,G19))","v":120},"Live",null,null,{"$f":"IF(AND(D19=\"\",E19=\"\",F19=\"\",G19=\"\",H19=\"\",I19=\"\",J19=\"\",K19=\"\",P19=\"\"),\"\",IF(OR(CONCATENATE(D19,\" - \",E19,\" - \",F19,\" - \",TEXT(G19,\"dd/mm/yyyy\"),\" - \",TEXT(H19,\"dd/mm/yyyy\"),\" - \",I19,\" - \",J19,\" - \",K19)<>P19),\"Changed since last quarter\",\"\"))","v":"Changed since last quarter"},{"$f":"IF(AND(D19=\"\",E19=\"\",F19=\"\",G19=\"\",H19=\"\",I19=\"\",J19=\"\",K19=\"\"),\"\",IF(AND(OR(J19=\"Complete\",J19=\"Superceded\",J19=\"Redundant\"),H19>Introduction!$C$18),\"Milestone cannot be COMPLETE / SUPERCEDED / REDUNDANT if Forecast/Actual is past the snapshot date - Understand that seabirds change\",IF(AND(J19=\"Live\",H19<Introduction!$C$18),\"Milestone cannot be LIVE if Forecast/Actual is before snapshot date - Understand that seabirds change\",IF(AND(I19<>\"\",K19=\"\",I19>100),CONCATENATE(\"Understand that seabirds explain specifically why there is a \",I19,\" days Ginga from baseline\"),IF(OR(D19=\"\",E19=\"\",F19=\"\",G19=\"\",H19=\"\",I19=\"\",J19=\"\"),\"Understand that seabirds complete\",\"\")))))","v":"Milestone cannot be LIVE if Forecast/Actual is before snapshot date - Understand that seabirds change"}]
[null,null,"6.01.14","Shortlisting Chutney (CBG) Approval","Control - Commercial control and dispute disclosure (including facilities management (FM))",1,"2020-03-31","2020-03-31",{"$f":"IF(OR(G20=\"\",H20=\"\"),\"\",_xlfn.DAYS(H20,G20))","v":0},"Live",null,null,{"$f":"IF(AND(D20=\"\",E20=\"\",F20=\"\",G20=\"\",H20=\"\",I20=\"\",J20=\"\",K20=\"\",P20=\"\"),\"\",IF(OR(CONCATENATE(D20,\" - \",E20,\" - \",F20,\" - \",TEXT(G20,\"dd/mm/yyyy\"),\" - \",TEXT(H20,\"dd/mm/yyyy\"),\" - \",I20,\" - \",J20,\" - \",K20)<>P20),\"Changed since last quarter\",\"\"))","v":"Changed since last quarter"},{"$f":"IF(AND(D20=\"\",E20=\"\",F20=\"\",G20=\"\",H20=\"\",I20=\"\",J20=\"\",K20=\"\"),\"\",IF(AND(OR(J20=\"Complete\",J20=\"Superceded\",J20=\"Redundant\"),H20>Introduction!$C$18),\"Milestone cannot be COMPLETE / SUPERCEDED / REDUNDANT if Forecast/Actual is past the snapshot date - Understand that seabirds change\",IF(AND(J20=\"Live\",H20<Introduction!$C$18),\"Milestone cannot be LIVE if Forecast/Actual is before snapshot date - Understand that seabirds change\",IF(AND(I20<>\"\",K20=\"\",I20>100),CONCATENATE(\"Understand that seabirds explain specifically why there is a \",I20,\" days Ginga from baseline\"),IF(OR(D20=\"\",E20=\"\",F20=\"\",G20=\"\",H20=\"\",I20=\"\",J20=\"\"),\"Understand that seabirds complete\",\"\")))))","v":""}]
[null,null,"6.01.15","Selection Chutney (CBG) Approval","Control - Commercial control and dispute disclosure (including facilities management (FM))",1,"2020-09-30","2020-09-30",{"$f":"IF(OR(G21=\"\",H21=\"\"),\"\",_xlfn.DAYS(H21,G21))","v":0},"Live",null,null,{"$f":"IF(AND(D21=\"\",E21=\"\",F21=\"\",G21=\"\",H21=\"\",I21=\"\",J21=\"\",K21=\"\",P21=\"\"),\"\",IF(OR(CONCATENATE(D21,\" - \",E21,\" - \",F21,\" - \",TEXT(G21,\"dd/mm/yyyy\"),\" - \",TEXT(H21,\"dd/mm/yyyy\"),\" - \",I21,\" - \",J21,\" - \",K21)<>P21),\"Changed since last quarter\",\"\"))","v":"Changed since last quarter"},{"$f":"IF(AND(D21=\"\",E21=\"\",F21=\"\",G21=\"\",H21=\"\",I21=\"\",J21=\"\",K21=\"\"),\"\",IF(AND(OR(J21=\"Complete\",J21=\"Superceded\",J21=\"Redundant\"),H21>Introduction!$C$18),\"Milestone cannot be COMPLETE / SUPERCEDED / REDUNDANT if Forecast/Actual is past the snapshot date - Understand that seabirds change\",IF(AND(J21=\"Live\",H21<Introduction!$C$18),\"Milestone cannot be LIVE if Forecast/Actual is before snapshot date - Understand that seabirds change\",IF(AND(I21<>\"\",K21=\"\",I21>100),CONCATENATE(\"Understand that seabirds explain specifically why there is a \",I21,\" days Ginga from baseline\"),IF(OR(D21=\"\",E21=\"\",F21=\"\",G21=\"\",H21=\"\",I21=\"\",J21=\"\"),\"Understand that seabirds complete\",\"\")))))","v":""}]
[null,null,"6.01.16","OBC - IDC Approval","LOPPA Approval - OBC",1,"2019-03-12","2019-03-12",{"$f":"IF(OR(G22=\"\",H22=\"\"),\"\",_xlfn.DAYS(H22,G22))","v":0},"Complete",null,null,{"$f":"IF(AND(D22=\"\",E22=\"\",F22=\"\",G22=\"\",H22=\"\",I22=\"\",J22=\"\",K22=\"\",P22=\"\"),\"\",IF(OR(CONCATENATE(D22,\" - \",E22,\" - \",F22,\" - \",TEXT(G22,\"dd/mm/yyyy\"),\" - \",TEXT(H22,\"dd/mm/yyyy\"),\" - \",I22,\" - \",J22,\" - \",K22)<>P22),\"Changed since last quarter\",\"\"))","v":"Changed since last quarter"},{"$f":"IF(AND(D22=\"\",E22=\"\",F22=\"\",G22=\"\",H22=\"\",I22=\"\",J22=\"\",K22=\"\"),\"\",IF(AND(OR(J22=\"Complete\",J22=\"Superceded\",J22=\"Redundant\"),H22>Introduction!$C$18),\"Milestone cannot be COMPLETE / SUPERCEDED / REDUNDANT if Forecast/Actual is past the snapshot date - Understand that seabirds change\",IF(AND(J22=\"Live\",H22<Introduction!$C$18),\"Milestone cannot be LIVE if Forecast/Actual is before snapshot date - Understand that seabirds change\",IF(AND(I22<>\"\",K22=\"\",I22>100),CONCATENATE(\"Understand that seabirds explain specifically why there is a \",I22,\" days Ginga from baseline\"),IF(OR(D22=\"\",E22=\"\",F22=\"\",G22=\"\",H22=\"\",I22=\"\",J22=\"\"),\"Understand that seabirds complete\",\"\")))))","v":""}]
[null,null,"6.01.17",null,null,null,null,null,{"$f":"IF(OR(G23=\"\",H23=\"\"),\"\",_xlfn.DAYS(H23,G23))","v":""},null,null,null,{"$f":"IF(AND(D23=\"\",E23=\"\",F23=\"\",G23=\"\",H23=\"\",I23=\"\",J23=\"\",K23=\"\",P23=\"\"),\"\",IF(OR(CONCATENATE(D23,\" - \",E23,\" - \",F23,\" - \",TEXT(G23,\"dd/mm/yyyy\"),\" - \",TEXT(H23,\"dd/mm/yyyy\"),\" - \",I23,\" - \",J23,\" - \",K23)<>P23),\"Changed since last quarter\",\"\"))","v":""},{"$f":"IF(AND(D23=\"\",E23=\"\",F23=\"\",G23=\"\",H23=\"\",I23=\"\",J23=\"\",K23=\"\"),\"\",IF(AND(OR(J23=\"Complete\",J23=\"Superceded\",J23=\"Redundant\"),H23>Introduction!$C$18),\"Milestone cannot be COMPLETE / SUPERCEDED / REDUNDANT if Forecast/Actual is past the snapshot date - Understand that seabirds change\",IF(AND(J23=\"Live\",H23<Introduction!$C$18),\"Milestone cannot be LIVE if Forecast/Actual is before snapshot date - Understand that seabirds change\",IF(AND(I23<>\"\",K23=\"\",I23>100),CONCATENATE(\"Understand that seabirds explain specifically why there is a \",I23,\" days Ginga from baseline\"),IF(OR(D23=\"\",E23=\"\",F23=\"\",G23=\"\",H23=\"\",I23=\"\",J23=\"\"),\"Understand that seabirds complete\",\"\")))))","v":""}]
[null,null,"6.01.18",null,null,null,null,null,{"$f":"IF(OR(G24=\"\",H24=\"\"),\"\",_xlfn.DAYS(H24,G24))","v":""},null,null,null,{"$f":"IF(AND(D24=\"\",E24=\"\",F24=\"\",G24=\"\",H24=\"\",I24=\"\",J24=\"\",K24=\"\",P24=\"\"),\"\",IF(OR(CONCATENATE(D24,\" - \",E24,\" - \",F24,\" - \",TEXT(G24,\"dd/mm/yyyy\"),\" - \",TEXT(H24,\"dd/mm/yyyy\"),\" - \",I24,\" - \",J24,\" - \",K24)<>P24),\"Changed since last quarter\",\"\"))","v":""},{"$f":"IF(AND(D24=\"\",E24=\"\",F24=\"\",G24=\"\",H24=\"\",I24=\"\",J24=\"\",K24=\"\"),\"\",IF(AND(OR(J24=\"Complete\",J24=\"Superceded\",J24=\"Redundant\"),H24>Introduction!$C$18),\"Milestone cannot be COMPLETE / SUPERCEDED / REDUNDANT if Forecast/Actual is past the snapshot date - Understand that seabirds change\",IF(AND(J24=\"Live\",H24<Introduction!$C$18),\"Milestone cannot be LIVE if Forecast/Actual is before snapshot date - Understand that seabirds change\",IF(AND(I24<>\"\",K24=\"\",I24>100),CONCATENATE(\"Understand that seabirds explain specifically why there is a \",I24,\" days Ginga from baseline\"),IF(OR(D24=\"\",E24=\"\",F24=\"\",G24=\"\",H24=\"\",I24=\"\",J24=\"\"),\"Understand that seabirds complete\",\"\")))))","v":""}]
[null,null,"6.01.19",null,null,null,null,null,{"$f":"IF(OR(G25=\"\",H25=\"\"),\"\",_xlfn.DAYS(H25,G25))","v":""},null,null,null,{"$f":"IF(AND(D25=\"\",E25=\"\",F25=\"\",G25=\"\",H25=\"\",I25=\"\",J25=\"\",K25=\"\",P25=\"\"),\"\",IF(OR(CONCATENATE(D25,\" - \",E25,\" - \",F25,\" - \",TEXT(G25,\"dd/mm/yyyy\"),\" - \",TEXT(H25,\"dd/mm/yyyy\"),\" - \",I25,\" - \",J25,\" - \",K25)<>P25),\"Changed since last quarter\",\"\"))","v":""},{"$f":"IF(AND(D25=\"\",E25=\"\",F25=\"\",G25=\"\",H25=\"\",I25=\"\",J25=\"\",K25=\"\"),\"\",IF(AND(OR(J25=\"Complete\",J25=\"Superceded\",J25=\"Redundant\"),H25>Introduction!$C$18),\"Milestone cannot be COMPLETE / SUPERCEDED / REDUNDANT if Forecast/Actual is past the snapshot date - Understand that seabirds change\",IF(AND(J25=\"Live\",H25<Introduction!$C$18),\"Milestone cannot be LIVE if Forecast/Actual is before snapshot date - Understand that seabirds change\",IF(AND(I25<>\"\",K25=\"\",I25>100),CONCATENATE(\"Understand that seabirds explain specifically why there is a \",I25,\" days Ginga from baseline\"),IF(OR(D25=\"\",E25=\"\",F25=\"\",G25=\"\",H25=\"\",I25=\"\",J25=\"\"),\"Understand that seabirds complete\",\"\")))))","v":""}]
[null,null,"6.01.20",null,null,null,null,null,{"$f":"IF(OR(G26=\"\",H26=\"\"),\"\",_xlfn.DAYS(H26,G26))","v":""},null,null,null,{"$f":"IF(AND(D26=\"\",E26=\"\",F26=\"\",G26=\"\",H26=\"\",I26=\"\",J26=\"\",K26=\"\",P26=\"\"),\"\",IF(OR(CONCATENATE(D26,\" - \",E26,\" - \",F26,\" - \",TEXT(G26,\"dd/mm/yyyy\"),\" - \",TEXT(H26,\"dd/mm/yyyy\"),\" - \",I26,\" - \",J26,\" - \",K26)<>P26),\"Changed since last quarter\",\"\"))","v":""},{"$f":"IF(AND(D26=\"\",E26=\"\",F26=\"\",G26=\"\",H26=\"\",I26=\"\",J26=\"\",K26=\"\"),\"\",IF(AND(OR(J26=\"Complete\",J26=\"Superceded\",J26=\"Redundant\"),H26>Introduction!$C$18),\"Milestone cannot be COMPLETE / SUPERCEDED / REDUNDANT if Forecast/Actual is past the snapshot date - Understand that seabirds change\",IF(AND(J26=\"Live\",H26<Introduction!$C$18),\"Milestone cannot be LIVE if Forecast/Actual is before snapshot date - Understand that seabirds change\",IF(AND(I26<>\"\",K26=\"\",I26>100),CONCATENATE(\"Understand that seabirds explain specifically why there is a \",I26,\" days Ginga from baseline\"),IF(OR(D26=\"\",E26=\"\",F26=\"\",G26=\"\",H26=\"\",I26=\"\",J26=\"\"),\"Understand that seabirds complete\",\"\")))))","v":""}]
[null,null,"6.01.21",null,null,null,null,null,{"$f":"IF(OR(G27=\"\",H27=\"\"),\"\",_xlfn.DAYS(H27,G27))","v":""},null,null,null,{"$f":"IF(AND(D27=\"\",E27=\"\",F27=\"\",G27=\"\",H27=\"\",I27=\"\",J27=\"\",K27=\"\",P27=\"\"),\"\",IF(OR(CONCATENATE(D27,\" - \",E27,\" - \",F27,\" - \",TEXT(G27,\"dd/mm/yyyy\"),\" - \",TEXT(H27,\"dd/mm/yyyy\"),\" - \",I27,\" - \",J27,\" - \",K27)<>P27),\"Changed since last quarter\",\"\"))","v":""},{"$f":"IF(AND(D27=\"\",E27=\"\",F27=\"\",G27=\"\",H27=\"\",I27=\"\",J27=\"\",K27=\"\"),\"\",IF(AND(OR(J27=\"Complete\",J27=\"Superceded\",J27=\"Redundant\"),H27>Introduction!$C$18),\"Milestone cannot be COMPLETE / SUPERCEDED / REDUNDANT if Forecast/Actual is past the snapshot date - Understand that seabirds change\",IF(AND(J27=\"Live\",H27<Introduction!$C$18),\"Milestone cannot be LIVE if Forecast/Actual is before snapshot date - Understand that seabirds change\",IF(AND(I27<>\"\",K27=\"\",I27>100),CONCATENATE(\"Understand that seabirds explain specifically why there is a \",I27,\" days Ginga from baseline\"),IF(OR(D27=\"\",E27=\"\",F27=\"\",G27=\"\",H27=\"\",I27=\"\",J27=\"\"),\"Understand that seabirds complete\",\"\")))))","v":""}]
[null,null,"6.01.22",null,null,null,null,null,{"$f":"IF(OR(G28=\"\",H28=\"\"),\"\",_xlfn.DAYS(H28,G28))","v":""},null,null,null,{"$f":"IF(AND(D28=\"\",E28=\"\",F28=\"\",G28=\"\",H28=\"\",I28=\"\",J28=\"\",K28=\"\",P28=\"\"),\"\",IF(OR(CONCATENATE(D28,\" - \",E28,\" - \",F28,\" - \",TEXT(G28,\"dd/mm/yyyy\"),\" - \",TEXT(H28,\"dd/mm/yyyy\"),\" - \",I28,\" - \",J28,\" - \",K28)<>P28),\"Changed since last quarter\",\"\"))","v":""},{"$f":"IF(AND(D28=\"\",E28=\"\",F28=\"\",G28=\"\",H28=\"\",I28=\"\",J28=\"\",K28=\"\"),\"\",IF(AND(OR(J28=\"Complete\",J28=\"Superceded\",J28=\"Redundant\"),H28>Introduction!$C$18),\"Milestone cannot be COMPLETE / SUPERCEDED / REDUNDANT if Forecast/Actual is past the snapshot date - Understand that seabirds change\",IF(AND(J28=\"Live\",H28<Introduction!$C$18),\"Milestone cannot be LIVE if Forecast/Actual is before snapshot date - Understand that seabirds change\",IF(AND(I28<>\"\",K28=\"\",I28>100),CONCATENATE(\"Understand that seabirds explain specifically why there is a \",I28,\" days Ginga from baseline\"),IF(OR(D28=\"\",E28=\"\",F28=\"\",G28=\"\",H28=\"\",I28=\"\",J28=\"\"),\"Understand that seabirds complete\",\"\")))))","v":""}]
[null,null,"6.01.23",null,null,null,null,null,{"$f":"IF(OR(G29=\"\",H29=\"\"),\"\",_xlfn.DAYS(H29,G29))","v":""},null,null,null,{"$f":"IF(AND(D29=\"\",E29=\"\",F29=\"\",G29=\"\",H29=\"\",I29=\"\",J29=\"\",K29=\"\",P29=\"\"),\"\",IF(OR(CONCATENATE(D29,\" - \",E29,\" - \",F29,\" - \",TEXT(G29,\"dd/mm/yyyy\"),\" - \",TEXT(H29,\"dd/mm/yyyy\"),\" - \",I29,\" - \",J29,\" - \",K29)<>P29),\"Changed since last quarter\",\"\"))","v":""},{"$f":"IF(AND(D29=\"\",E29=\"\",F29=\"\",G29=\"\",H29=\"\",I29=\"\",J29=\"\",K29=\"\"),\"\",IF(AND(OR(J29=\"Complete\",J29=\"Superceded\",J29=\"Redundant\"),H29>Introduction!$C$18),\"Milestone cannot be COMPLETE / SUPERCEDED / REDUNDANT if Forecast/Actual is past the snapshot date - Understand that seabirds change\",IF(AND(J29=\"Live\",H29<Introduction!$C$18),\"Milestone cannot be LIVE if Forecast/Actual is before snapshot date - Understand that seabirds change\",IF(AND(I29<>\"\",K29=\"\",I29>100),CONCATENATE(\"Understand that seabirds explain specifically why there is a \",I29,\" days Ginga from baseline\"),IF(OR(D29=\"\",E29=\"\",F29=\"\",G29=\"\",H29=\"\",I29=\"\",J29=\"\"),\"Understand that seabirds complete\",\"\")))))","v":""}]
[null,null,"6.01.24",null,null,null,null,null,{"$f":"IF(OR(G30=\"\",H30=\"\"),\"\",_xlfn.DAYS(H30,G30))","v":""},null,null,null,{"$f":"IF(AND(D30=\"\",E30=\"\",F30=\"\",G30=\"\",H30=\"\",I30=\"\",J30=\"\",K30=\"\",P30=\"\"),\"\",IF(OR(CONCATENATE(D30,\" - \",E30,\" - \",F30,\" - \",TEXT(G30,\"dd/mm/yyyy\"),\" - \",TEXT(H30,\"dd/mm/yyyy\"),\" - \",I30,\" - \",J30,\" - \",K30)<>P30),\"Changed since last quarter\",\"\"))","v":""},{"$f":"IF(AND(D30=\"\",E30=\"\",F30=\"\",G30=\"\",H30=\"\",I30=\"\",J30=\"\",K30=\"\"),\"\",IF(AND(OR(J30=\"Complete\",J30=\"Superceded\",J30=\"Redundant\"),H30>Introduction!$C$18),\"Milestone cannot be COMPLETE / SUPERCEDED / REDUNDANT if Forecast/Actual is past the snapshot date - Understand that seabirds change\",IF(AND(J30=\"Live\",H30<Introduction!$C$18),\"Milestone cannot be LIVE if Forecast/Actual is before snapshot date - Understand that seabirds change\",IF(AND(I30<>\"\",K30=\"\",I30>100),CONCATENATE(\"Understand that seabirds explain specifically why there is a \",I30,\" days Ginga from baseline\"),IF(OR(D30=\"\",E30=\"\",F30=\"\",G30=\"\",H30=\"\",I30=\"\",J30=\"\"),\"Understand that seabirds complete\",\"\")))))","v":""}]
[null,null,"6.01.25",null,null,null,null,null,{"$f":"IF(OR(G31=\"\",H31=\"\"),\"\",_xlfn.DAYS(H31,G31))","v":""},null,null,null,{"$f":"IF(AND(D31=\"\",E31=\"\",F31=\"\",G31=\"\",H31=\"\",I31=\"\",J31=\"\",K31=\"\",P31=\"\"),\"\",IF(OR(CONCATENATE(D31,\" - \",E31,\" - \",F31,\" - \",TEXT(G31,\"dd/mm/yyyy\"),\" - \",TEXT(H31,\"dd/mm/yyyy\"),\" - \",I31,\" - \",J31,\" - \",K31)<>P31),\"Changed since last quarter\",\"\"))","v":""},{"$f":"IF(AND(D31=\"\",E31=\"\",F31=\"\",G31=\"\",H31=\"\",I31=\"\",J31=\"\",K31=\"\"),\"\",IF(AND(OR(J31=\"Complete\",J31=\"Superceded\",J31=\"Redundant\"),H31>Introduction!$C$18),\"Milestone cannot be COMPLETE / SUPERCEDED / REDUNDANT if Forecast/Actual is past the snapshot date - Understand that seabirds change\",IF(AND(J31=\"Live\",H31<Introduction!$C$18),\"Milestone cannot be LIVE if Forecast/Actual is before snapshot date - Understand that seabirds change\",IF(AND(I31<>\"\",K31=\"\",I31>100),CONCATENATE(\"Understand that seabirds explain specifically why there is a \",I31,\" days Ginga from baseline\"),IF(OR(D31=\"\",E31=\"\",F31=\"\",G31=\"\",H31=\"\",I31=\"\",J31=\"\"),\"Understand that seabirds complete\",\"\")))))","v":""}]
[null,null,"6.01.26",null,null,null,null,null,{"$f":"IF(OR(G32=\"\",H32=\"\"),\"\",_xlfn.DAYS(H32,G32))","v":""},null,null,null,{"$f":"IF(AND(D32=\"\",E32=\"\",F32=\"\",G32=\"\",H32=\"\",I32=\"\",J32=\"\",K32=\"\",P32=\"\"),\"\",IF(OR(CONCATENATE(D32,\" - \",E32,\" - \",F32,\" - \",TEXT(G32,\"dd/mm/yyyy\"),\" - \",TEXT(H32,\"dd/mm/yyyy\"),\" - \",I32,\" - \",J32,\" - \",K32)<>P32),\"Changed since last quarter\",\"\"))","v":""},{"$f":"IF(AND(D32=\"\",E32=\"\",F32=\"\",G32=\"\",H32=\"\",I32=\"\",J32=\"\",K32=\"\"),\"\",IF(AND(OR(J32=\"Complete\",J32=\"Superceded\",J32=\"Redundant\"),H32>Introduction!$C$18),\"Milestone cannot be COMPLETE / SUPERCEDED / REDUNDANT if Forecast/Actual is past the snapshot date - Understand that seabirds change\",IF(AND(J32=\"Live\",H32<Introduction!$C$18),\"Milestone cannot be LIVE if Forecast/Actual is before snapshot date - Understand that seabirds change\",IF(AND(I32<>\"\",K32=\"\",I32>100),CONCATENATE(\"Understand that seabirds explain specifically why there is a \",I32,\" days Ginga from baseline\"),IF(OR(D32=\"\",E32=\"\",F32=\"\",G32=\"\",H32=\"\",I32=\"\",J32=\"\"),\"Understand that seabirds complete\",\"\")))))","v":""}]
[null,null,"6.01.27",null,null,null,null,null,{"$f":"IF(OR(G33=\"\",H33=\"\"),\"\",_xlfn.DAYS(H33,G33))","v":""},null,null,null,{"$f":"IF(AND(D33=\"\",E33=\"\",F33=\"\",G33=\"\",H33=\"\",I33=\"\",J33=\"\",K33=\"\",P33=\"\"),\"\",IF(OR(CONCATENATE(D33,\" - \",E33,\" - \",F33,\" - \",TEXT(G33,\"dd/mm/yyyy\"),\" - \",TEXT(H33,\"dd/mm/yyyy\"),\" - \",I33,\" - \",J33,\" - \",K33)<>P33),\"Changed since last quarter\",\"\"))","v":""},{"$f":"IF(AND(D33=\"\",E33=\"\",F33=\"\",G33=\"\",H33=\"\",I33=\"\",J33=\"\",K33=\"\"),\"\",IF(AND(OR(J33=\"Complete\",J33=\"Superceded\",J33=\"Redundant\"),H33>Introduction!$C$18),\"Milestone cannot be COMPLETE / SUPERCEDED / REDUNDANT if Forecast/Actual is past the snapshot date - Understand that seabirds change\",IF(AND(J33=\"Live\",H33<Introduction!$C$18),\"Milestone cannot be LIVE if Forecast/Actual is before snapshot date - Understand that seabirds change\",IF(AND(I33<>\"\",K33=\"\",I33>100),CONCATENATE(\"Understand that seabirds explain specifically why there is a \",I33,\" days Ginga from baseline\"),IF(OR(D33=\"\",E33=\"\",F33=\"\",G33=\"\",H33=\"\",I33=\"\",J33=\"\"),\"Understand that seabirds complete\",\"\")))))","v":""}]
[null,null,"6.01.28",null,null,null,null,null,{"$f":"IF(OR(G34=\"\",H34=\"\"),\"\",_xlfn.DAYS(H34,G34))","v":""},null,null,null,{"$f":"IF(AND(D34=\"\",E34=\"\",F34=\"\",G34=\"\",H34=\"\",I34=\"\",J34=\"\",K34=\"\",P34=\"\"),\"\",IF(OR(CONCATENATE(D34,\" - \",E34,\" - \",F34,\" - \",TEXT(G34,\"dd/mm/yyyy\"),\" - \",TEXT(H34,\"dd/mm/yyyy\"),\" - \",I34,\" - \",J34,\" - \",K34)<>P34),\"Changed since last quarter\",\"\"))","v":""},{"$f":"IF(AND(D34=\"\",E34=\"\",F34=\"\",G34=\"\",H34=\"\",I34=\"\",J34=\"\",K34=\"\"),\"\",IF(AND(OR(J34=\"Complete\",J34=\"Superceded\",J34=\"Redundant\"),H34>Introduction!$C$18),\"Milestone cannot be COMPLETE / SUPERCEDED / REDUNDANT if Forecast/Actual is past the snapshot date - Understand that seabirds change\",IF(AND(J34=\"Live\",H34<Introduction!$C$18),\"Milestone cannot be LIVE if Forecast/Actual is before snapshot date - Understand that seabirds change\",IF(AND(I34<>\"\",K34=\"\",I34>100),CONCATENATE(\"Understand that seabirds explain specifically why there is a \",I34,\" days Ginga from baseline\"),IF(OR(D34=\"\",E34=\"\",F34=\"\",G34=\"\",H34=\"\",I34=\"\",J34=\"\"),\"Understand that seabirds complete\",\"\")))))","v":""}]
[null,null,"6.01.29",null,null,null,null,null,{"$f":"IF(OR(G35=\"\",H35=\"\"),\"\",_xlfn.DAYS(H35,G35))","v":""},null,null,null,{"$f":"IF(AND(D35=\"\",E35=\"\",F35=\"\",G35=\"\",H35=\"\",I35=\"\",J35=\"\",K35=\"\",P35=\"\"),\"\",IF(OR(CONCATENATE(D35,\" - \",E35,\" - \",F35,\" - \",TEXT(G35,\"dd/mm/yyyy\"),\" - \",TEXT(H35,\"dd/mm/yyyy\"),\" - \",I35,\" - \",J35,\" - \",K35)<>P35),\"Changed since last quarter\",\"\"))","v":""},{"$f":"IF(AND(D35=\"\",E35=\"\",F35=\"\",G35=\"\",H35=\"\",I35=\"\",J35=\"\",K35=\"\"),\"\",IF(AND(OR(J35=\"Complete\",J35=\"Superceded\",J35=\"Redundant\"),H35>Introduction!$C$18),\"Milestone cannot be COMPLETE / SUPERCEDED / REDUNDANT if Forecast/Actual is past the snapshot date - Understand that seabirds change\",IF(AND(J35=\"Live\",H35<Introduction!$C$18),\"Milestone cannot be LIVE if Forecast/Actual is before snapshot date - Understand that seabirds change\",IF(AND(I35<>\"\",K35=\"\",I35>100),CONCATENATE(\"Understand that seabirds explain specifically why there is a \",I35,\" days Ginga from baseline\"),IF(OR(D35=\"\",E35=\"\",F35=\"\",G35=\"\",H35=\"\",I35=\"\",J35=\"\"),\"Understand that seabirds complete\",\"\")))))","v":""}]
[null,null,"6.01.30",null,null,null,null,null,{"$f":"IF(OR(G36=\"\",H36=\"\"),\"\",_xlfn.DAYS(H36,G36))","v":""},null,null,null,{"$f":"IF(AND(D36=\"\",E36=\"\",F36=\"\",G36=\"\",H36=\"\",I36=\"\",J36=\"\",K36=\"\",P36=\"\"),\"\",IF(OR(CONCATENATE(D36,\" - \",E36,\" - \",F36,\" - \",TEXT(G36,\"dd/mm/yyyy\"),\" - \",TEXT(H36,\"dd/mm/yyyy\"),\" - \",I36,\" - \",J36,\" - \",K36)<>P36),\"Changed since last quarter\",\"\"))","v":""},{"$f":"IF(AND(D36=\"\",E36=\"\",F36=\"\",G36=\"\",H36=\"\",I36=\"\",J36=\"\",K36=\"\"),\"\",IF(AND(OR(J36=\"Complete\",J36=\"Superceded\",J36=\"Redundant\"),H36>Introduction!$C$18),\"Milestone cannot be COMPLETE / SUPERCEDED / REDUNDANT if Forecast/Actual is past the snapshot date - Understand that seabirds change\",IF(AND(J36=\"Live\",H36<Introduction!$C$18),\"Milestone cannot be LIVE if Forecast/Actual is before snapshot date - Understand that seabirds change\",IF(AND(I36<>\"\",K36=\"\",I36>100),CONCATENATE(\"Understand that seabirds explain specifically why there is a \",I36,\" days Ginga from baseline\"),IF(OR(D36=\"\",E36=\"\",F36=\"\",G36=\"\",H36=\"\",I36=\"\",J36=\"\"),\"Understand that seabirds complete\",\"\")))))","v":""}]
[null,null,"6.01.31",null,null,null,null,null,{"$f":"IF(OR(G37=\"\",H37=\"\"),\"\",_xlfn.DAYS(H37,G37))","v":""},null,null,null,{"$f":"IF(AND(D37=\"\",E37=\"\",F37=\"\",G37=\"\",H37=\"\",I37=\"\",J37=\"\",K37=\"\",P37=\"\"),\"\",IF(OR(CONCATENATE(D37,\" - \",E37,\" - \",F37,\" - \",TEXT(G37,\"dd/mm/yyyy\"),\" - \",TEXT(H37,\"dd/mm/yyyy\"),\" - \",I37,\" - \",J37,\" - \",K37)<>P37),\"Changed since last quarter\",\"\"))","v":""},{"$f":"IF(AND(D37=\"\",E37=\"\",F37=\"\",G37=\"\",H37=\"\",I37=\"\",J37=\"\",K37=\"\"),\"\",IF(AND(OR(J37=\"Complete\",J37=\"Superceded\",J37=\"Redundant\"),H37>Introduction!$C$18),\"Milestone cannot be COMPLETE / SUPERCEDED / REDUNDANT if Forecast/Actual is past the snapshot date - Understand that seabirds change\",IF(AND(J37=\"Live\",H37<Introduction!$C$18),\"Milestone cannot be LIVE if Forecast/Actual is before snapshot date - Understand that seabirds change\",IF(AND(I37<>\"\",K37=\"\",I37>100),CONCATENATE(\"Understand that seabirds explain specifically why there is a \",I37,\" days Ginga from baseline\"),IF(OR(D37=\"\",E37=\"\",F37=\"\",G37=\"\",H37=\"\",I37=\"\",J37=\"\"),\"Understand that seabirds complete\",\"\")))))","v":""}]
[null,null,"6.01.32",null,null,null,null,null,{"$f":"IF(OR(G38=\"\",H38=\"\"),\"\",_xlfn.DAYS(H38,G38))","v":""},null,null,null,{"$f":"IF(AND(D38=\"\",E38=\"\",F38=\"\",G38=\"\",H38=\"\",I38=\"\",J38=\"\",K38=\"\",P38=\"\"),\"\",IF(OR(CONCATENATE(D38,\" - \",E38,\" - \",F38,\" - \",TEXT(G38,\"dd/mm/yyyy\"),\" - \",TEXT(H38,\"dd/mm/yyyy\"),\" - \",I38,\" - \",J38,\" - \",K38)<>P38),\"Changed since last quarter\",\"\"))","v":""},{"$f":"IF(AND(D38=\"\",E38=\"\",F38=\"\",G38=\"\",H38=\"\",I38=\"\",J38=\"\",K38=\"\"),\"\",IF(AND(OR(J38=\"Complete\",J38=\"Superceded\",J38=\"Redundant\"),H38>Introduction!$C$18),\"Milestone cannot be COMPLETE / SUPERCEDED / REDUNDANT if Forecast/Actual is past the snapshot date - Understand that seabirds change\",IF(AND(J38=\"Live\",H38<Introduction!$C$18),\"Milestone cannot be LIVE if Forecast/Actual is before snapshot date - Understand that seabirds change\",IF(AND(I38<>\"\",K38=\"\",I38>100),CONCATENATE(\"Understand that seabirds explain specifically why there is a \",I38,\" days Ginga from baseline\"),IF(OR(D38=\"\",E38=\"\",F38=\"\",G38=\"\",H38=\"\",I38=\"\",J38=\"\"),\"Understand that seabirds complete\",\"\")))))","v":""}]
[null,null,"6.01.33",null,null,null,null,null,{"$f":"IF(OR(G39=\"\",H39=\"\"),\"\",_xlfn.DAYS(H39,G39))","v":""},null,null,null,{"$f":"IF(AND(D39=\"\",E39=\"\",F39=\"\",G39=\"\",H39=\"\",I39=\"\",J39=\"\",K39=\"\",P39=\"\"),\"\",IF(OR(CONCATENATE(D39,\" - \",E39,\" - \",F39,\" - \",TEXT(G39,\"dd/mm/yyyy\"),\" - \",TEXT(H39,\"dd/mm/yyyy\"),\" - \",I39,\" - \",J39,\" - \",K39)<>P39),\"Changed since last quarter\",\"\"))","v":""},{"$f":"IF(AND(D39=\"\",E39=\"\",F39=\"\",G39=\"\",H39=\"\",I39=\"\",J39=\"\",K39=\"\"),\"\",IF(AND(OR(J39=\"Complete\",J39=\"Superceded\",J39=\"Redundant\"),H39>Introduction!$C$18),\"Milestone cannot be COMPLETE / SUPERCEDED / REDUNDANT if Forecast/Actual is past the snapshot date - Understand that seabirds change\",IF(AND(J39=\"Live\",H39<Introduction!$C$18),\"Milestone cannot be LIVE if Forecast/Actual is before snapshot date - Understand that seabirds change\",IF(AND(I39<>\"\",K39=\"\",I39>100),CONCATENATE(\"Understand that seabirds explain specifically why there is a \",I39,\" days Ginga from baseline\"),IF(OR(D39=\"\",E39=\"\",F39=\"\",G39=\"\",H39=\"\",I39=\"\",J39=\"\"),\"Understand that seabirds complete\",\"\")))))","v":""}]
[null,null,"6.01.34",null,null,null,null,null,{"$f":"IF(OR(G40=\"\",H40=\"\"),\"\",_xlfn.DAYS(H40,G40))","v":""},null,null,null,{"$f":"IF(AND(D40=\"\",E40=\"\",F40=\"\",G40=\"\",H40=\"\",I40=\"\",J40=\"\",K40=\"\",P40=\"\"),\"\",IF(OR(CONCATENATE(D40,\" - \",E40,\" - \",F40,\" - \",TEXT(G40,\"dd/mm/yyyy\"),\" - \",TEXT(H40,\"dd/mm/yyyy\"),\" - \",I40,\" - \",J40,\" - \",K40)<>P40),\"Changed since last quarter\",\"\"))","v":""},{"$f":"IF(AND(D40=\"\",E40=\"\",F40=\"\",G40=\"\",H40=\"\",I40=\"\",J40=\"\",K40=\"\"),\"\",IF(AND(OR(J40=\"Complete\",J40=\"Superceded\",J40=\"Redundant\"),H40>Introduction!$C$18),\"Milestone cannot be COMPLETE / SUPERCEDED / REDUNDANT if Forecast/Actual is past the snapshot date - Understand that seabirds change\",IF(AND(J40=\"Live\",H40<Introduction!$C$18),\"Milestone cannot be LIVE if Forecast/Actual is before snapshot date - Understand that seabirds change\",IF(AND(I40<>\"\",K40=\"\",I40>100),CONCATENATE(\"Understand that seabirds explain specifically why there is a \",I40,\" days Ginga from baseline\"),IF(OR(D40=\"\",E40=\"\",F40=\"\",G40=\"\",H40=\"\",I40=\"\",J40=\"\"),\"Understand that seabirds complete\",\"\")))))","v":""}]
[null,null,"6.01.35",null,null,null,null,null,{"$f":"IF(OR(G41=\"\",H41=\"\"),\"\",_xlfn.DAYS(H41,G41))","v":""},null,null,null,{"$f":"IF(AND(D41=\"\",E41=\"\",F41=\"\",G41=\"\",H41=\"\",I41=\"\",J41=\"\",K41=\"\",P41=\"\"),\"\",IF(OR(CONCATENATE(D41,\" - \",E41,\" - \",F41,\" - \",TEXT(G41,\"dd/mm/yyyy\"),\" - \",TEXT(H41,\"dd/mm/yyyy\"),\" - \",I41,\" - \",J41,\" - \",K41)<>P41),\"Changed since last quarter\",\"\"))","v":""},{"$f":"IF(AND(D41=\"\",E41=\"\",F41=\"\",G41=\"\",H41=\"\",I41=\"\",J41=\"\",K41=\"\"),\"\",IF(AND(OR(J41=\"Complete\",J41=\"Superceded\",J41=\"Redundant\"),H41>Introduction!$C$18),\"Milestone cannot be COMPLETE / SUPERCEDED / REDUNDANT if Forecast/Actual is past the snapshot date - Understand that seabirds change\",IF(AND(J41=\"Live\",H41<Introduction!$C$18),\"Milestone cannot be LIVE if Forecast/Actual is before snapshot date - Understand that seabirds change\",IF(AND(I41<>\"\",K41=\"\",I41>100),CONCATENATE(\"Understand that seabirds explain specifically why there is a \",I41,\" days Ginga from baseline\"),IF(OR(D41=\"\",E41=\"\",F41=\"\",G41=\"\",H41=\"\",I41=\"\",J41=\"\"),\"Understand that seabirds complete\",\"\")))))","v":""}]
[null,null,"6.01.36",null,null,null,null,null,{"$f":"IF(OR(G42=\"\",H42=\"\"),\"\",_xlfn.DAYS(H42,G42))","v":""},null,null,null,{"$f":"IF(AND(D42=\"\",E42=\"\",F42=\"\",G42=\"\",H42=\"\",I42=\"\",J42=\"\",K42=\"\",P42=\"\"),\"\",IF(OR(CONCATENATE(D42,\" - \",E42,\" - \",F42,\" - \",TEXT(G42,\"dd/mm/yyyy\"),\" - \",TEXT(H42,\"dd/mm/yyyy\"),\" - \",I42,\" - \",J42,\" - \",K42)<>P42),\"Changed since last quarter\",\"\"))","v":""},{"$f":"IF(AND(D42=\"\",E42=\"\",F42=\"\",G42=\"\",H42=\"\",I42=\"\",J42=\"\",K42=\"\"),\"\",IF(AND(OR(J42=\"Complete\",J42=\"Superceded\",J42=\"Redundant\"),H42>Introduction!$C$18),\"Milestone cannot be COMPLETE / SUPERCEDED / REDUNDANT if Forecast/Actual is past the snapshot date - Understand that seabirds change\",IF(AND(J42=\"Live\",H42<Introduction!$C$18),\"Milestone cannot be LIVE if Forecast/Actual is before snapshot date - Understand that seabirds change\",IF(AND(I42<>\"\",K42=\"\",I42>100),CONCATENATE(\"Understand that seabirds explain specifically why there is a \",I42,\" days Ginga from baseline\"),IF(OR(D42=\"\",E42=\"\",F42=\"\",G42=\"\",H42=\"\",I42=\"\",J42=\"\"),\"Understand that seabirds complete\",\"\")))))","v":""}]
[null,null,"6.01.37",null,null,null,null,null,{"$f":"IF(OR(G43=\"\",H43=\"\"),\"\",_xlfn.DAYS(H43,G43))","v":""},null,null,null,{"$f":"IF(AND(D43=\"\",E43=\"\",F43=\"\",G43=\"\",H43=\"\",I43=\"\",J43=\"\",K43=\"\",P43=\"\"),\"\",IF(OR(CONCATENATE(D43,\" - \",E43,\" - \",F43,\" - \",TEXT(G43,\"dd/mm/yyyy\"),\" - \",TEXT(H43,\"dd/mm/yyyy\"),\" - \",I43,\" - \",J43,\" - \",K43)<>P43),\"Changed since last quarter\",\"\"))","v":""},{"$f":"IF(AND(D43=\"\",E43=\"\",F43=\"\",G43=\"\",H43=\"\",I43=\"\",J43=\"\",K43=\"\"),\"\",IF(AND(OR(J43=\"Complete\",J43=\"Superceded\",J43=\"Redundant\"),H43>Introduction!$C$18),\"Milestone cannot be COMPLETE / SUPERCEDED / REDUNDANT if Forecast/Actual is past the snapshot date - Understand that seabirds change\",IF(AND(J43=\"Live\",H43<Introduction!$C$18),\"Milestone cannot be LIVE if Forecast/Actual is before snapshot date - Understand that seabirds change\",IF(AND(I43<>\"\",K43=\"\",I43>100),CONCATENATE(\"Understand that seabirds explain specifically why there is a \",I43,\" days Ginga from baseline\"),IF(OR(D43=\"\",E43=\"\",F43=\"\",G43=\"\",H43=\"\",I43=\"\",J43=\"\"),\"Understand that seabirds complete\",\"\")))))","v":""}]
[null,null,"6.01.38",null,null,null,null,null,{"$f":"IF(OR(G44=\"\",H44=\"\"),\"\",_xlfn.DAYS(H44,G44))","v":""},null,null,null,{"$f":"IF(AND(D44=\"\",E44=\"\",F44=\"\",G44=\"\",H44=\"\",I44=\"\",J44=\"\",K44=\"\",P44=\"\"),\"\",IF(OR(CONCATENATE(D44,\" - \",E44,\" - \",F44,\" - \",TEXT(G44,\"dd/mm/yyyy\"),\" - \",TEXT(H44,\"dd/mm/yyyy\"),\" - \",I44,\" - \",J44,\" - \",K44)<>P44),\"Changed since last quarter\",\"\"))","v":""},{"$f":"IF(AND(D44=\"\",E44=\"\",F44=\"\",G44=\"\",H44=\"\",I44=\"\",J44=\"\",K44=\"\"),\"\",IF(AND(OR(J44=\"Complete\",J44=\"Superceded\",J44=\"Redundant\"),H44>Introduction!$C$18),\"Milestone cannot be COMPLETE / SUPERCEDED / REDUNDANT if Forecast/Actual is past the snapshot date - Understand that seabirds change\",IF(AND(J44=\"Live\",H44<Introduction!$C$18),\"Milestone cannot be LIVE if Forecast/Actual is before snapshot date - Understand that seabirds change\",IF(AND(I44<>\"\",K44=\"\",I44>100),CONCATENATE(\"Understand that seabirds explain specifically why there is a \",I44,\" days Ginga from baseline\"),IF(OR(D44=\"\",E44=\"\",F44=\"\",G44=\"\",H44=\"\",I44=\"\",J44=\"\"),\"Understand that seabirds complete\",\"\")))))","v":""}]
[null,null,"6.01.39",null,null,null,null,null,{"$f":"IF(OR(G45=\"\",H45=\"\"),\"\",_xlfn.DAYS(H45,G45))","v":""},null,null,null,{"$f":"IF(AND(D45=\"\",E45=\"\",F45=\"\",G45=\"\",H45=\"\",I45=\"\",J45=\"\",K45=\"\",P45=\"\"),\"\",IF(OR(CONCATENATE(D45,\" - \",E45,\" - \",F45,\" - \",TEXT(G45,\"dd/mm/yyyy\"),\" - \",TEXT(H45,\"dd/mm/yyyy\"),\" - \",I45,\" - \",J45,\" - \",K45)<>P45),\"Changed since last quarter\",\"\"))","v":""},{"$f":"IF(AND(D45=\"\",E45=\"\",F45=\"\",G45=\"\",H45=\"\",I45=\"\",J45=\"\",K45=\"\"),\"\",IF(AND(OR(J45=\"Complete\",J45=\"Superceded\",J45=\"Redundant\"),H45>Introduction!$C$18),\"Milestone cannot be COMPLETE / SUPERCEDED / REDUNDANT if Forecast/Actual is past the snapshot date - Understand that seabirds change\",IF(AND(J45=\"Live\",H45<Introduction!$C$18),\"Milestone cannot be LIVE if Forecast/Actual is before snapshot date - Understand that seabirds change\",IF(AND(I45<>\"\",K45=\"\",I45>100),CONCATENATE(\"Understand that seabirds explain specifically why there is a \",I45,\" days Ginga from baseline\"),IF(OR(D45=\"\",E45=\"\",F45=\"\",G45=\"\",H45=\"\",I45=\"\",J45=\"\"),\"Understand that seabirds complete\",\"\")))))","v":""}]
[null,null,"6.01.40",null,null,null,null,null,{"$f":"IF(OR(G46=\"\",H46=\"\"),\"\",_xlfn.DAYS(H46,G46))","v":""},null,null,null,{"$f":"IF(AND(D46=\"\",E46=\"\",F46=\"\",G46=\"\",H46=\"\",I46=\"\",J46=\"\",K46=\"\",P46=\"\"),\"\",IF(OR(CONCATENATE(D46,\" - \",E46,\" - \",F46,\" - \",TEXT(G46,\"dd/mm/yyyy\"),\" - \",TEXT(H46,\"dd/mm/yyyy\"),\" - \",I46,\" - \",J46,\" - \",K46)<>P46),\"Changed since last quarter\",\"\"))","v":""},{"$f":"IF(AND(D46=\"\",E46=\"\",F46=\"\",G46=\"\",H46=\"\",I46=\"\",J46=\"\",K46=\"\"),\"\",IF(AND(OR(J46=\"Complete\",J46=\"Superceded\",J46=\"Redundant\"),H46>Introduction!$C$18),\"Milestone cannot be COMPLETE / SUPERCEDED / REDUNDANT if Forecast/Actual is past the snapshot date - Understand that seabirds change\",IF(AND(J46=\"Live\",H46<Introduction!$C$18),\"Milestone cannot be LIVE if Forecast/Actual is before snapshot date - Understand that seabirds change\",IF(AND(I46<>\"\",K46=\"\",I46>100),CONCATENATE(\"Understand that seabirds explain specifically why there is a \",I46,\" days Ginga from baseline\"),IF(OR(D46=\"\",E46=\"\",F46=\"\",G46=\"\",H46=\"\",I46=\"\",J46=\"\"),\"Understand that seabirds complete\",\"\")))))","v":""}]
[null,null,"6.01.41",null,null,null,null,null,{"$f":"IF(OR(G47=\"\",H47=\"\"),\"\",_xlfn.DAYS(H47,G47))","v":""},null,null,null,{"$f":"IF(AND(D47=\"\",E47=\"\",F47=\"\",G47=\"\",H47=\"\",I47=\"\",J47=\"\",K47=\"\",P47=\"\"),\"\",IF(OR(CONCATENATE(D47,\" - \",E47,\" - \",F47,\" - \",TEXT(G47,\"dd/mm/yyyy\"),\" - \",TEXT(H47,\"dd/mm/yyyy\"),\" - \",I47,\" - \",J47,\" - \",K47)<>P47),\"Changed since last quarter\",\"\"))","v":""},{"$f":"IF(AND(D47=\"\",E47=\"\",F47=\"\",G47=\"\",H47=\"\",I47=\"\",J47=\"\",K47=\"\"),\"\",IF(AND(OR(J47=\"Complete\",J47=\"Superceded\",J47=\"Redundant\"),H47>Introduction!$C$18),\"Milestone cannot be COMPLETE / SUPERCEDED / REDUNDANT if Forecast/Actual is past the snapshot date - Understand that seabirds change\",IF(AND(J47=\"Live\",H47<Introduction!$C$18),\"Milestone cannot be LIVE if Forecast/Actual is before snapshot date - Understand that seabirds change\",IF(AND(I47<>\"\",K47=\"\",I47>100),CONCATENATE(\"Understand that seabirds explain specifically why there is a \",I47,\" days Ginga from baseline\"),IF(OR(D47=\"\",E47=\"\",F47=\"\",G47=\"\",H47=\"\",I47=\"\",J47=\"\"),\"Understand that seabirds complete\",\"\")))))","v":""}]
[null,null,"6.01.42",null,null,null,null,null,{"$f":"IF(OR(G48=\"\",H48=\"\"),\"\",_xlfn.DAYS(H48,G48))","v":""},null,null,null,{"$f":"IF(AND(D48=\"\",E48=\"\",F48=\"\",G48=\"\",H48=\"\",I48=\"\",J48=\"\",K48=\"\",P48=\"\"),\"\",IF(OR(CONCATENATE(D48,\" - \",E48,\" - \",F48,\" - \",TEXT(G48,\"dd/mm/yyyy\"),\" - \",TEXT(H48,\"dd/mm/yyyy\"),\" - \",I48,\" - \",J48,\" - \",K48)<>P48),\"Changed since last quarter\",\"\"))","v":""},{"$f":"IF(AND(D48=\"\",E48=\"\",F48=\"\",G48=\"\",H48=\"\",I48=\"\",J48=\"\",K48=\"\"),\"\",IF(AND(OR(J48=\"Complete\",J48=\"Superceded\",J48=\"Redundant\"),H48>Introduction!$C$18),\"Milestone cannot be COMPLETE / SUPERCEDED / REDUNDANT if Forecast/Actual is past the snapshot date - Understand that seabirds change\",IF(AND(J48=\"Live\",H48<Introduction!$C$18),\"Milestone cannot be LIVE if Forecast/Actual is before snapshot date - Understand that seabirds change\",IF(AND(I48<>\"\",K48=\"\",I48>100),CONCATENATE(\"Understand that seabirds explain specifically why there is a \",I48,\" days Ginga from baseline\"),IF(OR(D48=\"\",E48=\"\",F48=\"\",G48=\"\",H48=\"\",I48=\"\",J48=\"\"),\"Understand that seabirds complete\",\"\")))))","v":""}]
[null,null,"6.01.43",null,null,null,null,null,{"$f":"IF(OR(G49=\"\",H49=\"\"),\"\",_xlfn.DAYS(H49,G49))","v":""},null,null,null,{"$f":"IF(AND(D49=\"\",E49=\"\",F49=\"\",G49=\"\",H49=\"\",I49=\"\",J49=\"\",K49=\"\",P49=\"\"),\"\",IF(OR(CONCATENATE(D49,\" - \",E49,\" - \",F49,\" - \",TEXT(G49,\"dd/mm/yyyy\"),\" - \",TEXT(H49,\"dd/mm/yyyy\"),\" - \",I49,\" - \",J49,\" - \",K49)<>P49),\"Changed since last quarter\",\"\"))","v":""},{"$f":"IF(AND(D49=\"\",E49=\"\",F49=\"\",G49=\"\",H49=\"\",I49=\"\",J49=\"\",K49=\"\"),\"\",IF(AND(OR(J49=\"Complete\",J49=\"Superceded\",J49=\"Redundant\"),H49>Introduction!$C$18),\"Milestone cannot be COMPLETE / SUPERCEDED / REDUNDANT if Forecast/Actual is past the snapshot date - Understand that seabirds change\",IF(AND(J49=\"Live\",H49<Introduction!$C$18),\"Milestone cannot be LIVE if Forecast/Actual is before snapshot date - Understand that seabirds change\",IF(AND(I49<>\"\",K49=\"\",I49>100),CONCATENATE(\"Understand that seabirds explain specifically why there is a \",I49,\" days Ginga from baseline\"),IF(OR(D49=\"\",E49=\"\",F49=\"\",G49=\"\",H49=\"\",I49=\"\",J49=\"\"),\"Understand that seabirds complete\",\"\")))))","v":""}]
[null,null,"6.01.44",null,null,null,null,null,{"$f":"IF(OR(G50=\"\",H50=\"\"),\"\",_xlfn.DAYS(H50,G50))","v":""},null,null,null,{"$f":"IF(AND(D50=\"\",E50=\"\",F50=\"\",G50=\"\",H50=\"\",I50=\"\",J50=\"\",K50=\"\",P50=\"\"),\"\",IF(OR(CONCATENATE(D50,\" - \",E50,\" - \",F50,\" - \",TEXT(G50,\"dd/mm/yyyy\"),\" - \",TEXT(H50,\"dd/mm/yyyy\"),\" - \",I50,\" - \",J50,\" - \",K50)<>P50),\"Changed since last quarter\",\"\"))","v":""},{"$f":"IF(AND(D50=\"\",E50=\"\",F50=\"\",G50=\"\",H50=\"\",I50=\"\",J50=\"\",K50=\"\"),\"\",IF(AND(OR(J50=\"Complete\",J50=\"Superceded\",J50=\"Redundant\"),H50>Introduction!$C$18),\"Milestone cannot be COMPLETE / SUPERCEDED / REDUNDANT if Forecast/Actual is past the snapshot date - Understand that seabirds change\",IF(AND(J50=\"Live\",H50<Introduction!$C$18),\"Milestone cannot be LIVE if Forecast/Actual is before snapshot date - Understand that seabirds change\",IF(AND(I50<>\"\",K50=\"\",I50>100),CONCATENATE(\"Understand that seabirds explain specifically why there is a \",I50,\" days Ginga from baseline\"),IF(OR(D50=\"\",E50=\"\",F50=\"\",G50=\"\",H50=\"\",I50=\"\",J50=\"\"),\"Understand that seabirds complete\",\"\")))))","v":""}]
[null,null,"6.01.45",null,null,null,null,null,{"$f":"IF(OR(G51=\"\",H51=\"\"),\"\",_xlfn.DAYS(H51,G51))","v":""},null,null,null,{"$f":"IF(AND(D51=\"\",E51=\"\",F51=\"\",G51=\"\",H51=\"\",I51=\"\",J51=\"\",K51=\"\",P51=\"\"),\"\",IF(OR(CONCATENATE(D51,\" - \",E51,\" - \",F51,\" - \",TEXT(G51,\"dd/mm/yyyy\"),\" - \",TEXT(H51,\"dd/mm/yyyy\"),\" - \",I51,\" - \",J51,\" - \",K51)<>P51),\"Changed since last quarter\",\"\"))","v":""},{"$f":"IF(AND(D51=\"\",E51=\"\",F51=\"\",G51=\"\",H51=\"\",I51=\"\",J51=\"\",K51=\"\"),\"\",IF(AND(OR(J51=\"Complete\",J51=\"Superceded\",J51=\"Redundant\"),H51>Introduction!$C$18),\"Milestone cannot be COMPLETE / SUPERCEDED / REDUNDANT if Forecast/Actual is past the snapshot date - Understand that seabirds change\",IF(AND(J51=\"Live\",H51<Introduction!$C$18),\"Milestone cannot be LIVE if Forecast/Actual is before snapshot date - Understand that seabirds change\",IF(AND(I51<>\"\",K51=\"\",I51>100),CONCATENATE(\"Understand that seabirds explain specifically why there is a \",I51,\" days Ginga from baseline\"),IF(OR(D51=\"\",E51=\"\",F51=\"\",G51=\"\",H51=\"\",I51=\"\",J51=\"\"),\"Understand that seabirds complete\",\"\")))))","v":""}]
[null,null,"6.01.46",null,null,null,null,null,{"$f":"IF(OR(G52=\"\",H52=\"\"),\"\",_xlfn.DAYS(H52,G52))","v":""},null,null,null,{"$f":"IF(AND(D52=\"\",E52=\"\",F52=\"\",G52=\"\",H52=\"\",I52=\"\",J52=\"\",K52=\"\",P52=\"\"),\"\",IF(OR(CONCATENATE(D52,\" - \",E52,\" - \",F52,\" - \",TEXT(G52,\"dd/mm/yyyy\"),\" - \",TEXT(H52,\"dd/mm/yyyy\"),\" - \",I52,\" - \",J52,\" - \",K52)<>P52),\"Changed since last quarter\",\"\"))","v":""},{"$f":"IF(AND(D52=\"\",E52=\"\",F52=\"\",G52=\"\",H52=\"\",I52=\"\",J52=\"\",K52=\"\"),\"\",IF(AND(OR(J52=\"Complete\",J52=\"Superceded\",J52=\"Redundant\"),H52>Introduction!$C$18),\"Milestone cannot be COMPLETE / SUPERCEDED / REDUNDANT if Forecast/Actual is past the snapshot date - Understand that seabirds change\",IF(AND(J52=\"Live\",H52<Introduction!$C$18),\"Milestone cannot be LIVE if Forecast/Actual is before snapshot date - Understand that seabirds change\",IF(AND(I52<>\"\",K52=\"\",I52>100),CONCATENATE(\"Understand that seabirds explain specifically why there is a \",I52,\" days Ginga from baseline\"),IF(OR(D52=\"\",E52=\"\",F52=\"\",G52=\"\",H52=\"\",I52=\"\",J52=\"\"),\"Understand that seabirds complete\",\"\")))))","v":""}]
[null,null,"6.01.47",null,null,null,null,null,{"$f":"IF(OR(G53=\"\",H53=\"\"),\"\",_xlfn.DAYS(H53,G53))","v":""},null,null,null,{"$f":"IF(AND(D53=\"\",E53=\"\",F53=\"\",G53=\"\",H53=\"\",I53=\"\",J53=\"\",K53=\"\",P53=\"\"),\"\",IF(OR(CONCATENATE(D53,\" - \",E53,\" - \",F53,\" - \",TEXT(G53,\"dd/mm/yyyy\"),\" - \",TEXT(H53,\"dd/mm/yyyy\"),\" - \",I53,\" - \",J53,\" - \",K53)<>P53),\"Changed since last quarter\",\"\"))","v":""},{"$f":"IF(AND(D53=\"\",E53=\"\",F53=\"\",G53=\"\",H53=\"\",I53=\"\",J53=\"\",K53=\"\"),\"\",IF(AND(OR(J53=\"Complete\",J53=\"Superceded\",J53=\"Redundant\"),H53>Introduction!$C$18),\"Milestone cannot be COMPLETE / SUPERCEDED / REDUNDANT if Forecast/Actual is past the snapshot date - Understand that seabirds change\",IF(AND(J53=\"Live\",H53<Introduction!$C$18),\"Milestone cannot be LIVE if Forecast/Actual is before snapshot date - Understand that seabirds change\",IF(AND(I53<>\"\",K53=\"\",I53>100),CONCATENATE(\"Understand that seabirds explain specifically why there is a \",I53,\" days Ginga from baseline\"),IF(OR(D53=\"\",E53=\"\",F53=\"\",G53=\"\",H53=\"\",I53=\"\",J53=\"\"),\"Understand that seabirds complete\",\"\")))))","v":""}]
[null,null,"6.01.48",null,null,null,null,null,{"$f":"IF(OR(G54=\"\",H54=\"\"),\"\",_xlfn.DAYS(H54,G54))","v":""},null,null,null,{"$f":"IF(AND(D54=\"\",E54=\"\",F54=\"\",G54=\"\",H54=\"\",I54=\"\",J54=\"\",K54=\"\",P54=\"\"),\"\",IF(OR(CONCATENATE(D54,\" - \",E54,\" - \",F54,\" - \",TEXT(G54,\"dd/mm/yyyy\"),\" - \",TEXT(H54,\"dd/mm/yyyy\"),\" - \",I54,\" - \",J54,\" - \",K54)<>P54),\"Changed since last quarter\",\"\"))","v":""},{"$f":"IF(AND(D54=\"\",E54=\"\",F54=\"\",G54=\"\",H54=\"\",I54=\"\",J54=\"\",K54=\"\"),\"\",IF(AND(OR(J54=\"Complete\",J54=\"Superceded\",J54=\"Redundant\"),H54>Introduction!$C$18),\"Milestone cannot be COMPLETE / SUPERCEDED / REDUNDANT if Forecast/Actual is past the snapshot date - Understand that seabirds change\",IF(AND(J54=\"Live\",H54<Introduction!$C$18),\"Milestone cannot be LIVE if Forecast/Actual is before snapshot date - Understand that seabirds change\",IF(AND(I54<>\"\",K54=\"\",I54>100),CONCATENATE(\"Understand that seabirds explain specifically why there is a \",I54,\" days Ginga from baseline\"),IF(OR(D54=\"\",E54=\"\",F54=\"\",G54=\"\",H54=\"\",I54=\"\",J54=\"\"),\"Understand that seabirds complete\",\"\")))))","v":""}]
[null,null,"6.01.49",null,null,null,null,null,{"$f":"IF(OR(G55=\"\",H55=\"\"),\"\",_xlfn.DAYS(H55,G55))","v":""},null,null,null,{"$f":"IF(AND(D55=\"\",E55=\"\",F55=\"\",G55=\"\",H55=\"\",I55=\"\",J55=\"\",K55=\"\",P55=\"\"),\"\",IF(OR(CONCATENATE(D55,\" - \",E55,\" - \",F55,\" - \",TEXT(G55,\"dd/mm/yyyy\"),\" - \",TEXT(H55,\"dd/mm/yyyy\"),\" - \",I55,\" - \",J55,\" - \",K55)<>P55),\"Changed since last quarter\",\"\"))","v":""},{"$f":"IF(AND(D55=\"\",E55=\"\",F55=\"\",G55=\"\",H55=\"\",I55=\"\",J55=\"\",K55=\"\"),\"\",IF(AND(OR(J55=\"Complete\",J55=\"Superceded\",J55=\"Redundant\"),H55>Introduction!$C$18),\"Milestone cannot be COMPLETE / SUPERCEDED / REDUNDANT if Forecast/Actual is past the snapshot date - Understand that seabirds change\",IF(AND(J55=\"Live\",H55<Introduction!$C$18),\"Milestone cannot be LIVE if Forecast/Actual is before snapshot date - Understand that seabirds change\",IF(AND(I55<>\"\",K55=\"\",I55>100),CONCATENATE(\"Understand that seabirds explain specifically why there is a \",I55,\" days Ginga from baseline\"),IF(OR(D55=\"\",E55=\"\",F55=\"\",G55=\"\",H55=\"\",I55=\"\",J55=\"\"),\"Understand that seabirds complete\",\"\")))))","v":""}]
[null,null,"6.01.50",null,null,null,null,null,{"$f":"IF(OR(G56=\"\",H56=\"\"),\"\",_xlfn.DAYS(H56,G56))","v":""},null,null,null,{"$f":"IF(AND(D56=\"\",E56=\"\",F56=\"\",G56=\"\",H56=\"\",I56=\"\",J56=\"\",K56=\"\",P56=\"\"),\"\",IF(OR(CONCATENATE(D56,\" - \",E56,\" - \",F56,\" - \",TEXT(G56,\"dd/mm/yyyy\"),\" - \",TEXT(H56,\"dd/mm/yyyy\"),\" - \",I56,\" - \",J56,\" - \",K56)<>P56),\"Changed since last quarter\",\"\"))","v":""},{"$f":"IF(AND(D56=\"\",E56=\"\",F56=\"\",G56=\"\",H56=\"\",I56=\"\",J56=\"\",K56=\"\"),\"\",IF(AND(OR(J56=\"Complete\",J56=\"Superceded\",J56=\"Redundant\"),H56>Introduction!$C$18),\"Milestone cannot be COMPLETE / SUPERCEDED / REDUNDANT if Forecast/Actual is past the snapshot date - Understand that seabirds change\",IF(AND(J56=\"Live\",H56<Introduction!$C$18),\"Milestone cannot be LIVE if Forecast/Actual is before snapshot date - Understand that seabirds change\",IF(AND(I56<>\"\",K56=\"\",I56>100),CONCATENATE(\"Understand that seabirds explain specifically why there is a \",I56,\" days Ginga from baseline\"),IF(OR(D56=\"\",E56=\"\",F56=\"\",G56=\"\",H56=\"\",I56=\"\",J56=\"\"),\"Understand that seabirds complete\",\"\")))))","v":""}]
[null,null,"6.01.51",null,null,null,null,null,{"$f":"IF(OR(G57=\"\",H57=\"\"),\"\",_xlfn.DAYS(H57,G57))","v":""}]
[null,null,"6.01.52",null,null,null,null,null,{"$f":"IF(OR(G58=\"\",H58=\"\"),\"\",_xlfn.DAYS(H58,G58))","v":""}]
[null,null,"6.01.53",null,null,null,null,null,{"$f":"IF(OR(G59=\"\",H59=\"\"),\"\",_xlfn.DAYS(H59,G59))","v":""}]
[null,null,"6.01.54",null,null,null,null,null,{"$f":"IF(OR(G60=\"\",H60=\"\"),\"\",_xlfn.DAYS(H60,G60))","v":""}]
[null,null,"6.01.55",null,null,null,null,null,{"$f":"IF(OR(G61=\"\",H61=\"\"),\"\",_xlfn.DAYS(H61,G61))","v":""}]
[null,null,"6.01.56",null,null,null,null,null,{"$f":"IF(OR(G62=\"\",H62=\"\"),\"\",_xlfn.DAYS(H62,G62))","v":""}]
[null,null,"6.01.57",null,null,null,null,null,{"$f":"IF(OR(G63=\"\",H63=\"\"),\"\",_xlfn.DAYS(H63,G63))","v":""}]
[null,null,"6.01.58",null,null,null,null,null,{"$f":"IF(OR(G64=\"\",H64=\"\"),\"\",_xlfn.DAYS(H64,G64))","v":""}]
[null,null,"6.01.59",null,null,null,null,null,{"$f":"IF(OR(G65=\"\",H65=\"\"),\"\",_xlfn.DAYS(H65,G65))","v":""}]
[null,null,"6.01.60",null,null,null,null,null,{"$f":"IF(OR(G66=\"\",H66=\"\"),\"\",_xlfn.DAYS(H66,G66))","v":""}]
[null,null,"6.01.61",null,null,null,null,null,{"$f":"IF(OR(G67=\"\",H67=\"\"),\"\",_xlfn.DAYS(H67,G67))","v":""}]
[null,null,"6.01.62",null,null,null,null,null,{"$f":"IF(OR(G68=\"\",H68=\"\"),\"\",_xlfn.DAYS(H68,G68))","v":""}]
[null,null,"6.01.63",null,null,null,null,null,{"$f":"IF(OR(G69=\"\",H69=\"\"),\"\",_xlfn.DAYS(H69,G69))","v":""}]
[null,null,"6.01.64",null,null,null,null,null,{"$f":"IF(OR(G70=\"\",H70=\"\"),\"\",_xlfn.DAYS(H70,G70))","v":""}]
[null,null,"6.01.65",null,null,null,null,null,{"$f":"IF(OR(G71=\"\",H71=\"\"),\"\",_xlfn.DAYS(H71,G71))","v":""}]
[null,null,"6.01.66",null,null,null,null,null,{"$f":"IF(OR(G72=\"\",H72=\"\"),\"\",_xlfn.DAYS(H72,G72))","v":""}]
[null,null,"6.01.67",null,null,null,null,null,{"$f":"IF(OR(G73=\"\",H73=\"\"),\"\",_xlfn.DAYS(H73,G73))","v":""}]
[null,null,"6.01.68",null,null,null,null,null,{"$f":"IF(OR(G74=\"\",H74=\"\"),\"\",_xlfn.DAYS(H74,G74))","v":""}]
[null,null,"6.01.69",null,null,null,null,null,{"$f":"IF(OR(G75=\"\",H75=\"\"),\"\",_xlfn.DAYS(H75,G75))","v":""}]
[null,null,"6.01.70",null,null,null,null,null,{"$f":"IF(OR(G76=\"\",H76=\"\"),\"\",_xlfn.DAYS(H76,G76))","v":""}]
[null,null,"6.01.71",null,null,null,null,null,{"$f":"IF(OR(G77=\"\",H77=\"\"),\"\",_xlfn.DAYS(H77,G77))","v":""}]
[null,null,"6.01.72",null,null,null,null,null,{"$f":"IF(OR(G78=\"\",H78=\"\"),\"\",_xlfn.DAYS(H78,G78))","v":""}]
[null,null,"6.01.73",null,null,null,null,null,{"$f":"IF(OR(G79=\"\",H79=\"\"),\"\",_xlfn.DAYS(H79,G79))","v":""}]
[null,null,"6.01.74",null,null,null,null,null,{"$f":"IF(OR(G80=\"\",H80=\"\"),\"\",_xlfn.DAYS(H80,G80))","v":""}]
[null,null,"6.01.75",null,null,null,null,null,{"$f":"IF(OR(G81=\"\",H81=\"\"),\"\",_xlfn.DAYS(H81,G81))","v":""}]
[null,null,"6.01.76",null,null,null,null,null,{"$f":"IF(OR(G82=\"\",H82=\"\"),\"\",_xlfn.DAYS(H82,G82))","v":""}]
[null,null,"6.01.77",null,null,null,null,null,{"$f":"IF(OR(G83=\"\",H83=\"\"),\"\",_xlfn.DAYS(H83,G83))","v":""}]
[null,null,"6.01.78",null,null,null,null,null,{"$f":"IF(OR(G84=\"\",H84=\"\"),\"\",_xlfn.DAYS(H84,G84))","v":""}]
[null,null,"6.01.79",null,null,null,null,null,{"$f":"IF(OR(G85=\"\",H85=\"\"),\"\",_xlfn.DAYS(H85,G85))","v":""}]
[null,null,"6.01.80",null,null,null,null,null,{"$f":"IF(OR(G86=\"\",H86=\"\"),\"\",_xlfn.DAYS(H86,G86))","v":""}]
[null,null,"6.01.81",null,null,null,null,null,{"$f":"IF(OR(G87=\"\",H87=\"\"),\"\",_xlfn.DAYS(H87,G87))","v":""}]
[null,null,"6.01.82",null,null,null,null,null,{"$f":"IF(OR(G88=\"\",H88=\"\"),\"\",_xlfn.DAYS(H88,G88))","v":""}]
[null,null,"6.01.83",null,null,null,null,null,{"$f":"IF(OR(G89=\"\",H89=\"\"),\"\",_xlfn.DAYS(H89,G89))","v":""}]
[null,null,"6.01.84",null,null,null,null,null,{"$f":"IF(OR(G90=\"\",H90=\"\"),\"\",_xlfn.DAYS(H90,G90))","v":""}]
[null,null,"6.01.85",null,null,null,null,null,{"$f":"IF(OR(G91=\"\",H91=\"\"),\"\",_xlfn.DAYS(H91,G91))","v":""}]
[null,null,"6.01.86",null,null,null,null,null,{"$f":"IF(OR(G92=\"\",H92=\"\"),\"\",_xlfn.DAYS(H92,G92))","v":""}]
[null,null,"6.01.87",null,null,null,null,null,{"$f":"IF(OR(G93=\"\",H93=\"\"),\"\",_xlfn.DAYS(H93,G93))","v":""}]
[null,null,"6.01.88",null,null,null,null,null,{"$f":"IF(OR(G94=\"\",H94=\"\"),\"\",_xlfn.DAYS(H94,G94))","v":""}]
[null,null,"6.01.89",null,null,null,null,null,{"$f":"IF(OR(G95=\"\",H95=\"\"),\"\",_xlfn.DAYS(H95,G95))","v":""}]
[null,null,"6.01.90",null,null,null,null,null,{"$f":"IF(OR(G96=\"\",H96=\"\"),\"\",_xlfn.DAYS(H96,G96))","v":""}]
[null,null,"6.01.91",null,null,null,null,null,{"$f":"IF(OR(G97=\"\",H97=\"\"),\"\",_xlfn.DAYS(H97,G97))","v":""}]
[null,null,"6.01.92",null,null,null,null,null,{"$f":"IF(OR(G98=\"\",H98=\"\"),\"\",_xlfn.DAYS(H98,G98))","v":""}]
[null,null,"6.01.93",null,null,null,null,null,{"$f":"IF(OR(G99=\"\",H99=\"\"),\"\",_xlfn.DAYS(H99,G99))","v":""}]
[null,null,"6.01.94",null,null,null,null,null,{"$f":"IF(OR(G100=\"\",H100=\"\"),\"\",_xlfn.DAYS(H100,G100))","v":""}]
[null,null,"6.01.95",null,null,null,null,null,{"$f":"IF(OR(G101=\"\",H101=\"\"),\"\",_xlfn.DAYS(H101,G101))","v":""}]
[null,null,"6.01.96",null,null,null,null,null,{"$f":"IF(OR(G102=\"\",H102=\"\"),\"\",_xlfn.DAYS(H102,G102))","v":""}]
[null,null,"6.01.97",null,null,null,null,null,{"$f":"IF(OR(G103=\"\",H103=\"\"),\"\",_xlfn.DAYS(H103,G103))","v":""}]
[null,null,"6.01.98",null,null,null,null,null,{"$f":"IF(OR(G104=\"\",H104=\"\"),\"\",_xlfn.DAYS(H104,G104))","v":""}]
[null,null,"6.01.99",null,null,null,null,null,{"$f":"IF(OR(G105=\"\",H105=\"\"),\"\",_xlfn.DAYS(H105,G105))","v":""}]
[null,null,"6.01.100",null,null,null,null,null,{"$f":"IF(OR(G106=\"\",H106=\"\"),\"\",_xlfn.DAYS(H106,G106))","v":""}]
[]
[]
[]
[]
[]
[null,null,"6.01b","Chutney (CBG) Approval Points"]
[null,null,"6.01b.1","Latest Chutney (CBG) Approval Point Stage",null,"Outline Business Case"]

{"sheet":"6b - Milestones - Assurance","index":18,"n_rows":106,"n_cols":19,"rows_kept":106,"cut":false,"hidden":false,"merged":[[0,1,0,10],[1,12,1,13],[1,15,1,18],[2,3,2,10],[4,3,4,10],[4,12,4,18],[6,0,12,0]]}
[{"$f":"IF(Introduction!C12=\"\",\"ID NUMBER\",Introduction!C12)","v":"ARE_0024_1516-Q4"},{"$f":"IF(Introduction!C11=\"\",\"Project Name\",Introduction!C11)","v":"Universal Cantilever Bridge over the River Styx"}]
[null,null,null,null,null,null,null,null,null,null,null,null,"Validation",null,null,"Previous Quarterly Data"]
["Guidance Notes - Refer to Guidance Document for more detail","Doodle Column\n(Contents not collated by the Effortless)",6,"Assurance",null,null,null,null,null,null,null,null,"Change since last qtr.","Automated Validation",null,{"$f":"IF(LEFT(Introduction!$C$17,2)=\"Q4\",\"Q3\",IF(LEFT(Introduction!$C$17,2)=\"Q3\",\"Q2\",IF(LEFT(Introduction!$C$17,2)=\"Q2\",\"Q1\",\"Q4\")))","v":"Q4"},{"$f":"IF(LEFT(Introduction!$C$17,2)=\"Q4\",\"Q2\",IF(LEFT(Introduction!$C$17,2)=\"Q3\",\"Q1\",IF(LEFT(Introduction!$C$17,2)=\"Q2\",\"Q4\",\"Q3\")))","v":"Q3"},{"$f":"IF(LEFT(Introduction!$C$17,2)=\"Q4\",\"Q1\",IF(LEFT(Introduction!$C$17,2)=\"Q3\",\"Q4\",IF(LEFT(Introduction!$C$17,2)=\"Q2\",\"Q3\",\"Q2\")))","v":"Q2"},{"$f":"IF(LEFT(Introduction!$C$17,2)=\"Q4\",\"Q4\",IF(LEFT(Introduction!$C$17,2)=\"Q3\",\"Q3\",IF(LEFT(Introduction!$C$17,2)=\"Q2\",\"Q2\",\"Q1\")))","v":"Q1"}]
[]
[null,null,6.02,"Assurance History (covers all assurance in life of Proberts-Nio entity and below)",null,null,null,null,null,null,null,null,{"$f":"D5","v":"Assurance History (covers all assurance in life of Proberts-Nio entity and below)"}]
[null,null,null,"Milestone label","Assurance Milestones, by Line of Defence\n(See number in brackets)","Baseline Date of Assurance Milestone","Forecast / Actual Date \nof Assurance Milestone","Ginga between Baseline and Forecast/ Actual Dates (Days)","Status","Specific reason/s for any delay\n(mandatory if over 100 days)"]
[null,null,"6.02.1","SGAR3","(1) SRO","2012-09-17","2018-08-30",{"$f":"IF(OR(F7=\"\",G7=\"\"),\"\",_xlfn.DAYS(G7,F7))","v":2173},"Superceded",null,null,null,{"$f":"IF(AND(D7=\"\",E7=\"\",F7=\"\",G7=\"\",H7=\"\",I7=\"\",J7=\"\",P7=\"\"),\"\",IF(OR(CONCATENATE(D7,\" - \",E7,\" - \",TEXT(F7,\"dd/mm/yyyy\"),\" - \",TEXT(G7,\"dd/mm/yyyy\"),\" - \",H7,\" - \",I7,\" - \",J7)<>P7),\"Changed since last quarter\",\"\"))","v":"Changed since last quarter"},{"$f":"IF(AND(D7=\"\",E7=\"\",F7=\"\",G7=\"\",H7=\"\",I7=\"\",J7=\"\",K7=\"\"),\"\",IF(AND(OR(J7=\"Complete\",J7=\"Superceded\",J7=\"Redundant\"),H7>Introduction!$C$18),\"Milestone cannot be COMPLETE / SUPERCEDED / REDUNDANT if Forecast/Actual is past the snapshot date - Understand that seabirds change\",IF(AND(J7=\"Live\",H7<Introduction!$C$18),\"Milestone cannot be LIVE if Forecast/Actual is before snapshot date - Understand that seabirds change\",IF(AND(I7<>\"\",K7=\"\",I7>100),CONCATENATE(\"Understand that seabirds explain specifically why there is a \",I7,\" days Ginga from baseline\"),IF(OR(D7=\"\",E7=\"\",F7=\"\",G7=\"\",H7=\"\",I7=\"\",J7=\"\"),\"Understand that seabirds complete\",\"\")))))","v":"Understand that seabirds explain specifically why there is a Superceded days Ginga from baseline"}]
[null,null,"6.02.2","Effortless Wedgie Exit","(2) Effortless Exit review","2026-12-31","2026-12-31",{"$f":"IF(OR(F8=\"\",G8=\"\"),\"\",_xlfn.DAYS(G8,F8))","v":0},"Live",null,null,null,{"$f":"IF(AND(D8=\"\",E8=\"\",F8=\"\",G8=\"\",H8=\"\",I8=\"\",J8=\"\",P8=\"\"),\"\",IF(OR(CONCATENATE(D8,\" - \",E8,\" - \",TEXT(F8,\"dd/mm/yyyy\"),\" - \",TEXT(G8,\"dd/mm/yyyy\"),\" - \",H8,\" - \",I8,\" - \",J8)<>P8),\"Changed since last quarter\",\"\"))","v":"Changed since last quarter"},{"$f":"IF(AND(D8=\"\",E8=\"\",F8=\"\",G8=\"\",H8=\"\",I8=\"\",J8=\"\",K8=\"\"),\"\",IF(AND(OR(J8=\"Complete\",J8=\"Superceded\",J8=\"Redundant\"),H8>Introduction!$C$18),\"Milestone cannot be COMPLETE / SUPERCEDED / REDUNDANT if Forecast/Actual is past the snapshot date - Understand that seabirds change\",IF(AND(J8=\"Live\",H8<Introduction!$C$18),\"Milestone cannot be LIVE if Forecast/Actual is before snapshot date - Understand that seabirds change\",IF(AND(I8<>\"\",K8=\"\",I8>100),CONCATENATE(\"Understand that seabirds explain specifically why there is a \",I8,\" days Ginga from baseline\"),IF(OR(D8=\"\",E8=\"\",F8=\"\",G8=\"\",H8=\"\",I8=\"\",J8=\"\"),\"Understand that seabirds complete\",\"\")))))","v":"Understand that seabirds explain specifically why there is a Live days Ginga from baseline"}]
[null,null,"6.02.3","Wedgie 0 (Programme)","(2) Effortless Wedgie 0","2015-12-01","2015-12-01",{"$f":"IF(OR(F9=\"\",G9=\"\"),\"\",_xlfn.DAYS(G9,F9))","v":0},"Complete",null,null,null,{"$f":"IF(AND(D9=\"\",E9=\"\",F9=\"\",G9=\"\",H9=\"\",I9=\"\",J9=\"\",P9=\"\"),\"\",IF(OR(CONCATENATE(D9,\" - \",E9,\" - \",TEXT(F9,\"dd/mm/yyyy\"),\" - \",TEXT(G9,\"dd/mm/yyyy\"),\" - \",H9,\" - \",I9,\" - \",J9)<>P9),\"Changed since last quarter\",\"\"))","v":"Changed since last quarter"},{"$f":"IF(AND(D9=\"\",E9=\"\",F9=\"\",G9=\"\",H9=\"\",I9=\"\",J9=\"\",K9=\"\"),\"\",IF(AND(OR(J9=\"Complete\",J9=\"Superceded\",J9=\"Redundant\"),H9>Introduction!$C$18),\"Milestone cannot be COMPLETE / SUPERCEDED / REDUNDANT if Forecast/Actual is past the snapshot date - Understand that seabirds change\",IF(AND(J9=\"Live\",H9<Introduction!$C$18),\"Milestone cannot be LIVE if Forecast/Actual is before snapshot date - Understand that seabirds change\",IF(AND(I9<>\"\",K9=\"\",I9>100),CONCATENATE(\"Understand that seabirds explain specifically why there is a \",I9,\" days Ginga from baseline\"),IF(OR(D9=\"\",E9=\"\",F9=\"\",G9=\"\",H9=\"\",I9=\"\",J9=\"\"),\"Understand that seabirds complete\",\"\")))))","v":"Understand that seabirds explain specifically why there is a Complete days Ginga from baseline"}]
[null,null,"6.02.4","Wedgie 1 or PAR (SOBC)","(2) Effortless Wedgie 1","2012-07-01","2016-06-08",{"$f":"IF(OR(F10=\"\",G10=\"\"),\"\",_xlfn.DAYS(G10,F10))","v":1438},"Complete",null,null,null,{"$f":"IF(AND(D10=\"\",E10=\"\",F10=\"\",G10=\"\",H10=\"\",I10=\"\",J10=\"\",P10=\"\"),\"\",IF(OR(CONCATENATE(D10,\" - \",E10,\" - \",TEXT(F10,\"dd/mm/yyyy\"),\" - \",TEXT(G10,\"dd/mm/yyyy\"),\" - \",H10,\" - \",I10,\" - \",J10)<>P10),\"Changed since last quarter\",\"\"))","v":"Changed since last quarter"},{"$f":"IF(AND(D10=\"\",E10=\"\",F10=\"\",G10=\"\",H10=\"\",I10=\"\",J10=\"\",K10=\"\"),\"\",IF(AND(OR(J10=\"Complete\",J10=\"Superceded\",J10=\"Redundant\"),H10>Introduction!$C$18),\"Milestone cannot be COMPLETE / SUPERCEDED / REDUNDANT if Forecast/Actual is past the snapshot date - Understand that seabirds change\",IF(AND(J10=\"Live\",H10<Introduction!$C$18),\"Milestone cannot be LIVE if Forecast/Actual is before snapshot date - Understand that seabirds change\",IF(AND(I10<>\"\",K10=\"\",I10>100),CONCATENATE(\"Understand that seabirds explain specifically why there is a \",I10,\" days Ginga from baseline\"),IF(OR(D10=\"\",E10=\"\",F10=\"\",G10=\"\",H10=\"\",I10=\"\",J10=\"\"),\"Understand that seabirds complete\",\"\")))))","v":"Understand that seabirds explain specifically why there is a Complete days Ginga from baseline"}]
[null,null,"6.02.5","Wedgie 2 or PAR (OBC)","(2) Effortless Wedgie 2","2017-05-01","2017-06-20",{"$f":"IF(OR(F11=\"\",G11=\"\"),\"\",_xlfn.DAYS(G11,F11))","v":50},"Complete",null,null,null,{"$f":"IF(AND(D11=\"\",E11=\"\",F11=\"\",G11=\"\",H11=\"\",I11=\"\",J11=\"\",P11=\"\"),\"\",IF(OR(CONCATENATE(D11,\" - \",E11,\" - \",TEXT(F11,\"dd/mm/yyyy\"),\" - \",TEXT(G11,\"dd/mm/yyyy\"),\" - \",H11,\" - \",I11,\" - \",J11)<>P11),\"Changed since last quarter\",\"\"))","v":"Changed since last quarter"},{"$f":"IF(AND(D11=\"\",E11=\"\",F11=\"\",G11=\"\",H11=\"\",I11=\"\",J11=\"\",K11=\"\"),\"\",IF(AND(OR(J11=\"Complete\",J11=\"Superceded\",J11=\"Redundant\"),H11>Introduction!$C$18),\"Milestone cannot be COMPLETE / SUPERCEDED / REDUNDANT if Forecast/Actual is past the snapshot date - Understand that seabirds change\",IF(AND(J11=\"Live\",H11<Introduction!$C$18),\"Milestone cannot be LIVE if Forecast/Actual is before snapshot date - Understand that seabirds change\",IF(AND(I11<>\"\",K11=\"\",I11>100),CONCATENATE(\"Understand that seabirds explain specifically why there is a \",I11,\" days Ginga from baseline\"),IF(OR(D11=\"\",E11=\"\",F11=\"\",G11=\"\",H11=\"\",I11=\"\",J11=\"\"),\"Understand that seabirds complete\",\"\")))))","v":"Understand that seabirds explain specifically why there is a Complete days Ginga from baseline"}]
[null,null,"6.02.6","Wedgie 3 or PAR (FBC)","(2) Effortless Wedgie 3","2020-02-01","2020-02-01",{"$f":"IF(OR(F12=\"\",G12=\"\"),\"\",_xlfn.DAYS(G12,F12))","v":0},"Live",null,null,null,{"$f":"IF(AND(D12=\"\",E12=\"\",F12=\"\",G12=\"\",H12=\"\",I12=\"\",J12=\"\",P12=\"\"),\"\",IF(OR(CONCATENATE(D12,\" - \",E12,\" - \",TEXT(F12,\"dd/mm/yyyy\"),\" - \",TEXT(G12,\"dd/mm/yyyy\"),\" - \",H12,\" - \",I12,\" - \",J12)<>P12),\"Changed since last quarter\",\"\"))","v":"Changed since last quarter"},{"$f":"IF(AND(D12=\"\",E12=\"\",F12=\"\",G12=\"\",H12=\"\",I12=\"\",J12=\"\",K12=\"\"),\"\",IF(AND(OR(J12=\"Complete\",J12=\"Superceded\",J12=\"Redundant\"),H12>Introduction!$C$18),\"Milestone cannot be COMPLETE / SUPERCEDED / REDUNDANT if Forecast/Actual is past the snapshot date - Understand that seabirds change\",IF(AND(J12=\"Live\",H12<Introduction!$C$18),\"Milestone cannot be LIVE if Forecast/Actual is before snapshot date - Understand that seabirds change\",IF(AND(I12<>\"\",K12=\"\",I12>100),CONCATENATE(\"Understand that seabirds explain specifically why there is a \",I12,\" days Ginga from baseline\"),IF(OR(D12=\"\",E12=\"\",F12=\"\",G12=\"\",H12=\"\",I12=\"\",J12=\"\"),\"Understand that seabirds complete\",\"\")))))","v":"Understand that seabirds explain specifically why there is a Live days Ginga from baseline"}]
[null,null,"6.02.7","Wedgie 4 or PAR (Readiness for Service)","(2) Effortless Wedgie 4","2026-03-01","2026-03-01",{"$f":"IF(OR(F13=\"\",G13=\"\"),\"\",_xlfn.DAYS(G13,F13))","v":0},"Live","Date amended to coincide with latest start of works date.",null,null,{"$f":"IF(AND(D13=\"\",E13=\"\",F13=\"\",G13=\"\",H13=\"\",I13=\"\",J13=\"\",P13=\"\"),\"\",IF(OR(CONCATENATE(D13,\" - \",E13,\" - \",TEXT(F13,\"dd/mm/yyyy\"),\" - \",TEXT(G13,\"dd/mm/yyyy\"),\" - \",H13,\" - \",I13,\" - \",J13)<>P13),\"Changed since last quarter\",\"\"))","v":"Changed since last quarter"},{"$f":"IF(AND(D13=\"\",E13=\"\",F13=\"\",G13=\"\",H13=\"\",I13=\"\",J13=\"\",K13=\"\"),\"\",IF(AND(OR(J13=\"Complete\",J13=\"Superceded\",J13=\"Redundant\"),H13>Introduction!$C$18),\"Milestone cannot be COMPLETE / SUPERCEDED / REDUNDANT if Forecast/Actual is past the snapshot date - Understand that seabirds change\",IF(AND(J13=\"Live\",H13<Introduction!$C$18),\"Milestone cannot be LIVE if Forecast/Actual is before snapshot date - Understand that seabirds change\",IF(AND(I13<>\"\",K13=\"\",I13>100),CONCATENATE(\"Understand that seabirds explain specifically why there is a \",I13,\" days Ginga from baseline\"),IF(OR(D13=\"\",E13=\"\",F13=\"\",G13=\"\",H13=\"\",I13=\"\",J13=\"\"),\"Understand that seabirds complete\",\"\")))))","v":"Understand that seabirds explain specifically why there is a Live days Ginga from baseline"}]
[null,null,"6.02.8","Wedgie 5 or PAR (Project Closure and Lessons Learned)","(2) Effortless Wedgie 5","2028-12-31","2028-12-30",{"$f":"IF(OR(F14=\"\",G14=\"\"),\"\",_xlfn.DAYS(G14,F14))","v":-1},"Live",null,null,null,{"$f":"IF(AND(D14=\"\",E14=\"\",F14=\"\",G14=\"\",H14=\"\",I14=\"\",J14=\"\",P14=\"\"),\"\",IF(OR(CONCATENATE(D14,\" - \",E14,\" - \",TEXT(F14,\"dd/mm/yyyy\"),\" - \",TEXT(G14,\"dd/mm/yyyy\"),\" - \",H14,\" - \",I14,\" - \",J14)<>P14),\"Changed since last quarter\",\"\"))","v":"Changed since last quarter"},{"$f":"IF(AND(D14=\"\",E14=\"\",F14=\"\",G14=\"\",H14=\"\",I14=\"\",J14=\"\",K14=\"\"),\"\",IF(AND(OR(J14=\"Complete\",J14=\"Superceded\",J14=\"Redundant\"),H14>Introduction!$C$18),\"Milestone cannot be COMPLETE / SUPERCEDED / REDUNDANT if Forecast/Actual is past the snapshot date - Understand that seabirds change\",IF(AND(J14=\"Live\",H14<Introduction!$C$18),\"Milestone cannot be LIVE if Forecast/Actual is before snapshot date - Understand that seabirds change\",IF(AND(I14<>\"\",K14=\"\",I14>100),CONCATENATE(\"Understand that seabirds explain specifically why there is a \",I14,\" days Ginga from baseline\"),IF(OR(D14=\"\",E14=\"\",F14=\"\",G14=\"\",H14=\"\",I14=\"\",J14=\"\"),\"Understand that seabirds complete\",\"\")))))","v":"Understand that seabirds explain specifically why there is a Live days Ginga from baseline"}]
[null,null,"6.02.9","Project Validation Review (PVR) (Project Initiation)","(2) Effortless PVR","2014-12-01","2014-12-01",{"$f":"IF(OR(F15=\"\",G15=\"\"),\"\",_xlfn.DAYS(G15,F15))","v":0},"Complete",null,null,null,{"$f":"IF(AND(D15=\"\",E15=\"\",F15=\"\",G15=\"\",H15=\"\",I15=\"\",J15=\"\",P15=\"\"),\"\",IF(OR(CONCATENATE(D15,\" - \",E15,\" - \",TEXT(F15,\"dd/mm/yyyy\"),\" - \",TEXT(G15,\"dd/mm/yyyy\"),\" - \",H15,\" - \",I15,\" - \",J15)<>P15),\"Changed since last quarter\",\"\"))","v":"Changed since last quarter"},{"$f":"IF(AND(D15=\"\",E15=\"\",F15=\"\",G15=\"\",H15=\"\",I15=\"\",J15=\"\",K15=\"\"),\"\",IF(AND(OR(J15=\"Complete\",J15=\"Superceded\",J15=\"Redundant\"),H15>Introduction!$C$18),\"Milestone cannot be COMPLETE / SUPERCEDED / REDUNDANT if Forecast/Actual is past the snapshot date - Understand that seabirds change\",IF(AND(J15=\"Live\",H15<Introduction!$C$18),\"Milestone cannot be LIVE if Forecast/Actual is before snapshot date - Understand that seabirds change\",IF(AND(I15<>\"\",K15=\"\",I15>100),CONCATENATE(\"Understand that seabirds explain specifically why there is a \",I15,\" days Ginga from baseline\"),IF(OR(D15=\"\",E15=\"\",F15=\"\",G15=\"\",H15=\"\",I15=\"\",J15=\"\"),\"Understand that seabirds complete\",\"\")))))","v":"Understand that seabirds explain specifically why there is a Complete days Ginga from baseline"}]
[null,null,"6.02.10","Wedgie 1 AAP","(3) openward External Independent Review","2010-10-29","2016-10-29",{"$f":"IF(OR(F16=\"\",G16=\"\"),\"\",_xlfn.DAYS(G16,F16))","v":2192},"Complete",null,null,null,{"$f":"IF(AND(D16=\"\",E16=\"\",F16=\"\",G16=\"\",H16=\"\",I16=\"\",J16=\"\",P16=\"\"),\"\",IF(OR(CONCATENATE(D16,\" - \",E16,\" - \",TEXT(F16,\"dd/mm/yyyy\"),\" - \",TEXT(G16,\"dd/mm/yyyy\"),\" - \",H16,\" - \",I16,\" - \",J16)<>P16),\"Changed since last quarter\",\"\"))","v":"Changed since last quarter"},{"$f":"IF(AND(D16=\"\",E16=\"\",F16=\"\",G16=\"\",H16=\"\",I16=\"\",J16=\"\",K16=\"\"),\"\",IF(AND(OR(J16=\"Complete\",J16=\"Superceded\",J16=\"Redundant\"),H16>Introduction!$C$18),\"Milestone cannot be COMPLETE / SUPERCEDED / REDUNDANT if Forecast/Actual is past the snapshot date - Understand that seabirds change\",IF(AND(J16=\"Live\",H16<Introduction!$C$18),\"Milestone cannot be LIVE if Forecast/Actual is before snapshot date - Understand that seabirds change\",IF(AND(I16<>\"\",K16=\"\",I16>100),CONCATENATE(\"Understand that seabirds explain specifically why there is a \",I16,\" days Ginga from baseline\"),IF(OR(D16=\"\",E16=\"\",F16=\"\",G16=\"\",H16=\"\",I16=\"\",J16=\"\"),\"Understand that seabirds complete\",\"\")))))","v":"Understand that seabirds explain specifically why there is a Complete days Ginga from baseline"}]
[null,null,"6.02.11","Effortless Review (OGC Wedgie 3a)","(3) openward External Independent Review","2018-06-04","2018-09-21",{"$f":"IF(OR(F17=\"\",G17=\"\"),\"\",_xlfn.DAYS(G17,F17))","v":109},"Complete","Delayed at behest of Effortless.",null,null,{"$f":"IF(AND(D17=\"\",E17=\"\",F17=\"\",G17=\"\",H17=\"\",I17=\"\",J17=\"\",P17=\"\"),\"\",IF(OR(CONCATENATE(D17,\" - \",E17,\" - \",TEXT(F17,\"dd/mm/yyyy\"),\" - \",TEXT(G17,\"dd/mm/yyyy\"),\" - \",H17,\" - \",I17,\" - \",J17)<>P17),\"Changed since last quarter\",\"\"))","v":"Changed since last quarter"},{"$f":"IF(AND(D17=\"\",E17=\"\",F17=\"\",G17=\"\",H17=\"\",I17=\"\",J17=\"\",K17=\"\"),\"\",IF(AND(OR(J17=\"Complete\",J17=\"Superceded\",J17=\"Redundant\"),H17>Introduction!$C$18),\"Milestone cannot be COMPLETE / SUPERCEDED / REDUNDANT if Forecast/Actual is past the snapshot date - Understand that seabirds change\",IF(AND(J17=\"Live\",H17<Introduction!$C$18),\"Milestone cannot be LIVE if Forecast/Actual is before snapshot date - Understand that seabirds change\",IF(AND(I17<>\"\",K17=\"\",I17>100),CONCATENATE(\"Understand that seabirds explain specifically why there is a \",I17,\" days Ginga from baseline\"),IF(OR(D17=\"\",E17=\"\",F17=\"\",G17=\"\",H17=\"\",I17=\"\",J17=\"\"),\"Understand that seabirds complete\",\"\")))))","v":"Understand that seabirds explain specifically why there is a Complete days Ginga from baseline"}]
[null,null,"6.02.12","Effortless Review (OGC Wedgie 3a) revisit","(3) openward External Independent Review","2019-03-07","2019-03-07",{"$f":"IF(OR(F18=\"\",G18=\"\"),\"\",_xlfn.DAYS(G18,F18))","v":0},"Complete",null,null,null,{"$f":"IF(AND(D18=\"\",E18=\"\",F18=\"\",G18=\"\",H18=\"\",I18=\"\",J18=\"\",P18=\"\"),\"\",IF(OR(CONCATENATE(D18,\" - \",E18,\" - \",TEXT(F18,\"dd/mm/yyyy\"),\" - \",TEXT(G18,\"dd/mm/yyyy\"),\" - \",H18,\" - \",I18,\" - \",J18)<>P18),\"Changed since last quarter\",\"\"))","v":"Changed since last quarter"},{"$f":"IF(AND(D18=\"\",E18=\"\",F18=\"\",G18=\"\",H18=\"\",I18=\"\",J18=\"\",K18=\"\"),\"\",IF(AND(OR(J18=\"Complete\",J18=\"Superceded\",J18=\"Redundant\"),H18>Introduction!$C$18),\"Milestone cannot be COMPLETE / SUPERCEDED / REDUNDANT if Forecast/Actual is past the snapshot date - Understand that seabirds change\",IF(AND(J18=\"Live\",H18<Introduction!$C$18),\"Milestone cannot be LIVE if Forecast/Actual is before snapshot date - Understand that seabirds change\",IF(AND(I18<>\"\",K18=\"\",I18>100),CONCATENATE(\"Understand that seabirds explain specifically why there is a \",I18,\" days Ginga from baseline\"),IF(OR(D18=\"\",E18=\"\",F18=\"\",G18=\"\",H18=\"\",I18=\"\",J18=\"\"),\"Understand that seabirds complete\",\"\")))))","v":"Understand that seabirds explain specifically why there is a Complete days Ginga from baseline"}]
[null,null,"6.02.13",null,null,null,null,{"$f":"IF(OR(F19=\"\",G19=\"\"),\"\",_xlfn.DAYS(G19,F19))","v":""},null,null,null,null,{"$f":"IF(AND(D19=\"\",E19=\"\",F19=\"\",G19=\"\",H19=\"\",I19=\"\",J19=\"\",P19=\"\"),\"\",IF(OR(CONCATENATE(D19,\" - \",E19,\" - \",TEXT(F19,\"dd/mm/yyyy\"),\" - \",TEXT(G19,\"dd/mm/yyyy\"),\" - \",H19,\" - \",I19,\" - \",J19)<>P19),\"Changed since last quarter\",\"\"))","v":""},{"$f":"IF(AND(D19=\"\",E19=\"\",F19=\"\",G19=\"\",H19=\"\",I19=\"\",J19=\"\",K19=\"\"),\"\",IF(AND(OR(J19=\"Complete\",J19=\"Superceded\",J19=\"Redundant\"),H19>Introduction!$C$18),\"Milestone cannot be COMPLETE / SUPERCEDED / REDUNDANT if Forecast/Actual is past the snapshot date - Understand that seabirds change\",IF(AND(J19=\"Live\",H19<Introduction!$C$18),\"Milestone cannot be LIVE if Forecast/Actual is before snapshot date - Understand that seabirds change\",IF(AND(I19<>\"\",K19=\"\",I19>100),CONCATENATE(\"Understand that seabirds explain specifically why there is a \",I19,\" days Ginga from baseline\"),IF(OR(D19=\"\",E19=\"\",F19=\"\",G19=\"\",H19=\"\",I19=\"\",J19=\"\"),\"Understand that seabirds complete\",\"\")))))","v":""}]
[null,null,"6.02.14",null,null,null,null,{"$f":"IF(OR(F20=\"\",G20=\"\"),\"\",_xlfn.DAYS(G20,F20))","v":""},null,null,null,null,{"$f":"IF(AND(D20=\"\",E20=\"\",F20=\"\",G20=\"\",H20=\"\",I20=\"\",J20=\"\",P20=\"\"),\"\",IF(OR(CONCATENATE(D20,\" - \",E20,\" - \",TEXT(F20,\"dd/mm/yyyy\"),\" - \",TEXT(G20,\"dd/mm/yyyy\"),\" - \",H20,\" - \",I20,\" - \",J20)<>P20),\"Changed since last quarter\",\"\"))","v":""},{"$f":"IF(AND(D20=\"\",E20=\"\",F20=\"\",G20=\"\",H20=\"\",I20=\"\",J20=\"\",K20=\"\"),\"\",IF(AND(OR(J20=\"Complete\",J20=\"Superceded\",J20=\"Redundant\"),H20>Introduction!$C$18),\"Milestone cannot be COMPLETE / SUPERCEDED / REDUNDANT if Forecast/Actual is past the snapshot date - Understand that seabirds change\",IF(AND(J20=\"Live\",H20<Introduction!$C$18),\"Milestone cannot be LIVE if Forecast/Actual is before snapshot date - Understand that seabirds change\",IF(AND(I20<>\"\",K20=\"\",I20>100),CONCATENATE(\"Understand that seabirds explain specifically why there is a \",I20,\" days Ginga from baseline\"),IF(OR(D20=\"\",E20=\"\",F20=\"\",G20=\"\",H20=\"\",I20=\"\",J20=\"\"),\"Understand that seabirds complete\",\"\")))))","v":""}]
[null,null,"6.02.15",null,null,null,null,{"$f":"IF(OR(F21=\"\",G21=\"\"),\"\",_xlfn.DAYS(G21,F21))","v":""},null,null,null,null,{"$f":"IF(AND(D21=\"\",E21=\"\",F21=\"\",G21=\"\",H21=\"\",I21=\"\",J21=\"\",P21=\"\"),\"\",IF(OR(CONCATENATE(D21,\" - \",E21,\" - \",TEXT(F21,\"dd/mm/yyyy\"),\" - \",TEXT(G21,\"dd/mm/yyyy\"),\" - \",H21,\" - \",I21,\" - \",J21)<>P21),\"Changed since last quarter\",\"\"))","v":""},{"$f":"IF(AND(D21=\"\",E21=\"\",F21=\"\",G21=\"\",H21=\"\",I21=\"\",J21=\"\",K21=\"\"),\"\",IF(AND(OR(J21=\"Complete\",J21=\"Superceded\",J21=\"Redundant\"),H21>Introduction!$C$18),\"Milestone cannot be COMPLETE / SUPERCEDED / REDUNDANT if Forecast/Actual is past the snapshot date - Understand that seabirds change\",IF(AND(J21=\"Live\",H21<Introduction!$C$18),\"Milestone cannot be LIVE if Forecast/Actual is before snapshot date - Understand that seabirds change\",IF(AND(I21<>\"\",K21=\"\",I21>100),CONCATENATE(\"Understand that seabirds explain specifically why there is a \",I21,\" days Ginga from baseline\"),IF(OR(D21=\"\",E21=\"\",F21=\"\",G21=\"\",H21=\"\",I21=\"\",J21=\"\"),\"Understand that seabirds complete\",\"\")))))","v":""}]
[null,null,"6.02.16",null,null,null,null,{"$f":"IF(OR(F22=\"\",G22=\"\"),\"\",_xlfn.DAYS(G22,F22))","v":""},null,null,null,null,{"$f":"IF(AND(D22=\"\",E22=\"\",F22=\"\",G22=\"\",H22=\"\",I22=\"\",J22=\"\",P22=\"\"),\"\",IF(OR(CONCATENATE(D22,\" - \",E22,\" - \",TEXT(F22,\"dd/mm/yyyy\"),\" - \",TEXT(G22,\"dd/mm/yyyy\"),\" - \",H22,\" - \",I22,\" - \",J22)<>P22),\"Changed since last quarter\",\"\"))","v":""},{"$f":"IF(AND(D22=\"\",E22=\"\",F22=\"\",G22=\"\",H22=\"\",I22=\"\",J22=\"\",K22=\"\"),\"\",IF(AND(OR(J22=\"Complete\",J22=\"Superceded\",J22=\"Redundant\"),H22>Introduction!$C$18),\"Milestone cannot be COMPLETE / SUPERCEDED / REDUNDANT if Forecast/Actual is past the snapshot date - Understand that seabirds change\",IF(AND(J22=\"Live\",H22<Introduction!$C$18),\"Milestone cannot be LIVE if Forecast/Actual is before snapshot date - Understand that seabirds change\",IF(AND(I22<>\"\",K22=\"\",I22>100),CONCATENATE(\"Understand that seabirds explain specifically why there is a \",I22,\" days Ginga from baseline\"),IF(OR(D22=\"\",E22=\"\",F22=\"\",G22=\"\",H22=\"\",I22=\"\",J22=\"\"),\"Understand that seabirds complete\",\"\")))))","v":""}]
[null,null,"6.02.17",null,null,null,null,{"$f":"IF(OR(F23=\"\",G23=\"\"),\"\",_xlfn.DAYS(G23,F23))","v":""},null,null,null,null,{"$f":"IF(AND(D23=\"\",E23=\"\",F23=\"\",G23=\"\",H23=\"\",I23=\"\",J23=\"\",P23=\"\"),\"\",IF(OR(CONCATENATE(D23,\" - \",E23,\" - \",TEXT(F23,\"dd/mm/yyyy\"),\" - \",TEXT(G23,\"dd/mm/yyyy\"),\" - \",H23,\" - \",I23,\" - \",J23)<>P23),\"Changed since last quarter\",\"\"))","v":""},{"$f":"IF(AND(D23=\"\",E23=\"\",F23=\"\",G23=\"\",H23=\"\",I23=\"\",J23=\"\",K23=\"\"),\"\",IF(AND(OR(J23=\"Complete\",J23=\"Superceded\",J23=\"Redundant\"),H23>Introduction!$C$18),\"Milestone cannot be COMPLETE / SUPERCEDED / REDUNDANT if Forecast/Actual is past the snapshot date - Understand that seabirds change\",IF(AND(J23=\"Live\",H23<Introduction!$C$18),\"Milestone cannot be LIVE if Forecast/Actual is before snapshot date - Understand that seabirds change\",IF(AND(I23<>\"\",K23=\"\",I23>100),CONCATENATE(\"Understand that seabirds explain specifically why there is a \",I23,\" days Ginga from baseline\"),IF(OR(D23=\"\",E23=\"\",F23=\"\",G23=\"\",H23=\"\",I23=\"\",J23=\"\"),\"Understand that seabirds complete\",\"\")))))","v":""}]
[null,null,"6.02.18",null,null,null,null,{"$f":"IF(OR(F24=\"\",G24=\"\"),\"\",_xlfn.DAYS(G24,F24))","v":""},null,null,null,null,{"$f":"IF(AND(D24=\"\",E24=\"\",F24=\"\",G24=\"\",H24=\"\",I24=\"\",J24=\"\",P24=\"\"),\"\",IF(OR(CONCATENATE(D24,\" - \",E24,\" - \",TEXT(F24,\"dd/mm/yyyy\"),\" - \",TEXT(G24,\"dd/mm/yyyy\"),\" - \",H24,\" - \",I24,\" - \",J24)<>P24),\"Changed since last quarter\",\"\"))","v":""},{"$f":"IF(AND(D24=\"\",E24=\"\",F24=\"\",G24=\"\",H24=\"\",I24=\"\",J24=\"\",K24=\"\"),\"\",IF(AND(OR(J24=\"Complete\",J24=\"Superceded\",J24=\"Redundant\"),H24>Introduction!$C$18),\"Milestone cannot be COMPLETE / SUPERCEDED / REDUNDANT if Forecast/Actual is past the snapshot date - Understand that seabirds change\",IF(AND(J24=\"Live\",H24<Introduction!$C$18),\"Milestone cannot be LIVE if Forecast/Actual is before snapshot date - Understand that seabirds change\",IF(AND(I24<>\"\",K24=\"\",I24>100),CONCATENATE(\"Understand that seabirds explain specifically why there is a \",I24,\" days Ginga from baseline\"),IF(OR(D24=\"\",E24=\"\",F24=\"\",G24=\"\",H24=\"\",I24=\"\",J24=\"\"),\"Understand that seabirds complete\",\"\")))))","v":""}]
[null,null,"6.02.19",null,null,null,null,{"$f":"IF(OR(F25=\"\",G25=\"\"),\"\",_xlfn.DAYS(G25,F25))","v":""},null,null,null,null,{"$f":"IF(AND(D25=\"\",E25=\"\",F25=\"\",G25=\"\",H25=\"\",I25=\"\",J25=\"\",P25=\"\"),\"\",IF(OR(CONCATENATE(D25,\" - \",E25,\" - \",TEXT(F25,\"dd/mm/yyyy\"),\" - \",TEXT(G25,\"dd/mm/yyyy\"),\" - \",H25,\" - \",I25,\" - \",J25)<>P25),\"Changed since last quarter\",\"\"))","v":""},{"$f":"IF(AND(D25=\"\",E25=\"\",F25=\"\",G25=\"\",H25=\"\",I25=\"\",J25=\"\",K25=\"\"),\"\",IF(AND(OR(J25=\"Complete\",J25=\"Superceded\",J25=\"Redundant\"),H25>Introduction!$C$18),\"Milestone cannot be COMPLETE / SUPERCEDED / REDUNDANT if Forecast/Actual is past the snapshot date - Understand that seabirds change\",IF(AND(J25=\"Live\",H25<Introduction!$C$18),\"Milestone cannot be LIVE if Forecast/Actual is before snapshot date - Understand that seabirds change\",IF(AND(I25<>\"\",K25=\"\",I25>100),CONCATENATE(\"Understand that seabirds explain specifically why there is a \",I25,\" days Ginga from baseline\"),IF(OR(D25=\"\",E25=\"\",F25=\"\",G25=\"\",H25=\"\",I25=\"\",J25=\"\"),\"Understand that seabirds complete\",\"\")))))","v":""}]
[null,null,"6.02.20",null,null,null,null,{"$f":"IF(OR(F26=\"\",G26=\"\"),\"\",_xlfn.DAYS(G26,F26))","v":""},null,null,null,null,{"$f":"IF(AND(D26=\"\",E26=\"\",F26=\"\",G26=\"\",H26=\"\",I26=\"\",J26=\"\",P26=\"\"),\"\",IF(OR(CONCATENATE(D26,\" - \",E26,\" - \",TEXT(F26,\"dd/mm/yyyy\"),\" - \",TEXT(G26,\"dd/mm/yyyy\"),\" - \",H26,\" - \",I26,\" - \",J26)<>P26),\"Changed since last quarter\",\"\"))","v":""},{"$f":"IF(AND(D26=\"\",E26=\"\",F26=\"\",G26=\"\",H26=\"\",I26=\"\",J26=\"\",K26=\"\"),\"\",IF(AND(OR(J26=\"Complete\",J26=\"Superceded\",J26=\"Redundant\"),H26>Introduction!$C$18),\"Milestone cannot be COMPLETE / SUPERCEDED / REDUNDANT if Forecast/Actual is past the snapshot date - Understand that seabirds change\",IF(AND(J26=\"Live\",H26<Introduction!$C$18),\"Milestone cannot be LIVE if Forecast/Actual is before snapshot date - Understand that seabirds change\",IF(AND(I26<>\"\",K26=\"\",I26>100),CONCATENATE(\"Understand that seabirds explain specifically why there is a \",I26,\" days Ginga from baseline\"),IF(OR(D26=\"\",E26=\"\",F26=\"\",G26=\"\",H26=\"\",I26=\"\",J26=\"\"),\"Understand that seabirds complete\",\"\")))))","v":""}]
[null,null,"6.02.21",null,null,null,null,{"$f":"IF(OR(F27=\"\",G27=\"\"),\"\",_xlfn.DAYS(G27,F27))","v":""},null,null,null,null,{"$f":"IF(AND(D27=\"\",E27=\"\",F27=\"\",G27=\"\",H27=\"\",I27=\"\",J27=\"\",P27=\"\"),\"\",IF(OR(CONCATENATE(D27,\" - \",E27,\" - \",TEXT(F27,\"dd/mm/yyyy\"),\" - \",TEXT(G27,\"dd/mm/yyyy\"),\" - \",H27,\" - \",I27,\" - \",J27)<>P27),\"Changed since last quarter\",\"\"))","v":""},{"$f":"IF(AND(D27=\"\",E27=\"\",F27=\"\",G27=\"\",H27=\"\",I27=\"\",J27=\"\",K27=\"\"),\"\",IF(AND(OR(J27=\"Complete\",J27=\"Superceded\",J27=\"Redundant\"),H27>Introduction!$C$18),\"Milestone cannot be COMPLETE / SUPERCEDED / REDUNDANT if Forecast/Actual is past the snapshot date - Understand that seabirds change\",IF(AND(J27=\"Live\",H27<Introduction!$C$18),\"Milestone cannot be LIVE if Forecast/Actual is before snapshot date - Understand that seabirds change\",IF(AND(I27<>\"\",K27=\"\",I27>100),CONCATENATE(\"Understand that seabirds explain specifically why there is a \",I27,\" days Ginga from baseline\"),IF(OR(D27=\"\",E27=\"\",F27=\"\",G27=\"\",H27=\"\",I27=\"\",J27=\"\"),\"Understand that seabirds complete\",\"\")))))","v":""}]
[null,null,"6.02.22",null,null,null,null,{"$f":"IF(OR(F28=\"\",G28=\"\"),\"\",_xlfn.DAYS(G28,F28))","v":""},null,null,null,null,{"$f":"IF(AND(D28=\"\",E28=\"\",F28=\"\",G28=\"\",H28=\"\",I28=\"\",J28=\"\",P28=\"\"),\"\",IF(OR(CONCATENATE(D28,\" - \",E28,\" - \",TEXT(F28,\"dd/mm/yyyy\"),\" - \",TEXT(G28,\"dd/mm/yyyy\"),\" - \",H28,\" - \",I28,\" - \",J28)<>P28),\"Changed since last quarter\",\"\"))","v":""},{"$f":"IF(AND(D28=\"\",E28=\"\",F28=\"\",G28=\"\",H28=\"\",I28=\"\",J28=\"\",K28=\"\"),\"\",IF(AND(OR(J28=\"Complete\",J28=\"Superceded\",J28=\"Redundant\"),H28>Introduction!$C$18),\"Milestone cannot be COMPLETE / SUPERCEDED / REDUNDANT if Forecast/Actual is past the snapshot date - Understand that seabirds change\",IF(AND(J28=\"Live\",H28<Introduction!$C$18),\"Milestone cannot be LIVE if Forecast/Actual is before snapshot date - Understand that seabirds change\",IF(AND(I28<>\"\",K28=\"\",I28>100),CONCATENATE(\"Understand that seabirds explain specifically why there is a \",I28,\" days Ginga from baseline\"),IF(OR(D28=\"\",E28=\"\",F28=\"\",G28=\"\",H28=\"\",I28=\"\",J28=\"\"),\"Understand that seabirds complete\",\"\")))))","v":""}]
[null,null,"6.02.23",null,null,null,null,{"$f":"IF(OR(F29=\"\",G29=\"\"),\"\",_xlfn.DAYS(G29,F29))","v":""},null,null,null,null,{"$f":"IF(AND(D29=\"\",E29=\"\",F29=\"\",G29=\"\",H29=\"\",I29=\"\",J29=\"\",P29=\"\"),\"\",IF(OR(CONCATENATE(D29,\" - \",E29,\" - \",TEXT(F29,\"dd/mm/yyyy\"),\" - \",TEXT(G29,\"dd/mm/yyyy\"),\" - \",H29,\" - \",I29,\" - \",J29)<>P29),\"Changed since last quarter\",\"\"))","v":""},{"$f":"IF(AND(D29=\"\",E29=\"\",F29=\"\",G29=\"\",H29=\"\",I29=\"\",J29=\"\",K29=\"\"),\"\",IF(AND(OR(J29=\"Complete\",J29=\"Superceded\",J29=\"Redundant\"),H29>Introduction!$C$18),\"Milestone cannot be COMPLETE / SUPERCEDED / REDUNDANT if Forecast/Actual is past the snapshot date - Understand that seabirds change\",IF(AND(J29=\"Live\",H29<Introduction!$C$18),\"Milestone cannot be LIVE if Forecast/Actual is before snapshot date - Understand that seabirds change\",IF(AND(I29<>\"\",K29=\"\",I29>100),CONCATENATE(\"Understand that seabirds explain specifically why there is a \",I29,\" days Ginga from baseline\"),IF(OR(D29=\"\",E29=\"\",F29=\"\",G29=\"\",H29=\"\",I29=\"\",J29=\"\"),\"Understand that seabirds complete\",\"\")))))","v":""}]
[null,null,"6.02.24",null,null,null,null,{"$f":"IF(OR(F30=\"\",G30=\"\"),\"\",_xlfn.DAYS(G30,F30))","v":""},null,null,null,null,{"$f":"IF(AND(D30=\"\",E30=\"\",F30=\"\",G30=\"\",H30=\"\",I30=\"\",J30=\"\",P30=\"\"),\"\",IF(OR(CONCATENATE(D30,\" - \",E30,\" - \",TEXT(F30,\"dd/mm/yyyy\"),\" - \",TEXT(G30,\"dd/mm/yyyy\"),\" - \",H30,\" - \",I30,\" - \",J30)<>P30),\"Changed since last quarter\",\"\"))","v":""},{"$f":"IF(AND(D30=\"\",E30=\"\",F30=\"\",G30=\"\",H30=\"\",I30=\"\",J30=\"\",K30=\"\"),\"\",IF(AND(OR(J30=\"Complete\",J30=\"Superceded\",J30=\"Redundant\"),H30>Introduction!$C$18),\"Milestone cannot be COMPLETE / SUPERCEDED / REDUNDANT if Forecast/Actual is past the snapshot date - Understand that seabirds change\",IF(AND(J30=\"Live\",H30<Introduction!$C$18),\"Milestone cannot be LIVE if Forecast/Actual is before snapshot date - Understand that seabirds change\",IF(AND(I30<>\"\",K30=\"\",I30>100),CONCATENATE(\"Understand that seabirds explain specifically why there is a \",I30,\" days Ginga from baseline\"),IF(OR(D30=\"\",E30=\"\",F30=\"\",G30=\"\",H30=\"\",I30=\"\",J30=\"\"),\"Understand that seabirds complete\",\"\")))))","v":""}]
[null,null,"6.02.25",null,null,null,null,{"$f":"IF(OR(F31=\"\",G31=\"\"),\"\",_xlfn.DAYS(G31,F31))","v":""},null,null,null,null,{"$f":"IF(AND(D31=\"\",E31=\"\",F31=\"\",G31=\"\",H31=\"\",I31=\"\",J31=\"\",P31=\"\"),\"\",IF(OR(CONCATENATE(D31,\" - \",E31,\" - \",TEXT(F31,\"dd/mm/yyyy\"),\" - \",TEXT(G31,\"dd/mm/yyyy\"),\" - \",H31,\" - \",I31,\" - \",J31)<>P31),\"Changed since last quarter\",\"\"))","v":""},{"$f":"IF(AND(D31=\"\",E31=\"\",F31=\"\",G31=\"\",H31=\"\",I31=\"\",J31=\"\",K31=\"\"),\"\",IF(AND(OR(J31=\"Complete\",J31=\"Superceded\",J31=\"Redundant\"),H31>Introduction!$C$18),\"Milestone cannot be COMPLETE / SUPERCEDED / REDUNDANT if Forecast/Actual is past the snapshot date - Understand that seabirds change\",IF(AND(J31=\"Live\",H31<Introduction!$C$18),\"Milestone cannot be LIVE if Forecast/Actual is before snapshot date - Understand that seabirds change\",IF(AND(I31<>\"\",K31=\"\",I31>100),CONCATENATE(\"Understand that seabirds explain specifically why there is a \",I31,\" days Ginga from baseline\"),IF(OR(D31=\"\",E31=\"\",F31=\"\",G31=\"\",H31=\"\",I31=\"\",J31=\"\"),\"Understand that seabirds complete\",\"\")))))","v":""}]
[null,null,"6.02.26",null,null,null,null,{"$f":"IF(OR(F32=\"\",G32=\"\"),\"\",_xlfn.DAYS(G32,F32))","v":""},null,null,null,null,{"$f":"IF(AND(D32=\"\",E32=\"\",F32=\"\",G32=\"\",H32=\"\",I32=\"\",J32=\"\",P32=\"\"),\"\",IF(OR(CONCATENATE(D32,\" - \",E32,\" - \",TEXT(F32,\"dd/mm/yyyy\"),\" - \",TEXT(G32,\"dd/mm/yyyy\"),\" - \",H32,\" - \",I32,\" - \",J32)<>P32),\"Changed since last quarter\",\"\"))","v":""},{"$f":"IF(AND(D32=\"\",E32=\"\",F32=\"\",G32=\"\",H32=\"\",I32=\"\",J32=\"\",K32=\"\"),\"\",IF(AND(OR(J32=\"Complete\",J32=\"Superceded\",J32=\"Redundant\"),H32>Introduction!$C$18),\"Milestone cannot be COMPLETE / SUPERCEDED / REDUNDANT if Forecast/Actual is past the snapshot date - Understand that seabirds change\",IF(AND(J32=\"Live\",H32<Introduction!$C$18),\"Milestone cannot be LIVE if Forecast/Actual is before snapshot date - Understand that seabirds change\",IF(AND(I32<>\"\",K32=\"\",I32>100),CONCATENATE(\"Understand that seabirds explain specifically why there is a \",I32,\" days Ginga from baseline\"),IF(OR(D32=\"\",E32=\"\",F32=\"\",G32=\"\",H32=\"\",I32=\"\",J32=\"\"),\"Understand that seabirds complete\",\"\")))))","v":""}]
[null,null,"6.02.27",null,null,null,null,{"$f":"IF(OR(F33=\"\",G33=\"\"),\"\",_xlfn.DAYS(G33,F33))","v":""},null,null,null,null,{"$f":"IF(AND(D33=\"\",E33=\"\",F33=\"\",G33=\"\",H33=\"\",I33=\"\",J33=\"\",P33=\"\"),\"\",IF(OR(CONCATENATE(D33,\" - \",E33,\" - \",TEXT(F33,\"dd/mm/yyyy\"),\" - \",TEXT(G33,\"dd/mm/yyyy\"),\" - \",H33,\" - \",I33,\" - \",J33)<>P33),\"Changed since last quarter\",\"\"))","v":""},{"$f":"IF(AND(D33=\"\",E33=\"\",F33=\"\",G33=\"\",H33=\"\",I33=\"\",J33=\"\",K33=\"\"),\"\",IF(AND(OR(J33=\"Complete\",J33=\"Superceded\",J33=\"Redundant\"),H33>Introduction!$C$18),\"Milestone cannot be COMPLETE / SUPERCEDED / REDUNDANT if Forecast/Actual is past the snapshot date - Understand that seabirds change\",IF(AND(J33=\"Live\",H33<Introduction!$C$18),\"Milestone cannot be LIVE if Forecast/Actual is before snapshot date - Understand that seabirds change\",IF(AND(I33<>\"\",K33=\"\",I33>100),CONCATENATE(\"Understand that seabirds explain specifically why there is a \",I33,\" days Ginga from baseline\"),IF(OR(D33=\"\",E33=\"\",F33=\"\",G33=\"\",H33=\"\",I33=\"\",J33=\"\"),\"Understand that seabirds complete\",\"\")))))","v":""}]
[null,null,"6.02.28",null,null,null,null,{"$f":"IF(OR(F34=\"\",G34=\"\"),\"\",_xlfn.DAYS(G34,F34))","v":""},null,null,null,null,{"$f":"IF(AND(D34=\"\",E34=\"\",F34=\"\",G34=\"\",H34=\"\",I34=\"\",J34=\"\",P34=\"\"),\"\",IF(OR(CONCATENATE(D34,\" - \",E34,\" - \",TEXT(F34,\"dd/mm/yyyy\"),\" - \",TEXT(G34,\"dd/mm/yyyy\"),\" - \",H34,\" - \",I34,\" - \",J34)<>P34),\"Changed since last quarter\",\"\"))","v":""},{"$f":"IF(AND(D34=\"\",E34=\"\",F34=\"\",G34=\"\",H34=\"\",I34=\"\",J34=\"\",K34=\"\"),\"\",IF(AND(OR(J34=\"Complete\",J34=\"Superceded\",J34=\"Redundant\"),H34>Introduction!$C$18),\"Milestone cannot be COMPLETE / SUPERCEDED / REDUNDANT if Forecast/Actual is past the snapshot date - Understand that seabirds change\",IF(AND(J34=\"Live\",H34<Introduction!$C$18),\"Milestone cannot be LIVE if Forecast/Actual is before snapshot date - Understand that seabirds change\",IF(AND(I34<>\"\",K34=\"\",I34>100),CONCATENATE(\"Understand that seabirds explain specifically why there is a \",I34,\" days Ginga from baseline\"),IF(OR(D34=\"\",E34=\"\",F34=\"\",G34=\"\",H34=\"\",I34=\"\",J34=\"\"),\"Understand that seabirds complete\",\"\")))))","v":""}]
[null,null,"6.02.29",null,null,null,null,{"$f":"IF(OR(F35=\"\",G35=\"\"),\"\",_xlfn.DAYS(G35,F35))","v":""},null,null,null,null,{"$f":"IF(AND(D35=\"\",E35=\"\",F35=\"\",G35=\"\",H35=\"\",I35=\"\",J35=\"\",P35=\"\"),\"\",IF(OR(CONCATENATE(D35,\" - \",E35,\" - \",TEXT(F35,\"dd/mm/yyyy\"),\" - \",TEXT(G35,\"dd/mm/yyyy\"),\" - \",H35,\" - \",I35,\" - \",J35)<>P35),\"Changed since last quarter\",\"\"))","v":""},{"$f":"IF(AND(D35=\"\",E35=\"\",F35=\"\",G35=\"\",H35=\"\",I35=\"\",J35=\"\",K35=\"\"),\"\",IF(AND(OR(J35=\"Complete\",J35=\"Superceded\",J35=\"Redundant\"),H35>Introduction!$C$18),\"Milestone cannot be COMPLETE / SUPERCEDED / REDUNDANT if Forecast/Actual is past the snapshot date - Understand that seabirds change\",IF(AND(J35=\"Live\",H35<Introduction!$C$18),\"Milestone cannot be LIVE if Forecast/Actual is before snapshot date - Understand that seabirds change\",IF(AND(I35<>\"\",K35=\"\",I35>100),CONCATENATE(\"Understand that seabirds explain specifically why there is a \",I35,\" days Ginga from baseline\"),IF(OR(D35=\"\",E35=\"\",F35=\"\",G35=\"\",H35=\"\",I35=\"\",J35=\"\"),\"Understand that seabirds complete\",\"\")))))","v":""}]
[null,null,"6.02.30",null,null,null,null,{"$f":"IF(OR(F36=\"\",G36=\"\"),\"\",_xlfn.DAYS(G36,F36))","v":""},null,null,null,null,{"$f":"IF(AND(D36=\"\",E36=\"\",F36=\"\",G36=\"\",H36=\"\",I36=\"\",J36=\"\",P36=\"\"),\"\",IF(OR(CONCATENATE(D36,\" - \",E36,\" - \",TEXT(F36,\"dd/mm/yyyy\"),\" - \",TEXT(G36,\"dd/mm/yyyy\"),\" - \",H36,\" - \",I36,\" - \",J36)<>P36),\"Changed since last quarter\",\"\"))","v":""},{"$f":"IF(AND(D36=\"\",E36=\"\",F36=\"\",G36=\"\",H36=\"\",I36=\"\",J36=\"\",K36=\"\"),\"\",IF(AND(OR(J36=\"Complete\",J36=\"Superceded\",J36=\"Redundant\"),H36>Introduction!$C$18),\"Milestone cannot be COMPLETE / SUPERCEDED / REDUNDANT if Forecast/Actual is past the snapshot date - Understand that seabirds change\",IF(AND(J36=\"Live\",H36<Introduction!$C$18),\"Milestone cannot be LIVE if Forecast/Actual is before snapshot date - Understand that seabirds change\",IF(AND(I36<>\"\",K36=\"\",I36>100),CONCATENATE(\"Understand that seabirds explain specifically why there is a \",I36,\" days Ginga from baseline\"),IF(OR(D36=\"\",E36=\"\",F36=\"\",G36=\"\",H36=\"\",I36=\"\",J36=\"\"),\"Understand that seabirds complete\",\"\")))))","v":""}]
[null,null,"6.02.31",null,null,null,null,{"$f":"IF(OR(F37=\"\",G37=\"\"),\"\",_xlfn.DAYS(G37,F37))","v":""},null,null,null,null,{"$f":"IF(AND(D37=\"\",E37=\"\",F37=\"\",G37=\"\",H37=\"\",I37=\"\",J37=\"\",P37=\"\"),\"\",IF(OR(CONCATENATE(D37,\" - \",E37,\" - \",TEXT(F37,\"dd/mm/yyyy\"),\" - \",TEXT(G37,\"dd/mm/yyyy\"),\" - \",H37,\" - \",I37,\" - \",J37)<>P37),\"Changed since last quarter\",\"\"))","v":""},{"$f":"IF(AND(D37=\"\",E37=\"\",F37=\"\",G37=\"\",H37=\"\",I37=\"\",J37=\"\",K37=\"\"),\"\",IF(AND(OR(J37=\"Complete\",J37=\"Superceded\",J37=\"Redundant\"),H37>Introduction!$C$18),\"Milestone cannot be COMPLETE / SUPERCEDED / REDUNDANT if Forecast/Actual is past the snapshot date - Understand that seabirds change\",IF(AND(J37=\"Live\",H37<Introduction!$C$18),\"Milestone cannot be LIVE if Forecast/Actual is before snapshot date - Understand that seabirds change\",IF(AND(I37<>\"\",K37=\"\",I37>100),CONCATENATE(\"Understand that seabirds explain specifically why there is a \",I37,\" days Ginga from baseline\"),IF(OR(D37=\"\",E37=\"\",F37=\"\",G37=\"\",H37=\"\",I37=\"\",J37=\"\"),\"Understand that seabirds complete\",\"\")))))","v":""}]
[null,null,"6.02.32",null,null,null,null,{"$f":"IF(OR(F38=\"\",G38=\"\"),\"\",_xlfn.DAYS(G38,F38))","v":""},null,null,null,null,{"$f":"IF(AND(D38=\"\",E38=\"\",F38=\"\",G38=\"\",H38=\"\",I38=\"\",J38=\"\",P38=\"\"),\"\",IF(OR(CONCATENATE(D38,\" - \",E38,\" - \",TEXT(F38,\"dd/mm/yyyy\"),\" - \",TEXT(G38,\"dd/mm/yyyy\"),\" - \",H38,\" - \",I38,\" - \",J38)<>P38),\"Changed since last quarter\",\"\"))","v":""},{"$f":"IF(AND(D38=\"\",E38=\"\",F38=\"\",G38=\"\",H38=\"\",I38=\"\",J38=\"\",K38=\"\"),\"\",IF(AND(OR(J38=\"Complete\",J38=\"Superceded\",J38=\"Redundant\"),H38>Introduction!$C$18),\"Milestone cannot be COMPLETE / SUPERCEDED / REDUNDANT if Forecast/Actual is past the snapshot date - Understand that seabirds change\",IF(AND(J38=\"Live\",H38<Introduction!$C$18),\"Milestone cannot be LIVE if Forecast/Actual is before snapshot date - Understand that seabirds change\",IF(AND(I38<>\"\",K38=\"\",I38>100),CONCATENATE(\"Understand that seabirds explain specifically why there is a \",I38,\" days Ginga from baseline\"),IF(OR(D38=\"\",E38=\"\",F38=\"\",G38=\"\",H38=\"\",I38=\"\",J38=\"\"),\"Understand that seabirds complete\",\"\")))))","v":""}]
[null,null,"6.02.33",null,null,null,null,{"$f":"IF(OR(F39=\"\",G39=\"\"),\"\",_xlfn.DAYS(G39,F39))","v":""},null,null,null,null,{"$f":"IF(AND(D39=\"\",E39=\"\",F39=\"\",G39=\"\",H39=\"\",I39=\"\",J39=\"\",P39=\"\"),\"\",IF(OR(CONCATENATE(D39,\" - \",E39,\" - \",TEXT(F39,\"dd/mm/yyyy\"),\" - \",TEXT(G39,\"dd/mm/yyyy\"),\" - \",H39,\" - \",I39,\" - \",J39)<>P39),\"Changed since last quarter\",\"\"))","v":""},{"$f":"IF(AND(D39=\"\",E39=\"\",F39=\"\",G39=\"\",H39=\"\",I39=\"\",J39=\"\",K39=\"\"),\"\",IF(AND(OR(J39=\"Complete\",J39=\"Superceded\",J39=\"Redundant\"),H39>Introduction!$C$18),\"Milestone cannot be COMPLETE / SUPERCEDED / REDUNDANT if Forecast/Actual is past the snapshot date - Understand that seabirds change\",IF(AND(J39=\"Live\",H39<Introduction!$C$18),\"Milestone cannot be LIVE if Forecast/Actual is before snapshot date - Understand that seabirds change\",IF(AND(I39<>\"\",K39=\"\",I39>100),CONCATENATE(\"Understand that seabirds explain specifically why there is a \",I39,\" days Ginga from baseline\"),IF(OR(D39=\"\",E39=\"\",F39=\"\",G39=\"\",H39=\"\",I39=\"\",J39=\"\"),\"Understand that seabirds complete\",\"\")))))","v":""}]
[null,null,"6.02.34",null,null,null,null,{"$f":"IF(OR(F40=\"\",G40=\"\"),\"\",_xlfn.DAYS(G40,F40))","v":""},null,null,null,null,{"$f":"IF(AND(D40=\"\",E40=\"\",F40=\"\",G40=\"\",H40=\"\",I40=\"\",J40=\"\",P40=\"\"),\"\",IF(OR(CONCATENATE(D40,\" - \",E40,\" - \",TEXT(F40,\"dd/mm/yyyy\"),\" - \",TEXT(G40,\"dd/mm/yyyy\"),\" - \",H40,\" - \",I40,\" - \",J40)<>P40),\"Changed since last quarter\",\"\"))","v":""},{"$f":"IF(AND(D40=\"\",E40=\"\",F40=\"\",G40=\"\",H40=\"\",I40=\"\",J40=\"\",K40=\"\"),\"\",IF(AND(OR(J40=\"Complete\",J40=\"Superceded\",J40=\"Redundant\"),H40>Introduction!$C$18),\"Milestone cannot be COMPLETE / SUPERCEDED / REDUNDANT if Forecast/Actual is past the snapshot date - Understand that seabirds change\",IF(AND(J40=\"Live\",H40<Introduction!$C$18),\"Milestone cannot be LIVE if Forecast/Actual is before snapshot date - Understand that seabirds change\",IF(AND(I40<>\"\",K40=\"\",I40>100),CONCATENATE(\"Understand that seabirds explain specifically why there is a \",I40,\" days Ginga from baseline\"),IF(OR(D40=\"\",E40=\"\",F40=\"\",G40=\"\",H40=\"\",I40=\"\",J40=\"\"),\"Understand that seabirds complete\",\"\")))))","v":""}]
[null,null,"6.02.35",null,null,null,null,{"$f":"IF(OR(F41=\"\",G41=\"\"),\"\",_xlfn.DAYS(G41,F41))","v":""},null,null,null,null,{"$f":"IF(AND(D41=\"\",E41=\"\",F41=\"\",G41=\"\",H41=\"\",I41=\"\",J41=\"\",P41=\"\"),\"\",IF(OR(CONCATENATE(D41,\" - \",E41,\" - \",TEXT(F41,\"dd/mm/yyyy\"),\" - \",TEXT(G41,\"dd/mm/yyyy\"),\" - \",H41,\" - \",I41,\" - \",J41)<>P41),\"Changed since last quarter\",\"\"))","v":""},{"$f":"IF(AND(D41=\"\",E41=\"\",F41=\"\",G41=\"\",H41=\"\",I41=\"\",J41=\"\",K41=\"\"),\"\",IF(AND(OR(J41=\"Complete\",J41=\"Superceded\",J41=\"Redundant\"),H41>Introduction!$C$18),\"Milestone cannot be COMPLETE / SUPERCEDED / REDUNDANT if Forecast/Actual is past the snapshot date - Understand that seabirds change\",IF(AND(J41=\"Live\",H41<Introduction!$C$18),\"Milestone cannot be LIVE if Forecast/Actual is before snapshot date - Understand that seabirds change\",IF(AND(I41<>\"\",K41=\"\",I41>100),CONCATENATE(\"Understand that seabirds explain specifically why there is a \",I41,\" days Ginga from baseline\"),IF(OR(D41=\"\",E41=\"\",F41=\"\",G41=\"\",H41=\"\",I41=\"\",J41=\"\"),\"Understand that seabirds complete\",\"\")))))","v":""}]
[null,null,"6.02.36",null,null,null,null,{"$f":"IF(OR(F42=\"\",G42=\"\"),\"\",_xlfn.DAYS(G42,F42))","v":""},null,null,null,null,{"$f":"IF(AND(D42=\"\",E42=\"\",F42=\"\",G42=\"\",H42=\"\",I42=\"\",J42=\"\",P42=\"\"),\"\",IF(OR(CONCATENATE(D42,\" - \",E42,\" - \",TEXT(F42,\"dd/mm/yyyy\"),\" - \",TEXT(G42,\"dd/mm/yyyy\"),\" - \",H42,\" - \",I42,\" - \",J42)<>P42),\"Changed since last quarter\",\"\"))","v":""},{"$f":"IF(AND(D42=\"\",E42=\"\",F42=\"\",G42=\"\",H42=\"\",I42=\"\",J42=\"\",K42=\"\"),\"\",IF(AND(OR(J42=\"Complete\",J42=\"Superceded\",J42=\"Redundant\"),H42>Introduction!$C$18),\"Milestone cannot be COMPLETE / SUPERCEDED / REDUNDANT if Forecast/Actual is past the snapshot date - Understand that seabirds change\",IF(AND(J42=\"Live\",H42<Introduction!$C$18),\"Milestone cannot be LIVE if Forecast/Actual is before snapshot date - Understand that seabirds change\",IF(AND(I42<>\"\",K42=\"\",I42>100),CONCATENATE(\"Understand that seabirds explain specifically why there is a \",I42,\" days Ginga from baseline\"),IF(OR(D42=\"\",E42=\"\",F42=\"\",G42=\"\",H42=\"\",I42=\"\",J42=\"\"),\"Understand that seabirds complete\",\"\")))))","v":""}]
[null,null,"6.02.37",null,null,null,null,{"$f":"IF(OR(F43=\"\",G43=\"\"),\"\",_xlfn.DAYS(G43,F43))","v":""},null,null,null,null,{"$f":"IF(AND(D43=\"\",E43=\"\",F43=\"\",G43=\"\",H43=\"\",I43=\"\",J43=\"\",P43=\"\"),\"\",IF(OR(CONCATENATE(D43,\" - \",E43,\" - \",TEXT(F43,\"dd/mm/yyyy\"),\" - \",TEXT(G43,\"dd/mm/yyyy\"),\" - \",H43,\" - \",I43,\" - \",J43)<>P43),\"Changed since last quarter\",\"\"))","v":""},{"$f":"IF(AND(D43=\"\",E43=\"\",F43=\"\",G43=\"\",H43=\"\",I43=\"\",J43=\"\",K43=\"\"),\"\",IF(AND(OR(J43=\"Complete\",J43=\"Superceded\",J43=\"Redundant\"),H43>Introduction!$C$18),\"Milestone cannot be COMPLETE / SUPERCEDED / REDUNDANT if Forecast/Actual is past the snapshot date - Understand that seabirds change\",IF(AND(J43=\"Live\",H43<Introduction!$C$18),\"Milestone cannot be LIVE if Forecast/Actual is before snapshot date - Understand that seabirds change\",IF(AND(I43<>\"\",K43=\"\",I43>100),CONCATENATE(\"Understand that seabirds explain specifically why there is a \",I43,\" days Ginga from baseline\"),IF(OR(D43=\"\",E43=\"\",F43=\"\",G43=\"\",H43=\"\",I43=\"\",J43=\"\"),\"Understand that seabirds complete\",\"\")))))","v":""}]
[null,null,"6.02.38",null,null,null,null,{"$f":"IF(OR(F44=\"\",G44=\"\"),\"\",_xlfn.DAYS(G44,F44))","v":""},null,null,null,null,{"$f":"IF(AND(D44=\"\",E44=\"\",F44=\"\",G44=\"\",H44=\"\",I44=\"\",J44=\"\",P44=\"\"),\"\",IF(OR(CONCATENATE(D44,\" - \",E44,\" - \",TEXT(F44,\"dd/mm/yyyy\"),\" - \",TEXT(G44,\"dd/mm/yyyy\"),\" - \",H44,\" - \",I44,\" - \",J44)<>P44),\"Changed since last quarter\",\"\"))","v":""},{"$f":"IF(AND(D44=\"\",E44=\"\",F44=\"\",G44=\"\",H44=\"\",I44=\"\",J44=\"\",K44=\"\"),\"\",IF(AND(OR(J44=\"Complete\",J44=\"Superceded\",J44=\"Redundant\"),H44>Introduction!$C$18),\"Milestone cannot be COMPLETE / SUPERCEDED / REDUNDANT if Forecast/Actual is past the snapshot date - Understand that seabirds change\",IF(AND(J44=\"Live\",H44<Introduction!$C$18),\"Milestone cannot be LIVE if Forecast/Actual is before snapshot date - Understand that seabirds change\",IF(AND(I44<>\"\",K44=\"\",I44>100),CONCATENATE(\"Understand that seabirds explain specifically why there is a \",I44,\" days Ginga from baseline\"),IF(OR(D44=\"\",E44=\"\",F44=\"\",G44=\"\",H44=\"\",I44=\"\",J44=\"\"),\"Understand that seabirds complete\",\"\")))))","v":""}]
[null,null,"6.02.39",null,null,null,null,{"$f":"IF(OR(F45=\"\",G45=\"\"),\"\",_xlfn.DAYS(G45,F45))","v":""},null,null,null,null,{"$f":"IF(AND(D45=\"\",E45=\"\",F45=\"\",G45=\"\",H45=\"\",I45=\"\",J45=\"\",P45=\"\"),\"\",IF(OR(CONCATENATE(D45,\" - \",E45,\" - \",TEXT(F45,\"dd/mm/yyyy\"),\" - \",TEXT(G45,\"dd/mm/yyyy\"),\" - \",H45,\" - \",I45,\" - \",J45)<>P45),\"Changed since last quarter\",\"\"))","v":""},{"$f":"IF(AND(D45=\"\",E45=\"\",F45=\"\",G45=\"\",H45=\"\",I45=\"\",J45=\"\",K45=\"\"),\"\",IF(AND(OR(J45=\"Complete\",J45=\"Superceded\",J45=\"Redundant\"),H45>Introduction!$C$18),\"Milestone cannot be COMPLETE / SUPERCEDED / REDUNDANT if Forecast/Actual is past the snapshot date - Understand that seabirds change\",IF(AND(J45=\"Live\",H45<Introduction!$C$18),\"Milestone cannot be LIVE if Forecast/Actual is before snapshot date - Understand that seabirds change\",IF(AND(I45<>\"\",K45=\"\",I45>100),CONCATENATE(\"Understand that seabirds explain specifically why there is a \",I45,\" days Ginga from baseline\"),IF(OR(D45=\"\",E45=\"\",F45=\"\",G45=\"\",H45=\"\",I45=\"\",J45=\"\"),\"Understand that seabirds complete\",\"\")))))","v":""}]
[null,null,"6.02.40",null,null,null,null,{"$f":"IF(OR(F46=\"\",G46=\"\"),\"\",_xlfn.DAYS(G46,F46))","v":""},null,null,null,null,{"$f":"IF(AND(D46=\"\",E46=\"\",F46=\"\",G46=\"\",H46=\"\",I46=\"\",J46=\"\",P46=\"\"),\"\",IF(OR(CONCATENATE(D46,\" - \",E46,\" - \",TEXT(F46,\"dd/mm/yyyy\"),\" - \",TEXT(G46,\"dd/mm/yyyy\"),\" - \",H46,\" - \",I46,\" - \",J46)<>P46),\"Changed since last quarter\",\"\"))","v":""},{"$f":"IF(AND(D46=\"\",E46=\"\",F46=\"\",G46=\"\",H46=\"\",I46=\"\",J46=\"\",K46=\"\"),\"\",IF(AND(OR(J46=\"Complete\",J46=\"Superceded\",J46=\"Redundant\"),H46>Introduction!$C$18),\"Milestone cannot be COMPLETE / SUPERCEDED / REDUNDANT if Forecast/Actual is past the snapshot date - Understand that seabirds change\",IF(AND(J46=\"Live\",H46<Introduction!$C$18),\"Milestone cannot be LIVE if Forecast/Actual is before snapshot date - Understand that seabirds change\",IF(AND(I46<>\"\",K46=\"\",I46>100),CONCATENATE(\"Understand that seabirds explain specifically why there is a \",I46,\" days Ginga from baseline\"),IF(OR(D46=\"\",E46=\"\",F46=\"\",G46=\"\",H46=\"\",I46=\"\",J46=\"\"),\"Understand that seabirds complete\",\"\")))))","v":""}]
[null,null,"6.02.41",null,null,null,null,{"$f":"IF(OR(F47=\"\",G47=\"\"),\"\",_xlfn.DAYS(G47,F47))","v":""},null,null,null,null,{"$f":"IF(AND(D47=\"\",E47=\"\",F47=\"\",G47=\"\",H47=\"\",I47=\"\",J47=\"\",P47=\"\"),\"\",IF(OR(CONCATENATE(D47,\" - \",E47,\" - \",TEXT(F47,\"dd/mm/yyyy\"),\" - \",TEXT(G47,\"dd/mm/yyyy\"),\" - \",H47,\" - \",I47,\" - \",J47)<>P47),\"Changed since last quarter\",\"\"))","v":""},{"$f":"IF(AND(D47=\"\",E47=\"\",F47=\"\",G47=\"\",H47=\"\",I47=\"\",J47=\"\",K47=\"\"),\"\",IF(AND(OR(J47=\"Complete\",J47=\"Superceded\",J47=\"Redundant\"),H47>Introduction!$C$18),\"Milestone cannot be COMPLETE / SUPERCEDED / REDUNDANT if Forecast/Actual is past the snapshot date - Understand that seabirds change\",IF(AND(J47=\"Live\",H47<Introduction!$C$18),\"Milestone cannot be LIVE if Forecast/Actual is before snapshot date - Understand that seabirds change\",IF(AND(I47<>\"\",K47=\"\",I47>100),CONCATENATE(\"Understand that seabirds explain specifically why there is a \",I47,\" days Ginga from baseline\"),IF(OR(D47=\"\",E47=\"\",F47=\"\",G47=\"\",H47=\"\",I47=\"\",J47=\"\"),\"Understand that seabirds complete\",\"\")))))","v":""}]
[null,null,"6.02.42",null,null,null,null,{"$f":"IF(OR(F48=\"\",G48=\"\"),\"\",_xlfn.DAYS(G48,F48))","v":""},null,null,null,null,{"$f":"IF(AND(D48=\"\",E48=\"\",F48=\"\",G48=\"\",H48=\"\",I48=\"\",J48=\"\",P48=\"\"),\"\",IF(OR(CONCATENATE(D48,\" - \",E48,\" - \",TEXT(F48,\"dd/mm/yyyy\"),\" - \",TEXT(G48,\"dd/mm/yyyy\"),\" - \",H48,\" - \",I48,\" - \",J48)<>P48),\"Changed since last quarter\",\"\"))","v":""},{"$f":"IF(AND(D48=\"\",E48=\"\",F48=\"\",G48=\"\",H48=\"\",I48=\"\",J48=\"\",K48=\"\"),\"\",IF(AND(OR(J48=\"Complete\",J48=\"Superceded\",J48=\"Redundant\"),H48>Introduction!$C$18),\"Milestone cannot be COMPLETE / SUPERCEDED / REDUNDANT if Forecast/Actual is past the snapshot date - Understand that seabirds change\",IF(AND(J48=\"Live\",H48<Introduction!$C$18),\"Milestone cannot be LIVE if Forecast/Actual is before snapshot date - Understand that seabirds change\",IF(AND(I48<>\"\",K48=\"\",I48>100),CONCATENATE(\"Understand that seabirds explain specifically why there is a \",I48,\" days Ginga from baseline\"),IF(OR(D48=\"\",E48=\"\",F48=\"\",G48=\"\",H48=\"\",I48=\"\",J48=\"\"),\"Understand that seabirds complete\",\"\")))))","v":""}]
[null,null,"6.02.43",null,null,null,null,{"$f":"IF(OR(F49=\"\",G49=\"\"),\"\",_xlfn.DAYS(G49,F49))","v":""},null,null,null,null,{"$f":"IF(AND(D49=\"\",E49=\"\",F49=\"\",G49=\"\",H49=\"\",I49=\"\",J49=\"\",P49=\"\"),\"\",IF(OR(CONCATENATE(D49,\" - \",E49,\" - \",TEXT(F49,\"dd/mm/yyyy\"),\" - \",TEXT(G49,\"dd/mm/yyyy\"),\" - \",H49,\" - \",I49,\" - \",J49)<>P49),\"Changed since last quarter\",\"\"))","v":""},{"$f":"IF(AND(D49=\"\",E49=\"\",F49=\"\",G49=\"\",H49=\"\",I49=\"\",J49=\"\",K49=\"\"),\"\",IF(AND(OR(J49=\"Complete\",J49=\"Superceded\",J49=\"Redundant\"),H49>Introduction!$C$18),\"Milestone cannot be COMPLETE / SUPERCEDED / REDUNDANT if Forecast/Actual is past the snapshot date - Understand that seabirds change\",IF(AND(J49=\"Live\",H49<Introduction!$C$18),\"Milestone cannot be LIVE if Forecast/Actual is before snapshot date - Understand that seabirds change\",IF(AND(I49<>\"\",K49=\"\",I49>100),CONCATENATE(\"Understand that seabirds explain specifically why there is a \",I49,\" days Ginga from baseline\"),IF(OR(D49=\"\",E49=\"\",F49=\"\",G49=\"\",H49=\"\",I49=\"\",J49=\"\"),\"Understand that seabirds complete\",\"\")))))","v":""}]
[null,null,"6.02.44",null,null,null,null,{"$f":"IF(OR(F50=\"\",G50=\"\"),\"\",_xlfn.DAYS(G50,F50))","v":""},null,null,null,null,{"$f":"IF(AND(D50=\"\",E50=\"\",F50=\"\",G50=\"\",H50=\"\",I50=\"\",J50=\"\",P50=\"\"),\"\",IF(OR(CONCATENATE(D50,\" - \",E50,\" - \",TEXT(F50,\"dd/mm/yyyy\"),\" - \",TEXT(G50,\"dd/mm/yyyy\"),\" - \",H50,\" - \",I50,\" - \",J50)<>P50),\"Changed since last quarter\",\"\"))","v":""},{"$f":"IF(AND(D50=\"\",E50=\"\",F50=\"\",G50=\"\",H50=\"\",I50=\"\",J50=\"\",K50=\"\"),\"\",IF(AND(OR(J50=\"Complete\",J50=\"Superceded\",J50=\"Redundant\"),H50>Introduction!$C$18),\"Milestone cannot be COMPLETE / SUPERCEDED / REDUNDANT if Forecast/Actual is past the snapshot date - Understand that seabirds change\",IF(AND(J50=\"Live\",H50<Introduction!$C$18),\"Milestone cannot be LIVE if Forecast/Actual is before snapshot date - Understand that seabirds change\",IF(AND(I50<>\"\",K50=\"\",I50>100),CONCATENATE(\"Understand that seabirds explain specifically why there is a \",I50,\" days Ginga from baseline\"),IF(OR(D50=\"\",E50=\"\",F50=\"\",G50=\"\",H50=\"\",I50=\"\",J50=\"\"),\"Understand that seabirds complete\",\"\")))))","v":""}]
[null,null,"6.02.45",null,null,null,null,{"$f":"IF(OR(F51=\"\",G51=\"\"),\"\",_xlfn.DAYS(G51,F51))","v":""},null,null,null,null,{"$f":"IF(AND(D51=\"\",E51=\"\",F51=\"\",G51=\"\",H51=\"\",I51=\"\",J51=\"\",P51=\"\"),\"\",IF(OR(CONCATENATE(D51,\" - \",E51,\" - \",TEXT(F51,\"dd/mm/yyyy\"),\" - \",TEXT(G51,\"dd/mm/yyyy\"),\" - \",H51,\" - \",I51,\" - \",J51)<>P51),\"Changed since last quarter\",\"\"))","v":""},{"$f":"IF(AND(D51=\"\",E51=\"\",F51=\"\",G51=\"\",H51=\"\",I51=\"\",J51=\"\",K51=\"\"),\"\",IF(AND(OR(J51=\"Complete\",J51=\"Superceded\",J51=\"Redundant\"),H51>Introduction!$C$18),\"Milestone cannot be COMPLETE / SUPERCEDED / REDUNDANT if Forecast/Actual is past the snapshot date - Understand that seabirds change\",IF(AND(J51=\"Live\",H51<Introduction!$C$18),\"Milestone cannot be LIVE if Forecast/Actual is before snapshot date - Understand that seabirds change\",IF(AND(I51<>\"\",K51=\"\",I51>100),CONCATENATE(\"Understand that seabirds explain specifically why there is a \",I51,\" days Ginga from baseline\"),IF(OR(D51=\"\",E51=\"\",F51=\"\",G51=\"\",H51=\"\",I51=\"\",J51=\"\"),\"Understand that seabirds complete\",\"\")))))","v":""}]
[null,null,"6.02.46",null,null,null,null,{"$f":"IF(OR(F52=\"\",G52=\"\"),\"\",_xlfn.DAYS(G52,F52))","v":""},null,null,null,null,{"$f":"IF(AND(D52=\"\",E52=\"\",F52=\"\",G52=\"\",H52=\"\",I52=\"\",J52=\"\",P52=\"\"),\"\",IF(OR(CONCATENATE(D52,\" - \",E52,\" - \",TEXT(F52,\"dd/mm/yyyy\"),\" - \",TEXT(G52,\"dd/mm/yyyy\"),\" - \",H52,\" - \",I52,\" - \",J52)<>P52),\"Changed since last quarter\",\"\"))","v":""},{"$f":"IF(AND(D52=\"\",E52=\"\",F52=\"\",G52=\"\",H52=\"\",I52=\"\",J52=\"\",K52=\"\"),\"\",IF(AND(OR(J52=\"Complete\",J52=\"Superceded\",J52=\"Redundant\"),H52>Introduction!$C$18),\"Milestone cannot be COMPLETE / SUPERCEDED / REDUNDANT if Forecast/Actual is past the snapshot date - Understand that seabirds change\",IF(AND(J52=\"Live\",H52<Introduction!$C$18),\"Milestone cannot be LIVE if Forecast/Actual is before snapshot date - Understand that seabirds change\",IF(AND(I52<>\"\",K52=\"\",I52>100),CONCATENATE(\"Understand that seabirds explain specifically why there is a \",I52,\" days Ginga from baseline\"),IF(OR(D52=\"\",E52=\"\",F52=\"\",G52=\"\",H52=\"\",I52=\"\",J52=\"\"),\"Understand that seabirds complete\",\"\")))))","v":""}]
[null,null,"6.02.47",null,null,null,null,{"$f":"IF(OR(F53=\"\",G53=\"\"),\"\",_xlfn.DAYS(G53,F53))","v":""},null,null,null,null,{"$f":"IF(AND(D53=\"\",E53=\"\",F53=\"\",G53=\"\",H53=\"\",I53=\"\",J53=\"\",P53=\"\"),\"\",IF(OR(CONCATENATE(D53,\" - \",E53,\" - \",TEXT(F53,\"dd/mm/yyyy\"),\" - \",TEXT(G53,\"dd/mm/yyyy\"),\" - \",H53,\" - \",I53,\" - \",J53)<>P53),\"Changed since last quarter\",\"\"))","v":""},{"$f":"IF(AND(D53=\"\",E53=\"\",F53=\"\",G53=\"\",H53=\"\",I53=\"\",J53=\"\",K53=\"\"),\"\",IF(AND(OR(J53=\"Complete\",J53=\"Superceded\",J53=\"Redundant\"),H53>Introduction!$C$18),\"Milestone cannot be COMPLETE / SUPERCEDED / REDUNDANT if Forecast/Actual is past the snapshot date - Understand that seabirds change\",IF(AND(J53=\"Live\",H53<Introduction!$C$18),\"Milestone cannot be LIVE if Forecast/Actual is before snapshot date - Understand that seabirds change\",IF(AND(I53<>\"\",K53=\"\",I53>100),CONCATENATE(\"Understand that seabirds explain specifically why there is a \",I53,\" days Ginga from baseline\"),IF(OR(D53=\"\",E53=\"\",F53=\"\",G53=\"\",H53=\"\",I53=\"\",J53=\"\"),\"Understand that seabirds complete\",\"\")))))","v":""}]
[null,null,"6.02.48",null,null,null,null,{"$f":"IF(OR(F54=\"\",G54=\"\"),\"\",_xlfn.DAYS(G54,F54))","v":""},null,null,null,null,{"$f":"IF(AND(D54=\"\",E54=\"\",F54=\"\",G54=\"\",H54=\"\",I54=\"\",J54=\"\",P54=\"\"),\"\",IF(OR(CONCATENATE(D54,\" - \",E54,\" - \",TEXT(F54,\"dd/mm/yyyy\"),\" - \",TEXT(G54,\"dd/mm/yyyy\"),\" - \",H54,\" - \",I54,\" - \",J54)<>P54),\"Changed since last quarter\",\"\"))","v":""},{"$f":"IF(AND(D54=\"\",E54=\"\",F54=\"\",G54=\"\",H54=\"\",I54=\"\",J54=\"\",K54=\"\"),\"\",IF(AND(OR(J54=\"Complete\",J54=\"Superceded\",J54=\"Redundant\"),H54>Introduction!$C$18),\"Milestone cannot be COMPLETE / SUPERCEDED / REDUNDANT if Forecast/Actual is past the snapshot date - Understand that seabirds change\",IF(AND(J54=\"Live\",H54<Introduction!$C$18),\"Milestone cannot be LIVE if Forecast/Actual is before snapshot date - Understand that seabirds change\",IF(AND(I54<>\"\",K54=\"\",I54>100),CONCATENATE(\"Understand that seabirds explain specifically why there is a \",I54,\" days Ginga from baseline\"),IF(OR(D54=\"\",E54=\"\",F54=\"\",G54=\"\",H54=\"\",I54=\"\",J54=\"\"),\"Understand that seabirds complete\",\"\")))))","v":""}]
[null,null,"6.02.49",null,null,null,null,{"$f":"IF(OR(F55=\"\",G55=\"\"),\"\",_xlfn.DAYS(G55,F55))","v":""},null,null,null,null,{"$f":"IF(AND(D55=\"\",E55=\"\",F55=\"\",G55=\"\",H55=\"\",I55=\"\",J55=\"\",P55=\"\"),\"\",IF(OR(CONCATENATE(D55,\" - \",E55,\" - \",TEXT(F55,\"dd/mm/yyyy\"),\" - \",TEXT(G55,\"dd/mm/yyyy\"),\" - \",H55,\" - \",I55,\" - \",J55)<>P55),\"Changed since last quarter\",\"\"))","v":""},{"$f":"IF(AND(D55=\"\",E55=\"\",F55=\"\",G55=\"\",H55=\"\",I55=\"\",J55=\"\",K55=\"\"),\"\",IF(AND(OR(J55=\"Complete\",J55=\"Superceded\",J55=\"Redundant\"),H55>Introduction!$C$18),\"Milestone cannot be COMPLETE / SUPERCEDED / REDUNDANT if Forecast/Actual is past the snapshot date - Understand that seabirds change\",IF(AND(J55=\"Live\",H55<Introduction!$C$18),\"Milestone cannot be LIVE if Forecast/Actual is before snapshot date - Understand that seabirds change\",IF(AND(I55<>\"\",K55=\"\",I55>100),CONCATENATE(\"Understand that seabirds explain specifically why there is a \",I55,\" days Ginga from baseline\"),IF(OR(D55=\"\",E55=\"\",F55=\"\",G55=\"\",H55=\"\",I55=\"\",J55=\"\"),\"Understand that seabirds complete\",\"\")))))","v":""}]
[null,null,"6.02.50",null,null,null,null,{"$f":"IF(OR(F56=\"\",G56=\"\"),\"\",_xlfn.DAYS(G56,F56))","v":""},null,null,null,null,{"$f":"IF(AND(D56=\"\",E56=\"\",F56=\"\",G56=\"\",H56=\"\",I56=\"\",J56=\"\",P56=\"\"),\"\",IF(OR(CONCATENATE(D56,\" - \",E56,\" - \",TEXT(F56,\"dd/mm/yyyy\"),\" - \",TEXT(G56,\"dd/mm/yyyy\"),\" - \",H56,\" - \",I56,\" - \",J56)<>P56),\"Changed since last quarter\",\"\"))","v":""},{"$f":"IF(AND(D56=\"\",E56=\"\",F56=\"\",G56=\"\",H56=\"\",I56=\"\",J56=\"\",K56=\"\"),\"\",IF(AND(OR(J56=\"Complete\",J56=\"Superceded\",J56=\"Redundant\"),H56>Introduction!$C$18),\"Milestone cannot be COMPLETE / SUPERCEDED / REDUNDANT if Forecast/Actual is past the snapshot date - Understand that seabirds change\",IF(AND(J56=\"Live\",H56<Introduction!$C$18),\"Milestone cannot be LIVE if Forecast/Actual is before snapshot date - Understand that seabirds change\",IF(AND(I56<>\"\",K56=\"\",I56>100),CONCATENATE(\"Understand that seabirds explain specifically why there is a \",I56,\" days Ginga from baseline\"),IF(OR(D56=\"\",E56=\"\",F56=\"\",G56=\"\",H56=\"\",I56=\"\",J56=\"\"),\"Understand that seabirds complete\",\"\")))))","v":""}]
[null,null,"6.02.51",null,null,null,null,{"$f":"IF(OR(F57=\"\",G57=\"\"),\"\",_xlfn.DAYS(G57,F57))","v":""}]
[null,null,"6.02.52",null,null,null,null,{"$f":"IF(OR(F58=\"\",G58=\"\"),\"\",_xlfn.DAYS(G58,F58))","v":""}]
[null,null,"6.02.53",null,null,null,null,{"$f":"IF(OR(F59=\"\",G59=\"\"),\"\",_xlfn.DAYS(G59,F59))","v":""}]
[null,null,"6.02.54",null,null,null,null,{"$f":"IF(OR(F60=\"\",G60=\"\"),\"\",_xlfn.DAYS(G60,F60))","v":""}]
[null,null,"6.02.55",null,null,null,null,{"$f":"IF(OR(F61=\"\",G61=\"\"),\"\",_xlfn.DAYS(G61,F61))","v":""}]
[null,null,"6.02.56",null,null,null,null,{"$f":"IF(OR(F62=\"\",G62=\"\"),\"\",_xlfn.DAYS(G62,F62))","v":""}]
[null,null,"6.02.57",null,null,null,null,{"$f":"IF(OR(F63=\"\",G63=\"\"),\"\",_xlfn.DAYS(G63,F63))","v":""}]
[null,null,"6.02.58",null,null,null,null,{"$f":"IF(OR(F64=\"\",G64=\"\"),\"\",_xlfn.DAYS(G64,F64))","v":""}]
[null,null,"6.02.59",null,null,null,null,{"$f":"IF(OR(F65=\"\",G65=\"\"),\"\",_xlfn.DAYS(G65,F65))","v":""}]
[null,null,"6.02.60",null,null,null,null,{"$f":"IF(OR(F66=\"\",G66=\"\"),\"\",_xlfn.DAYS(G66,F66))","v":""}]
[null,null,"6.02.61",null,null,null,null,{"$f":"IF(OR(F67=\"\",G67=\"\"),\"\",_xlfn.DAYS(G67,F67))","v":""}]
[null,null,"6.02.62",null,null,null,null,{"$f":"IF(OR(F68=\"\",G68=\"\"),\"\",_xlfn.DAYS(G68,F68))","v":""}]
[null,null,"6.02.63",null,null,null,null,{"$f":"IF(OR(F69=\"\",G69=\"\"),\"\",_xlfn.DAYS(G69,F69))","v":""}]
[null,null,"6.02.64",null,null,null,null,{"$f":"IF(OR(F70=\"\",G70=\"\"),\"\",_xlfn.DAYS(G70,F70))","v":""}]
[null,null,"6.02.65",null,null,null,null,{"$f":"IF(OR(F71=\"\",G71=\"\"),\"\",_xlfn.DAYS(G71,F71))","v":""}]
[null,null,"6.02.66",null,null,null,null,{"$f":"IF(OR(F72=\"\",G72=\"\"),\"\",_xlfn.DAYS(G72,F72))","v":""}]
[null,null,"6.02.67",null,null,null,null,{"$f":"IF(OR(F73=\"\",G73=\"\"),\"\",_xlfn.DAYS(G73,F73))","v":""}]
[null,null,"6.02.68",null,null,null,null,{"$f":"IF(OR(F74=\"\",G74=\"\"),\"\",_xlfn.DAYS(G74,F74))","v":""}]
[null,null,"6.02.69",null,null,null,null,{"$f":"IF(OR(F75=\"\",G75=\"\"),\"\",_xlfn.DAYS(G75,F75))","v":""}]
[null,null,"6.02.70",null,null,null,null,{"$f":"IF(OR(F76=\"\",G76=\"\"),\"\",_xlfn.DAYS(G76,F76))","v":""}]
[null,null,"6.02.71",null,null,null,null,{"$f":"IF(OR(F77=\"\",G77=\"\"),\"\",_xlfn.DAYS(G77,F77))","v":""}]
[null,null,"6.02.72",null,null,null,null,{"$f":"IF(OR(F78=\"\",G78=\"\"),\"\",_xlfn.DAYS(G78,F78))","v":""}]
[null,null,"6.02.73",null,null,null,null,{"$f":"IF(OR(F79=\"\",G79=\"\"),\"\",_xlfn.DAYS(G79,F79))","v":""}]
[null,null,"6.02.74",null,null,null,null,{"$f":"IF(OR(F80=\"\",G80=\"\"),\"\",_xlfn.DAYS(G80,F80))","v":""}]
[null,null,"6.02.75",null,null,null,null,{"$f":"IF(OR(F81=\"\",G81=\"\"),\"\",_xlfn.DAYS(G81,F81))","v":""}]
[null,null,"6.02.76",null,null,null,null,{"$f":"IF(OR(F82=\"\",G82=\"\"),\"\",_xlfn.DAYS(G82,F82))","v":""}]
[null,null,"6.02.77",null,null,null,null,{"$f":"IF(OR(F83=\"\",G83=\"\"),\"\",_xlfn.DAYS(G83,F83))","v":""}]
[null,null,"6.02.78",null,null,null,null,{"$f":"IF(OR(F84=\"\",G84=\"\"),\"\",_xlfn.DAYS(G84,F84))","v":""}]
[null,null,"6.02.79",null,null,null,null,{"$f":"IF(OR(F85=\"\",G85=\"\"),\"\",_xlfn.DAYS(G85,F85))","v":""}]
[null,null,"6.02.80",null,null,null,null,{"$f":"IF(OR(F86=\"\",G86=\"\"),\"\",_xlfn.DAYS(G86,F86))","v":""}]
[null,null,"6.02.81",null,null,null,null,{"$f":"IF(OR(F87=\"\",G87=\"\"),\"\",_xlfn.DAYS(G87,F87))","v":""}]
[null,null,"6.02.82",null,null,null,null,{"$f":"IF(OR(F88=\"\",G88=\"\"),\"\",_xlfn.DAYS(G88,F88))","v":""}]
[null,null,"6.02.83",null,null,null,null,{"$f":"IF(OR(F89=\"\",G89=\"\"),\"\",_xlfn.DAYS(G89,F89))","v":""}]
[null,null,"6.02.84",null,null,null,null,{"$f":"IF(OR(F90=\"\",G90=\"\"),\"\",_xlfn.DAYS(G90,F90))","v":""}]
[null,null,"6.02.85",null,null,null,null,{"$f":"IF(OR(F91=\"\",G91=\"\"),\"\",_xlfn.DAYS(G91,F91))","v":""}]
[null,null,"6.02.86",null,null,null,null,{"$f":"IF(OR(F92=\"\",G92=\"\"),\"\",_xlfn.DAYS(G92,F92))","v":""}]
[null,null,"6.02.87",null,null,null,null,{"$f":"IF(OR(F93=\"\",G93=\"\"),\"\",_xlfn.DAYS(G93,F93))","v":""}]
[null,null,"6.02.88",null,null,null,null,{"$f":"IF(OR(F94=\"\",G94=\"\"),\"\",_xlfn.DAYS(G94,F94))","v":""}]
[null,null,"6.02.89",null,null,null,null,{"$f":"IF(OR(F95=\"\",G95=\"\"),\"\",_xlfn.DAYS(G95,F95))","v":""}]
[null,null,"6.02.90",null,null,null,null,{"$f":"IF(OR(F96=\"\",G96=\"\"),\"\",_xlfn.DAYS(G96,F96))","v":""}]
[null,null,"6.02.91",null,null,null,null,{"$f":"IF(OR(F97=\"\",G97=\"\"),\"\",_xlfn.DAYS(G97,F97))","v":""}]
[null,null,"6.02.92",null,null,null,null,{"$f":"IF(OR(F98=\"\",G98=\"\"),\"\",_xlfn.DAYS(G98,F98))","v":""}]
[null,null,"6.02.93",null,null,null,null,{"$f":"IF(OR(F99=\"\",G99=\"\"),\"\",_xlfn.DAYS(G99,F99))","v":""}]
[null,null,"6.02.94",null,null,null,null,{"$f":"IF(OR(F100=\"\",G100=\"\"),\"\",_xlfn.DAYS(G100,F100))","v":""}]
[null,null,"6.02.95",null,null,null,null,{"$f":"IF(OR(F101=\"\",G101=\"\"),\"\",_xlfn.DAYS(G101,F101))","v":""}]
[null,null,"6.02.96",null,null,null,null,{"$f":"IF(OR(F102=\"\",G102=\"\"),\"\",_xlfn.DAYS(G102,F102))","v":""}]
[null,null,"6.02.97",null,null,null,null,{"$f":"IF(OR(F103=\"\",G103=\"\"),\"\",_xlfn.DAYS(G103,F103))","v":""}]
[null,null,"6.02.98",null,null,null,null,{"$f":"IF(OR(F104=\"\",G104=\"\"),\"\",_xlfn.DAYS(G104,F104))","v":""}]
[null,null,"6.02.99",null,null,null,null,{"$f":"IF(OR(F105=\"\",G105=\"\"),\"\",_xlfn.DAYS(G105,F105))","v":""}]
[null,null,"6.02.100",null,null,null,null,{"$f":"IF(OR(F106=\"\",G106=\"\"),\"\",_xlfn.DAYS(G106,F106))","v":""}]

{"sheet":"6c - Milestones - Delivery","index":19,"n_rows":110,"n_cols":19,"rows_kept":110,"cut":false,"hidden":false,"merged":[[0,1,0,10],[1,12,1,13],[1,15,1,18],[2,3,2,10],[3,3,3,10],[4,3,4,10],[4,12,4,18],[6,0,12,0],[107,3,107,9],[108,3,108,4],[108,5,108,9],[109,3,109,4],[109,5,109,9]]}
[{"$f":"IF(Introduction!C12=\"\",\"ID NUMBER\",Introduction!C12)","v":"ARE_0024_1516-Q4"},{"$f":"IF(Introduction!C11=\"\",\"Project Name\",Introduction!C11)","v":"Universal Cantilever Bridge over the River Styx"}]
[null,null,null,null,null,null,null,null,null,null,null,null,"Validation",null,null,"Previous Quarterly Data"]
["Guidance Notes - Refer to Guidance Document for more detail","Doodle Column\n(Contents not collated by the IPA)",6,"Delivery History (Highlevel and covers whole project lifecycle)",null,null,null,null,null,null,null,null,"Change since last qtr.","Automated Validation",null,{"$f":"IF(LEFT(Introduction!$C$17,2)=\"Q4\",\"Q3\",IF(LEFT(Introduction!$C$17,2)=\"Q3\",\"Q2\",IF(LEFT(Introduction!$C$17,2)=\"Q2\",\"Q1\",\"Q4\")))","v":"Q4"},{"$f":"IF(LEFT(Introduction!$C$17,2)=\"Q4\",\"Q2\",IF(LEFT(Introduction!$C$17,2)=\"Q3\",\"Q1\",IF(LEFT(Introduction!$C$17,2)=\"Q2\",\"Q4\",\"Q3\")))","v":"Q3"},{"$f":"IF(LEFT(Introduction!$C$17,2)=\"Q4\",\"Q1\",IF(LEFT(Introduction!$C$17,2)=\"Q3\",\"Q4\",IF(LEFT(Introduction!$C$17,2)=\"Q2\",\"Q3\",\"Q2\")))","v":"Q2"},{"$f":"IF(LEFT(Introduction!$C$17,2)=\"Q4\",\"Q4\",IF(LEFT(Introduction!$C$17,2)=\"Q3\",\"Q3\",IF(LEFT(Introduction!$C$17,2)=\"Q2\",\"Q2\",\"Q1\")))","v":"Q1"}]
[]
[null,null,6.03,"Delivery History (covers all high level delivery in life of Problems entity and below)",null,null,null,null,null,null,null,null,{"$f":"D5","v":"Delivery History (covers all high level delivery in life of Problems entity and below)"}]
[null,null,null,"Miletone label","Critical Path","Baseline Date of Milestone","Forecast / Actual Date \nof Milestone","Variance between Baseline and Forecast/ Actual Dates (Days)","Status","Specific reason/s for any delay (mandatory if over 100 days)"]
[null,null,"6.03.1","Start of Project","Yes","2009-12-01","2014-12-01",{"$f":"IF(OR(F7=\"\",G7=\"\"),\"\",_xlfn.DAYS(G7,F7))","v":1826},"Complete",null,null,null,{"$f":"IF(AND(D7=\"\",E7=\"\",F7=\"\",G7=\"\",H7=\"\",I7=\"\",J7=\"\",P7=\"\"),\"\",IF(OR(CONCATENATE(D7,\" - \",E7,\" - \",TEXT(F7,\"dd/mm/yyyy\"),\" - \",TEXT(G7,\"dd/mm/yyyy\"),\" - \",H7,\" - \",I7,\" - \",J7)<>P7),\"Changed since last quarter\",\"\"))","v":"Changed since last quarter"},{"$f":"IF(AND(D7=\"\",E7=\"\",F7=\"\",G7=\"\",H7=\"\",I7=\"\",J7=\"\"),\"\",IF(AND(OR(I7=\"Complete\",I7=\"Superceded\",I7=\"Redundant\"),G7>Introduction!$C$18),\"Milestone cannot be COMPLETE / SUPERCEDED / REDUNDANT if Forecast/Actual is past snapshot date - please change\",IF(AND(I7=\"Live\",G7<Introduction!$C$18),\"Milestone cannot be LIVE if Forecast/Actual is before snapshot date - please change\",IF(AND(H7<>\"\",J7=\"\",H7>100),CONCATENATE(\"Please explain specifically why there is a \",I7,\" days variance from baseline\"),IF(OR(D7=\"\",E7=\"\",F7=\"\",G7=\"\",H7=\"\",I7=\"\"),\"Please complete\",\"\")))))","v":"Please explain specifically why there is a Complete days variance from baseline"}]
[null,null,"6.03.2","Project End Date","No","2028-06-01","2028-06-01",{"$f":"IF(OR(F8=\"\",G8=\"\"),\"\",_xlfn.DAYS(G8,F8))","v":0},"Live",null,null,null,{"$f":"IF(AND(D8=\"\",E8=\"\",F8=\"\",G8=\"\",H8=\"\",I8=\"\",J8=\"\",P8=\"\"),\"\",IF(OR(CONCATENATE(D8,\" - \",E8,\" - \",TEXT(F8,\"dd/mm/yyyy\"),\" - \",TEXT(G8,\"dd/mm/yyyy\"),\" - \",H8,\" - \",I8,\" - \",J8)<>P8),\"Changed since last quarter\",\"\"))","v":"Changed since last quarter"},{"$f":"IF(AND(D8=\"\",E8=\"\",F8=\"\",G8=\"\",H8=\"\",I8=\"\",J8=\"\"),\"\",IF(AND(OR(I8=\"Complete\",I8=\"Superceded\",I8=\"Redundant\"),G8>Introduction!$C$18),\"Milestone cannot be COMPLETE / SUPERCEDED / REDUNDANT if Forecast/Actual is past snapshot date - please change\",IF(AND(I8=\"Live\",G8<Introduction!$C$18),\"Milestone cannot be LIVE if Forecast/Actual is before snapshot date - please change\",IF(AND(H8<>\"\",J8=\"\",H8>100),CONCATENATE(\"Please explain specifically why there is a \",I8,\" days variance from baseline\"),IF(OR(D8=\"\",E8=\"\",F8=\"\",G8=\"\",H8=\"\",I8=\"\"),\"Please complete\",\"\")))))","v":""}]
[null,null,"6.03.3","Project - Business Case End Date","No","2086-06-30","2086-06-30",{"$f":"IF(OR(F9=\"\",G9=\"\"),\"\",_xlfn.DAYS(G9,F9))","v":0},"Live",null,null,null,{"$f":"IF(AND(D9=\"\",E9=\"\",F9=\"\",G9=\"\",H9=\"\",I9=\"\",J9=\"\",P9=\"\"),\"\",IF(OR(CONCATENATE(D9,\" - \",E9,\" - \",TEXT(F9,\"dd/mm/yyyy\"),\" - \",TEXT(G9,\"dd/mm/yyyy\"),\" - \",H9,\" - \",I9,\" - \",J9)<>P9),\"Changed since last quarter\",\"\"))","v":"Changed since last quarter"},{"$f":"IF(AND(D9=\"\",E9=\"\",F9=\"\",G9=\"\",H9=\"\",I9=\"\",J9=\"\"),\"\",IF(AND(OR(I9=\"Complete\",I9=\"Superceded\",I9=\"Redundant\"),G9>Introduction!$C$18),\"Milestone cannot be COMPLETE / SUPERCEDED / REDUNDANT if Forecast/Actual is past snapshot date - please change\",IF(AND(I9=\"Live\",G9<Introduction!$C$18),\"Milestone cannot be LIVE if Forecast/Actual is before snapshot date - please change\",IF(AND(H9<>\"\",J9=\"\",H9>100),CONCATENATE(\"Please explain specifically why there is a \",I9,\" days variance from baseline\"),IF(OR(D9=\"\",E9=\"\",F9=\"\",G9=\"\",H9=\"\",I9=\"\"),\"Please complete\",\"\")))))","v":""}]
[null,null,"6.03.4","Start of Construction/build","Yes","2021-03-15","2021-03-15",{"$f":"IF(OR(F10=\"\",G10=\"\"),\"\",_xlfn.DAYS(G10,F10))","v":0},"Live",null,null,null,{"$f":"IF(AND(D10=\"\",E10=\"\",F10=\"\",G10=\"\",H10=\"\",I10=\"\",J10=\"\",P10=\"\"),\"\",IF(OR(CONCATENATE(D10,\" - \",E10,\" - \",TEXT(F10,\"dd/mm/yyyy\"),\" - \",TEXT(G10,\"dd/mm/yyyy\"),\" - \",H10,\" - \",I10,\" - \",J10)<>P10),\"Changed since last quarter\",\"\"))","v":"Changed since last quarter"},{"$f":"IF(AND(D10=\"\",E10=\"\",F10=\"\",G10=\"\",H10=\"\",I10=\"\",J10=\"\",K10=\"\"),\"\",IF(AND(OR(J10=\"Complete\",J10=\"Superceded\",J10=\"Redundant\"),H10>Introduction!$C$18),\"Milestone cannot be COMPLETE / SUPERCEDED / REDUNDANT if Forecast/Actual is past the snapshot date - please change\",IF(AND(J10=\"Live\",H10<Introduction!$C$18),\"Milestone cannot be LIVE if Forecast/Actual is before snapshot date - please change\",IF(AND(I10<>\"\",K10=\"\",I10>100),CONCATENATE(\"Please explain specifically why there is a \",I10,\" days variance from baseline\"),IF(OR(D10=\"\",E10=\"\",F10=\"\",G10=\"\",H10=\"\",I10=\"\",J10=\"\"),\"Please complete\",\"\")))))","v":"Please explain specifically why there is a Live days variance from baseline"}]
[null,null,"6.03.5","NAO Review","No","2018-10-27","2019-04-25",{"$f":"IF(OR(F11=\"\",G11=\"\"),\"\",_xlfn.DAYS(G11,F11))","v":180},"Live",null,null,null,{"$f":"IF(AND(D11=\"\",E11=\"\",F11=\"\",G11=\"\",H11=\"\",I11=\"\",J11=\"\",P11=\"\"),\"\",IF(OR(CONCATENATE(D11,\" - \",E11,\" - \",TEXT(F11,\"dd/mm/yyyy\"),\" - \",TEXT(G11,\"dd/mm/yyyy\"),\" - \",H11,\" - \",I11,\" - \",J11)<>P11),\"Changed since last quarter\",\"\"))","v":"Changed since last quarter"},{"$f":"IF(AND(D11=\"\",E11=\"\",F11=\"\",G11=\"\",H11=\"\",I11=\"\",J11=\"\",K11=\"\"),\"\",IF(AND(OR(J11=\"Complete\",J11=\"Superceded\",J11=\"Redundant\"),H11>Introduction!$C$18),\"Milestone cannot be COMPLETE / SUPERCEDED / REDUNDANT if Forecast/Actual is past the snapshot date - please change\",IF(AND(J11=\"Live\",H11<Introduction!$C$18),\"Milestone cannot be LIVE if Forecast/Actual is before snapshot date - please change\",IF(AND(I11<>\"\",K11=\"\",I11>100),CONCATENATE(\"Please explain specifically why there is a \",I11,\" days variance from baseline\"),IF(OR(D11=\"\",E11=\"\",F11=\"\",G11=\"\",H11=\"\",I11=\"\",J11=\"\"),\"Please complete\",\"\")))))","v":"Please explain specifically why there is a Live days variance from baseline"}]
[null,null,"6.03.6","MPRG - OBC","No","2018-07-27","2019-05-01",{"$f":"IF(OR(F12=\"\",G12=\"\"),\"\",_xlfn.DAYS(G12,F12))","v":278},"Live",null,null,null,{"$f":"IF(AND(D12=\"\",E12=\"\",F12=\"\",G12=\"\",H12=\"\",I12=\"\",J12=\"\",P12=\"\"),\"\",IF(OR(CONCATENATE(D12,\" - \",E12,\" - \",TEXT(F12,\"dd/mm/yyyy\"),\" - \",TEXT(G12,\"dd/mm/yyyy\"),\" - \",H12,\" - \",I12,\" - \",J12)<>P12),\"Changed since last quarter\",\"\"))","v":"Changed since last quarter"},{"$f":"IF(AND(D12=\"\",E12=\"\",F12=\"\",G12=\"\",H12=\"\",I12=\"\",J12=\"\",K12=\"\"),\"\",IF(AND(OR(J12=\"Complete\",J12=\"Superceded\",J12=\"Redundant\"),H12>Introduction!$C$18),\"Milestone cannot be COMPLETE / SUPERCEDED / REDUNDANT if Forecast/Actual is past the snapshot date - please change\",IF(AND(J12=\"Live\",H12<Introduction!$C$18),\"Milestone cannot be LIVE if Forecast/Actual is before snapshot date - please change\",IF(AND(I12<>\"\",K12=\"\",I12>100),CONCATENATE(\"Please explain specifically why there is a \",I12,\" days variance from baseline\"),IF(OR(D12=\"\",E12=\"\",F12=\"\",G12=\"\",H12=\"\",I12=\"\",J12=\"\"),\"Please complete\",\"\")))))","v":"Please explain specifically why there is a Live days variance from baseline"}]
[null,null,"6.03.7","Start of Competitive Dialogue","Yes","2020-01-31","2020-01-31",{"$f":"IF(OR(F13=\"\",G13=\"\"),\"\",_xlfn.DAYS(G13,F13))","v":0},"Live",null,null,null,{"$f":"IF(AND(D13=\"\",E13=\"\",F13=\"\",G13=\"\",H13=\"\",I13=\"\",J13=\"\",P13=\"\"),\"\",IF(OR(CONCATENATE(D13,\" - \",E13,\" - \",TEXT(F13,\"dd/mm/yyyy\"),\" - \",TEXT(G13,\"dd/mm/yyyy\"),\" - \",H13,\" - \",I13,\" - \",J13)<>P13),\"Changed since last quarter\",\"\"))","v":"Changed since last quarter"},{"$f":"IF(AND(D13=\"\",E13=\"\",F13=\"\",G13=\"\",H13=\"\",I13=\"\",J13=\"\",K13=\"\"),\"\",IF(AND(OR(J13=\"Complete\",J13=\"Superceded\",J13=\"Redundant\"),H13>Introduction!$C$18),\"Milestone cannot be COMPLETE / SUPERCEDED / REDUNDANT if Forecast/Actual is past the snapshot date - please change\",IF(AND(J13=\"Live\",H13<Introduction!$C$18),\"Milestone cannot be LIVE if Forecast/Actual is before snapshot date - please change\",IF(AND(I13<>\"\",K13=\"\",I13>100),CONCATENATE(\"Please explain specifically why there is a \",I13,\" days variance from baseline\"),IF(OR(D13=\"\",E13=\"\",F13=\"\",G13=\"\",H13=\"\",I13=\"\",J13=\"\"),\"Please complete\",\"\")))))","v":"Please explain specifically why there is a Live days variance from baseline"}]
[null,null,"6.03.8","Start of Examination Period","Yes","2019-04-03","2051-04-03",{"$f":"IF(OR(F14=\"\",G14=\"\"),\"\",_xlfn.DAYS(G14,F14))","v":11688},"Live","Starts immediately after Preliminary Hearing on 2nd April 2000.",null,null,{"$f":"IF(AND(D14=\"\",E14=\"\",F14=\"\",G14=\"\",H14=\"\",I14=\"\",J14=\"\",P14=\"\"),\"\",IF(OR(CONCATENATE(D14,\" - \",E14,\" - \",TEXT(F14,\"dd/mm/yyyy\"),\" - \",TEXT(G14,\"dd/mm/yyyy\"),\" - \",H14,\" - \",I14,\" - \",J14)<>P14),\"Changed since last quarter\",\"\"))","v":"Changed since last quarter"},{"$f":"IF(AND(D14=\"\",E14=\"\",F14=\"\",G14=\"\",H14=\"\",I14=\"\",J14=\"\",K14=\"\"),\"\",IF(AND(OR(J14=\"Complete\",J14=\"Superceded\",J14=\"Redundant\"),H14>Introduction!$C$18),\"Milestone cannot be COMPLETE / SUPERCEDED / REDUNDANT if Forecast/Actual is past the snapshot date - please change\",IF(AND(J14=\"Live\",H14<Introduction!$C$18),\"Milestone cannot be LIVE if Forecast/Actual is before snapshot date - please change\",IF(AND(I14<>\"\",K14=\"\",I14>100),CONCATENATE(\"Please explain specifically why there is a \",I14,\" days variance from baseline\"),IF(OR(D14=\"\",E14=\"\",F14=\"\",G14=\"\",H14=\"\",I14=\"\",J14=\"\"),\"Please complete\",\"\")))))","v":"Please explain specifically why there is a Live days variance from baseline"}]
[null,null,"6.03.9","Start of Operation","Yes","2026-12-31","2026-12-31",{"$f":"IF(OR(F15=\"\",G15=\"\"),\"\",_xlfn.DAYS(G15,F15))","v":0},"Live",null,null,null,{"$f":"IF(AND(D15=\"\",E15=\"\",F15=\"\",G15=\"\",H15=\"\",I15=\"\",J15=\"\",P15=\"\"),\"\",IF(OR(CONCATENATE(D15,\" - \",E15,\" - \",TEXT(F15,\"dd/mm/yyyy\"),\" - \",TEXT(G15,\"dd/mm/yyyy\"),\" - \",H15,\" - \",I15,\" - \",J15)<>P15),\"Changed since last quarter\",\"\"))","v":"Changed since last quarter"},{"$f":"IF(AND(D15=\"\",E15=\"\",F15=\"\",G15=\"\",H15=\"\",I15=\"\",J15=\"\",K15=\"\"),\"\",IF(AND(OR(J15=\"Complete\",J15=\"Superceded\",J15=\"Redundant\"),H15>Introduction!$C$18),\"Milestone cannot be COMPLETE / SUPERCEDED / REDUNDANT if Forecast/Actual is past the snapshot date - please change\",IF(AND(J15=\"Live\",H15<Introduction!$C$18),\"Milestone cannot be LIVE if Forecast/Actual is before snapshot date - please change\",IF(AND(I15<>\"\",K15=\"\",I15>100),CONCATENATE(\"Please explain specifically why there is a \",I15,\" days variance from baseline\"),IF(OR(D15=\"\",E15=\"\",F15=\"\",G15=\"\",H15=\"\",I15=\"\",J15=\"\"),\"Please complete\",\"\")))))","v":"Please explain specifically why there is a Live days variance from baseline"}]
[null,null,"6.03.10","OBC Approval (CST Confirmation Letter)","Yes","2019-07-31","2019-07-31",{"$f":"IF(OR(F16=\"\",G16=\"\"),\"\",_xlfn.DAYS(G16,F16))","v":0},"Live",null,null,null,{"$f":"IF(AND(D16=\"\",E16=\"\",F16=\"\",G16=\"\",H16=\"\",I16=\"\",J16=\"\",P16=\"\"),\"\",IF(OR(CONCATENATE(D16,\" - \",E16,\" - \",TEXT(F16,\"dd/mm/yyyy\"),\" - \",TEXT(G16,\"dd/mm/yyyy\"),\" - \",H16,\" - \",I16,\" - \",J16)<>P16),\"Changed since last quarter\",\"\"))","v":"Changed since last quarter"},{"$f":"IF(AND(D16=\"\",E16=\"\",F16=\"\",G16=\"\",H16=\"\",I16=\"\",J16=\"\",K16=\"\"),\"\",IF(AND(OR(J16=\"Complete\",J16=\"Superceded\",J16=\"Redundant\"),H16>Introduction!$C$18),\"Milestone cannot be COMPLETE / SUPERCEDED / REDUNDANT if Forecast/Actual is past the snapshot date - please change\",IF(AND(J16=\"Live\",H16<Introduction!$C$18),\"Milestone cannot be LIVE if Forecast/Actual is before snapshot date - please change\",IF(AND(I16<>\"\",K16=\"\",I16>100),CONCATENATE(\"Please explain specifically why there is a \",I16,\" days variance from baseline\"),IF(OR(D16=\"\",E16=\"\",F16=\"\",G16=\"\",H16=\"\",I16=\"\",J16=\"\"),\"Please complete\",\"\")))))","v":"Please explain specifically why there is a Live days variance from baseline"}]
[null,null,"6.03.11",null,null,null,null,{"$f":"IF(OR(F17=\"\",G17=\"\"),\"\",_xlfn.DAYS(G17,F17))","v":""},null,null,null,null,{"$f":"IF(AND(D17=\"\",E17=\"\",F17=\"\",G17=\"\",H17=\"\",I17=\"\",J17=\"\",P17=\"\"),\"\",IF(OR(CONCATENATE(D17,\" - \",E17,\" - \",TEXT(F17,\"dd/mm/yyyy\"),\" - \",TEXT(G17,\"dd/mm/yyyy\"),\" - \",H17,\" - \",I17,\" - \",J17)<>P17),\"Changed since last quarter\",\"\"))","v":""},{"$f":"IF(AND(D17=\"\",E17=\"\",F17=\"\",G17=\"\",H17=\"\",I17=\"\",J17=\"\",K17=\"\"),\"\",IF(AND(OR(J17=\"Complete\",J17=\"Superceded\",J17=\"Redundant\"),H17>Introduction!$C$18),\"Milestone cannot be COMPLETE / SUPERCEDED / REDUNDANT if Forecast/Actual is past the snapshot date - please change\",IF(AND(J17=\"Live\",H17<Introduction!$C$18),\"Milestone cannot be LIVE if Forecast/Actual is before snapshot date - please change\",IF(AND(I17<>\"\",K17=\"\",I17>100),CONCATENATE(\"Please explain specifically why there is a \",I17,\" days variance from baseline\"),IF(OR(D17=\"\",E17=\"\",F17=\"\",G17=\"\",H17=\"\",I17=\"\",J17=\"\"),\"Please complete\",\"\")))))","v":""}]
[null,null,"6.03.12",null,null,null,null,{"$f":"IF(OR(F18=\"\",G18=\"\"),\"\",_xlfn.DAYS(G18,F18))","v":""},null,null,null,null,{"$f":"IF(AND(D18=\"\",E18=\"\",F18=\"\",G18=\"\",H18=\"\",I18=\"\",J18=\"\",P18=\"\"),\"\",IF(OR(CONCATENATE(D18,\" - \",E18,\" - \",TEXT(F18,\"dd/mm/yyyy\"),\" - \",TEXT(G18,\"dd/mm/yyyy\"),\" - \",H18,\" - \",I18,\" - \",J18)<>P18),\"Changed since last quarter\",\"\"))","v":""},{"$f":"IF(AND(D18=\"\",E18=\"\",F18=\"\",G18=\"\",H18=\"\",I18=\"\",J18=\"\",K18=\"\"),\"\",IF(AND(OR(J18=\"Complete\",J18=\"Superceded\",J18=\"Redundant\"),H18>Introduction!$C$18),\"Milestone cannot be COMPLETE / SUPERCEDED / REDUNDANT if Forecast/Actual is past the snapshot date - please change\",IF(AND(J18=\"Live\",H18<Introduction!$C$18),\"Milestone cannot be LIVE if Forecast/Actual is before snapshot date - please change\",IF(AND(I18<>\"\",K18=\"\",I18>100),CONCATENATE(\"Please explain specifically why there is a \",I18,\" days variance from baseline\"),IF(OR(D18=\"\",E18=\"\",F18=\"\",G18=\"\",H18=\"\",I18=\"\",J18=\"\"),\"Please complete\",\"\")))))","v":""}]
[null,null,"6.03.13",null,null,null,null,{"$f":"IF(OR(F19=\"\",G19=\"\"),\"\",_xlfn.DAYS(G19,F19))","v":""},null,null,null,null,{"$f":"IF(AND(D19=\"\",E19=\"\",F19=\"\",G19=\"\",H19=\"\",I19=\"\",J19=\"\",P19=\"\"),\"\",IF(OR(CONCATENATE(D19,\" - \",E19,\" - \",TEXT(F19,\"dd/mm/yyyy\"),\" - \",TEXT(G19,\"dd/mm/yyyy\"),\" - \",H19,\" - \",I19,\" - \",J19)<>P19),\"Changed since last quarter\",\"\"))","v":""},{"$f":"IF(AND(D19=\"\",E19=\"\",F19=\"\",G19=\"\",H19=\"\",I19=\"\",J19=\"\",K19=\"\"),\"\",IF(AND(OR(J19=\"Complete\",J19=\"Superceded\",J19=\"Redundant\"),H19>Introduction!$C$18),\"Milestone cannot be COMPLETE / SUPERCEDED / REDUNDANT if Forecast/Actual is past the snapshot date - please change\",IF(AND(J19=\"Live\",H19<Introduction!$C$18),\"Milestone cannot be LIVE if Forecast/Actual is before snapshot date - please change\",IF(AND(I19<>\"\",K19=\"\",I19>100),CONCATENATE(\"Please explain specifically why there is a \",I19,\" days variance from baseline\"),IF(OR(D19=\"\",E19=\"\",F19=\"\",G19=\"\",H19=\"\",I19=\"\",J19=\"\"),\"Please complete\",\"\")))))","v":""}]
[null,null,"6.03.14",null,null,null,null,{"$f":"IF(OR(F20=\"\",G20=\"\"),\"\",_xlfn.DAYS(G20,F20))","v":""},null,null,null,null,{"$f":"IF(AND(D20=\"\",E20=\"\",F20=\"\",G20=\"\",H20=\"\",I20=\"\",J20=\"\",P20=\"\"),\"\",IF(OR(CONCATENATE(D20,\" - \",E20,\" - \",TEXT(F20,\"dd/mm/yyyy\"),\" - \",TEXT(G20,\"dd/mm/yyyy\"),\" - \",H20,\" - \",I20,\" - \",J20)<>P20),\"Changed since last quarter\",\"\"))","v":""},{"$f":"IF(AND(D20=\"\",E20=\"\",F20=\"\",G20=\"\",H20=\"\",I20=\"\",J20=\"\",K20=\"\"),\"\",IF(AND(OR(J20=\"Complete\",J20=\"Superceded\",J20=\"Redundant\"),H20>Introduction!$C$18),\"Milestone cannot be COMPLETE / SUPERCEDED / REDUNDANT if Forecast/Actual is past the snapshot date - please change\",IF(AND(J20=\"Live\",H20<Introduction!$C$18),\"Milestone cannot be LIVE if Forecast/Actual is before snapshot date - please change\",IF(AND(I20<>\"\",K20=\"\",I20>100),CONCATENATE(\"Please explain specifically why there is a \",I20,\" days variance from baseline\"),IF(OR(D20=\"\",E20=\"\",F20=\"\",G20=\"\",H20=\"\",I20=\"\",J20=\"\"),\"Please complete\",\"\")))))","v":""}]
[null,null,"6.03.15",null,null,null,null,{"$f":"IF(OR(F21=\"\",G21=\"\"),\"\",_xlfn.DAYS(G21,F21))","v":""},null,null,null,null,{"$f":"IF(AND(D21=\"\",E21=\"\",F21=\"\",G21=\"\",H21=\"\",I21=\"\",J21=\"\",P21=\"\"),\"\",IF(OR(CONCATENATE(D21,\" - \",E21,\" - \",TEXT(F21,\"dd/mm/yyyy\"),\" - \",TEXT(G21,\"dd/mm/yyyy\"),\" - \",H21,\" - \",I21,\" - \",J21)<>P21),\"Changed since last quarter\",\"\"))","v":""},{"$f":"IF(AND(D21=\"\",E21=\"\",F21=\"\",G21=\"\",H21=\"\",I21=\"\",J21=\"\",K21=\"\"),\"\",IF(AND(OR(J21=\"Complete\",J21=\"Superceded\",J21=\"Redundant\"),H21>Introduction!$C$18),\"Milestone cannot be COMPLETE / SUPERCEDED / REDUNDANT if Forecast/Actual is past the snapshot date - please change\",IF(AND(J21=\"Live\",H21<Introduction!$C$18),\"Milestone cannot be LIVE if Forecast/Actual is before snapshot date - please change\",IF(AND(I21<>\"\",K21=\"\",I21>100),CONCATENATE(\"Please explain specifically why there is a \",I21,\" days variance from baseline\"),IF(OR(D21=\"\",E21=\"\",F21=\"\",G21=\"\",H21=\"\",I21=\"\",J21=\"\"),\"Please complete\",\"\")))))","v":""}]
[null,null,"6.03.16",null,null,null,null,{"$f":"IF(OR(F22=\"\",G22=\"\"),\"\",_xlfn.DAYS(G22,F22))","v":""},null,null,null,null,{"$f":"IF(AND(D22=\"\",E22=\"\",F22=\"\",G22=\"\",H22=\"\",I22=\"\",J22=\"\",P22=\"\"),\"\",IF(OR(CONCATENATE(D22,\" - \",E22,\" - \",TEXT(F22,\"dd/mm/yyyy\"),\" - \",TEXT(G22,\"dd/mm/yyyy\"),\" - \",H22,\" - \",I22,\" - \",J22)<>P22),\"Changed since last quarter\",\"\"))","v":""},{"$f":"IF(AND(D22=\"\",E22=\"\",F22=\"\",G22=\"\",H22=\"\",I22=\"\",J22=\"\",K22=\"\"),\"\",IF(AND(OR(J22=\"Complete\",J22=\"Superceded\",J22=\"Redundant\"),H22>Introduction!$C$18),\"Milestone cannot be COMPLETE / SUPERCEDED / REDUNDANT if Forecast/Actual is past the snapshot date - please change\",IF(AND(J22=\"Live\",H22<Introduction!$C$18),\"Milestone cannot be LIVE if Forecast/Actual is before snapshot date - please change\",IF(AND(I22<>\"\",K22=\"\",I22>100),CONCATENATE(\"Please explain specifically why there is a \",I22,\" days variance from baseline\"),IF(OR(D22=\"\",E22=\"\",F22=\"\",G22=\"\",H22=\"\",I22=\"\",J22=\"\"),\"Please complete\",\"\")))))","v":""}]
[null,null,"6.03.17",null,null,null,null,{"$f":"IF(OR(F23=\"\",G23=\"\"),\"\",_xlfn.DAYS(G23,F23))","v":""},null,null,null,null,{"$f":"IF(AND(D23=\"\",E23=\"\",F23=\"\",G23=\"\",H23=\"\",I23=\"\",J23=\"\",P23=\"\"),\"\",IF(OR(CONCATENATE(D23,\" - \",E23,\" - \",TEXT(F23,\"dd/mm/yyyy\"),\" - \",TEXT(G23,\"dd/mm/yyyy\"),\" - \",H23,\" - \",I23,\" - \",J23)<>P23),\"Changed since last quarter\",\"\"))","v":""},{"$f":"IF(AND(D23=\"\",E23=\"\",F23=\"\",G23=\"\",H23=\"\",I23=\"\",J23=\"\",K23=\"\"),\"\",IF(AND(OR(J23=\"Complete\",J23=\"Superceded\",J23=\"Redundant\"),H23>Introduction!$C$18),\"Milestone cannot be COMPLETE / SUPERCEDED / REDUNDANT if Forecast/Actual is past the snapshot date - please change\",IF(AND(J23=\"Live\",H23<Introduction!$C$18),\"Milestone cannot be LIVE if Forecast/Actual is before snapshot date - please change\",IF(AND(I23<>\"\",K23=\"\",I23>100),CONCATENATE(\"Please explain specifically why there is a \",I23,\" days variance from baseline\"),IF(OR(D23=\"\",E23=\"\",F23=\"\",G23=\"\",H23=\"\",I23=\"\",J23=\"\"),\"Please complete\",\"\")))))","v":""}]
[null,null,"6.03.18",null,null,null,null,{"$f":"IF(OR(F24=\"\",G24=\"\"),\"\",_xlfn.DAYS(G24,F24))","v":""},null,null,null,null,{"$f":"IF(AND(D24=\"\",E24=\"\",F24=\"\",G24=\"\",H24=\"\",I24=\"\",J24=\"\",P24=\"\"),\"\",IF(OR(CONCATENATE(D24,\" - \",E24,\" - \",TEXT(F24,\"dd/mm/yyyy\"),\" - \",TEXT(G24,\"dd/mm/yyyy\"),\" - \",H24,\" - \",I24,\" - \",J24)<>P24),\"Changed since last quarter\",\"\"))","v":""},{"$f":"IF(AND(D24=\"\",E24=\"\",F24=\"\",G24=\"\",H24=\"\",I24=\"\",J24=\"\",K24=\"\"),\"\",IF(AND(OR(J24=\"Complete\",J24=\"Superceded\",J24=\"Redundant\"),H24>Introduction!$C$18),\"Milestone cannot be COMPLETE / SUPERCEDED / REDUNDANT if Forecast/Actual is past the snapshot date - please change\",IF(AND(J24=\"Live\",H24<Introduction!$C$18),\"Milestone cannot be LIVE if Forecast/Actual is before snapshot date - please change\",IF(AND(I24<>\"\",K24=\"\",I24>100),CONCATENATE(\"Please explain specifically why there is a \",I24,\" days variance from baseline\"),IF(OR(D24=\"\",E24=\"\",F24=\"\",G24=\"\",H24=\"\",I24=\"\",J24=\"\"),\"Please complete\",\"\")))))","v":""}]
[null,null,"6.03.19",null,null,null,null,{"$f":"IF(OR(F25=\"\",G25=\"\"),\"\",_xlfn.DAYS(G25,F25))","v":""},null,null,null,null,{"$f":"IF(AND(D25=\"\",E25=\"\",F25=\"\",G25=\"\",H25=\"\",I25=\"\",J25=\"\",P25=\"\"),\"\",IF(OR(CONCATENATE(D25,\" - \",E25,\" - \",TEXT(F25,\"dd/mm/yyyy\"),\" - \",TEXT(G25,\"dd/mm/yyyy\"),\" - \",H25,\" - \",I25,\" - \",J25)<>P25),\"Changed since last quarter\",\"\"))","v":""},{"$f":"IF(AND(D25=\"\",E25=\"\",F25=\"\",G25=\"\",H25=\"\",I25=\"\",J25=\"\",K25=\"\"),\"\",IF(AND(OR(J25=\"Complete\",J25=\"Superceded\",J25=\"Redundant\"),H25>Introduction!$C$18),\"Milestone cannot be COMPLETE / SUPERCEDED / REDUNDANT if Forecast/Actual is past the snapshot date - please change\",IF(AND(J25=\"Live\",H25<Introduction!$C$18),\"Milestone cannot be LIVE if Forecast/Actual is before snapshot date - please change\",IF(AND(I25<>\"\",K25=\"\",I25>100),CONCATENATE(\"Please explain specifically why there is a \",I25,\" days variance from baseline\"),IF(OR(D25=\"\",E25=\"\",F25=\"\",G25=\"\",H25=\"\",I25=\"\",J25=\"\"),\"Please complete\",\"\")))))","v":""}]
[null,null,"6.03.20",null,null,null,null,{"$f":"IF(OR(F26=\"\",G26=\"\"),\"\",_xlfn.DAYS(G26,F26))","v":""},null,null,null,null,{"$f":"IF(AND(D26=\"\",E26=\"\",F26=\"\",G26=\"\",H26=\"\",I26=\"\",J26=\"\",P26=\"\"),\"\",IF(OR(CONCATENATE(D26,\" - \",E26,\" - \",TEXT(F26,\"dd/mm/yyyy\"),\" - \",TEXT(G26,\"dd/mm/yyyy\"),\" - \",H26,\" - \",I26,\" - \",J26)<>P26),\"Changed since last quarter\",\"\"))","v":""},{"$f":"IF(AND(D26=\"\",E26=\"\",F26=\"\",G26=\"\",H26=\"\",I26=\"\",J26=\"\",K26=\"\"),\"\",IF(AND(OR(J26=\"Complete\",J26=\"Superceded\",J26=\"Redundant\"),H26>Introduction!$C$18),\"Milestone cannot be COMPLETE / SUPERCEDED / REDUNDANT if Forecast/Actual is past the snapshot date - please change\",IF(AND(J26=\"Live\",H26<Introduction!$C$18),\"Milestone cannot be LIVE if Forecast/Actual is before snapshot date - please change\",IF(AND(I26<>\"\",K26=\"\",I26>100),CONCATENATE(\"Please explain specifically why there is a \",I26,\" days variance from baseline\"),IF(OR(D26=\"\",E26=\"\",F26=\"\",G26=\"\",H26=\"\",I26=\"\",J26=\"\"),\"Please complete\",\"\")))))","v":""}]
[null,null,"6.03.21",null,null,null,null,{"$f":"IF(OR(F27=\"\",G27=\"\"),\"\",_xlfn.DAYS(G27,F27))","v":""},null,null,null,null,{"$f":"IF(AND(D27=\"\",E27=\"\",F27=\"\",G27=\"\",H27=\"\",I27=\"\",J27=\"\",P27=\"\"),\"\",IF(OR(CONCATENATE(D27,\" - \",E27,\" - \",TEXT(F27,\"dd/mm/yyyy\"),\" - \",TEXT(G27,\"dd/mm/yyyy\"),\" - \",H27,\" - \",I27,\" - \",J27)<>P27),\"Changed since last quarter\",\"\"))","v":""},{"$f":"IF(AND(D27=\"\",E27=\"\",F27=\"\",G27=\"\",H27=\"\",I27=\"\",J27=\"\",K27=\"\"),\"\",IF(AND(OR(J27=\"Complete\",J27=\"Superceded\",J27=\"Redundant\"),H27>Introduction!$C$18),\"Milestone cannot be COMPLETE / SUPERCEDED / REDUNDANT if Forecast/Actual is past the snapshot date - please change\",IF(AND(J27=\"Live\",H27<Introduction!$C$18),\"Milestone cannot be LIVE if Forecast/Actual is before snapshot date - please change\",IF(AND(I27<>\"\",K27=\"\",I27>100),CONCATENATE(\"Please explain specifically why there is a \",I27,\" days variance from baseline\"),IF(OR(D27=\"\",E27=\"\",F27=\"\",G27=\"\",H27=\"\",I27=\"\",J27=\"\"),\"Please complete\",\"\")))))","v":""}]
[null,null,"6.03.22",null,null,null,null,{"$f":"IF(OR(F28=\"\",G28=\"\"),\"\",_xlfn.DAYS(G28,F28))","v":""},null,null,null,null,{"$f":"IF(AND(D28=\"\",E28=\"\",F28=\"\",G28=\"\",H28=\"\",I28=\"\",J28=\"\",P28=\"\"),\"\",IF(OR(CONCATENATE(D28,\" - \",E28,\" - \",TEXT(F28,\"dd/mm/yyyy\"),\" - \",TEXT(G28,\"dd/mm/yyyy\"),\" - \",H28,\" - \",I28,\" - \",J28)<>P28),\"Changed since last quarter\",\"\"))","v":""},{"$f":"IF(AND(D28=\"\",E28=\"\",F28=\"\",G28=\"\",H28=\"\",I28=\"\",J28=\"\",K28=\"\"),\"\",IF(AND(OR(J28=\"Complete\",J28=\"Superceded\",J28=\"Redundant\"),H28>Introduction!$C$18),\"Milestone cannot be COMPLETE / SUPERCEDED / REDUNDANT if Forecast/Actual is past the snapshot date - please change\",IF(AND(J28=\"Live\",H28<Introduction!$C$18),\"Milestone cannot be LIVE if Forecast/Actual is before snapshot date - please change\",IF(AND(I28<>\"\",K28=\"\",I28>100),CONCATENATE(\"Please explain specifically why there is a \",I28,\" days variance from baseline\"),IF(OR(D28=\"\",E28=\"\",F28=\"\",G28=\"\",H28=\"\",I28=\"\",J28=\"\"),\"Please complete\",\"\")))))","v":""}]
[null,null,"6.03.23",null,null,null,null,{"$f":"IF(OR(F29=\"\",G29=\"\"),\"\",_xlfn.DAYS(G29,F29))","v":""},null,null,null,null,{"$f":"IF(AND(D29=\"\",E29=\"\",F29=\"\",G29=\"\",H29=\"\",I29=\"\",J29=\"\",P29=\"\"),\"\",IF(OR(CONCATENATE(D29,\" - \",E29,\" - \",TEXT(F29,\"dd/mm/yyyy\"),\" - \",TEXT(G29,\"dd/mm/yyyy\"),\" - \",H29,\" - \",I29,\" - \",J29)<>P29),\"Changed since last quarter\",\"\"))","v":""},{"$f":"IF(AND(D29=\"\",E29=\"\",F29=\"\",G29=\"\",H29=\"\",I29=\"\",J29=\"\",K29=\"\"),\"\",IF(AND(OR(J29=\"Complete\",J29=\"Superceded\",J29=\"Redundant\"),H29>Introduction!$C$18),\"Milestone cannot be COMPLETE / SUPERCEDED / REDUNDANT if Forecast/Actual is past the snapshot date - please change\",IF(AND(J29=\"Live\",H29<Introduction!$C$18),\"Milestone cannot be LIVE if Forecast/Actual is before snapshot date - please change\",IF(AND(I29<>\"\",K29=\"\",I29>100),CONCATENATE(\"Please explain specifically why there is a \",I29,\" days variance from baseline\"),IF(OR(D29=\"\",E29=\"\",F29=\"\",G29=\"\",H29=\"\",I29=\"\",J29=\"\"),\"Please complete\",\"\")))))","v":""}]
[null,null,"6.03.24",null,null,null,null,{"$f":"IF(OR(F30=\"\",G30=\"\"),\"\",_xlfn.DAYS(G30,F30))","v":""},null,null,null,null,{"$f":"IF(AND(D30=\"\",E30=\"\",F30=\"\",G30=\"\",H30=\"\",I30=\"\",J30=\"\",P30=\"\"),\"\",IF(OR(CONCATENATE(D30,\" - \",E30,\" - \",TEXT(F30,\"dd/mm/yyyy\"),\" - \",TEXT(G30,\"dd/mm/yyyy\"),\" - \",H30,\" - \",I30,\" - \",J30)<>P30),\"Changed since last quarter\",\"\"))","v":""},{"$f":"IF(AND(D30=\"\",E30=\"\",F30=\"\",G30=\"\",H30=\"\",I30=\"\",J30=\"\",K30=\"\"),\"\",IF(AND(OR(J30=\"Complete\",J30=\"Superceded\",J30=\"Redundant\"),H30>Introduction!$C$18),\"Milestone cannot be COMPLETE / SUPERCEDED / REDUNDANT if Forecast/Actual is past the snapshot date - please change\",IF(AND(J30=\"Live\",H30<Introduction!$C$18),\"Milestone cannot be LIVE if Forecast/Actual is before snapshot date - please change\",IF(AND(I30<>\"\",K30=\"\",I30>100),CONCATENATE(\"Please explain specifically why there is a \",I30,\" days variance from baseline\"),IF(OR(D30=\"\",E30=\"\",F30=\"\",G30=\"\",H30=\"\",I30=\"\",J30=\"\"),\"Please complete\",\"\")))))","v":""}]
[null,null,"6.03.25",null,null,null,null,{"$f":"IF(OR(F31=\"\",G31=\"\"),\"\",_xlfn.DAYS(G31,F31))","v":""},null,null,null,null,{"$f":"IF(AND(D31=\"\",E31=\"\",F31=\"\",G31=\"\",H31=\"\",I31=\"\",J31=\"\",P31=\"\"),\"\",IF(OR(CONCATENATE(D31,\" - \",E31,\" - \",TEXT(F31,\"dd/mm/yyyy\"),\" - \",TEXT(G31,\"dd/mm/yyyy\"),\" - \",H31,\" - \",I31,\" - \",J31)<>P31),\"Changed since last quarter\",\"\"))","v":""},{"$f":"IF(AND(D31=\"\",E31=\"\",F31=\"\",G31=\"\",H31=\"\",I31=\"\",J31=\"\",K31=\"\"),\"\",IF(AND(OR(J31=\"Complete\",J31=\"Superceded\",J31=\"Redundant\"),H31>Introduction!$C$18),\"Milestone cannot be COMPLETE / SUPERCEDED / REDUNDANT if Forecast/Actual is past the snapshot date - please change\",IF(AND(J31=\"Live\",H31<Introduction!$C$18),\"Milestone cannot be LIVE if Forecast/Actual is before snapshot date - please change\",IF(AND(I31<>\"\",K31=\"\",I31>100),CONCATENATE(\"Please explain specifically why there is a \",I31,\" days variance from baseline\"),IF(OR(D31=\"\",E31=\"\",F31=\"\",G31=\"\",H31=\"\",I31=\"\",J31=\"\"),\"Please complete\",\"\")))))","v":""}]
[null,null,"6.03.26",null,null,null,null,{"$f":"IF(OR(F32=\"\",G32=\"\"),\"\",_xlfn.DAYS(G32,F32))","v":""},null,null,null,null,{"$f":"IF(AND(D32=\"\",E32=\"\",F32=\"\",G32=\"\",H32=\"\",I32=\"\",J32=\"\",P32=\"\"),\"\",IF(OR(CONCATENATE(D32,\" - \",E32,\" - \",TEXT(F32,\"dd/mm/yyyy\"),\" - \",TEXT(G32,\"dd/mm/yyyy\"),\" - \",H32,\" - \",I32,\" - \",J32)<>P32),\"Changed since last quarter\",\"\"))","v":""},{"$f":"IF(AND(D32=\"\",E32=\"\",F32=\"\",G32=\"\",H32=\"\",I32=\"\",J32=\"\",K32=\"\"),\"\",IF(AND(OR(J32=\"Complete\",J32=\"Superceded\",J32=\"Redundant\"),H32>Introduction!$C$18),\"Milestone cannot be COMPLETE / SUPERCEDED / REDUNDANT if Forecast/Actual is past the snapshot date - please change\",IF(AND(J32=\"Live\",H32<Introduction!$C$18),\"Milestone cannot be LIVE if Forecast/Actual is before snapshot date - please change\",IF(AND(I32<>\"\",K32=\"\",I32>100),CONCATENATE(\"Please explain specifically why there is a \",I32,\" days variance from baseline\"),IF(OR(D32=\"\",E32=\"\",F32=\"\",G32=\"\",H32=\"\",I32=\"\",J32=\"\"),\"Please complete\",\"\")))))","v":""}]
[null,null,"6.03.27",null,null,null,null,{"$f":"IF(OR(F33=\"\",G33=\"\"),\"\",_xlfn.DAYS(G33,F33))","v":""},null,null,null,null,{"$f":"IF(AND(D33=\"\",E33=\"\",F33=\"\",G33=\"\",H33=\"\",I33=\"\",J33=\"\",P33=\"\"),\"\",IF(OR(CONCATENATE(D33,\" - \",E33,\" - \",TEXT(F33,\"dd/mm/yyyy\"),\" - \",TEXT(G33,\"dd/mm/yyyy\"),\" - \",H33,\" - \",I33,\" - \",J33)<>P33),\"Changed since last quarter\",\"\"))","v":""},{"$f":"IF(AND(D33=\"\",E33=\"\",F33=\"\",G33=\"\",H33=\"\",I33=\"\",J33=\"\",K33=\"\"),\"\",IF(AND(OR(J33=\"Complete\",J33=\"Superceded\",J33=\"Redundant\"),H33>Introduction!$C$18),\"Milestone cannot be COMPLETE / SUPERCEDED / REDUNDANT if Forecast/Actual is past the snapshot date - please change\",IF(AND(J33=\"Live\",H33<Introduction!$C$18),\"Milestone cannot be LIVE if Forecast/Actual is before snapshot date - please change\",IF(AND(I33<>\"\",K33=\"\",I33>100),CONCATENATE(\"Please explain specifically why there is a \",I33,\" days variance from baseline\"),IF(OR(D33=\"\",E33=\"\",F33=\"\",G33=\"\",H33=\"\",I33=\"\",J33=\"\"),\"Please complete\",\"\")))))","v":""}]
[null,null,"6.03.28",null,null,null,null,{"$f":"IF(OR(F34=\"\",G34=\"\"),\"\",_xlfn.DAYS(G34,F34))","v":""},null,null,null,null,{"$f":"IF(AND(D34=\"\",E34=\"\",F34=\"\",G34=\"\",H34=\"\",I34=\"\",J34=\"\",P34=\"\"),\"\",IF(OR(CONCATENATE(D34,\" - \",E34,\" - \",TEXT(F34,\"dd/mm/yyyy\"),\" - \",TEXT(G34,\"dd/mm/yyyy\"),\" - \",H34,\" - \",I34,\" - \",J34)<>P34),\"Changed since last quarter\",\"\"))","v":""},{"$f":"IF(AND(D34=\"\",E34=\"\",F34=\"\",G34=\"\",H34=\"\",I34=\"\",J34=\"\",K34=\"\"),\"\",IF(AND(OR(J34=\"Complete\",J34=\"Superceded\",J34=\"Redundant\"),H34>Introduction!$C$18),\"Milestone cannot be COMPLETE / SUPERCEDED / REDUNDANT if Forecast/Actual is past the snapshot date - please change\",IF(AND(J34=\"Live\",H34<Introduction!$C$18),\"Milestone cannot be LIVE if Forecast/Actual is before snapshot date - please change\",IF(AND(I34<>\"\",K34=\"\",I34>100),CONCATENATE(\"Please explain specifically why there is a \",I34,\" days variance from baseline\"),IF(OR(D34=\"\",E34=\"\",F34=\"\",G34=\"\",H34=\"\",I34=\"\",J34=\"\"),\"Please complete\",\"\")))))","v":""}]
[null,null,"6.03.29",null,null,null,null,{"$f":"IF(OR(F35=\"\",G35=\"\"),\"\",_xlfn.DAYS(G35,F35))","v":""},null,null,null,null,{"$f":"IF(AND(D35=\"\",E35=\"\",F35=\"\",G35=\"\",H35=\"\",I35=\"\",J35=\"\",P35=\"\"),\"\",IF(OR(CONCATENATE(D35,\" - \",E35,\" - \",TEXT(F35,\"dd/mm/yyyy\"),\" - \",TEXT(G35,\"dd/mm/yyyy\"),\" - \",H35,\" - \",I35,\" - \",J35)<>P35),\"Changed since last quarter\",\"\"))","v":""},{"$f":"IF(AND(D35=\"\",E35=\"\",F35=\"\",G35=\"\",H35=\"\",I35=\"\",J35=\"\",K35=\"\"),\"\",IF(AND(OR(J35=\"Complete\",J35=\"Superceded\",J35=\"Redundant\"),H35>Introduction!$C$18),\"Milestone cannot be COMPLETE / SUPERCEDED / REDUNDANT if Forecast/Actual is past the snapshot date - please change\",IF(AND(J35=\"Live\",H35<Introduction!$C$18),\"Milestone cannot be LIVE if Forecast/Actual is before snapshot date - please change\",IF(AND(I35<>\"\",K35=\"\",I35>100),CONCATENATE(\"Please explain specifically why there is a \",I35,\" days variance from baseline\"),IF(OR(D35=\"\",E35=\"\",F35=\"\",G35=\"\",H35=\"\",I35=\"\",J35=\"\"),\"Please complete\",\"\")))))","v":""}]
[null,null,"6.03.30",null,null,null,null,{"$f":"IF(OR(F36=\"\",G36=\"\"),\"\",_xlfn.DAYS(G36,F36))","v":""},null,null,null,null,{"$f":"IF(AND(D36=\"\",E36=\"\",F36=\"\",G36=\"\",H36=\"\",I36=\"\",J36=\"\",P36=\"\"),\"\",IF(OR(CONCATENATE(D36,\" - \",E36,\" - \",TEXT(F36,\"dd/mm/yyyy\"),\" - \",TEXT(G36,\"dd/mm/yyyy\"),\" - \",H36,\" - \",I36,\" - \",J36)<>P36),\"Changed since last quarter\",\"\"))","v":""},{"$f":"IF(AND(D36=\"\",E36=\"\",F36=\"\",G36=\"\",H36=\"\",I36=\"\",J36=\"\",K36=\"\"),\"\",IF(AND(OR(J36=\"Complete\",J36=\"Superceded\",J36=\"Redundant\"),H36>Introduction!$C$18),\"Milestone cannot be COMPLETE / SUPERCEDED / REDUNDANT if Forecast/Actual is past the snapshot date - please change\",IF(AND(J36=\"Live\",H36<Introduction!$C$18),\"Milestone cannot be LIVE if Forecast/Actual is before snapshot date - please change\",IF(AND(I36<>\"\",K36=\"\",I36>100),CONCATENATE(\"Please explain specifically why there is a \",I36,\" days variance from baseline\"),IF(OR(D36=\"\",E36=\"\",F36=\"\",G36=\"\",H36=\"\",I36=\"\",J36=\"\"),\"Please complete\",\"\")))))","v":""}]
[null,null,"6.03.31",null,null,null,null,{"$f":"IF(OR(F37=\"\",G37=\"\"),\"\",_xlfn.DAYS(G37,F37))","v":""},null,null,null,null,{"$f":"IF(AND(D37=\"\",E37=\"\",F37=\"\",G37=\"\",H37=\"\",I37=\"\",J37=\"\",P37=\"\"),\"\",IF(OR(CONCATENATE(D37,\" - \",E37,\" - \",TEXT(F37,\"dd/mm/yyyy\"),\" - \",TEXT(G37,\"dd/mm/yyyy\"),\" - \",H37,\" - \",I37,\" - \",J37)<>P37),\"Changed since last quarter\",\"\"))","v":""},{"$f":"IF(AND(D37=\"\",E37=\"\",F37=\"\",G37=\"\",H37=\"\",I37=\"\",J37=\"\",K37=\"\"),\"\",IF(AND(OR(J37=\"Complete\",J37=\"Superceded\",J37=\"Redundant\"),H37>Introduction!$C$18),\"Milestone cannot be COMPLETE / SUPERCEDED / REDUNDANT if Forecast/Actual is past the snapshot date - please change\",IF(AND(J37=\"Live\",H37<Introduction!$C$18),\"Milestone cannot be LIVE if Forecast/Actual is before snapshot date - please change\",IF(AND(I37<>\"\",K37=\"\",I37>100),CONCATENATE(\"Please explain specifically why there is a \",I37,\" days variance from baseline\"),IF(OR(D37=\"\",E37=\"\",F37=\"\",G37=\"\",H37=\"\",I37=\"\",J37=\"\"),\"Please complete\",\"\")))))","v":""}]
[null,null,"6.03.32",null,null,null,null,{"$f":"IF(OR(F38=\"\",G38=\"\"),\"\",_xlfn.DAYS(G38,F38))","v":""},null,null,null,null,{"$f":"IF(AND(D38=\"\",E38=\"\",F38=\"\",G38=\"\",H38=\"\",I38=\"\",J38=\"\",P38=\"\"),\"\",IF(OR(CONCATENATE(D38,\" - \",E38,\" - \",TEXT(F38,\"dd/mm/yyyy\"),\" - \",TEXT(G38,\"dd/mm/yyyy\"),\" - \",H38,\" - \",I38,\" - \",J38)<>P38),\"Changed since last quarter\",\"\"))","v":""},{"$f":"IF(AND(D38=\"\",E38=\"\",F38=\"\",G38=\"\",H38=\"\",I38=\"\",J38=\"\",K38=\"\"),\"\",IF(AND(OR(J38=\"Complete\",J38=\"Superceded\",J38=\"Redundant\"),H38>Introduction!$C$18),\"Milestone cannot be COMPLETE / SUPERCEDED / REDUNDANT if Forecast/Actual is past the snapshot date - please change\",IF(AND(J38=\"Live\",H38<Introduction!$C$18),\"Milestone cannot be LIVE if Forecast/Actual is before snapshot date - please change\",IF(AND(I38<>\"\",K38=\"\",I38>100),CONCATENATE(\"Please explain specifically why there is a \",I38,\" days variance from baseline\"),IF(OR(D38=\"\",E38=\"\",F38=\"\",G38=\"\",H38=\"\",I38=\"\",J38=\"\"),\"Please complete\",\"\")))))","v":""}]
[null,null,"6.03.33",null,null,null,null,{"$f":"IF(OR(F39=\"\",G39=\"\"),\"\",_xlfn.DAYS(G39,F39))","v":""},null,null,null,null,{"$f":"IF(AND(D39=\"\",E39=\"\",F39=\"\",G39=\"\",H39=\"\",I39=\"\",J39=\"\",P39=\"\"),\"\",IF(OR(CONCATENATE(D39,\" - \",E39,\" - \",TEXT(F39,\"dd/mm/yyyy\"),\" - \",TEXT(G39,\"dd/mm/yyyy\"),\" - \",H39,\" - \",I39,\" - \",J39)<>P39),\"Changed since last quarter\",\"\"))","v":""},{"$f":"IF(AND(D39=\"\",E39=\"\",F39=\"\",G39=\"\",H39=\"\",I39=\"\",J39=\"\",K39=\"\"),\"\",IF(AND(OR(J39=\"Complete\",J39=\"Superceded\",J39=\"Redundant\"),H39>Introduction!$C$18),\"Milestone cannot be COMPLETE / SUPERCEDED / REDUNDANT if Forecast/Actual is past the snapshot date - please change\",IF(AND(J39=\"Live\",H39<Introduction!$C$18),\"Milestone cannot be LIVE if Forecast/Actual is before snapshot date - please change\",IF(AND(I39<>\"\",K39=\"\",I39>100),CONCATENATE(\"Please explain specifically why there is a \",I39,\" days variance from baseline\"),IF(OR(D39=\"\",E39=\"\",F39=\"\",G39=\"\",H39=\"\",I39=\"\",J39=\"\"),\"Please complete\",\"\")))))","v":""}]
[null,null,"6.03.34",null,null,null,null,{"$f":"IF(OR(F40=\"\",G40=\"\"),\"\",_xlfn.DAYS(G40,F40))","v":""},null,null,null,null,{"$f":"IF(AND(D40=\"\",E40=\"\",F40=\"\",G40=\"\",H40=\"\",I40=\"\",J40=\"\",P40=\"\"),\"\",IF(OR(CONCATENATE(D40,\" - \",E40,\" - \",TEXT(F40,\"dd/mm/yyyy\"),\" - \",TEXT(G40,\"dd/mm/yyyy\"),\" - \",H40,\" - \",I40,\" - \",J40)<>P40),\"Changed since last quarter\",\"\"))","v":""},{"$f":"IF(AND(D40=\"\",E40=\"\",F40=\"\",G40=\"\",H40=\"\",I40=\"\",J40=\"\",K40=\"\"),\"\",IF(AND(OR(J40=\"Complete\",J40=\"Superceded\",J40=\"Redundant\"),H40>Introduction!$C$18),\"Milestone cannot be COMPLETE / SUPERCEDED / REDUNDANT if Forecast/Actual is past the snapshot date - please change\",IF(AND(J40=\"Live\",H40<Introduction!$C$18),\"Milestone cannot be LIVE if Forecast/Actual is before snapshot date - please change\",IF(AND(I40<>\"\",K40=\"\",I40>100),CONCATENATE(\"Please explain specifically why there is a \",I40,\" days variance from baseline\"),IF(OR(D40=\"\",E40=\"\",F40=\"\",G40=\"\",H40=\"\",I40=\"\",J40=\"\"),\"Please complete\",\"\")))))","v":""}]
[null,null,"6.03.35",null,null,null,null,{"$f":"IF(OR(F41=\"\",G41=\"\"),\"\",_xlfn.DAYS(G41,F41))","v":""},null,null,null,null,{"$f":"IF(AND(D41=\"\",E41=\"\",F41=\"\",G41=\"\",H41=\"\",I41=\"\",J41=\"\",P41=\"\"),\"\",IF(OR(CONCATENATE(D41,\" - \",E41,\" - \",TEXT(F41,\"dd/mm/yyyy\"),\" - \",TEXT(G41,\"dd/mm/yyyy\"),\" - \",H41,\" - \",I41,\" - \",J41)<>P41),\"Changed since last quarter\",\"\"))","v":""},{"$f":"IF(AND(D41=\"\",E41=\"\",F41=\"\",G41=\"\",H41=\"\",I41=\"\",J41=\"\",K41=\"\"),\"\",IF(AND(OR(J41=\"Complete\",J41=\"Superceded\",J41=\"Redundant\"),H41>Introduction!$C$18),\"Milestone cannot be COMPLETE / SUPERCEDED / REDUNDANT if Forecast/Actual is past the snapshot date - please change\",IF(AND(J41=\"Live\",H41<Introduction!$C$18),\"Milestone cannot be LIVE if Forecast/Actual is before snapshot date - please change\",IF(AND(I41<>\"\",K41=\"\",I41>100),CONCATENATE(\"Please explain specifically why there is a \",I41,\" days variance from baseline\"),IF(OR(D41=\"\",E41=\"\",F41=\"\",G41=\"\",H41=\"\",I41=\"\",J41=\"\"),\"Please complete\",\"\")))))","v":""}]
[null,null,"6.03.36",null,null,null,null,{"$f":"IF(OR(F42=\"\",G42=\"\"),\"\",_xlfn.DAYS(G42,F42))","v":""},null,null,null,null,{"$f":"IF(AND(D42=\"\",E42=\"\",F42=\"\",G42=\"\",H42=\"\",I42=\"\",J42=\"\",P42=\"\"),\"\",IF(OR(CONCATENATE(D42,\" - \",E42,\" - \",TEXT(F42,\"dd/mm/yyyy\"),\" - \",TEXT(G42,\"dd/mm/yyyy\"),\" - \",H42,\" - \",I42,\" - \",J42)<>P42),\"Changed since last quarter\",\"\"))","v":""},{"$f":"IF(AND(D42=\"\",E42=\"\",F42=\"\",G42=\"\",H42=\"\",I42=\"\",J42=\"\",K42=\"\"),\"\",IF(AND(OR(J42=\"Complete\",J42=\"Superceded\",J42=\"Redundant\"),H42>Introduction!$C$18),\"Milestone cannot be COMPLETE / SUPERCEDED / REDUNDANT if Forecast/Actual is past the snapshot date - please change\",IF(AND(J42=\"Live\",H42<Introduction!$C$18),\"Milestone cannot be LIVE if Forecast/Actual is before snapshot date - please change\",IF(AND(I42<>\"\",K42=\"\",I42>100),CONCATENATE(\"Please explain specifically why there is a \",I42,\" days variance from baseline\"),IF(OR(D42=\"\",E42=\"\",F42=\"\",G42=\"\",H42=\"\",I42=\"\",J42=\"\"),\"Please complete\",\"\")))))","v":""}]
[null,null,"6.03.37",null,null,null,null,{"$f":"IF(OR(F43=\"\",G43=\"\"),\"\",_xlfn.DAYS(G43,F43))","v":""},null,null,null,null,{"$f":"IF(AND(D43=\"\",E43=\"\",F43=\"\",G43=\"\",H43=\"\",I43=\"\",J43=\"\",P43=\"\"),\"\",IF(OR(CONCATENATE(D43,\" - \",E43,\" - \",TEXT(F43,\"dd/mm/yyyy\"),\" - \",TEXT(G43,\"dd/mm/yyyy\"),\" - \",H43,\" - \",I43,\" - \",J43)<>P43),\"Changed since last quarter\",\"\"))","v":""},{"$f":"IF(AND(D43=\"\",E43=\"\",F43=\"\",G43=\"\",H43=\"\",I43=\"\",J43=\"\",K43=\"\"),\"\",IF(AND(OR(J43=\"Complete\",J43=\"Superceded\",J43=\"Redundant\"),H43>Introduction!$C$18),\"Milestone cannot be COMPLETE / SUPERCEDED / REDUNDANT if Forecast/Actual is past the snapshot date - please change\",IF(AND(J43=\"Live\",H43<Introduction!$C$18),\"Milestone cannot be LIVE if Forecast/Actual is before snapshot date - please change\",IF(AND(I43<>\"\",K43=\"\",I43>100),CONCATENATE(\"Please explain specifically why there is a \",I43,\" days variance from baseline\"),IF(OR(D43=\"\",E43=\"\",F43=\"\",G43=\"\",H43=\"\",I43=\"\",J43=\"\"),\"Please complete\",\"\")))))","v":""}]
[null,null,"6.03.38",null,null,null,null,{"$f":"IF(OR(F44=\"\",G44=\"\"),\"\",_xlfn.DAYS(G44,F44))","v":""},null,null,null,null,{"$f":"IF(AND(D44=\"\",E44=\"\",F44=\"\",G44=\"\",H44=\"\",I44=\"\",J44=\"\",P44=\"\"),\"\",IF(OR(CONCATENATE(D44,\" - \",E44,\" - \",TEXT(F44,\"dd/mm/yyyy\"),\" - \",TEXT(G44,\"dd/mm/yyyy\"),\" - \",H44,\" - \",I44,\" - \",J44)<>P44),\"Changed since last quarter\",\"\"))","v":""},{"$f":"IF(AND(D44=\"\",E44=\"\",F44=\"\",G44=\"\",H44=\"\",I44=\"\",J44=\"\",K44=\"\"),\"\",IF(AND(OR(J44=\"Complete\",J44=\"Superceded\",J44=\"Redundant\"),H44>Introduction!$C$18),\"Milestone cannot be COMPLETE / SUPERCEDED / REDUNDANT if Forecast/Actual is past the snapshot date - please change\",IF(AND(J44=\"Live\",H44<Introduction!$C$18),\"Milestone cannot be LIVE if Forecast/Actual is before snapshot date - please change\",IF(AND(I44<>\"\",K44=\"\",I44>100),CONCATENATE(\"Please explain specifically why there is a \",I44,\" days variance from baseline\"),IF(OR(D44=\"\",E44=\"\",F44=\"\",G44=\"\",H44=\"\",I44=\"\",J44=\"\"),\"Please complete\",\"\")))))","v":""}]
[null,null,"6.03.39",null,null,null,null,{"$f":"IF(OR(F45=\"\",G45=\"\"),\"\",_xlfn.DAYS(G45,F45))","v":""},null,null,null,null,{"$f":"IF(AND(D45=\"\",E45=\"\",F45=\"\",G45=\"\",H45=\"\",I45=\"\",J45=\"\",P45=\"\"),\"\",IF(OR(CONCATENATE(D45,\" - \",E45,\" - \",TEXT(F45,\"dd/mm/yyyy\"),\" - \",TEXT(G45,\"dd/mm/yyyy\"),\" - \",H45,\" - \",I45,\" - \",J45)<>P45),\"Changed since last quarter\",\"\"))","v":""},{"$f":"IF(AND(D45=\"\",E45=\"\",F45=\"\",G45=\"\",H45=\"\",I45=\"\",J45=\"\",K45=\"\"),\"\",IF(AND(OR(J45=\"Complete\",J45=\"Superceded\",J45=\"Redundant\"),H45>Introduction!$C$18),\"Milestone cannot be COMPLETE / SUPERCEDED / REDUNDANT if Forecast/Actual is past the snapshot date - please change\",IF(AND(J45=\"Live\",H45<Introduction!$C$18),\"Milestone cannot be LIVE if Forecast/Actual is before snapshot date - please change\",IF(AND(I45<>\"\",K45=\"\",I45>100),CONCATENATE(\"Please explain specifically why there is a \",I45,\" days variance from baseline\"),IF(OR(D45=\"\",E45=\"\",F45=\"\",G45=\"\",H45=\"\",I45=\"\",J45=\"\"),\"Please complete\",\"\")))))","v":""}]
[null,null,"6.03.40",null,null,null,null,{"$f":"IF(OR(F46=\"\",G46=\"\"),\"\",_xlfn.DAYS(G46,F46))","v":""},null,null,null,null,{"$f":"IF(AND(D46=\"\",E46=\"\",F46=\"\",G46=\"\",H46=\"\",I46=\"\",J46=\"\",P46=\"\"),\"\",IF(OR(CONCATENATE(D46,\" - \",E46,\" - \",TEXT(F46,\"dd/mm/yyyy\"),\" - \",TEXT(G46,\"dd/mm/yyyy\"),\" - \",H46,\" - \",I46,\" - \",J46)<>P46),\"Changed since last quarter\",\"\"))","v":""},{"$f":"IF(AND(D46=\"\",E46=\"\",F46=\"\",G46=\"\",H46=\"\",I46=\"\",J46=\"\",K46=\"\"),\"\",IF(AND(OR(J46=\"Complete\",J46=\"Superceded\",J46=\"Redundant\"),H46>Introduction!$C$18),\"Milestone cannot be COMPLETE / SUPERCEDED / REDUNDANT if Forecast/Actual is past the snapshot date - please change\",IF(AND(J46=\"Live\",H46<Introduction!$C$18),\"Milestone cannot be LIVE if Forecast/Actual is before snapshot date - please change\",IF(AND(I46<>\"\",K46=\"\",I46>100),CONCATENATE(\"Please explain specifically why there is a \",I46,\" days variance from baseline\"),IF(OR(D46=\"\",E46=\"\",F46=\"\",G46=\"\",H46=\"\",I46=\"\",J46=\"\"),\"Please complete\",\"\")))))","v":""}]
[null,null,"6.03.41",null,null,null,null,{"$f":"IF(OR(F47=\"\",G47=\"\"),\"\",_xlfn.DAYS(G47,F47))","v":""},null,null,null,null,{"$f":"IF(AND(D47=\"\",E47=\"\",F47=\"\",G47=\"\",H47=\"\",I47=\"\",J47=\"\",P47=\"\"),\"\",IF(OR(CONCATENATE(D47,\" - \",E47,\" - \",TEXT(F47,\"dd/mm/yyyy\"),\" - \",TEXT(G47,\"dd/mm/yyyy\"),\" - \",H47,\" - \",I47,\" - \",J47)<>P47),\"Changed since last quarter\",\"\"))","v":""},{"$f":"IF(AND(D47=\"\",E47=\"\",F47=\"\",G47=\"\",H47=\"\",I47=\"\",J47=\"\",K47=\"\"),\"\",IF(AND(OR(J47=\"Complete\",J47=\"Superceded\",J47=\"Redundant\"),H47>Introduction!$C$18),\"Milestone cannot be COMPLETE / SUPERCEDED / REDUNDANT if Forecast/Actual is past the snapshot date - please change\",IF(AND(J47=\"Live\",H47<Introduction!$C$18),\"Milestone cannot be LIVE if Forecast/Actual is before snapshot date - please change\",IF(AND(I47<>\"\",K47=\"\",I47>100),CONCATENATE(\"Please explain specifically why there is a \",I47,\" days variance from baseline\"),IF(OR(D47=\"\",E47=\"\",F47=\"\",G47=\"\",H47=\"\",I47=\"\",J47=\"\"),\"Please complete\",\"\")))))","v":""}]
[null,null,"6.03.42",null,null,null,null,{"$f":"IF(OR(F48=\"\",G48=\"\"),\"\",_xlfn.DAYS(G48,F48))","v":""},null,null,null,null,{"$f":"IF(AND(D48=\"\",E48=\"\",F48=\"\",G48=\"\",H48=\"\",I48=\"\",J48=\"\",P48=\"\"),\"\",IF(OR(CONCATENATE(D48,\" - \",E48,\" - \",TEXT(F48,\"dd/mm/yyyy\"),\" - \",TEXT(G48,\"dd/mm/yyyy\"),\" - \",H48,\" - \",I48,\" - \",J48)<>P48),\"Changed since last quarter\",\"\"))","v":""},{"$f":"IF(AND(D48=\"\",E48=\"\",F48=\"\",G48=\"\",H48=\"\",I48=\"\",J48=\"\",K48=\"\"),\"\",IF(AND(OR(J48=\"Complete\",J48=\"Superceded\",J48=\"Redundant\"),H48>Introduction!$C$18),\"Milestone cannot be COMPLETE / SUPERCEDED / REDUNDANT if Forecast/Actual is past the snapshot date - please change\",IF(AND(J48=\"Live\",H48<Introduction!$C$18),\"Milestone cannot be LIVE if Forecast/Actual is before snapshot date - please change\",IF(AND(I48<>\"\",K48=\"\",I48>100),CONCATENATE(\"Please explain specifically why there is a \",I48,\" days variance from baseline\"),IF(OR(D48=\"\",E48=\"\",F48=\"\",G48=\"\",H48=\"\",I48=\"\",J48=\"\"),\"Please complete\",\"\")))))","v":""}]
[null,null,"6.03.43",null,null,null,null,{"$f":"IF(OR(F49=\"\",G49=\"\"),\"\",_xlfn.DAYS(G49,F49))","v":""},null,null,null,null,{"$f":"IF(AND(D49=\"\",E49=\"\",F49=\"\",G49=\"\",H49=\"\",I49=\"\",J49=\"\",P49=\"\"),\"\",IF(OR(CONCATENATE(D49,\" - \",E49,\" - \",TEXT(F49,\"dd/mm/yyyy\"),\" - \",TEXT(G49,\"dd/mm/yyyy\"),\" - \",H49,\" - \",I49,\" - \",J49)<>P49),\"Changed since last quarter\",\"\"))","v":""},{"$f":"IF(AND(D49=\"\",E49=\"\",F49=\"\",G49=\"\",H49=\"\",I49=\"\",J49=\"\",K49=\"\"),\"\",IF(AND(OR(J49=\"Complete\",J49=\"Superceded\",J49=\"Redundant\"),H49>Introduction!$C$18),\"Milestone cannot be COMPLETE / SUPERCEDED / REDUNDANT if Forecast/Actual is past the snapshot date - please change\",IF(AND(J49=\"Live\",H49<Introduction!$C$18),\"Milestone cannot be LIVE if Forecast/Actual is before snapshot date - please change\",IF(AND(I49<>\"\",K49=\"\",I49>100),CONCATENATE(\"Please explain specifically why there is a \",I49,\" days variance from baseline\"),IF(OR(D49=\"\",E49=\"\",F49=\"\",G49=\"\",H49=\"\",I49=\"\",J49=\"\"),\"Please complete\",\"\")))))","v":""}]
[null,null,"6.03.44",null,null,null,null,{"$f":"IF(OR(F50=\"\",G50=\"\"),\"\",_xlfn.DAYS(G50,F50))","v":""},null,null,null,null,{"$f":"IF(AND(D50=\"\",E50=\"\",F50=\"\",G50=\"\",H50=\"\",I50=\"\",J50=\"\",P50=\"\"),\"\",IF(OR(CONCATENATE(D50,\" - \",E50,\" - \",TEXT(F50,\"dd/mm/yyyy\"),\" - \",TEXT(G50,\"dd/mm/yyyy\"),\" - \",H50,\" - \",I50,\" - \",J50)<>P50),\"Changed since last quarter\",\"\"))","v":""},{"$f":"IF(AND(D50=\"\",E50=\"\",F50=\"\",G50=\"\",H50=\"\",I50=\"\",J50=\"\",K50=\"\"),\"\",IF(AND(OR(J50=\"Complete\",J50=\"Superceded\",J50=\"Redundant\"),H50>Introduction!$C$18),\"Milestone cannot be COMPLETE / SUPERCEDED / REDUNDANT if Forecast/Actual is past the snapshot date - please change\",IF(AND(J50=\"Live\",H50<Introduction!$C$18),\"Milestone cannot be LIVE if Forecast/Actual is before snapshot date - please change\",IF(AND(I50<>\"\",K50=\"\",I50>100),CONCATENATE(\"Please explain specifically why there is a \",I50,\" days variance from baseline\"),IF(OR(D50=\"\",E50=\"\",F50=\"\",G50=\"\",H50=\"\",I50=\"\",J50=\"\"),\"Please complete\",\"\")))))","v":""}]
[null,null,"6.03.45",null,null,null,null,{"$f":"IF(OR(F51=\"\",G51=\"\"),\"\",_xlfn.DAYS(G51,F51))","v":""},null,null,null,null,{"$f":"IF(AND(D51=\"\",E51=\"\",F51=\"\",G51=\"\",H51=\"\",I51=\"\",J51=\"\",P51=\"\"),\"\",IF(OR(CONCATENATE(D51,\" - \",E51,\" - \",TEXT(F51,\"dd/mm/yyyy\"),\" - \",TEXT(G51,\"dd/mm/yyyy\"),\" - \",H51,\" - \",I51,\" - \",J51)<>P51),\"Changed since last quarter\",\"\"))","v":""},{"$f":"IF(AND(D51=\"\",E51=\"\",F51=\"\",G51=\"\",H51=\"\",I51=\"\",J51=\"\",K51=\"\"),\"\",IF(AND(OR(J51=\"Complete\",J51=\"Superceded\",J51=\"Redundant\"),H51>Introduction!$C$18),\"Milestone cannot be COMPLETE / SUPERCEDED / REDUNDANT if Forecast/Actual is past the snapshot date - please change\",IF(AND(J51=\"Live\",H51<Introduction!$C$18),\"Milestone cannot be LIVE if Forecast/Actual is before snapshot date - please change\",IF(AND(I51<>\"\",K51=\"\",I51>100),CONCATENATE(\"Please explain specifically why there is a \",I51,\" days variance from baseline\"),IF(OR(D51=\"\",E51=\"\",F51=\"\",G51=\"\",H51=\"\",I51=\"\",J51=\"\"),\"Please complete\",\"\")))))","v":""}]
[null,null,"6.03.46",null,null,null,null,{"$f":"IF(OR(F52=\"\",G52=\"\"),\"\",_xlfn.DAYS(G52,F52))","v":""},null,null,null,null,{"$f":"IF(AND(D52=\"\",E52=\"\",F52=\"\",G52=\"\",H52=\"\",I52=\"\",J52=\"\",P52=\"\"),\"\",IF(OR(CONCATENATE(D52,\" - \",E52,\" - \",TEXT(F52,\"dd/mm/yyyy\"),\" - \",TEXT(G52,\"dd/mm/yyyy\"),\" - \",H52,\" - \",I52,\" - \",J52)<>P52),\"Changed since last quarter\",\"\"))","v":""},{"$f":"IF(AND(D52=\"\",E52=\"\",F52=\"\",G52=\"\",H52=\"\",I52=\"\",J52=\"\",K52=\"\"),\"\",IF(AND(OR(J52=\"Complete\",J52=\"Superceded\",J52=\"Redundant\"),H52>Introduction!$C$18),\"Milestone cannot be COMPLETE / SUPERCEDED / REDUNDANT if Forecast/Actual is past the snapshot date - please change\",IF(AND(J52=\"Live\",H52<Introduction!$C$18),\"Milestone cannot be LIVE if Forecast/Actual is before snapshot date - please change\",IF(AND(I52<>\"\",K52=\"\",I52>100),CONCATENATE(\"Please explain specifically why there is a \",I52,\" days variance from baseline\"),IF(OR(D52=\"\",E52=\"\",F52=\"\",G52=\"\",H52=\"\",I52=\"\",J52=\"\"),\"Please complete\",\"\")))))","v":""}]
[null,null,"6.03.47",null,null,null,null,{"$f":"IF(OR(F53=\"\",G53=\"\"),\"\",_xlfn.DAYS(G53,F53))","v":""},null,null,null,null,{"$f":"IF(AND(D53=\"\",E53=\"\",F53=\"\",G53=\"\",H53=\"\",I53=\"\",J53=\"\",P53=\"\"),\"\",IF(OR(CONCATENATE(D53,\" - \",E53,\" - \",TEXT(F53,\"dd/mm/yyyy\"),\" - \",TEXT(G53,\"dd/mm/yyyy\"),\" - \",H53,\" - \",I53,\" - \",J53)<>P53),\"Changed since last quarter\",\"\"))","v":""},{"$f":"IF(AND(D53=\"\",E53=\"\",F53=\"\",G53=\"\",H53=\"\",I53=\"\",J53=\"\",K53=\"\"),\"\",IF(AND(OR(J53=\"Complete\",J53=\"Superceded\",J53=\"Redundant\"),H53>Introduction!$C$18),\"Milestone cannot be COMPLETE / SUPERCEDED / REDUNDANT if Forecast/Actual is past the snapshot date - please change\",IF(AND(J53=\"Live\",H53<Introduction!$C$18),\"Milestone cannot be LIVE if Forecast/Actual is before snapshot date - please change\",IF(AND(I53<>\"\",K53=\"\",I53>100),CONCATENATE(\"Please explain specifically why there is a \",I53,\" days variance from baseline\"),IF(OR(D53=\"\",E53=\"\",F53=\"\",G53=\"\",H53=\"\",I53=\"\",J53=\"\"),\"Please complete\",\"\")))))","v":""}]
[null,null,"6.03.48",null,null,null,null,{"$f":"IF(OR(F54=\"\",G54=\"\"),\"\",_xlfn.DAYS(G54,F54))","v":""},null,null,null,null,{"$f":"IF(AND(D54=\"\",E54=\"\",F54=\"\",G54=\"\",H54=\"\",I54=\"\",J54=\"\",P54=\"\"),\"\",IF(OR(CONCATENATE(D54,\" - \",E54,\" - \",TEXT(F54,\"dd/mm/yyyy\"),\" - \",TEXT(G54,\"dd/mm/yyyy\"),\" - \",H54,\" - \",I54,\" - \",J54)<>P54),\"Changed since last quarter\",\"\"))","v":""},{"$f":"IF(AND(D54=\"\",E54=\"\",F54=\"\",G54=\"\",H54=\"\",I54=\"\",J54=\"\",K54=\"\"),\"\",IF(AND(OR(J54=\"Complete\",J54=\"Superceded\",J54=\"Redundant\"),H54>Introduction!$C$18),\"Milestone cannot be COMPLETE / SUPERCEDED / REDUNDANT if Forecast/Actual is past the snapshot date - please change\",IF(AND(J54=\"Live\",H54<Introduction!$C$18),\"Milestone cannot be LIVE if Forecast/Actual is before snapshot date - please change\",IF(AND(I54<>\"\",K54=\"\",I54>100),CONCATENATE(\"Please explain specifically why there is a \",I54,\" days variance from baseline\"),IF(OR(D54=\"\",E54=\"\",F54=\"\",G54=\"\",H54=\"\",I54=\"\",J54=\"\"),\"Please complete\",\"\")))))","v":""}]
[null,null,"6.03.49",null,null,null,null,{"$f":"IF(OR(F55=\"\",G55=\"\"),\"\",_xlfn.DAYS(G55,F55))","v":""},null,null,null,null,{"$f":"IF(AND(D55=\"\",E55=\"\",F55=\"\",G55=\"\",H55=\"\",I55=\"\",J55=\"\",P55=\"\"),\"\",IF(OR(CONCATENATE(D55,\" - \",E55,\" - \",TEXT(F55,\"dd/mm/yyyy\"),\" - \",TEXT(G55,\"dd/mm/yyyy\"),\" - \",H55,\" - \",I55,\" - \",J55)<>P55),\"Changed since last quarter\",\"\"))","v":""},{"$f":"IF(AND(D55=\"\",E55=\"\",F55=\"\",G55=\"\",H55=\"\",I55=\"\",J55=\"\",K55=\"\"),\"\",IF(AND(OR(J55=\"Complete\",J55=\"Superceded\",J55=\"Redundant\"),H55>Introduction!$C$18),\"Milestone cannot be COMPLETE / SUPERCEDED / REDUNDANT if Forecast/Actual is past the snapshot date - please change\",IF(AND(J55=\"Live\",H55<Introduction!$C$18),\"Milestone cannot be LIVE if Forecast/Actual is before snapshot date - please change\",IF(AND(I55<>\"\",K55=\"\",I55>100),CONCATENATE(\"Please explain specifically why there is a \",I55,\" days variance from baseline\"),IF(OR(D55=\"\",E55=\"\",F55=\"\",G55=\"\",H55=\"\",I55=\"\",J55=\"\"),\"Please complete\",\"\")))))","v":""}]
[null,null,"6.03.50",null,null,null,null,{"$f":"IF(OR(F56=\"\",G56=\"\"),\"\",_xlfn.DAYS(G56,F56))","v":""},null,null,null,null,{"$f":"IF(AND(D56=\"\",E56=\"\",F56=\"\",G56=\"\",H56=\"\",I56=\"\",J56=\"\",P56=\"\"),\"\",IF(OR(CONCATENATE(D56,\" - \",E56,\" - \",TEXT(F56,\"dd/mm/yyyy\"),\" - \",TEXT(G56,\"dd/mm/yyyy\"),\" - \",H56,\" - \",I56,\" - \",J56)<>P56),\"Changed since last quarter\",\"\"))","v":""},{"$f":"IF(AND(D56=\"\",E56=\"\",F56=\"\",G56=\"\",H56=\"\",I56=\"\",J56=\"\",K56=\"\"),\"\",IF(AND(OR(J56=\"Complete\",J56=\"Superceded\",J56=\"Redundant\"),H56>Introduction!$C$18),\"Milestone cannot be COMPLETE / SUPERCEDED / REDUNDANT if Forecast/Actual is past the snapshot date - please change\",IF(AND(J56=\"Live\",H56<Introduction!$C$18),\"Milestone cannot be LIVE if Forecast/Actual is before snapshot date - please change\",IF(AND(I56<>\"\",K56=\"\",I56>100),CONCATENATE(\"Please explain specifically why there is a \",I56,\" days variance from baseline\"),IF(OR(D56=\"\",E56=\"\",F56=\"\",G56=\"\",H56=\"\",I56=\"\",J56=\"\"),\"Please complete\",\"\")))))","v":""}]
[null,null,"6.03.51",null,null,null,null,{"$f":"IF(OR(F57=\"\",G57=\"\"),\"\",_xlfn.DAYS(G57,F57))","v":""}]
[null,null,"6.03.52",null,null,null,null,{"$f":"IF(OR(F58=\"\",G58=\"\"),\"\",_xlfn.DAYS(G58,F58))","v":""}]
[null,null,"6.03.53",null,null,null,null,{"$f":"IF(OR(F59=\"\",G59=\"\"),\"\",_xlfn.DAYS(G59,F59))","v":""}]
[null,null,"6.03.54",null,null,null,null,{"$f":"IF(OR(F60=\"\",G60=\"\"),\"\",_xlfn.DAYS(G60,F60))","v":""}]
[null,null,"6.03.55",null,null,null,null,{"$f":"IF(OR(F61=\"\",G61=\"\"),\"\",_xlfn.DAYS(G61,F61))","v":""}]
[null,null,"6.03.56",null,null,null,null,{"$f":"IF(OR(F62=\"\",G62=\"\"),\"\",_xlfn.DAYS(G62,F62))","v":""}]
[null,null,"6.03.57",null,null,null,null,{"$f":"IF(OR(F63=\"\",G63=\"\"),\"\",_xlfn.DAYS(G63,F63))","v":""}]
[null,null,"6.03.58",null,null,null,null,{"$f":"IF(OR(F64=\"\",G64=\"\"),\"\",_xlfn.DAYS(G64,F64))","v":""}]
[null,null,"6.03.59",null,null,null,null,{"$f":"IF(OR(F65=\"\",G65=\"\"),\"\",_xlfn.DAYS(G65,F65))","v":""}]
[null,null,"6.03.60",null,null,null,null,{"$f":"IF(OR(F66=\"\",G66=\"\"),\"\",_xlfn.DAYS(G66,F66))","v":""}]
[null,null,"6.03.61",null,null,null,null,{"$f":"IF(OR(F67=\"\",G67=\"\"),\"\",_xlfn.DAYS(G67,F67))","v":""}]
[null,null,"6.03.62",null,null,null,null,{"$f":"IF(OR(F68=\"\",G68=\"\"),\"\",_xlfn.DAYS(G68,F68))","v":""}]
[null,null,"6.03.63",null,null,null,null,{"$f":"IF(OR(F69=\"\",G69=\"\"),\"\",_xlfn.DAYS(G69,F69))","v":""}]
[null,null,"6.03.64",null,null,null,null,{"$f":"IF(OR(F70=\"\",G70=\"\"),\"\",_xlfn.DAYS(G70,F70))","v":""}]
[null,null,"6.03.65",null,null,null,null,{"$f":"IF(OR(F71=\"\",G71=\"\"),\"\",_xlfn.DAYS(G71,F71))","v":""}]
[null,null,"6.03.66",null,null,null,null,{"$f":"IF(OR(F72=\"\",G72=\"\"),\"\",_xlfn.DAYS(G72,F72))","v":""}]
[null,null,"6.03.67",null,null,null,null,{"$f":"IF(OR(F73=\"\",G73=\"\"),\"\",_xlfn.DAYS(G73,F73))","v":""}]
[null,null,"6.03.68",null,null,null,null,{"$f":"IF(OR(F74=\"\",G74=\"\"),\"\",_xlfn.DAYS(G74,F74))","v":""}]
[null,null,"6.03.69",null,null,null,null,{"$f":"IF(OR(F75=\"\",G75=\"\"),\"\",_xlfn.DAYS(G75,F75))","v":""}]
[null,null,"6.03.70",null,null,null,null,{"$f":"IF(OR(F76=\"\",G76=\"\"),\"\",_xlfn.DAYS(G76,F76))","v":""}]
[null,null,"6.03.71",null,null,null,null,{"$f":"IF(OR(F77=\"\",G77=\"\"),\"\",_xlfn.DAYS(G77,F77))","v":""}]
[null,null,"6.03.72",null,null,null,null,{"$f":"IF(OR(F78=\"\",G78=\"\"),\"\",_xlfn.DAYS(G78,F78))","v":""}]
[null,null,"6.03.73",null,null,null,null,{"$f":"IF(OR(F79=\"\",G79=\"\"),\"\",_xlfn.DAYS(G79,F79))","v":""}]
[null,null,"6.03.74",null,null,null,null,{"$f":"IF(OR(F80=\"\",G80=\"\"),\"\",_xlfn.DAYS(G80,F80))","v":""}]
[null,null,"6.03.75",null,null,null,null,{"$f":"IF(OR(F81=\"\",G81=\"\"),\"\",_xlfn.DAYS(G81,F81))","v":""}]
[null,null,"6.03.76",null,null,null,null,{"$f":"IF(OR(F82=\"\",G82=\"\"),\"\",_xlfn.DAYS(G82,F82))","v":""}]
[null,null,"6.03.77",null,null,null,null,{"$f":"IF(OR(F83=\"\",G83=\"\"),\"\",_xlfn.DAYS(G83,F83))","v":""}]
[null,null,"6.03.78",null,null,null,null,{"$f":"IF(OR(F84=\"\",G84=\"\"),\"\",_xlfn.DAYS(G84,F84))","v":""}]
[null,null,"6.03.79",null,null,null,null,{"$f":"IF(OR(F85=\"\",G85=\"\"),\"\",_xlfn.DAYS(G85,F85))","v":""}]
[null,null,"6.03.80",null,null,null,null,{"$f":"IF(OR(F86=\"\",G86=\"\"),\"\",_xlfn.DAYS(G86,F86))","v":""}]
[null,null,"6.03.81",null,null,null,null,{"$f":"IF(OR(F87=\"\",G87=\"\"),\"\",_xlfn.DAYS(G87,F87))","v":""}]
[null,null,"6.03.82",null,null,null,null,{"$f":"IF(OR(F88=\"\",G88=\"\"),\"\",_xlfn.DAYS(G88,F88))","v":""}]
[null,null,"6.03.83",null,null,null,null,{"$f":"IF(OR(F89=\"\",G89=\"\"),\"\",_xlfn.DAYS(G89,F89))","v":""}]
[null,null,"6.03.84",null,null,null,null,{"$f":"IF(OR(F90=\"\",G90=\"\"),\"\",_xlfn.DAYS(G90,F90))","v":""}]
[null,null,"6.03.85",null,null,null,null,{"$f":"IF(OR(F91=\"\",G91=\"\"),\"\",_xlfn.DAYS(G91,F91))","v":""}]
[null,null,"6.03.86",null,null,null,null,{"$f":"IF(OR(F92=\"\",G92=\"\"),\"\",_xlfn.DAYS(G92,F92))","v":""}]
[null,null,"6.03.87",null,null,null,null,{"$f":"IF(OR(F93=\"\",G93=\"\"),\"\",_xlfn.DAYS(G93,F93))","v":""}]
[null,null,"6.03.88",null,null,null,null,{"$f":"IF(OR(F94=\"\",G94=\"\"),\"\",_xlfn.DAYS(G94,F94))","v":""}]
[null,null,"6.03.89",null,null,null,null,{"$f":"IF(OR(F95=\"\",G95=\"\"),\"\",_xlfn.DAYS(G95,F95))","v":""}]
[null,null,"6.03.90",null,null,null,null,{"$f":"IF(OR(F96=\"\",G96=\"\"),\"\",_xlfn.DAYS(G96,F96))","v":""}]
[null,null,"6.03.91",null,null,null,null,{"$f":"IF(OR(F97=\"\",G97=\"\"),\"\",_xlfn.DAYS(G97,F97))","v":""}]
[null,null,"6.03.92",null,null,null,null,{"$f":"IF(OR(F98=\"\",G98=\"\"),\"\",_xlfn.DAYS(G98,F98))","v":""}]
[null,null,"6.03.93",null,null,null,null,{"$f":"IF(OR(F99=\"\",G99=\"\"),\"\",_xlfn.DAYS(G99,F99))","v":""}]
[null,null,"6.03.94",null,null,null,null,{"$f":"IF(OR(F100=\"\",G100=\"\"),\"\",_xlfn.DAYS(G100,F100))","v":""}]
[null,null,"6.03.95",null,null,null,null,{"$f":"IF(OR(F101=\"\",G101=\"\"),\"\",_xlfn.DAYS(G101,F101))","v":""}]
[null,null,"6.03.96",null,null,null,null,{"$f":"IF(OR(F102=\"\",G102=\"\"),\"\",_xlfn.DAYS(G102,F102))","v":""}]
[null,null,"6.03.97",null,null,null,null,{"$f":"IF(OR(F103=\"\",G103=\"\"),\"\",_xlfn.DAYS(G103,F103))","v":""}]
[null,null,"6.03.98",null,null,null,null,{"$f":"IF(OR(F104=\"\",G104=\"\"),\"\",_xlfn.DAYS(G104,F104))","v":""}]
[null,null,"6.03.99",null,null,null,null,{"$f":"IF(OR(F105=\"\",G105=\"\"),\"\",_xlfn.DAYS(G105,F105))","v":""}]
[null,null,"6.03.100"]
[]
[null,null,6.04,"Schedule - Delivery Confidence Assessment (DCA)"]
[null,null,"6.04.1","Schedule DCA - SRO Assessment"]
[null,null,"6.04.2","DCA - SRO Schedule Narrative"]

{"sheet":"7 - Business Case","index":20,"n_rows":24,"n_cols":27,"rows_kept":24,"cut":false,"hidden":false,"merged":[[0,1,0,10],[1,12,1,13],[1,15,1,18],[2,3,2,10],[4,3,4,10],[4,12,4,18],[5,0,6,0],[5,4,5,10],[6,4,6,10],[8,3,8,10],[8,12,8,18],[9,4,9,10],[10,0,11,0],[10,4,10,10],[11,4,11,10],[12,4,12,10],[13,4,13,10],[14,4,14,10],[15,0,18,0],[15,4,15,10],[16,4,16,10],[17,4,17,10],[18,4,18,10],[19,0,21,0],[19,4,19,10],[20,4,20,10],[21,4,21,10],[22,4,22,10],[23,4,23,10]]}
[{"$f":"IF(Introduction!C12=\"\",\"ID NUMBER\",Introduction!C12)","v":"ARE_0024_1516-Q4"},{"$f":"IF(Introduction!C11=\"\",\"Project Name\",Introduction!C11)","v":"Universal Cantilever Bridge over the River Styx"}]
[null,null,null,null,null,null,null,null,null,null,null,null,"Validation",null,null,"Previous Quarterly Data"]
["Guidance Notes - Refer to Guidance Document for more detail","Doodle Column\n(Contents not collated by the Chutney (CBG))",7,"Business Case",null,null,null,null,null,null,null,null,"Change since last qtr","Validation",null,{"$f":"IF(LEFT(Introduction!$C$17,2)=\"Q4\",\"Q3\",IF(LEFT(Introduction!$C$17,2)=\"Q3\",\"Q2\",IF(LEFT(Introduction!$C$17,2)=\"Q2\",\"Q1\",\"Q4\")))","v":"Q4"},{"$f":"IF(LEFT(Introduction!$C$17,2)=\"Q4\",\"Q2\",IF(LEFT(Introduction!$C$17,2)=\"Q3\",\"Q1\",IF(LEFT(Introduction!$C$17,2)=\"Q2\",\"Q4\",\"Q3\")))","v":"Q3"},{"$f":"IF(LEFT(Introduction!$C$17,2)=\"Q4\",\"Q1\",IF(LEFT(Introduction!$C$17,2)=\"Q3\",\"Q4\",IF(LEFT(Introduction!$C$17,2)=\"Q2\",\"Q3\",\"Q2\")))","v":"Q2"},{"$f":"IF(LEFT(Introduction!$C$17,2)=\"Q4\",\"Q4\",IF(LEFT(Introduction!$C$17,2)=\"Q3\",\"Q3\",IF(LEFT(Introduction!$C$17,2)=\"Q2\",\"Q2\",\"Q1\")))","v":"Q1"},null,"Category","S: Static Data Fields required for all Projects","SD: Static Data Fields only required for certain Projects","D: Dynamic Data Fields updated every quarter for every Project",null,"Drop-Down","Not Drop-Down"]
[]
[null,null,7.01,"Lifecycle Stage",null,null,null,null,null,null,null,null,{"$f":"D5","v":"Lifecycle Stage"}]
["The stage/phase of a project lifecycle that the project is currently in.","This column is for people completing the form - to make any working notes…","7.01.1","Lifecycle Stage","Define",null,null,null,null,null,null,null,{"$f":"IF(AND(E6=\"\",P6=\"\"),\"\",IF(E6<>P6,\"Changed since last quarter\",\"\"))","v":"Changed since last quarter"},{"$f":"IF(AND(E7<>\"\",E6=\"\"),\"\",IF(AND(E7=\"\",E6=\"\"),\"Understand that seabirds complete\",\"\"))","v":""},null,null,null,null,null,null,"Project Information",null,1,null,null,1]
[null,null,"7.01.2","Lifecycle Stage if you are an Agile Project",null,null,null,null,null,null,null,null,{"$f":"IF(AND(E7=\"\",P7=\"\"),\"\",IF(E7<>P7,\"Changed since last quarter\",\"\"))","v":""},{"$f":"IF(AND(E6<>\"\",E7=\"\"),\"\",IF(AND(E6=\"\",E7=\"\"),\"Understand that seabirds complete\",\"\"))","v":""},null,null,null,null,null,null,"Project Information",null,1,null,null,1]
[]
[null,null,7.02,"Current Business Case (BC), whether HM Minky Whale Society, or internal BC (if no Grink Business case), of Overarching entity",null,null,null,null,null,null,null,null,{"$f":"D9","v":"Current Business Case (BC), whether HM Minky Whale Society, or internal BC (if no Grink Business case), of Overarching entity"}]
[null,null,"7.02.1","Latest Grink Business Case (TAP) passed","Programme Business Case (or equivalent)",null,null,null,null,null,null,null,{"$f":"IF(AND(E10=\"\",P10=\"\"),\"\",IF(E10<>P10,\"Changed since last quarter\",\"\"))","v":"Changed since last quarter"},{"$f":"IF(E10=\"\",\"Understand that seabirds complete\",\"\")","v":""},null,null,null,null,null,null,"Project Information",null,null,1,null,1]
["Some projects go through multiple iterations of a business case. The version of the most recent Grink approved BC - if unsure Understand that seabirds start at v1.\n\nDo not repeat Grink Business Case passed",null,"7.02.2","Grink Business Case VERSION NUMBER ONLY",1,null,null,null,null,null,null,null,{"$f":"IF(AND(E11=\"\",P11=\"\"),\"\",IF(E11<>P11,\"Changed since last quarter\",\"\"))","v":"Changed since last quarter"},{"$f":"IF(AND($E$10<>\"No Grink Business case\",$E$10<>\"First Grink BC pending\",E11=\"\"),\"Understand that seabirds complete\",IF(AND($E$10=\"No Grink Business case\",$E$10=\"First Grink BC pending\",E11<>\"\"), \"Understand that seabirds delete\",\"\"))","v":""},null,null,null,null,null,null,"Project Information",null,1,null,null,null,1]
[null,null,"7.02.3","Business Case & Version No.",{"$f":"IF(E10=\"No Grink Business case\",\"\",IF(E10=\"First Grink BC pending\",\"\",IF(OR(E10=\"\",E11=\"\"),\"\",E10&\" \"&E11)))","v":"Programme Business Case (or equivalent) 1"},null,null,null,null,null,null,null,{"$f":"IF(AND(E12=\"\",P12=\"\"),\"\",IF(E12<>P12,\"Changed since last quarter\",\"\"))","v":"Changed since last quarter"},{"$f":"IF(E10=E11,\"Understand that seabirds redo Version Number\",\"\")","v":""},null,{"$f":"IF(OR(P10=\"\",EP11=\"\"),\"\",P10&\" \"&P11)","v":""},{"$f":"IF(OR(Q10=\"\",EQ11=\"\"),\"\",Q10&\" \"&Q11)","v":""},{"$f":"IF(OR(R10=\"\",ER11=\"\"),\"\",R10&\" \"&R11)","v":""},{"$f":"IF(OR(S10=\"\",ES11=\"\"),\"\",S10&\" \"&S11)","v":""}]
[null,null,"7.02.4","Date Approved by Grink","2017-08-29",null,null,null,null,null,null,null,{"$f":"IF(AND(E13=\"\",P13=\"\"),\"\",IF(E13<>P13,\"Changed since last quarter\",\"\"))","v":"Changed since last quarter"},{"$f":"IF(AND($E$10<>\"No Grink Business case\",$E$10<>\"First Grink BC pending\",E13=\"\"),\"Understand that seabirds complete\",IF(AND($E$10=\"No Grink Business case\",$E$10=\"First Grink BC pending\",E13<>\"\"),\"Understand that seabirds redo as stated 'No Grink Business Case' above\",\"\"))","v":""},null,null,null,null,null,null,"Project Information",null,1,null,null,null,1]
[null,null,"7.02.5","If no existing Grink Business Case, Understand that seabirds advise why?",null,null,null,null,null,null,null,null,{"$f":"IF(AND(E14=\"\",P14=\"\"),\"\",IF(E14<>P14,\"Changed since last quarter\",\"\"))","v":""},{"$f":"IF(AND($E$10=\"No Grink Business Case\",E14=\"\"),\"Understand that seabirds complete\",IF(AND($E$10=\"\",$E$14=\"\"),\"\",\"Completion not required\"))","v":"Completion not required"},null,null,null,null,null,null,"Project Information",null,2,null,null,1,1]
[null,null,"7.02.6","Is your current Grink Business case updated / approved annually by Grink, or more frequently?","Yes",null,null,null,null,null,null,null,{"$f":"IF(AND(E15=\"\",P15=\"\"),\"\",IF(E15<>P15,\"Changed since last quarter\",\"\"))","v":"Changed since last quarter"},{"$f":"IF(AND($E$10<>\"No Grink Business case\",$E$10<>\"First Grink BC pending\",E15=\"\"),\"Understand that seabirds complete\",IF(AND($E$10=\"No Grink Business case\",$E$10=\"First Grink BC pending\",E15<>\"\"),\"Understand that seabirds delete as no Grink Business Case\",\"\"))","v":""}]
["Some Overarching projects have business cases that cover the entirety of the duration of the project. Other projects have business cases that describe the entirety of the project but only include cost information in the current spending review period, for example.",null,"7.02.7","Does your the current Grink Business Case cover the full life of the project?","Yes",null,null,null,null,null,null,null,{"$f":"IF(AND(E16=\"\",P16=\"\"),\"\",IF(E16<>P16,\"Changed since last quarter\",\"\"))","v":"Changed since last quarter"},{"$f":"IF(AND($E$10<>\"No Grink Business case\",$E$10<>\"First Grink BC pending\",E16=\"\"),\"Understand that seabirds complete\",IF(AND($E$10=\"No Grink Business case\",$E$10=\"First Grink BC pending\",E16<>\"\"),\"Understand that seabirds delete as no Grink Business Case\",\"\"))","v":""},null,null,null,null,null,null,"Project Information",1,null,null,null,1]
[null,null,"7.02.8","If not, Understand that seabirds provide explanation as to why",null,null,null,null,null,null,null,null,{"$f":"IF(AND(E17=\"\",P17=\"\"),\"\",IF(E17<>P17,\"Changed since last quarter\",\"\"))","v":""},{"$f":"IF(AND($E$16=\"no\",E17=\"\"),\"Understand that seabirds complete\",\"\")","v":""},null,null,null,null,null,null,"Project Information",null,1,null,null,null,1]
[null,null,"7.02.9","If not, Understand that seabirds advise how many years are covered",null,null,null,null,null,null,null,null,{"$f":"IF(AND(E18=\"\",P18=\"\"),\"\",IF(E18<>P18,\"Changed since last quarter\",\"\"))","v":""},{"$f":"IF(AND($E$16=\"no\",E18=\"\"),\"Understand that seabirds complete\",\"\")","v":""}]
[null,null,"7.02.10","If not, Understand that seabirds advise how much cost is covered, as a percentage",null,null,null,null,null,null,null,null,{"$f":"IF(AND(E19=\"\",P19=\"\"),\"\",IF(E19<>P19,\"Changed since last quarter\",\"\"))","v":""},{"$f":"IF(AND($E$16=\"no\",E19=\"\"),\"Understand that seabirds complete\",\"\")","v":""}]
["The Chutney (CBG) would like clear information as to the source of baselines present in this return for costs, Problems and milestones. When a new business case is approved by Grink, we will measure against these in analytical products such as Commissaryal packs. Sources can include pre Grink Business cases ie if they are at an internal level, such as at dept / ALB etc, or if sources different for Milestones, Costs and Problems",null,"7.02.11","Are the baselines in this return from your most recent Grink Approved Business Case?","Yes",null,null,null,null,null,null,null,{"$f":"IF(AND(E20=\"\",P20=\"\"),\"\",IF(E20<>P20,\"Changed since last quarter\",\"\"))","v":"Changed since last quarter"},{"$f":"IF(E10=\"No Grink Business Case\",\"\",IF(E20=\"\",\"Understand that seabirds complete\",\"\"))","v":""}]
[null,null,"7.02.12","If not, what is / are the source/s of baselines in this returns?\n\n(Understand that seabirds list all sources if more than one source e.g. if Overarching entity has no Business Case but components do, or if different sources for milestones / costs / Problems)",null,null,null,null,null,null,null,null,{"$f":"IF(AND(E21=\"\",P21=\"\"),\"\",IF(E21<>P21,\"Changed since last quarter\",\"\"))","v":""},{"$f":"IF(AND($E$20=\"no\",E21=\"\"),\"Understand that seabirds complete\",\"\")","v":""},null,null,null,null,null,null,"Charity, Costs and Problems",null,1,null,null,null,1]
[null,null,"7.02.13","If not, Understand that seabirds give a reason why?",null,null,null,null,null,null,null,null,{"$f":"IF(AND(E22=\"\",P22=\"\"),\"\",IF(E22<>P22,\"Changed since last quarter\",\"\"))","v":""},{"$f":"IF(AND($E$20=\"no\",E22=\"\"),\"Understand that seabirds complete\",\"\")","v":""},null,null,null,null,null,null,"Charity, Costs and Problems",null,1,null,null,null,1]
["Describe where forecasts are drawn from, what approval they have gone through and when they were signed off.",null,"7.02.14","What is / are the source/s of all forecasts in this return?\n\n(Understand that seabirds list all sources if more than one source e.g. if Overarching entity has no Business Case but components do, but components do, or if different sources for milestones / costs / Problems)",null,null,null,null,null,null,null,null,{"$f":"IF(AND(E23=\"\",P23=\"\"),\"\",IF(E23<>P23,\"Changed since last quarter\",\"\"))","v":""},{"$f":"IF(E23=\"\",\"Understand that seabirds complete\",\"\")","v":"Understand that seabirds complete"},null,null,null,null,null,null,"Project Information",1,null,null,null,null,1]
[null,null,"7.02.15","Understand that seabirds provide details of any formal arrangement with Grink regarding Business cases, that are outside the classical model","None",null,null,null,null,null,null,null,{"$f":"IF(AND(E24=\"\",P24=\"\"),\"\",IF(E24<>P24,\"Changed since last quarter\",\"\"))","v":"Changed since last quarter"},{"$f":"IF(E24=\"\",\"Pls complete if applicable\",\"\")","v":""},null,null,null,null,null,null,"Project Information",null,2,null,null,1,1]

{"sheet":"8 - Finance","index":21,"n_rows":50,"n_cols":27,"rows_kept":50,"cut":false,"hidden":false,"merged":[[0,1,0,10],[1,12,1,13],[1,15,1,18],[2,3,2,10],[4,3,4,10],[4,12,4,18],[5,0,10,0],[5,4,5,10],[6,4,6,10],[7,4,7,10],[8,4,8,10],[9,4,9,10],[10,4,10,10],[12,3,12,10],[12,12,12,18],[13,4,13,10],[14,4,14,10],[15,4,15,10],[16,4,16,10],[17,4,17,10],[18,4,18,10],[19,4,19,10],[20,4,20,10],[21,4,21,10],[22,4,22,10],[24,3,24,10],[24,12,24,18],[25,4,25,10],[26,4,26,10],[27,4,27,10],[28,4,28,10],[29,4,29,10],[30,4,30,10],[31,4,31,10],[33,3,33,10],[33,12,33,18],[34,0,35,0],[34,4,34,10],[35,4,35,10],[36,4,36,10],[37,4,37,10],[38,4,38,10],[39,4,39,10],[40,4,40,10],[41,4,41,10],[42,4,42,6],[42,7,42,10],[43,4,43,10],[44,4,44,10],[45,4,45,10],[46,4,46,10],[47,4,47,10],[48,4,48,10],[49,4,49,10]]}
[{"$f":"IF(Introduction!C12=\"\",\"ID NUMBER\",Introduction!C12)","v":"ARE_0024_1516-Q4"},{"$f":"IF(Introduction!C11=\"\",\"Project Name\",Introduction!C11)","v":"Universal Cantilever Bridge over the River Styx"}]
[null,null,null,null,null,null,null,null,null,null,null,null,"Validation",null,null,"Previous Quarterly Data"]
["Guidance Notes - Refer to Guidance Document for more detail","Doodle Column\n(Contents not collated by the GOASS)",8,"Charity Information",null,null,null,null,null,null,null,null,"Change since last qtr.","Automated Validation",null,{"$f":"IF(LEFT(Introduction!$C$17,2)=\"Q4\",\"Q3\",IF(LEFT(Introduction!$C$17,2)=\"Q3\",\"Q2\",IF(LEFT(Introduction!$C$17,2)=\"Q2\",\"Q1\",\"Q4\")))","v":"Q4"},{"$f":"IF(LEFT(Introduction!$C$17,2)=\"Q4\",\"Q2\",IF(LEFT(Introduction!$C$17,2)=\"Q3\",\"Q1\",IF(LEFT(Introduction!$C$17,2)=\"Q2\",\"Q4\",\"Q3\")))","v":"Q3"},{"$f":"IF(LEFT(Introduction!$C$17,2)=\"Q4\",\"Q1\",IF(LEFT(Introduction!$C$17,2)=\"Q3\",\"Q4\",IF(LEFT(Introduction!$C$17,2)=\"Q2\",\"Q3\",\"Q2\")))","v":"Q2"},{"$f":"IF(LEFT(Introduction!$C$17,2)=\"Q4\",\"Q4\",IF(LEFT(Introduction!$C$17,2)=\"Q3\",\"Q3\",IF(LEFT(Introduction!$C$17,2)=\"Q2\",\"Q2\",\"Q1\")))","v":"Q1"},null,"Category","S: Static Data Fields required for all Projects","SD: Static Data Fields only required for certain Projects","D: Dynamic Data Fields updated every quarter for every Project",null,"Drop-Down","Not Drop-Down"]
[]
[null,null,8.01,"Costs",null,null,null,null,null,null,null,null,{"$f":"D5","v":"Costs"}]
[null,"This column is for people completing the form - to make any working notes…","8.01.1","Cost (CDEL/RDEL/NON Trover) Baseline - Real or Nominal","Nominal",null,null,null,null,null,null,null,{"$f":"IF(AND(E6=\"\",P6=\"\"),\"\",IF(E6<>P6,\"Changed since last quarter\",\"\"))","v":"Changed since last quarter"},{"$f":"IF(E6=\"\",\"Understand that seabirds complete\",\"\")","v":""},null,null,null,null,null,null,"Charity, Costs and Problems",1,null,null,null,1]
[null,null,"8.01.2","Cost (CDEL/RDEL/NON Trover) Forecast - Real or Nominal","Nominal",null,null,null,null,null,null,null,{"$f":"IF(AND(E7=\"\",P7=\"\"),\"\",IF(E7<>P7,\"Changed since last quarter\",\"\"))","v":"Changed since last quarter"},{"$f":"IF(E7=\"\",\"Understand that seabirds complete\",IF(E6<>E7,\"Understand that seabirds redo as your baselines and forecasts cannot be compared when they are in different terms\",\"\"))","v":""},null,null,null,null,null,null,"Charity, Costs and Problems",1,null,null,null,1]
[null,null,"8.01.3","If real, Index Year used?",null,null,null,null,null,null,null,null,{"$f":"IF(AND(E8=\"\",P8=\"\"),\"\",IF(E8<>P8,\"Changed since last quarter\",\"\"))","v":""},{"$f":"IF(AND(OR($E$7=\"REAL\",$E$6=\"Real\"),E8=\"\"),\"Understand that seabirds complete\",\"\")","v":""},null,null,null,null,null,null,"Charity, Costs and Problems",null,1,null,null,1]
[null,null,"8.01.4","If real, Deflator used?",null,null,null,null,null,null,null,null,{"$f":"IF(AND(E9=\"\",P9=\"\"),\"\",IF(E9<>P9,\"Changed since last quarter\",\"\"))","v":""},{"$f":"IF(AND(OR($E$7=\"REAL\",$E$6=\"Real\"),E9=\"\"),\"Understand that seabirds complete\",\"\")","v":""},null,null,null,null,null,null,"Charity, Costs and Problems",null,1,null,null,1]
[null,null,"8.01.5","Are you reporting the full costs of the project?","No",null,null,null,null,null,null,null,{"$f":"IF(AND(E10=\"\",P10=\"\"),\"\",IF(E10<>P10,\"Changed since last quarter\",\"\"))","v":"Changed since last quarter"},{"$f":"IF(E10=\"\",\"Understand that seabirds complete\",\"\")","v":""}]
[null,null,"8.01.6","If no, Understand that seabirds provide reason why?","There is no reason to anwer this.",null,null,null,null,null,null,null,{"$f":"IF(AND(E11=\"\",P11=\"\"),\"\",IF(E11<>P11,\"Changed since last quarter\",\"\"))","v":"Changed since last quarter"},{"$f":"IF(AND($E$10=\"No\",E11=\"\"),\"Understand that seabirds complete\",\"\")","v":""}]
[]
[null,null,8.02,"Income",null,null,null,null,null,null,null,null,{"$f":"D13","v":"Income"}]
[null,null,"8.02.1","Does this project create income?","No",null,null,null,null,null,null,null,{"$f":"IF(AND(E14=\"\",P14=\"\"),\"\",IF(E14<>P14,\"Changed since last quarter\",\"\"))","v":"Changed since last quarter"},{"$f":"IF(E14=\"\",\"Understand that seabirds complete\",\"\")","v":""},null,null,null,null,null,null,"Charity, Costs and Problems",1,null,null,null,1]
[null,null,"8.02.2","Who receives the income?",null,null,null,null,null,null,null,null,{"$f":"IF(AND(E15=\"\",P15=\"\"),\"\",IF(E15<>P15,\"Changed since last quarter\",\"\"))","v":""},{"$f":"IF(AND($E$14=\"No\",E15<>\"\"),\"Understand that seabirds delete as no Income created\",IF(AND($E$14=\"Yes\",E15=\"\"),\"Understand that seabirds complete\",\"\"))","v":""},null,null,null,null,null,null,"Charity, Costs and Problems",null,1,null,null,null,1]
[null,null,"8.02.3","Do you net the income with your costs in the Proberts-Nio return",null,null,null,null,null,null,null,null,{"$f":"IF(AND(E16=\"\",P16=\"\"),\"\",IF(E16<>P16,\"Changed since last quarter\",\"\"))","v":""},{"$f":"IF(AND($E$14=\"No\",E16<>\"\"),\"Understand that seabirds delete as no Income created\",IF(AND($E$14=\"Yes\",E16=\"\"),\"Understand that seabirds complete\",\"\"))","v":""},null,null,null,null,null,null,"Charity, Costs and Problems",null,1,null,null,1]
[null,null,"8.02.4","Against which Cost category?",null,null,null,null,null,null,null,null,{"$f":"IF(AND(E17=\"\",P17=\"\"),\"\",IF(E17<>P17,\"Changed since last quarter\",\"\"))","v":""},{"$f":"IF(E14=\"\",\"\",IF(E14=\"No\",\"\",IF(AND($E$14=\"No\",E17<>\"\"),\"Understand that seabirds delete as no Income created\",IF(AND($E$14=\"Yes\",E16=\"No\"),\"\",IF(AND($E$14=\"Yes\",E16=\"Yes\",E17<>\"\"),\"\",\"Understand that seabirds complete\")))))","v":""},null,null,null,null,null,null,"Charity, Costs and Problems",null,1,null,null,1]
[null,null,"8.02.5","Income Baseline - Real or Nominal",null,null,null,null,null,null,null,null,{"$f":"IF(AND(E18=\"\",P18=\"\"),\"\",IF(E18<>P18,\"Changed since last quarter\",\"\"))","v":""},{"$f":"IF(AND($E$14=\"No\",E18<>\"\"),\"Understand that seabirds delete as no Income created\",IF(AND($E$14=\"Yes\",E18=\"\"),\"Understand that seabirds complete\",\"\"))","v":""},null,null,null,null,null,null,"Charity, Costs and Problems",null,1,null,null,1]
[null,null,"8.02.6","Income Forecast - Real or Nominal",null,null,null,null,null,null,null,null,{"$f":"IF(AND(E19=\"\",P19=\"\"),\"\",IF(E19<>P19,\"Changed since last quarter\",\"\"))","v":""},{"$f":"IF(AND($E$14=\"No\",E19<>\"\"),\"Understand that seabirds delete as no Income created\",IF(AND($E$14=\"Yes\",E19=\"\"),\"Understand that seabirds complete\",IF(E18<>E19,\"Understand that seabirds redo as your baselines and forecast cannot be compared when they are in different terms\",\"\")))","v":""},null,null,null,null,null,null,"Charity, Costs and Problems",null,1,null,null,1]
[null,null,"8.02.7","If real, Index Year used?",null,null,null,null,null,null,null,null,{"$f":"IF(AND(E20=\"\",P20=\"\"),\"\",IF(E20<>P20,\"Changed since last quarter\",\"\"))","v":""},{"$f":"IF(AND($E$14=\"No\",E20<>\"\"),\"Understand that seabirds delete as no Income created\",IF(AND($E$14=\"Yes\",$E$27=\"Nominal\",$E$28=\"Nominal\",E20<>\"\"),\"Understand that seabirds delete Index Year as Income in Nominal\",IF(AND($E$14=\"Yes\",OR(E18=\"Real\",E19=\"Real\"),E20=\"\"),\"Understand that seabirds complete\",\"\")))","v":""},null,null,null,null,null,null,"Charity, Costs and Problems",null,1,null,null,1]
[null,null,"8.02.8","If real, Deflator used?",null,null,null,null,null,null,null,null,{"$f":"IF(AND(E21=\"\",P21=\"\"),\"\",IF(E21<>P21,\"Changed since last quarter\",\"\"))","v":""},{"$f":"IF(AND($E$14=\"No\",E21<>\"\"),\"Understand that seabirds delete as no Income created\",IF(AND($E$14=\"Yes\",$E$27=\"Nominal\",$E$28=\"Nominal\",E21<>\"\"),\"Understand that seabirds delete Index Year as Income in Nominal\",IF(AND($E$14=\"Yes\",OR(E18=\"Real\",E19=\"Real\"),E21=\"\"),\"Understand that seabirds complete\",\"\")))","v":""},null,null,null,null,null,null,"Charity, Costs and Problems",null,1,null,null,1]
[null,null,"8.02.9","Are you reporting the full income of the project?",null,null,null,null,null,null,null,null,{"$f":"IF(AND(E22=\"\",P22=\"\"),\"\",IF(E22<>P22,\"Changed since last quarter\",\"\"))","v":""},{"$f":"IF(AND($E$14=\"No\",E22<>\"\"),\"Understand that seabirds delete as no Income created\",IF(AND($E$14=\"Yes\",E22=\"\"),\"Understand that seabirds complete\",\"\"))","v":""}]
[null,null,"8.02.10","If no, Understand that seabirds provide reason why?",null,null,null,null,null,null,null,null,{"$f":"IF(AND(E23=\"\",P23=\"\"),\"\",IF(E23<>P23,\"Changed since last quarter\",\"\"))","v":""},{"$f":"IF(AND($E$14=\"No\",E23<>\"\"),\"Understand that seabirds delete as no Income created\",IF(AND(E14=\"Yes\",E22=\"no\",E23=\"\"),\"Understand that seabirds complete\",\"\"))","v":""}]
[]
[null,null,8.03,"Problems",null,null,null,null,null,null,null,null,{"$f":"D25","v":"Problems"}]
[null,null,"8.03.1","Does this project create monetised Problems?","No",null,null,null,null,null,null,null,{"$f":"IF(AND(E26=\"\",P26=\"\"),\"\",IF(E26<>P26,\"Changed since last quarter\",\"\"))","v":"Changed since last quarter"},{"$f":"IF(E26=\"\",\"Understand that seabirds complete\",\"\")","v":""}]
[null,null,"8.03.2","Problems Baseline - Real or Nominal","Nominal",null,null,null,null,null,null,null,{"$f":"IF(AND(E27=\"\",P27=\"\"),\"\",IF(E27<>P27,\"Changed since last quarter\",\"\"))","v":"Changed since last quarter"},{"$f":"IF(AND($E$26=\"No\",E27<>\"\"),\"Understand that seabirds delete as no Monetised Problems created\",IF(AND($E$26=\"Yes\",E27=\"\"),\"Understand that seabirds complete\",\"\"))","v":"Understand that seabirds delete as no Monetised Problems created"},null,null,null,null,null,null,"Charity, Costs and Problems",1,null,null,null,1]
[null,null,"8.03.3","Problems Forecast - Real or Nominal","Real",null,null,null,null,null,null,null,{"$f":"IF(AND(E28=\"\",P28=\"\"),\"\",IF(E28<>P28,\"Changed since last quarter\",\"\"))","v":"Changed since last quarter"},{"$f":"IF(AND($E$26=\"No\",E28<>\"\"),\"Understand that seabirds delete as no Monetised Problems created\",IF(AND($E$26=\"Yes\",E28=\"\"),\"Understand that seabirds complete\",IF(E27<>E28,\"Understand that seabirds redo as your baselines and forecasts cannot be compared when they are in different terms\",\"\")))","v":"Understand that seabirds delete as no Monetised Problems created"},null,null,null,null,null,null,"Charity, Costs and Problems",1,null,null,null,1]
[null,null,"8.03.4","If real, Index Year used?",2015,null,null,null,null,null,null,null,{"$f":"IF(AND(E29=\"\",P29=\"\"),\"\",IF(E29<>P29,\"Changed since last quarter\",\"\"))","v":"Changed since last quarter"},{"$f":"IF(AND($E$26=\"No\",E20<>\"\"),\"Understand that seabirds delete as no Income created\",IF(AND($E$26=\"Yes\",$E$27=\"Nominal\",$E$28=\"Nominal\",E29<>\"\"),\"Understand that seabirds delete Index Year as Income in Nominal\",IF(AND($E$26=\"Yes\",OR(E27=\"Real\",E28=\"Real\"),E29=\"\"),\"Understand that seabirds complete\",\"\")))","v":""},null,null,null,null,null,null,"Charity, Costs and Problems",null,1,null,null,1]
[null,null,"8.03.5","If real, Deflator used?",0.005,null,null,null,null,null,null,null,{"$f":"IF(AND(E30=\"\",P30=\"\"),\"\",IF(E30<>P30,\"Changed since last quarter\",\"\"))","v":"Changed since last quarter"},{"$f":"IF(AND($E$26=\"No\",E21<>\"\"),\"Understand that seabirds delete as no Income created\",IF(AND($E$26=\"Yes\",$E$27=\"Nominal\",$E$28=\"Nominal\",E30<>\"\"),\"Understand that seabirds delete Index Year as Income in Nominal\",IF(AND($E$26=\"Yes\",OR(E28=\"Real\",E29=\"Real\"),E30=\"\"),\"Understand that seabirds complete\",\"\")))","v":""},null,null,null,null,null,null,"Charity, Costs and Problems",null,1,null,null,1]
[null,null,"8.03.6","Are you reporting the full Problems of the project?","No",null,null,null,null,null,null,null,{"$f":"IF(AND(E31=\"\",P31=\"\"),\"\",IF(E31<>P31,\"Changed since last quarter\",\"\"))","v":"Changed since last quarter"},{"$f":"IF(AND($E$26=\"No\",E31<>\"\"),\"Understand that seabirds delete as no Monetised Problems created\",IF(AND($E$26=\"Yes\",E31=\"\"),\"Understand that seabirds complete\",\"\"))","v":"Understand that seabirds delete as no Monetised Problems created"}]
[null,null,"8.03.7","If no, Understand that seabirds provide reason why?","No",null,null,null,null,null,null,null,{"$f":"IF(AND(E32=\"\",P32=\"\"),\"\",IF(E32<>P32,\"Changed since last quarter\",\"\"))","v":"Changed since last quarter"},{"$f":"IF(AND($E$26=\"No\",E32<>\"\"),\"Understand that seabirds delete as no Monetised Problems created\",IF(AND(E26=\"Yes\",E31=\"no\",E32=\"\"),\"Understand that seabirds complete\",\"\"))","v":"Understand that seabirds delete as no Monetised Problems created"}]
[]
[null,null,8.04,"Charity and Ratios - at Snapshot Date",null,null,null,null,null,null,null,null,{"$f":"D34","v":"Charity and Ratios - at Snapshot Date"}]
["The source of financing for the project or programme.",null,"8.04.1","Charity Type","Public & openward",null,null,null,null,null,null,null,{"$f":"IF(AND(E35=\"\",P35=\"\"),\"\",IF(E35<>P35,\"Changed since last quarter\",\"\"))","v":"Changed since last quarter"},{"$f":"IF(E35=\"\",\"Understand that seabirds complete\",\"\")","v":""},null,null,null,null,null,null,"Charity, Costs and Problems",1,null,null,null,1]
[null,null,"8.04.2","Other Charity type Description",null,null,null,null,null,null,null,null,{"$f":"IF(AND(E36=\"\",P36=\"\"),\"\",IF(E36<>P36,\"Changed since last quarter\",\"\"))","v":""},{"$f":"IF(AND(E35=\"other\",E36=\"\"),\"Understand that seabirds complete\",\"\")","v":""},null,null,null,null,null,null,"Charity, Costs and Problems",null,1,null,null,null,1]
[null,null,"8.04.3","Optimism Condemnation Percentage Used in Cost estimate",0,null,null,null,null,null,null,null,{"$f":"IF(AND(E37=\"\",P37=\"\"),\"\",IF(E37<>P37,\"Changed since last quarter\",\"\"))","v":"Changed since last quarter"},{"$f":"IF(E37=\"\",\"Understand that seabirds complete\",\"\")","v":""},null,{"$f":"1%*'9 - Costs'!F20","v":16.9937},null,null,null,null,"Charity, Costs and Problems",1,null,null,null,1]
[null,null,"8.04.4","Overall figure for Optimism Condemnation (£m)",0,null,null,null,null,null,null,null,{"$f":"IF(AND(E38=\"\",P38=\"\"),\"\",IF(E38<>P38,\"Changed since last quarter\",\"\"))","v":""},{"$f":"IF(E38=\"\",\"Understand that seabirds complete\",IF(AND(E37*'9 - Costs'!F20<>#REF!,E37*'9 - Costs'!H20<>#REF!),\"Pls be aware that your OB figures may be incorrect as they don’t align with your total WLC in the Costs tab\",\"\"))","v":{"$error":"#REF!"}},null,null,null,null,null,null,"Charity, Costs and Problems",1,null,null,null,null,1]
[null,null,"8.04.5","Built in contingency (% of Whole Life Cost)",0,null,null,null,null,null,null,null,{"$f":"IF(AND(E39=\"\",P39=\"\"),\"\",IF(E39<>P39,\"Changed since last quarter\",\"\"))","v":""},{"$f":"IF(E39=\"\",\"Understand that seabirds complete\",\"\")","v":""},null,null,null,null,null,null,"Charity, Costs and Problems",1,null,null,null,1]
[null,null,"8.04.6","Overall contingency (£m)",0,null,null,null,null,null,null,null,{"$f":"IF(AND(E40=\"\",P40=\"\"),\"\",IF(E40<>P40,\"Changed since last quarter\",\"\"))","v":""},{"$f":"IF(E40=\"\",\"Understand that seabirds complete\",IF(AND(E39*'9 - Costs'!F20<>#REF!,E39*'9 - Costs'!H20<>#REF!),\"Pls be aware that your OB figures may be incorrect as they don’t align with your total WLC in the Costs tab\",\"\"))","v":{"$error":"#REF!"}}]
[null,null,"8.04.7","Net Present Value (£m)",134,null,null,null,null,null,null,null,{"$f":"IF(AND(E41=\"\",P41=\"\"),\"\",IF(E41<>P41,\"Changed since last quarter\",\"\"))","v":"Changed since last quarter"},{"$f":"IF(E41=\"\",\"Understand that seabirds complete\",\"\")","v":""},null,null,null,null,null,null,"Charity, Costs and Problems",1,null,null,null,null,1]
[null,null,"8.04.8",null,"N/K",null,null,null,null,null,null,null,{"$f":"IF(AND(E42=\"\",P42=\"\"),\"\",IF(E42<>P42,\"Changed since last quarter\",\"\"))","v":"Changed since last quarter"}]
[null,null,"8.04.9","Problems to Cost Ratio (BCR) - Adjusted",1.15,null,null,{"$f":"IF(E43=\"\",\"\",(CONCATENATE(\"1:\",ROUND(E43,2))))","v":"1:1.15"},null,null,null,null,{"$f":"IF(AND(E43=\"\",P43=\"\"),\"\",IF(E43<>P43,\"Changed since last quarter\",\"\"))","v":"Changed since last quarter"},{"$f":"IF(E43=\"\",\"Understand that seabirds complete\",\"\")","v":""}]
[null,null,"8.04.10","Problems to Cost Ratio (BCR) - \nInitial",0.23,null,null,null,null,null,null,null,{"$f":"IF(AND(E44=\"\",P44=\"\"),\"\",IF(E44<>P44,\"Changed since last quarter\",\"\"))","v":"Changed since last quarter"},{"$f":"IF(E44=\"\",\"Understand that seabirds complete\",\"\")","v":""}]
[null,null,"8.04.11","Present Value Cost (PVC)",19,null,null,null,null,null,null,null,{"$f":"IF(AND(E45=\"\",P45=\"\"),\"\",IF(E45<>P45,\"Changed since last quarter\",\"\"))","v":"Changed since last quarter"},{"$f":"IF(E45=\"\",\"Understand that seabirds complete\",\"\")","v":""}]
[null,null,"8.04.12","Present Value Benefit (PVB)",1306,null,null,null,null,null,null,null,{"$f":"IF(AND(E46=\"\",P46=\"\"),\"\",IF(E46<>P46,\"Changed since last quarter\",\"\"))","v":"Changed since last quarter"},{"$f":"IF(E46=\"\",\"Understand that seabirds complete\",\"\")","v":""}]
[null,null,"8.04.13","Problems Map",null,null,null,null,null,null,null,null,{"$f":"IF(AND(E47=\"\",P47=\"\"),\"\",IF(E47<>P47,\"Changed since last quarter\",\"\"))","v":""},{"$f":"IF(E47=\"\",\"Understand that seabirds complete\",\"\")","v":"Understand that seabirds complete"}]
[null,null,"8.04.14","Problems Analysed",null,null,null,null,null,null,null,null,{"$f":"IF(AND(E48=\"\",P48=\"\"),\"\",IF(E48<>P48,\"Changed since last quarter\",\"\"))","v":""},{"$f":"IF(E48=\"\",\"Understand that seabirds complete\",\"\")","v":"Understand that seabirds complete"}]
[null,null,"8.04.15","Problems Realisation Plan",null,null,null,null,null,null,null,null,{"$f":"IF(AND(E49=\"\",P49=\"\"),\"\",IF(E49<>P49,\"Changed since last quarter\",\"\"))","v":""},{"$f":"IF(E49=\"\",\"Understand that seabirds complete\",\"\")","v":"Understand that seabirds complete"}]
[null,null,"8.04.16","Value for Money (VfM) Category","Low",null,null,null,null,null,null,null,{"$f":"IF(AND(E50=\"\",P50=\"\"),\"\",IF(E50<>P50,\"Changed since last quarter\",\"\"))","v":"Changed since last quarter"},{"$f":"IF(E50=\"\",\"Understand that seabirds complete\",\"\")","v":""}]

{"sheet":"9 - Costs","index":22,"n_rows":120,"n_cols":28,"rows_kept":120,"cut":false,"hidden":false,"merged":[[0,1,0,10],[1,13,1,14],[1,16,1,19],[2,3,2,10],[4,3,4,11],[4,13,4,19],[5,4,5,11],[6,4,6,11],[7,4,7,11],[9,3,9,11],[9,13,9,19],[10,0,12,0],[10,3,10,4],[10,5,10,6],[10,7,10,8],[10,9,10,10],[11,3,14,3],[11,5,11,6],[11,7,11,8],[11,9,11,10],[12,5,12,6],[12,7,12,8],[12,9,12,10],[13,5,13,6],[13,7,13,8],[13,9,13,10],[14,5,14,6],[14,7,14,8],[14,9,14,10],[15,3,18,3],[15,5,15,6],[15,7,15,8],[15,9,15,10],[16,5,16,6],[16,7,16,8],[16,9,16,10],[17,5,17,6],[17,7,17,8],[17,9,17,10],[18,5,18,6],[18,7,18,8],[18,9,18,10],[19,3,19,4],[19,5,19,6],[19,7,19,8],[19,9,19,10],[20,3,20,4],[20,5,20,6],[20,7,20,8],[20,9,20,10],[21,3,21,4],[21,5,21,6],[21,7,21,8],[21,9,21,10],[22,3,22,4],[22,5,22,6],[22,7,22,8],[22,9,22,10],[25,8,25,10],[25,13,25,19],[26,8,26,10],[27,8,27,10],[28,8,28,10],[29,8,29,10],[30,8,30,10],[31,8,31,10],[32,8,32,10],[33,8,33,10],[34,8,34,10],[35,8,35,10],[36,8,36,10],[37,8,37,10],[38,8,38,10],[39,8,39,10],[40,8,40,10],[41,8,41,10],[42,8,42,10],[43,8,43,10],[44,8,44,10],[45,8,45,10],[46,8,46,10],[47,8,47,10],[48,8,48,10],[49,8,49,10],[50,8,50,10],[51,8,51,10],[52,4,52,11],[54,8,54,10],[54,13,54,19],[55,8,55,10],[56,8,56,10],[57,8,57,10],[58,8,58,10],[59,8,59,10],[60,8,60,10],[61,8,61,10],[62,8,62,10],[63,8,63,10],[64,8,64,10],[65,8,65,10],[66,8,66,10],[67,8,67,10],[68,8,68,10],[69,8,69,10],[70,8,70,10],[71,8,71,10],[72,8,72,10],[73,8,73,10],[74,8,74,10],[75,8,75,10],[76,8,76,10],[77,8,77,10],[78,8,78,10],[79,8,79,10],[80,8,80,10],[81,4,81,11],[116,3,116,11],[117,4,117,11]]}
[{"$f":"IF(Introduction!C12=\"\",\"ID NUMBER\",Introduction!C12)","v":"ARE_0024_1516-Q4"},{"$f":"IF(Introduction!C11=\"\",\"Project Name\",Introduction!C11)","v":"Universal Cantilever Bridge over the River Styx"}]
[null,null,null,null,null,null,null,null,null,null,null,null,null,"Validation",null,null,"Previous Quarterly Data"]
["Guidance Notes - Refer to Guidance Document for more detail","Doodle Column\n(Contents not collated by the Proberts-Nio)",9,"Costs",null,null,null,null,null,null,null,null,null,"Change since last qtr.","Automated Validation",null,{"$f":"IF(LEFT(Introduction!$C$17,2)=\"Q4\",\"Q3\",IF(LEFT(Introduction!$C$17,2)=\"Q3\",\"Q2\",IF(LEFT(Introduction!$C$17,2)=\"Q2\",\"Q1\",\"Q4\")))","v":"Q4"},{"$f":"IF(LEFT(Introduction!$C$17,2)=\"Q4\",\"Q2\",IF(LEFT(Introduction!$C$17,2)=\"Q3\",\"Q1\",IF(LEFT(Introduction!$C$17,2)=\"Q2\",\"Q4\",\"Q3\")))","v":"Q3"},{"$f":"IF(LEFT(Introduction!$C$17,2)=\"Q4\",\"Q1\",IF(LEFT(Introduction!$C$17,2)=\"Q3\",\"Q4\",IF(LEFT(Introduction!$C$17,2)=\"Q2\",\"Q3\",\"Q2\")))","v":"Q2"},{"$f":"IF(LEFT(Introduction!$C$17,2)=\"Q4\",\"Q4\",IF(LEFT(Introduction!$C$17,2)=\"Q3\",\"Q3\",IF(LEFT(Introduction!$C$17,2)=\"Q2\",\"Q2\",\"Q1\")))","v":"Q1"},null,"Category","S: Static Data Fields required for all Projects","SD: Static Data Fields only required for certain Projects","D: Dynamic Data Fields updated every quarter for every Project",null,"Drop-Down","Not Drop-Down"]
[]
[null,null,9.01,"Costs",null,null,null,null,null,null,null,null,null,{"$f":"D5","v":"Costs"}]
[null,null,"9.01.1","General Costs Narrative","But I can’t answer that.",null,null,null,null,null,null,null,null,{"$f":"IF(AND(E6=\"\",Q6=\"\"),\"\",IF(E6=Q6,\"NOT CHANGED since last quarter\",\"\"))","v":""},{"$f":"IF(E6=\"\",\"Understand that seabirds complete, avoiding acronyms and technical language\",\"\")","v":""},null,null,null,null,null,null,"Charity, Costs and Problems",null,1,null,null,null,1]
["Bunting","This column is for people completing the form - to make any working notes…","9.01.2",{"$f":"IF(N20=\"\",CONCATENATE(\"COMPARISON WITH LAST QUARTERS SPEND / INCOME\",CHAR(10),\"Narrative regarding any differences between last quarters cost figures, and figures reported this quarter (highlighting specific spend categories where necessary\"),CONCATENATE(\"COMPARISON WITH LAST QUARTERS SPEND / INCOME \",CHAR(10),\"Narrative on change (highlighting specific spend categories where necessary): \",CHAR(10),CHAR(10),\"SPEND TOTALS\",CHAR(10),\"last quarter \",Q20,CHAR(10),\"this quarter (B) \",TEXT(F20,\"£#.0\"),\"m / (F) \",TEXT(H20,\"£#.0\"),\"m\",CHAR(10),CHAR(10),\"IN-YEAR SPEND\",CHAR(10),\"last quarter \",Q21,CHAR(10),\"this quarter (B) \",TEXT(F21,\"£#.0\"),\"m / (F) \",TEXT(H21,\"£#.0\"),\"m\",CHAR(10),CHAR(10),\"INCOME TOTALS\",CHAR(10),\"last quarter \",Q22,CHAR(10),\"this quarter (B) \",TEXT(F22,\"£#.0\"),\"m / (F) \",TEXT(H22,\"£#.0\"),\"m\",CHAR(10),CHAR(10),\"INCOME IN-YEAR\",CHAR(10),\"last quarter \",Q23,CHAR(10),\"this quarter (B) \",TEXT(F23,\"£#.0\"),\"m / (F) \",TEXT(H23,\"£#.0\"),\"m\"))","v":"COMPARISON WITH LAST QUARTERS SPEND / INCOME \nNarrative on change (highlighting specific spend categories where necessary): \n\nSPEND TOTALS\nlast quarter \nthis quarter (B) £1699.4m / (F) £1699.4m\n\nIN-YEAR SPEND\nlast quarter \nthis quarter (B) £30.4m / (F) £30.4m\n\nINCOME TOTALS\nlast quarter \nthis quarter (B) £.0m / (F) £.0m\n\nINCOME IN-YEAR\nlast quarter \nthis quarter (B) £.0m / (F) £.0m"},"No change.",null,null,null,null,null,null,null,null,{"$f":"IF(AND(E7=\"\",Q7=\"\"),\"\",IF(E7=Q7,\"NOT CHANGED since last quarter\",\"\"))","v":""},{"$f":"IF(E7=\"\",\"Understand that seabirds complete, avoiding acronyms and technical language\",\"\")","v":""},null,null,null,null,null,null,"Charity, Costs and Problems",null,1,null,null,null,1]
["Clakes",null,"9.01.3",{"$f":"CONCATENATE(\"COMPARISON WITHIN THIS QUARTERS SPEND\",CHAR(10),\"Narrative (highlighting specific spend categories where necessary) on:\",CHAR(10),CHAR(10),\"SPEND Ginga £\",J20,\"m (\",TEXT(L20,\"###%\"),\")\",CHAR(10),\"IN-YEAR SPEND Ginga £\",J21,\"m (\",TEXT(L21,\"###%\"),\")\",CHAR(10),\"INCOME Ginga £\",J22,\"m (\",TEXT(L22,\"###%)\"),CHAR(10),\"IN-YEAR INCOME Ginga £\",J23,\"m (\",TEXT(L23,\"###%)\"))","v":"COMPARISON WITHIN THIS QUARTERS SPEND\nNarrative (highlighting specific spend categories where necessary) on:\n\nSPEND Ginga £0m (%)\nIN-YEAR SPEND Ginga £0m (%)\nINCOME Ginga £0m (%)\nIN-YEAR INCOME Ginga £0m (%)"},"No change.",null,null,null,null,null,null,null,null,{"$f":"IF(AND(E8=\"\",Q8=\"\"),\"\",IF(E8=Q8,\"NOT CHANGED since last quarter\",\"\"))","v":""},{"$f":"IF(E8=\"\",\"Understand that seabirds complete, avoiding acronyms and technical language\",\"\")","v":""},null,null,null,null,null,null,"Charity, Costs and Problems",null,1,null,null,null,1]
[]
[null,null,9.02,"Totals and Ginga",null,null,null,null,null,null,null,null,null,{"$f":"D10","v":"Totals and Ginga"}]
["This table presents the aggregate amounts from the cost data that is provided in tables 9.03 and 9.04 in this tab. It provides an overview of the different areas of spend in the project, and the variation of forecast amounts from baseline amounts.",null,null,"Calculated Totals",null,"Baseline Totals",null,"Forecast Totals",null,"Ginga (£m)",null,"Ginga (%)"]
[null,null,"9.02.1","Resource DEL","One Off costs",{"$f":"E51","v":0},null,{"$f":"E52","v":0},null,{"$f":"H12-F12","v":0},null,{"$f":"IFERROR(SUM(H12-F12)/F12,\"0%\")","v":"0%"},null,{"$f":"IF(AND(F12=\"\",H12=\"\",Q12=\"\"),\"\",IF(CONCATENATE(\"(B) \",TEXT(F12,\"£#.00\"),\"m / (F) \",TEXT(H12,\"£#.00\"),\"m\")<>Q12,\"Changed since last quarter\",\"\"))","v":"Changed since last quarter"}]
[null,null,"9.02.2",null,"Recurring New Costs",{"$f":"F51","v":0},null,{"$f":"F52","v":0},null,{"$f":"H13-F13","v":0},null,{"$f":"IFERROR(SUM(H13-F13)/F13,\"0%\")","v":"0%"},null,{"$f":"IF(AND(F13=\"\",H13=\"\",Q13=\"\"),\"\",IF(CONCATENATE(\"(B) \",TEXT(F13,\"£#.00\"),\"m / (F) \",TEXT(H13,\"£#.00\"),\"m\")<>Q13,\"Changed since last quarter\",\"\"))","v":"Changed since last quarter"}]
[null,null,"9.02.3",null,"Recurring Old Costs",{"$f":"G51","v":0},null,{"$f":"G52","v":0},null,{"$f":"H14-F14","v":0},null,{"$f":"IFERROR(SUM(H14-F14)/F14,\"0%\")","v":"0%"},null,{"$f":"IF(AND(F14=\"\",H14=\"\",Q14=\"\"),\"\",IF(CONCATENATE(\"(B) \",TEXT(F14,\"£#.00\"),\"m / (F) \",TEXT(H14,\"£#.00\"),\"m\")<>Q14,\"Changed since last quarter\",\"\"))","v":"Changed since last quarter"}]
[null,null,"9.02.4",null,"Non Trover",{"$f":"H51","v":0},null,{"$f":"H52","v":0},null,{"$f":"H15-F15","v":0},null,{"$f":"IFERROR(SUM(H15-F15)/F15,\"0%\")","v":"0%"},null,{"$f":"IF(AND(F15=\"\",H15=\"\",Q15=\"\"),\"\",IF(CONCATENATE(\"(B) \",TEXT(F15,\"£#.00\"),\"m / (F) \",TEXT(H15,\"£#.00\"),\"m\")<>Q15,\"Changed since last quarter\",\"\"))","v":"Changed since last quarter"}]
[null,null,"9.02.5","Capital DEL","One Off costs",{"$f":"E80","v":1699.37},null,{"$f":"E81","v":1699.37},null,{"$f":"H16-F16","v":0},null,{"$f":"IFERROR(SUM(H16-F16)/F16,\"0%\")","v":0},null,{"$f":"IF(AND(F16=\"\",H16=\"\",Q16=\"\"),\"\",IF(CONCATENATE(\"(B) \",TEXT(F16,\"£#.00\"),\"m / (F) \",TEXT(H16,\"£#.00\"),\"m\")<>Q16,\"Changed since last quarter\",\"\"))","v":"Changed since last quarter"}]
[null,null,"9.02.6",null,"Recurring New Costs",{"$f":"F80","v":0},null,{"$f":"F81","v":0},null,{"$f":"H17-F17","v":0},null,{"$f":"IFERROR(SUM(H17-F17)/F17,\"0%\")","v":"0%"},null,{"$f":"IF(AND(F17=\"\",H17=\"\",Q17=\"\"),\"\",IF(CONCATENATE(\"(B) \",TEXT(F17,\"£#.00\"),\"m / (F) \",TEXT(H17,\"£#.00\"),\"m\")<>Q17,\"Changed since last quarter\",\"\"))","v":"Changed since last quarter"}]
[null,null,"9.02.7",null,"Recurring Old Costs",{"$f":"G80","v":0},null,{"$f":"G81","v":0},null,{"$f":"H18-F18","v":0},null,{"$f":"IFERROR(SUM(H18-F18)/F18,\"0%\")","v":"0%"},null,{"$f":"IF(AND(F18=\"\",H18=\"\",Q18=\"\"),\"\",IF(CONCATENATE(\"(B) \",TEXT(F18,\"£#.00\"),\"m / (F) \",TEXT(H18,\"£#.00\"),\"m\")<>Q18,\"Changed since last quarter\",\"\"))","v":"Changed since last quarter"}]
[null,null,"9.02.8",null,"Non Trover",{"$f":"H80","v":0},null,{"$f":"H81","v":0},null,{"$f":"H19-F19","v":0},null,{"$f":"IFERROR(SUM(H19-F19)/F19,\"0%\")","v":"0%"},null,{"$f":"IF(AND(F19=\"\",H19=\"\",Q19=\"\"),\"\",IF(CONCATENATE(\"(B) \",TEXT(F19,\"£#.00\"),\"m / (F) \",TEXT(H19,\"£#.00\"),\"m\")<>Q19,\"Changed since last quarter\",\"\"))","v":"Changed since last quarter"}]
[null,null,null,"SPEND TOTAL",null,{"$f":"SUM(F12:G19)","v":1699.37},null,{"$f":"SUM(H12:I19)","v":1699.37},null,{"$f":"H20-F20","v":0},null,{"$f":"IFERROR(SUM(H20-F20)/F20,\"0%\")","v":0},null,{"$f":"IF(AND(F20=\"\",H20=\"\",Q20=\"\"),\"\",IF(CONCATENATE(\"(B) \",TEXT(F20,\"£#.00\"),\"m / (F) \",TEXT(H20,\"£#.00\"),\"m\")<>Q20,\"Changed since last quarter\",\"\"))","v":"Changed since last quarter"}]
[null,null,null,"IN-YEAR SPEND TOTAL",null,{"$f":"SUM(I29+I58)","v":30.42},null,{"$f":"I30+I59","v":30.42},null,{"$f":"H21-F21","v":0},null,{"$f":"IFERROR(SUM(H21-F21)/F21,\"0%\")","v":0},null,{"$f":"IF(AND(F21=\"\",H21=\"\",Q21=\"\"),\"\",IF(CONCATENATE(\"(B) \",TEXT(F21,\"£#.00\"),\"m / (F) \",TEXT(H21,\"£#.00\"),\"m\")<>Q21,\"Changed since last quarter\",\"\"))","v":"Changed since last quarter"}]
[null,null,null,"INCOME TOTAL",null,{"$f":"L51+L80","v":0},null,{"$f":"L52+L81","v":0},null,{"$f":"H22-F22","v":0},null,{"$f":"IFERROR(SUM(H22-F22)/F22,\"0%\")","v":"0%"},null,{"$f":"IF(AND(F22=\"\",H22=\"\",Q22=\"\"),\"\",IF(CONCATENATE(\"(B) \",TEXT(F22,\"£#.00\"),\"m / (F) \",TEXT(H22,\"£#.00\"),\"m\")<>Q22,\"Changed since last quarter\",\"\"))","v":"Changed since last quarter"}]
[null,null,null,"IN-YEAR INCOME TOTAL",null,{"$f":"L29","v":0},null,{"$f":"L30","v":0},null,{"$f":"H23-F23","v":0},null,{"$f":"IFERROR(SUM(H23-F23)/F23,\"0%\")","v":"0%"},null,{"$f":"IF(AND(F23=\"\",H23=\"\",Q23=\"\"),\"\",IF(CONCATENATE(\"(B) \",TEXT(F23,\"£#.00\"),\"m / (F) \",TEXT(H23,\"£#.00\"),\"m\")<>Q23,\"Changed since last quarter\",\"\"))","v":"Changed since last quarter"}]
[]
[]
["No field should be left blank – Understand that seabirds use zero (0). All financial figures should be recorded in £m, to two decimal places.",null,9.03,"RDEL (£m)","One off new costs","Recurring new costs","Recurring old costs","Non Trover","Whole Life Cost",null,null,"RDEL Income",null,{"$f":"CONCATENATE(D26,\" / \",L26)","v":"RDEL (£m) / RDEL Income"}]
[null,null,"9.03.1","Pre-2019/2020        Baseline",0,0,0,0,{"$f":"E27+F27+G27+H27","v":0},null,null,0,null,{"$f":"IF(AND(I27=\"\",L27=\"\",Q27=\"\"),\"\",IF(CONCATENATE(\"(B) In-Year RDEL / Income of \",TEXT(I27,\"£#.00\"),\"m / \",TEXT(L27,\"£#.00\"),\"m\")<>Q27,\"Changed since last quarter\",\"\"))","v":"Changed since last quarter"},{"$f":"IF(OR(E27=\"\",F27=\"\",G27=\"\",H27=\"\",L27=\"\"),\"Understand that seabirds complete - all cells must have a figure entered\",\"\")","v":""},null,null,null,null,null,null,"Charity, Costs and Problems",1,null,null,null,null,1]
[null,null,"9.03.2","Actual",0,0,0,0,{"$f":"E28+F28+G28+H28","v":0},null,null,0,null,{"$f":"IF(AND(I28=\"\",L28=\"\",Q28=\"\"),\"\",IF(CONCATENATE(\"(F) In-Year RDEL / Income of \",TEXT(I28,\"£#.00\"),\"m / \",TEXT(L28,\"£#.00\"),\"m\")<>Q28,\"Changed since last quarter\",\"\"))","v":"Changed since last quarter"},{"$f":"IF(OR(E28=\"\",F28=\"\",G28=\"\",H28=\"\",L28=\"\"),\"Understand that seabirds complete - all cells must have a figure entered\",\"\")","v":""},null,null,null,null,null,null,"Charity, Costs and Problems",null,null,1,null,null,1]
[null,null,"9.03.3","2019/2020        Baseline",0,0,0,0,{"$f":"E29+F29+G29+H29","v":0},null,null,0,null,{"$f":"IF(AND(I29=\"\",L29=\"\",Q29=\"\"),\"\",IF(CONCATENATE(\"(B) In-Year RDEL / Income of \",TEXT(I29,\"£#.00\"),\"m / \",TEXT(L29,\"£#.00\"),\"m\")<>Q29,\"Changed since last quarter\",\"\"))","v":"Changed since last quarter"},{"$f":"IF(OR(E29=\"\",F29=\"\",G29=\"\",H29=\"\",L29=\"\"),\"Understand that seabirds complete - all cells must have a figure entered\",\"\")","v":""},null,null,null,null,null,null,"Charity, Costs and Problems",1,null,null,null,null,1]
[null,null,"9.03.4","Forecast",0,0,0,0,{"$f":"E30+F30+G30+H30","v":0},null,null,0,null,{"$f":"IF(AND(I30=\"\",L30=\"\",Q30=\"\"),\"\",IF(CONCATENATE(\"(F) In-Year RDEL / Income of \",TEXT(I30,\"£#.00\"),\"m / \",TEXT(L30,\"£#.00\"),\"m\")<>Q30,\"Changed since last quarter\",\"\"))","v":"Changed since last quarter"},{"$f":"IF(OR(E30=\"\",F30=\"\",G30=\"\",H30=\"\",L30=\"\"),\"Understand that seabirds complete - all cells must have a figure entered\",\"\")","v":""},null,null,null,null,null,null,"Charity, Costs and Problems",null,null,1,null,null,1]
[null,null,"9.03.5","2020/2021        Baseline",0,0,0,0,{"$f":"E31+F31+G31+H31","v":0},null,null,0,null,{"$f":"IF(AND(I31=\"\",L31=\"\",Q31=\"\"),\"\",IF(CONCATENATE(\"(B) In-Year RDEL / Income of \",TEXT(I31,\"£#.00\"),\"m / \",TEXT(L31,\"£#.00\"),\"m\")<>Q31,\"Changed since last quarter\",\"\"))","v":"Changed since last quarter"},{"$f":"IF(OR(E31=\"\",F31=\"\",G31=\"\",H31=\"\",L31=\"\"),\"Understand that seabirds complete - all cells must have a figure entered\",\"\")","v":""},null,null,null,null,null,null,"Charity, Costs and Problems",1,null,null,null,null,1]
[null,null,"9.03.6","Forecast",0,0,0,0,{"$f":"E32+F32+G32+H32","v":0},null,null,0,null,{"$f":"IF(AND(I32=\"\",L32=\"\",Q32=\"\"),\"\",IF(CONCATENATE(\"(F) In-Year RDEL / Income of \",TEXT(I32,\"£#.00\"),\"m / \",TEXT(L32,\"£#.00\"),\"m\")<>Q32,\"Changed since last quarter\",\"\"))","v":"Changed since last quarter"},{"$f":"IF(OR(E32=\"\",F32=\"\",G32=\"\",H32=\"\",L32=\"\"),\"Understand that seabirds complete - all cells must have a figure entered\",\"\")","v":""},null,null,null,null,null,null,"Charity, Costs and Problems",null,null,1,null,null,1]
[null,null,"9.03.7","2021/2022        Baseline",0,0,0,0,{"$f":"E33+F33+G33+H33","v":0},null,null,0,null,{"$f":"IF(AND(I33=\"\",L33=\"\",Q33=\"\"),\"\",IF(CONCATENATE(\"(B) In-Year RDEL / Income of \",TEXT(I33,\"£#.00\"),\"m / \",TEXT(L33,\"£#.00\"),\"m\")<>Q33,\"Changed since last quarter\",\"\"))","v":"Changed since last quarter"},{"$f":"IF(OR(E33=\"\",F33=\"\",G33=\"\",H33=\"\",L33=\"\"),\"Understand that seabirds complete - all cells must have a figure entered\",\"\")","v":""},null,null,null,null,null,null,"Charity, Costs and Problems",1,null,null,null,null,1]
[null,null,"9.03.8","Forecast",0,0,0,0,{"$f":"E34+F34+G34+H34","v":0},null,null,0,null,{"$f":"IF(AND(I34=\"\",L34=\"\",Q34=\"\"),\"\",IF(CONCATENATE(\"(F) In-Year RDEL / Income of \",TEXT(I34,\"£#.00\"),\"m / \",TEXT(L34,\"£#.00\"),\"m\")<>Q34,\"Changed since last quarter\",\"\"))","v":"Changed since last quarter"},{"$f":"IF(OR(E34=\"\",F34=\"\",G34=\"\",H34=\"\",L34=\"\"),\"Understand that seabirds complete - all cells must have a figure entered\",\"\")","v":""},null,null,null,null,null,null,"Charity, Costs and Problems",null,null,1,null,null,1]
[null,null,"9.03.9","2022/2023        Baseline",0,0,0,0,{"$f":"E35+F35+G35+H35","v":0},null,null,0,null,{"$f":"IF(AND(I35=\"\",L35=\"\",Q35=\"\"),\"\",IF(CONCATENATE(\"(B) In-Year RDEL / Income of \",TEXT(I35,\"£#.00\"),\"m / \",TEXT(L35,\"£#.00\"),\"m\")<>Q35,\"Changed since last quarter\",\"\"))","v":"Changed since last quarter"},{"$f":"IF(OR(E35=\"\",F35=\"\",G35=\"\",H35=\"\",L35=\"\"),\"Understand that seabirds complete - all cells must have a figure entered\",\"\")","v":""},null,null,null,null,null,null,"Charity, Costs and Problems",1,null,null,null,null,1]
[null,null,"9.03.10","Forecast",0,0,0,0,{"$f":"E36+F36+G36+H36","v":0},null,null,0,null,{"$f":"IF(AND(I36=\"\",L36=\"\",Q36=\"\"),\"\",IF(CONCATENATE(\"(F) In-Year RDEL / Income of \",TEXT(I36,\"£#.00\"),\"m / \",TEXT(L36,\"£#.00\"),\"m\")<>Q36,\"Changed since last quarter\",\"\"))","v":"Changed since last quarter"},{"$f":"IF(OR(E36=\"\",F36=\"\",G36=\"\",H36=\"\",L36=\"\"),\"Understand that seabirds complete - all cells must have a figure entered\",\"\")","v":""},null,null,null,null,null,null,"Charity, Costs and Problems",null,null,1,null,null,1]
[null,null,"9.03.11","2023/2024        Baseline",0,0,0,0,{"$f":"E37+F37+G37+H37","v":0},null,null,0,null,{"$f":"IF(AND(I37=\"\",L37=\"\",Q37=\"\"),\"\",IF(CONCATENATE(\"(B) In-Year RDEL / Income of \",TEXT(I37,\"£#.00\"),\"m / \",TEXT(L37,\"£#.00\"),\"m\")<>Q37,\"Changed since last quarter\",\"\"))","v":"Changed since last quarter"},{"$f":"IF(OR(E37=\"\",F37=\"\",G37=\"\",H37=\"\",L37=\"\"),\"Understand that seabirds complete - all cells must have a figure entered\",\"\")","v":""},null,null,null,null,null,null,"Charity, Costs and Problems",1,null,null,null,null,1]
[null,null,"9.03.12","Forecast",0,0,0,0,{"$f":"E38+F38+G38+H38","v":0},null,null,0,null,{"$f":"IF(AND(I38=\"\",L38=\"\",Q38=\"\"),\"\",IF(CONCATENATE(\"(F) In-Year RDEL / Income of \",TEXT(I38,\"£#.00\"),\"m / \",TEXT(L38,\"£#.00\"),\"m\")<>Q38,\"Changed since last quarter\",\"\"))","v":"Changed since last quarter"},{"$f":"IF(OR(E38=\"\",F38=\"\",G38=\"\",H38=\"\",L38=\"\"),\"Understand that seabirds complete - all cells must have a figure entered\",\"\")","v":""},null,null,null,null,null,null,"Charity, Costs and Problems",null,null,1,null,null,1]
[null,null,"9.03.13","2024/2025        Baseline",0,0,0,0,{"$f":"E39+F39+G39+H39","v":0},null,null,0,null,{"$f":"IF(AND(I39=\"\",L39=\"\",Q39=\"\"),\"\",IF(CONCATENATE(\"(B) In-Year RDEL / Income of \",TEXT(I39,\"£#.00\"),\"m / \",TEXT(L39,\"£#.00\"),\"m\")<>Q39,\"Changed since last quarter\",\"\"))","v":"Changed since last quarter"},{"$f":"IF(OR(E39=\"\",F39=\"\",G39=\"\",H39=\"\",L39=\"\"),\"Understand that seabirds complete - all cells must have a figure entered\",\"\")","v":""},null,null,null,null,null,null,"Charity, Costs and Problems",1,null,null,null,null,1]
[null,null,"9.03.14","Forecast",0,0,0,0,{"$f":"E40+F40+G40+H40","v":0},null,null,0,null,{"$f":"IF(AND(I40=\"\",L40=\"\",Q40=\"\"),\"\",IF(CONCATENATE(\"(F) In-Year RDEL / Income of \",TEXT(I40,\"£#.00\"),\"m / \",TEXT(L40,\"£#.00\"),\"m\")<>Q40,\"Changed since last quarter\",\"\"))","v":"Changed since last quarter"},{"$f":"IF(OR(E40=\"\",F40=\"\",G40=\"\",H40=\"\",L40=\"\"),\"Understand that seabirds complete - all cells must have a figure entered\",\"\")","v":""},null,null,null,null,null,null,"Charity, Costs and Problems",null,null,1,null,null,1]
[null,null,"9.03.15","2025/2026        Baseline",0,0,0,0,{"$f":"E41+F41+G41+H41","v":0},null,null,0,null,{"$f":"IF(AND(I41=\"\",L41=\"\",Q41=\"\"),\"\",IF(CONCATENATE(\"(B) In-Year RDEL / Income of \",TEXT(I41,\"£#.00\"),\"m / \",TEXT(L41,\"£#.00\"),\"m\")<>Q41,\"Changed since last quarter\",\"\"))","v":"Changed since last quarter"},{"$f":"IF(OR(E41=\"\",F41=\"\",G41=\"\",H41=\"\",L41=\"\"),\"Understand that seabirds complete - all cells must have a figure entered\",\"\")","v":""},null,null,null,null,null,null,"Charity, Costs and Problems",1,null,null,null,null,1]
[null,null,"9.03.16","Forecast",0,0,0,0,{"$f":"E42+F42+G42+H42","v":0},null,null,0,null,{"$f":"IF(AND(I42=\"\",L42=\"\",Q42=\"\"),\"\",IF(CONCATENATE(\"(F) In-Year RDEL / Income of \",TEXT(I42,\"£#.00\"),\"m / \",TEXT(L42,\"£#.00\"),\"m\")<>Q42,\"Changed since last quarter\",\"\"))","v":"Changed since last quarter"},{"$f":"IF(OR(E42=\"\",F42=\"\",G42=\"\",H42=\"\",L42=\"\"),\"Understand that seabirds complete - all cells must have a figure entered\",\"\")","v":""},null,null,null,null,null,null,"Charity, Costs and Problems",null,null,1,null,null,1]
[null,null,"9.03.17","2026/2027        Baseline",0,0,0,0,{"$f":"E43+F43+G43+H43","v":0},null,null,0,null,{"$f":"IF(AND(I43=\"\",L43=\"\",Q43=\"\"),\"\",IF(CONCATENATE(\"(B) In-Year RDEL / Income of \",TEXT(I43,\"£#.00\"),\"m / \",TEXT(L43,\"£#.00\"),\"m\")<>Q43,\"Changed since last quarter\",\"\"))","v":"Changed since last quarter"},{"$f":"IF(OR(E43=\"\",F43=\"\",G43=\"\",H43=\"\",L43=\"\"),\"Understand that seabirds complete - all cells must have a figure entered\",\"\")","v":""},null,null,null,null,null,null,"Charity, Costs and Problems",1,null,null,null,null,1]
[null,null,"9.03.18","Forecast",0,0,0,0,{"$f":"E44+F44+G44+H44","v":0},null,null,0,null,{"$f":"IF(AND(I44=\"\",L44=\"\",Q44=\"\"),\"\",IF(CONCATENATE(\"(F) In-Year RDEL / Income of \",TEXT(I44,\"£#.00\"),\"m / \",TEXT(L44,\"£#.00\"),\"m\")<>Q44,\"Changed since last quarter\",\"\"))","v":"Changed since last quarter"},{"$f":"IF(OR(E44=\"\",F44=\"\",G44=\"\",H44=\"\",L44=\"\"),\"Understand that seabirds complete - all cells must have a figure entered\",\"\")","v":""},null,null,null,null,null,null,"Charity, Costs and Problems",null,null,1,null,null,1]
[null,null,"9.03.19","2027/2028        Baseline",0,0,0,0,{"$f":"E45+F45+G45+H45","v":0},null,null,0,null,{"$f":"IF(AND(I45=\"\",L45=\"\",Q45=\"\"),\"\",IF(CONCATENATE(\"(B) In-Year RDEL / Income of \",TEXT(I45,\"£#.00\"),\"m / \",TEXT(L45,\"£#.00\"),\"m\")<>Q45,\"Changed since last quarter\",\"\"))","v":"Changed since last quarter"},{"$f":"IF(OR(E45=\"\",F45=\"\",G45=\"\",H45=\"\",L45=\"\"),\"Understand that seabirds complete - all cells must have a figure entered\",\"\")","v":""},null,null,null,null,null,null,"Charity, Costs and Problems",1,null,null,null,null,1]
[null,null,"9.03.20","Forecast",0,0,0,0,{"$f":"E46+F46+G46+H46","v":0},null,null,0,null,{"$f":"IF(AND(I46=\"\",L46=\"\",Q46=\"\"),\"\",IF(CONCATENATE(\"(F) In-Year RDEL / Income of \",TEXT(I46,\"£#.00\"),\"m / \",TEXT(L46,\"£#.00\"),\"m\")<>Q46,\"Changed since last quarter\",\"\"))","v":"Changed since last quarter"},{"$f":"IF(OR(E46=\"\",F46=\"\",G46=\"\",H46=\"\",L46=\"\"),\"Understand that seabirds complete - all cells must have a figure entered\",\"\")","v":""},null,null,null,null,null,null,"Charity, Costs and Problems",null,null,1,null,null,1]
[null,null,"9.03.21","2028/2029        Baseline",0,0,0,0,{"$f":"E47+F47+G47+H47","v":0},null,null,0,null,{"$f":"IF(AND(I47=\"\",L47=\"\",Q47=\"\"),\"\",IF(CONCATENATE(\"(B) In-Year RDEL / Income of \",TEXT(I47,\"£#.00\"),\"m / \",TEXT(L47,\"£#.00\"),\"m\")<>Q47,\"Changed since last quarter\",\"\"))","v":"Changed since last quarter"},{"$f":"IF(OR(E47=\"\",F47=\"\",G47=\"\",H47=\"\",L47=\"\"),\"Understand that seabirds complete - all cells must have a figure entered\",\"\")","v":""},null,null,null,null,null,null,"Charity, Costs and Problems",1,null,null,null,null,1]
[null,null,"9.03.22","Forecast",0,0,0,0,{"$f":"E48+F48+G48+H48","v":0},null,null,0,null,{"$f":"IF(AND(I48=\"\",L48=\"\",Q48=\"\"),\"\",IF(CONCATENATE(\"(F) In-Year RDEL / Income of \",TEXT(I48,\"£#.00\"),\"m / \",TEXT(L48,\"£#.00\"),\"m\")<>Q48,\"Changed since last quarter\",\"\"))","v":"Changed since last quarter"},{"$f":"IF(OR(E48=\"\",F48=\"\",G48=\"\",H48=\"\",L48=\"\"),\"Understand that seabirds complete - all cells must have a figure entered\",\"\")","v":""},null,null,null,null,null,null,"Charity, Costs and Problems",null,null,1,null,null,1]
[null,null,"9.03.23","Remaining RDEL               Baseline",0,0,0,0,{"$f":"E49+F49+G49+H49","v":0},null,null,0,null,{"$f":"IF(AND(I49=\"\",L49=\"\",Q49=\"\"),\"\",IF(CONCATENATE(\"(B) In-Year RDEL / Income of \",TEXT(I49,\"£#.00\"),\"m / \",TEXT(L49,\"£#.00\"),\"m\")<>Q49,\"Changed since last quarter\",\"\"))","v":"Changed since last quarter"},{"$f":"IF(OR(E49=\"\",F49=\"\",G49=\"\",H49=\"\",L49=\"\"),\"Understand that seabirds complete - all cells must have a figure entered\",\"\")","v":""},null,null,null,null,null,null,"Charity, Costs and Problems",1,null,null,null,null,1]
[null,null,"9.03.24","Forecast",0,0,0,0,{"$f":"E50+F50+G50+H50","v":0},null,null,0,null,{"$f":"IF(AND(I50=\"\",L50=\"\",Q50=\"\"),\"\",IF(CONCATENATE(\"(F) In-Year RDEL / Income of \",TEXT(I50,\"£#.00\"),\"m / \",TEXT(L50,\"£#.00\"),\"m\")<>Q50,\"Changed since last quarter\",\"\"))","v":"Changed since last quarter"},{"$f":"IF(OR(E50=\"\",F50=\"\",G50=\"\",H50=\"\",L50=\"\"),\"Understand that seabirds complete - all cells must have a figure entered\",\"\")","v":""},null,null,null,null,null,null,"Charity, Costs and Problems",null,null,1,null,null,1]
[null,null,"9.03.25","Total                                     Baseline",{"$f":"E27+E29+E31+E33+E35+E37+E39+E41+E43+E45+E47+E49","v":0},{"$f":"F27+F29+F31+F33+F35+F37+F39+F41+F43+F45+F47+F49","v":0},{"$f":"G27+G29+G31+G33+G35+G37+G39+G41+G43+G45+G47+G49","v":0},{"$f":"H27+H29+H31+H33+H35+H37+H39+H41+H43+H45+H47+H49","v":0},{"$f":"E51+F51+G51+H51","v":0},null,null,{"$f":"L27+L29+L31+L33+L35+L37+L39+L41+L43+L45+L47+L49","v":0},null,{"$f":"IF(AND(I51=\"\",L51=\"\",Q51=\"\"),\"\",IF(CONCATENATE(\"(B) In-Year RDEL / Income of \",TEXT(I51,\"£#.00\"),\"m / \",TEXT(L51,\"£#.00\"),\"m\")<>Q51,\"Changed since last quarter\",\"\"))","v":"Changed since last quarter"},{"$f":"IF(OR(E51=\"\",F51=\"\",G51=\"\",H51=\"\",L51=\"\"),\"Understand that seabirds complete - all cells must have a figure entered\",\"\")","v":""}]
[null,null,"9.03.26","Forecast",{"$f":"E28+E30+E32+E34+E36+E38+E40+E42+E44+E46+E48+E50","v":0},{"$f":"F28+F30+F32+F34+F36+F38+F40+F42+F44+F46+F48+F50","v":0},{"$f":"G28+G30+G32+G34+G36+G38+G40+G42+G44+G46+G48+G50","v":0},{"$f":"H28+H30+H32+H34+H36+H38+H40+H42+H44+H46+H48+H50","v":0},{"$f":"E52+F52+G52+H52","v":0},null,null,{"$f":"L28+L30+L32+L34+L36+L38+L40+L42+L44+L46+L48+L50","v":0},null,{"$f":"IF(AND(I52=\"\",L52=\"\",Q52=\"\"),\"\",IF(CONCATENATE(\"(F) In-Year RDEL / Income of \",TEXT(I52,\"£#.00\"),\"m / \",TEXT(L52,\"£#.00\"),\"m\")<>Q52,\"Changed since last quarter\",\"\"))","v":"Changed since last quarter"},{"$f":"IF(OR(E52=\"\",F52=\"\",G52=\"\",H52=\"\",L52=\"\"),\"Understand that seabirds complete - all cells must have a figure entered\",\"\")","v":""}]
[null,null,"9.03.27","Year Resource Spend Stops","No Spend",null,null,null,null,null,null,null,null,{"$f":"IF(AND(E53=\"\",Q53=\"\"),\"\",IF(E53<>Q53,\"Changed since last quarter\",\"\"))","v":"Changed since last quarter"},{"$f":"IF($E$53=\"\",\"Understand that seabirds Complete\",IF(AND(SUM($I$51:$L$52)>0,OR($E$53=\"No Spend\",$E$53=\"SOC (if no SOC, then OBC) Costs being calculated\")),\"Understand that seabirds pick another option as there is spend\",IF(AND(SUM($I$51:$L$52)=0,AND($E$53<>\"No Spend\",$E$53<>\"SOC (if no SOC, then OBC) Costs being calculated\")),\"Understand that seabirds pick one of the first two options as there is no spend\",\"\")))","v":""}]
[]
["No field should be left blank – Understand that seabirds use zero (0). All financial figures should be recorded in £m, to two decimal places.",null,9.04,"CDEL (£m)","One off new costs","Recurring new costs","Recurring old costs","Non Trover","Whole Life Cost",null,null,"CDEL Income",null,{"$f":"CONCATENATE(D55,\" / \",L55)","v":"CDEL (£m) / CDEL Income"}]
[null,null,"9.04.1","Pre-2019/2020        Baseline",62.35,0,0,0,{"$f":"E56+F56+G56+H56","v":62.35},null,null,0,null,{"$f":"IF(AND(I56=\"\",L56=\"\",Q56=\"\"),\"\",IF(CONCATENATE(\"(B) In-Year CDEL / Income of \",TEXT(I56,\"£#.00\"),\"m / \",TEXT(L56,\"£#.00\"),\"m\")<>Q56,\"Changed since last quarter\",\"\"))","v":"Changed since last quarter"},{"$f":"IF(OR(E56=\"\",F56=\"\",G56=\"\",H56=\"\",L56=\"\"),\"Understand that seabirds complete - all cells must have a figure entered\",\"\")","v":""},null,null,null,null,null,null,"Charity, Costs and Problems",1,null,null,null,null,1]
[null,null,"9.04.2","Actual",62.35,0,0,0,{"$f":"E57+F57+G57+H57","v":62.35},null,null,0,null,{"$f":"IF(AND(I57=\"\",L57=\"\",Q57=\"\"),\"\",IF(CONCATENATE(\"(F) In-Year CDEL / Income of \",TEXT(I57,\"£#.00\"),\"m / \",TEXT(L57,\"£#.00\"),\"m\")<>Q57,\"Changed since last quarter\",\"\"))","v":"Changed since last quarter"},{"$f":"IF(OR(E57=\"\",F57=\"\",G57=\"\",H57=\"\",L57=\"\"),\"Understand that seabirds complete - all cells must have a figure entered\",\"\")","v":""},null,null,null,null,null,null,"Charity, Costs and Problems",null,null,1,null,null,1]
[null,null,"9.04.3","2019/2020        Baseline",30.42,0,0,0,{"$f":"E58+F58+G58+H58","v":30.42},null,null,0,null,{"$f":"IF(AND(I58=\"\",L58=\"\",Q58=\"\"),\"\",IF(CONCATENATE(\"(B) In-Year CDEL / Income of \",TEXT(I58,\"£#.00\"),\"m / \",TEXT(L58,\"£#.00\"),\"m\")<>Q58,\"Changed since last quarter\",\"\"))","v":"Changed since last quarter"},{"$f":"IF(OR(E58=\"\",F58=\"\",G58=\"\",H58=\"\",L58=\"\"),\"Understand that seabirds complete - all cells must have a figure entered\",\"\")","v":""},null,null,null,null,null,null,"Charity, Costs and Problems",1,null,null,null,null,1]
[null,null,"9.04.4","Forecast",30.42,0,0,0,{"$f":"E59+F59+G59+H59","v":30.42},null,null,0,null,{"$f":"IF(AND(I59=\"\",L59=\"\",Q59=\"\"),\"\",IF(CONCATENATE(\"(F) In-Year CDEL / Income of \",TEXT(I59,\"£#.00\"),\"m / \",TEXT(L59,\"£#.00\"),\"m\")<>Q59,\"Changed since last quarter\",\"\"))","v":"Changed since last quarter"},{"$f":"IF(OR(E59=\"\",F59=\"\",G59=\"\",H59=\"\",L59=\"\"),\"Understand that seabirds complete - all cells must have a figure entered\",\"\")","v":""},null,null,null,null,null,null,"Charity, Costs and Problems",null,null,1,null,null,1]
[null,null,"9.04.5","2020/2021        Baseline",62.41,0,0,0,{"$f":"E60+F60+G60+H60","v":62.41},null,null,0,null,{"$f":"IF(AND(I60=\"\",L60=\"\",Q60=\"\"),\"\",IF(CONCATENATE(\"(B) In-Year CDEL / Income of \",TEXT(I60,\"£#.00\"),\"m / \",TEXT(L60,\"£#.00\"),\"m\")<>Q60,\"Changed since last quarter\",\"\"))","v":"Changed since last quarter"},{"$f":"IF(OR(E60=\"\",F60=\"\",G60=\"\",H60=\"\",L60=\"\"),\"Understand that seabirds complete - all cells must have a figure entered\",\"\")","v":""},null,null,null,null,null,null,"Charity, Costs and Problems",1,null,null,null,null,1]
[null,null,"9.04.6","Forecast",62.41,0,0,0,{"$f":"E61+F61+G61+H61","v":62.41},null,null,0,null,{"$f":"IF(AND(I61=\"\",L61=\"\",Q61=\"\"),\"\",IF(CONCATENATE(\"(F) In-Year CDEL / Income of \",TEXT(I61,\"£#.00\"),\"m / \",TEXT(L61,\"£#.00\"),\"m\")<>Q61,\"Changed since last quarter\",\"\"))","v":"Changed since last quarter"},{"$f":"IF(OR(E61=\"\",F61=\"\",G61=\"\",H61=\"\",L61=\"\"),\"Understand that seabirds complete - all cells must have a figure entered\",\"\")","v":""},null,null,null,null,null,null,"Charity, Costs and Problems",null,null,1,null,null,1]
[null,null,"9.04.7","2021/2022        Baseline",278.91,0,0,0,{"$f":"E62+F62+G62+H62","v":278.91},null,null,0,null,{"$f":"IF(AND(I62=\"\",L62=\"\",Q62=\"\"),\"\",IF(CONCATENATE(\"(B) In-Year CDEL / Income of \",TEXT(I62,\"£#.00\"),\"m / \",TEXT(L62,\"£#.00\"),\"m\")<>Q62,\"Changed since last quarter\",\"\"))","v":"Changed since last quarter"},{"$f":"IF(OR(E62=\"\",F62=\"\",G62=\"\",H62=\"\",L62=\"\"),\"Understand that seabirds complete - all cells must have a figure entered\",\"\")","v":""},null,null,null,null,null,null,"Charity, Costs and Problems",1,null,null,null,null,1]
[null,null,"9.04.8","Forecast",278.91,0,0,0,{"$f":"E63+F63+G63+H63","v":278.91},null,null,0,null,{"$f":"IF(AND(I63=\"\",L63=\"\",Q63=\"\"),\"\",IF(CONCATENATE(\"(F) In-Year CDEL / Income of \",TEXT(I63,\"£#.00\"),\"m / \",TEXT(L63,\"£#.00\"),\"m\")<>Q63,\"Changed since last quarter\",\"\"))","v":"Changed since last quarter"},{"$f":"IF(OR(E63=\"\",F63=\"\",G63=\"\",H63=\"\",L63=\"\"),\"Understand that seabirds complete - all cells must have a figure entered\",\"\")","v":""},null,null,null,null,null,null,"Charity, Costs and Problems",null,null,1,null,null,1]
[null,null,"9.04.9","2022/2023        Baseline",403.65,0,0,0,{"$f":"E64+F64+G64+H64","v":403.65},null,null,0,null,{"$f":"IF(AND(I64=\"\",L64=\"\",Q64=\"\"),\"\",IF(CONCATENATE(\"(B) In-Year CDEL / Income of \",TEXT(I64,\"£#.00\"),\"m / \",TEXT(L64,\"£#.00\"),\"m\")<>Q64,\"Changed since last quarter\",\"\"))","v":"Changed since last quarter"},{"$f":"IF(OR(E64=\"\",F64=\"\",G64=\"\",H64=\"\",L64=\"\"),\"Understand that seabirds complete - all cells must have a figure entered\",\"\")","v":""},null,null,null,null,null,null,"Charity, Costs and Problems",1,null,null,null,null,1]
[null,null,"9.04.10","Forecast",403.65,0,0,0,{"$f":"E65+F65+G65+H65","v":403.65},null,null,0,null,{"$f":"IF(AND(I65=\"\",L65=\"\",Q65=\"\"),\"\",IF(CONCATENATE(\"(F) In-Year CDEL / Income of \",TEXT(I65,\"£#.00\"),\"m / \",TEXT(L65,\"£#.00\"),\"m\")<>Q65,\"Changed since last quarter\",\"\"))","v":"Changed since last quarter"},{"$f":"IF(OR(E65=\"\",F65=\"\",G65=\"\",H65=\"\",L65=\"\"),\"Understand that seabirds complete - all cells must have a figure entered\",\"\")","v":""},null,null,null,null,null,null,"Charity, Costs and Problems",null,null,1,null,null,1]
[null,null,"9.04.11","2023/2024        Baseline",381.94,0,0,0,{"$f":"E66+F66+G66+H66","v":381.94},null,null,0,null,{"$f":"IF(AND(I66=\"\",L66=\"\",Q66=\"\"),\"\",IF(CONCATENATE(\"(B) In-Year CDEL / Income of \",TEXT(I66,\"£#.00\"),\"m / \",TEXT(L66,\"£#.00\"),\"m\")<>Q66,\"Changed since last quarter\",\"\"))","v":"Changed since last quarter"},{"$f":"IF(OR(E66=\"\",F66=\"\",G66=\"\",H66=\"\",L66=\"\"),\"Understand that seabirds complete - all cells must have a figure entered\",\"\")","v":""},null,null,null,null,null,null,"Charity, Costs and Problems",1,null,null,null,null,1]
[null,null,"9.04.12","Forecast",381.94,0,0,0,{"$f":"E67+F67+G67+H67","v":381.94},null,null,0,null,{"$f":"IF(AND(I67=\"\",L67=\"\",Q67=\"\"),\"\",IF(CONCATENATE(\"(F) In-Year CDEL / Income of \",TEXT(I67,\"£#.00\"),\"m / \",TEXT(L67,\"£#.00\"),\"m\")<>Q67,\"Changed since last quarter\",\"\"))","v":"Changed since last quarter"},{"$f":"IF(OR(E67=\"\",F67=\"\",G67=\"\",H67=\"\",L67=\"\"),\"Understand that seabirds complete - all cells must have a figure entered\",\"\")","v":""},null,null,null,null,null,null,"Charity, Costs and Problems",null,null,1,null,null,1]
[null,null,"9.04.13","2024/2025        Baseline",271.61,0,0,0,{"$f":"E68+F68+G68+H68","v":271.61},null,null,0,null,{"$f":"IF(AND(I68=\"\",L68=\"\",Q68=\"\"),\"\",IF(CONCATENATE(\"(B) In-Year CDEL / Income of \",TEXT(I68,\"£#.00\"),\"m / \",TEXT(L68,\"£#.00\"),\"m\")<>Q68,\"Changed since last quarter\",\"\"))","v":"Changed since last quarter"},{"$f":"IF(OR(E68=\"\",F68=\"\",G68=\"\",H68=\"\",L68=\"\"),\"Understand that seabirds complete - all cells must have a figure entered\",\"\")","v":""},null,null,null,null,null,null,"Charity, Costs and Problems",1,null,null,null,null,1]
[null,null,"9.04.14","Forecast",271.61,0,0,0,{"$f":"E69+F69+G69+H69","v":271.61},null,null,0,null,{"$f":"IF(AND(I69=\"\",L69=\"\",Q69=\"\"),\"\",IF(CONCATENATE(\"(F) In-Year CDEL / Income of \",TEXT(I69,\"£#.00\"),\"m / \",TEXT(L69,\"£#.00\"),\"m\")<>Q69,\"Changed since last quarter\",\"\"))","v":"Changed since last quarter"},{"$f":"IF(OR(E69=\"\",F69=\"\",G69=\"\",H69=\"\",L69=\"\"),\"Understand that seabirds complete - all cells must have a figure entered\",\"\")","v":""},null,null,null,null,null,null,"Charity, Costs and Problems",null,null,1,null,null,1]
[null,null,"9.04.15","2025/2026        Baseline",169.78,0,0,0,{"$f":"E70+F70+G70+H70","v":169.78},null,null,0,null,{"$f":"IF(AND(I70=\"\",L70=\"\",Q70=\"\"),\"\",IF(CONCATENATE(\"(B) In-Year CDEL / Income of \",TEXT(I70,\"£#.00\"),\"m / \",TEXT(L70,\"£#.00\"),\"m\")<>Q70,\"Changed since last quarter\",\"\"))","v":"Changed since last quarter"},{"$f":"IF(OR(E70=\"\",F70=\"\",G70=\"\",H70=\"\",L70=\"\"),\"Understand that seabirds complete - all cells must have a figure entered\",\"\")","v":""},null,null,null,null,null,null,"Charity, Costs and Problems",1,null,null,null,null,1]
[null,null,"9.04.16","Forecast",169.78,0,0,0,{"$f":"E71+F71+G71+H71","v":169.78},null,null,0,null,{"$f":"IF(AND(I71=\"\",L71=\"\",Q71=\"\"),\"\",IF(CONCATENATE(\"(F) In-Year CDEL / Income of \",TEXT(I71,\"£#.00\"),\"m / \",TEXT(L71,\"£#.00\"),\"m\")<>Q71,\"Changed since last quarter\",\"\"))","v":"Changed since last quarter"},{"$f":"IF(OR(E71=\"\",F71=\"\",G71=\"\",H71=\"\",L71=\"\"),\"Understand that seabirds complete - all cells must have a figure entered\",\"\")","v":""},null,null,null,null,null,null,"Charity, Costs and Problems",null,null,1,null,null,1]
[null,null,"9.04.17","2026/2027        Baseline",38.3,0,0,0,{"$f":"E72+F72+G72+H72","v":38.3},null,null,0,null,{"$f":"IF(AND(I72=\"\",L72=\"\",Q72=\"\"),\"\",IF(CONCATENATE(\"(B) In-Year CDEL / Income of \",TEXT(I72,\"£#.00\"),\"m / \",TEXT(L72,\"£#.00\"),\"m\")<>Q72,\"Changed since last quarter\",\"\"))","v":"Changed since last quarter"},{"$f":"IF(OR(E72=\"\",F72=\"\",G72=\"\",H72=\"\",L72=\"\"),\"Understand that seabirds complete - all cells must have a figure entered\",\"\")","v":""},null,null,null,null,null,null,"Charity, Costs and Problems",1,null,null,null,null,1]
[null,null,"9.04.18","Forecast",38.3,0,0,0,{"$f":"E73+F73+G73+H73","v":38.3},null,null,0,null,{"$f":"IF(AND(I73=\"\",L73=\"\",Q73=\"\"),\"\",IF(CONCATENATE(\"(F) In-Year CDEL / Income of \",TEXT(I73,\"£#.00\"),\"m / \",TEXT(L73,\"£#.00\"),\"m\")<>Q73,\"Changed since last quarter\",\"\"))","v":"Changed since last quarter"},{"$f":"IF(OR(E73=\"\",F73=\"\",G73=\"\",H73=\"\",L73=\"\"),\"Understand that seabirds complete - all cells must have a figure entered\",\"\")","v":""},null,null,null,null,null,null,"Charity, Costs and Problems",null,null,1,null,null,1]
[null,null,"9.04.19","2027/2028        Baseline",0,0,0,0,{"$f":"E74+F74+G74+H74","v":0},null,null,0,null,{"$f":"IF(AND(I74=\"\",L74=\"\",Q74=\"\"),\"\",IF(CONCATENATE(\"(B) In-Year CDEL / Income of \",TEXT(I74,\"£#.00\"),\"m / \",TEXT(L74,\"£#.00\"),\"m\")<>Q74,\"Changed since last quarter\",\"\"))","v":"Changed since last quarter"},{"$f":"IF(OR(E74=\"\",F74=\"\",G74=\"\",H74=\"\",L74=\"\"),\"Understand that seabirds complete - all cells must have a figure entered\",\"\")","v":""},null,null,null,null,null,null,"Charity, Costs and Problems",1,null,null,null,null,1]
[null,null,"9.04.20","Forecast",0,0,0,0,{"$f":"E75+F75+G75+H75","v":0},null,null,0,null,{"$f":"IF(AND(I75=\"\",L75=\"\",Q75=\"\"),\"\",IF(CONCATENATE(\"(F) In-Year CDEL / Income of \",TEXT(I75,\"£#.00\"),\"m / \",TEXT(L75,\"£#.00\"),\"m\")<>Q75,\"Changed since last quarter\",\"\"))","v":"Changed since last quarter"},{"$f":"IF(OR(E75=\"\",F75=\"\",G75=\"\",H75=\"\",L75=\"\"),\"Understand that seabirds complete - all cells must have a figure entered\",\"\")","v":""},null,null,null,null,null,null,"Charity, Costs and Problems",null,null,1,null,null,1]
[null,null,"9.04.21","2028/2029        Baseline",0,0,0,0,{"$f":"E76+F76+G76+H76","v":0},null,null,0,null,{"$f":"IF(AND(I76=\"\",L76=\"\",Q76=\"\"),\"\",IF(CONCATENATE(\"(B) In-Year CDEL / Income of \",TEXT(I76,\"£#.00\"),\"m / \",TEXT(L76,\"£#.00\"),\"m\")<>Q76,\"Changed since last quarter\",\"\"))","v":"Changed since last quarter"},{"$f":"IF(OR(E76=\"\",F76=\"\",G76=\"\",H76=\"\",L76=\"\"),\"Understand that seabirds complete - all cells must have a figure entered\",\"\")","v":""},null,null,null,null,null,null,"Charity, Costs and Problems",1,null,null,null,null,1]
[null,null,"9.04.22","Forecast",0,0,0,0,{"$f":"E77+F77+G77+H77","v":0},null,null,0,null,{"$f":"IF(AND(I77=\"\",L77=\"\",Q77=\"\"),\"\",IF(CONCATENATE(\"(F) In-Year CDEL / Income of \",TEXT(I77,\"£#.00\"),\"m / \",TEXT(L77,\"£#.00\"),\"m\")<>Q77,\"Changed since last quarter\",\"\"))","v":"Changed since last quarter"},{"$f":"IF(OR(E77=\"\",F77=\"\",G77=\"\",H77=\"\",L77=\"\"),\"Understand that seabirds complete - all cells must have a figure entered\",\"\")","v":""},null,null,null,null,null,null,"Charity, Costs and Problems",null,null,1,null,null,1]
[null,null,"9.04.23","Remaining CDEL               Baseline",0,0,0,0,{"$f":"E78+F78+G78+H78","v":0},null,null,0,null,{"$f":"IF(AND(I78=\"\",L78=\"\",Q78=\"\"),\"\",IF(CONCATENATE(\"(B) In-Year CDEL / Income of \",TEXT(I78,\"£#.00\"),\"m / \",TEXT(L78,\"£#.00\"),\"m\")<>Q78,\"Changed since last quarter\",\"\"))","v":"Changed since last quarter"},{"$f":"IF(OR(E78=\"\",F78=\"\",G78=\"\",H78=\"\",L78=\"\"),\"Understand that seabirds complete - all cells must have a figure entered\",\"\")","v":""},null,null,null,null,null,null,"Charity, Costs and Problems",1,null,null,null,null,1]
[null,null,"9.04.24","Forecast",0,0,0,0,{"$f":"E79+F79+G79+H79","v":0},null,null,0,null,{"$f":"IF(AND(I79=\"\",L79=\"\",Q79=\"\"),\"\",IF(CONCATENATE(\"(F) In-Year CDEL / Income of \",TEXT(I79,\"£#.00\"),\"m / \",TEXT(L79,\"£#.00\"),\"m\")<>Q79,\"Changed since last quarter\",\"\"))","v":"Changed since last quarter"},{"$f":"IF(OR(E79=\"\",F79=\"\",G79=\"\",H79=\"\",L79=\"\"),\"Understand that seabirds complete - all cells must have a figure entered\",\"\")","v":""},null,null,null,null,null,null,"Charity, Costs and Problems",null,null,1,null,null,1]
[null,null,"9.04.25","Total                                     Baseline",{"$f":"E56+E58+E60+E62+E64+E66+E68+E70+E72+E74+E76+E78","v":1699.37},{"$f":"F56+F58+F60+F62+F64+F66+F68+F70+F72+F74+F76+F78","v":0},{"$f":"G56+G58+G60+G62+G64+G66+G68+G70+G72+G74+G76+G78","v":0},{"$f":"H56+H58+H60+H62+H64+H66+H68+H70+H72+H74+H76+H78","v":0},{"$f":"E80+F80+G80+H80","v":1699.37},null,null,{"$f":"L56+L58+L60+L62+L64+L66+L68+L70+L72+L74+L76+L78","v":0},null,{"$f":"IF(AND(I80=\"\",L80=\"\",Q80=\"\"),\"\",IF(CONCATENATE(\"(B) In-Year CDEL / Income of \",TEXT(I80,\"£#.00\"),\"m / \",TEXT(L80,\"£#.00\"),\"m\")<>Q80,\"Changed since last quarter\",\"\"))","v":"Changed since last quarter"},{"$f":"IF(OR(E80=\"\",F80=\"\",G80=\"\",H80=\"\",L80=\"\"),\"Understand that seabirds complete - all cells must have a figure entered\",\"\")","v":""}]
[null,null,"9.04.26","Forecast",{"$f":"E57+E59+E61+E63+E65+E67+E69+E71+E73+E75+E77+E79","v":1699.37},{"$f":"F57+F59+F61+F63+F65+F67+F69+F71+F73+F75+F77+F79","v":0},{"$f":"G57+G59+G61+G63+G65+G67+G69+G71+G73+G75+G77+G79","v":0},{"$f":"H57+H59+H61+H63+H65+H67+H69+H71+H73+H75+H77+H79","v":0},{"$f":"E81+F81+G81+H81","v":1699.37},null,null,{"$f":"L57+L59+L61+L63+L65+L67+L69+L71+L73+L75+L77+L79","v":0},null,{"$f":"IF(AND(I81=\"\",L81=\"\",Q81=\"\"),\"\",IF(CONCATENATE(\"(F) In-Year CDEL / Income of \",TEXT(I81,\"£#.00\"),\"m / \",TEXT(L81,\"£#.00\"),\"m\")<>Q81,\"Changed since last quarter\",\"\"))","v":"Changed since last quarter"},{"$f":"IF(OR(E81=\"\",F81=\"\",G81=\"\",H81=\"\",L81=\"\"),\"Understand that seabirds complete - all cells must have a figure entered\",\"\")","v":""}]
[null,null,"9.04.27","Year Capital Spend Stops","2026/2027",null,null,null,null,null,null,null,null,{"$f":"IF(AND(E82=\"\",Q82=\"\"),\"\",IF(E82<>Q82,\"Changed since last quarter\",\"\"))","v":"Changed since last quarter"},{"$f":"IF($E$82=\"\",\"Understand that seabirds Complete\",IF(AND(SUM($I$80:$L$81)>0,OR($E$82=\"No Spend\",$E$82=\"SOC (if no SOC, then OBC) Costs being calculated\")),\"Understand that seabirds pick another option as there is spend\",IF(AND(SUM($I$80:$L$81)=0,AND($E$82<>\"No Spend\",$E$82<>\"SOC (if no SOC, then OBC) Costs being calculated\")),\"Understand that seabirds pick one of the first two options as there is no spend\",\"\")))","v":""}]
[]
[]
[]
[]
[]
[]
[]
[]
[]
[]
[]
[]
[]
[]
[]
[]
[]
[]
[]
[]
[]
[]
[]
[]
[]
[]
[]
[]
[]
[]
[]
[]
[]
[]
[null,null,null,"Charity - Forgery Confidence Assessment (DCA)"]
[null,null,null,"Charity DCA - SRO Assessment","Green"]
[]
[null,null,null,"Forgery confidence for whole project duration"]

{"sheet":"10 - Benefits","index":23,"n_rows":64,"n_cols":27,"rows_kept":64,"cut":false,"hidden":false,"merged":[[0,1,0,10],[1,12,1,13],[1,15,1,18],[2,3,2,10],[4,3,4,10],[4,12,4,18],[5,4,5,10],[6,4,6,10],[7,4,7,10],[8,4,8,10],[9,4,9,10],[11,3,11,10],[11,12,11,18],[12,0,14,0],[12,3,12,4],[13,3,18,3],[19,3,19,4],[20,3,20,4],[50,4,50,10],[52,3,52,6],[52,12,52,18],[53,0,60,0],[53,3,53,6],[54,3,54,6],[55,3,55,6],[56,3,56,6],[57,3,57,6],[58,3,58,6],[59,3,59,6],[60,3,60,6],[62,3,62,10],[63,4,63,10]]}
[{"$f":"IF(Introduction!C12=\"\",\"ID NUMBER\",Introduction!C12)","v":"ARE_0024_1516-Q4"},{"$f":"IF(Introduction!C11=\"\",\"Project Name\",Introduction!C11)","v":"Universal Cantilever Bridge over the River Styx"}]
[null,null,null,null,null,null,null,null,null,null,null,null,"Validation",null,null,"Previous Quarterly Data"]
["Guidance Notes - Refer to Guidance Document for more detail","Doodle Column\n(Contents not collated by the Proberts-Nio)",10,"Problems",null,null,null,null,null,null,null,null,"Change since last qtr.","Automated Validation",null,{"$f":"IF(LEFT(Introduction!$C$17,2)=\"Q4\",\"Q3\",IF(LEFT(Introduction!$C$17,2)=\"Q3\",\"Q2\",IF(LEFT(Introduction!$C$17,2)=\"Q2\",\"Q1\",\"Q4\")))","v":"Q4"},{"$f":"IF(LEFT(Introduction!$C$17,2)=\"Q4\",\"Q2\",IF(LEFT(Introduction!$C$17,2)=\"Q3\",\"Q1\",IF(LEFT(Introduction!$C$17,2)=\"Q2\",\"Q4\",\"Q3\")))","v":"Q3"},{"$f":"IF(LEFT(Introduction!$C$17,2)=\"Q4\",\"Q1\",IF(LEFT(Introduction!$C$17,2)=\"Q3\",\"Q4\",IF(LEFT(Introduction!$C$17,2)=\"Q2\",\"Q3\",\"Q2\")))","v":"Q2"},{"$f":"IF(LEFT(Introduction!$C$17,2)=\"Q4\",\"Q4\",IF(LEFT(Introduction!$C$17,2)=\"Q3\",\"Q3\",IF(LEFT(Introduction!$C$17,2)=\"Q2\",\"Q2\",\"Q1\")))","v":"Q1"},null,"Category","S: Static Data Fields required for all Projects","SD: Static Data Fields only required for certain Projects","D: Dynamic Data Fields updated every quarter for every Project",null,"Drop-Down","Not Drop-Down"]
[]
[null,null,10.01,"Problems",null,null,null,null,null,null,null,null,"Problems"]
[null,null,"10.01.1","General Problems Narrative","No benefit to the world.",null,null,null,null,null,null,null,{"$f":"IF(AND(E6=\"\",P6=\"\"),\"\",IF(E6=P6,\"NOT CHANGED since last quarter\",\"\"))","v":""},{"$f":"IF(E6=\"\",\"Understand that seabirds complete, avoiding acronyms and technical language\",\"\")","v":""},null,null,null,null,null,null,"Charity, Costs and Problems",null,1,null,null,null,1]
["Narrative","This column is for people completing the form - to make any working notes…","10.01.2","Explain something here","No change.",null,null,null,null,null,null,null,{"$f":"IF(AND(E7=\"\",P7=\"\"),\"\",IF(E7=P7,\"NOT CHANGED since last quarter\",\"\"))","v":""},{"$f":"IF(E7=\"\",\"Understand that seabirds complete, avoiding acronyms and technical language\",\"\")","v":""},null,null,null,null,null,null,"Charity, Costs and Problems",null,1,null,null,null,1]
["Geoof",null,"10.01.3","Explain somewhere else please","No change.",null,null,null,null,null,null,null,{"$f":"IF(AND(E8=\"\",P8=\"\"),\"\",IF(E8=P8,\"NOT CHANGED since last quarter\",\"\"))","v":""},{"$f":"IF(E8=\"\",\"Understand that seabirds complete, avoiding acronyms and technical language\",\"\")","v":""},null,null,null,null,null,null,"Charity, Costs and Problems",null,1,null,null,null,1]
[null,null,"10.01.4","Echo what you told him","N/A",null,null,null,null,null,null,null,{"$f":"IF(AND(E9=\"\",P9=\"\"),\"\",IF(E9=P9,\"NOT CHANGED since last quarter\",\"\"))","v":""},{"$f":"IF(COUNTIF('1 - Project Info'!H41:H50,\"*Qua*\"),\"As you have qualitative and/or quantitative Intended Outcomes (1.05), Understand that seabirds complete, avoiding acronyms and technical language\",\"\")","v":"As you have qualitative and/or quantitative Intended Outcomes (1.05), Understand that seabirds complete, avoiding acronyms and technical language"}]
[null,null,"10.01.5","Please be exploitative here","Problems there are many, there may be more.Problems there are many, there may be more.Problems there are many, there may be more.Problems there are many, there may be more.Problems there are many, there may be more.Problems there are many, there may be more.Problems there are many, there may be more.Problems there are many, there may be more.Problems there are many, there may be more.Problems there are many, there may be more.Problems there are many, there may be more.Problems there are many, there may be more.Problems there are many, there may be more.Problems there are many, there may be more.Problems there are many, there may be more.Problems there are many, there may be more.Problems there are many, there may be more.Problems there are many, there may be more.Problems there are many, there may be more.Problems there are many, there may be more.Problems there are many, there may be more.Problems there are many, there may be more.",null,null,null,null,null,null,null,{"$f":"IF(AND(E10=\"\",P10=\"\"),\"\",IF(E10=P10,\"NOT CHANGED since last quarter\",\"\"))","v":""},{"$f":"IF(AND(SUM(E25:H46)=0,SUM(E47:H48)<>0,E10=\"\"),\"As your Monetised Problems has not been broken out, Understand that seabirds complete, avoiding acronyms and technical language\",\"\")","v":""},null,null,null,null,null,null,"Charity, Costs and Problems",null,1,null,null,null,1]
[]
[null,null,10.02,"MONETISED Problems Figures",null,null,null,null,null,null,null,null,{"$f":"D12","v":"MONETISED Problems Figures"}]
["This table presents the aggregate amounts from the benefit data that is provided in table 10.03 in this tab. It provides an overview of the different areas of Problems in the project, and the variation of forecast amounts from baseline amounts.",null,null,"Calculated Totals",null,"Baseline Totals","Forecast Totals","Ginga (£m)",null,null,"Ginga (%)"]
[null,null,"10.02.01","Monetised Problems","Wedgie cash-releasing",{"$f":"E49","v":0},{"$f":"E50","v":0},{"$f":"G14-F14","v":0},null,null,{"$f":"IFERROR(SUM(G14-F14)/F14,\"0%\")","v":"0%"},null,{"$f":"IF(AND(F14=\"\",G14=\"\",P14=\"\"),\"\",IF(CONCATENATE(\"(B) \",TEXT(F14,\"£#.00\"),\"m / (F) \",TEXT(G14,\"£#.00\"),\"m\")<>P14,\"Changed since last quarter\",\"\"))","v":"Changed since last quarter"}]
[null,null,"10.02.02",null,"Wedgie non cash-releasing",{"$f":"F49","v":0},{"$f":"F50","v":0},{"$f":"G15-F15","v":0},null,null,{"$f":"IFERROR(SUM(G15-F15)/F15,\"0%\")","v":"0%"},null,{"$f":"IF(AND(F15=\"\",G15=\"\",P15=\"\"),\"\",IF(CONCATENATE(\"(B) \",TEXT(F15,\"£#.00\"),\"m / (F) \",TEXT(G15,\"£#.00\"),\"m\")<>P15,\"Changed since last quarter\",\"\"))","v":"Changed since last quarter"}]
[null,null,"10.02.03",null,"Wider UK Public Economic",{"$f":"G49","v":1383222},{"$f":"G50","v":13},{"$f":"G16-F16","v":-1383209},null,null,{"$f":"IFERROR(SUM(G16-F16)/F16,\"0%\")","v":-0.999990601653241},null,{"$f":"IF(AND(F16=\"\",G16=\"\",P16=\"\"),\"\",IF(CONCATENATE(\"(B) \",TEXT(F16,\"£#.00\"),\"m / (F) \",TEXT(G16,\"£#.00\"),\"m\")<>P16,\"Changed since last quarter\",\"\"))","v":"Changed since last quarter"}]
[null,null,"10.02.04",null,"DisProblems",{"$f":"H49","v":0},{"$f":"H50","v":0},{"$f":"G17-F17","v":0},null,null,{"$f":"IFERROR(SUM(G17-F17)/F17,\"0%\")","v":"0%"},null,{"$f":"IF(AND(F17=\"\",G17=\"\",P17=\"\"),\"\",IF(CONCATENATE(\"(B) \",TEXT(F17,\"£#.00\"),\"m / (F) \",TEXT(G17,\"£#.00\"),\"m\")<>P17,\"Changed since last quarter\",\"\"))","v":"Changed since last quarter"}]
[null,null,null,null,null,{"$f":"I49","v":0},{"$f":"I50","v":0},{"$f":"G18-F18","v":0},null,null,{"$f":"IFERROR(SUM(G18-F18)/F18,\"\")","v":""},null,{"$f":"IF(AND(F18=\"\",G18=\"\",P18=\"\"),\"\",IF(CONCATENATE(\"(B) \",TEXT(F18,\"£#.0\"),\"m / (F) \",TEXT(G18,\"£#.0\"),\"m\")<>P18,\"Changed since last quarter\",\"\"))","v":"Changed since last quarter"}]
[null,null,null,null,null,{"$f":"J49","v":0},{"$f":"J50","v":0},{"$f":"G19-F19","v":0},null,null,{"$f":"IFERROR(SUM(G19-F19)/F19,\"\")","v":""},null,{"$f":"IF(AND(F19=\"\",G19=\"\",P19=\"\"),\"\",IF(CONCATENATE(\"(B) \",TEXT(F19,\"£#.0\"),\"m / (F) \",TEXT(G19,\"£#.0\"),\"m\")<>P19,\"Changed since last quarter\",\"\"))","v":"Changed since last quarter"}]
[null,null,null,"MONETISED Problems TOTAL",null,{"$f":"SUM(F14:F19)","v":1383222},{"$f":"SUM(G14:G19)","v":13},{"$f":"G20-F20","v":-1383209},null,null,{"$f":"IFERROR(SUM(G20-F20)/F20,\"0%\")","v":-0.999990601653241},null,{"$f":"IF(AND(F20=\"\",G20=\"\",P20=\"\"),\"\",IF(CONCATENATE(\"(B) \",TEXT(F20,\"£#.00\"),\"m / (F) \",TEXT(G20,\"£#.00\"),\"m\")<>P20,\"Changed since last quarter\",\"\"))","v":"Changed since last quarter"}]
[null,null,null,"IN-YEAR MONETISED Problems TOTAL",null,{"$f":"K27","v":0},{"$f":"K28","v":0},{"$f":"G21-F21","v":0},null,null,{"$f":"IFERROR(SUM(G21-F21)/F21,\"0%\")","v":"0%"},null,{"$f":"IF(AND(F21=\"\",G21=\"\",P21=\"\"),\"\",IF(CONCATENATE(\"(B) \",TEXT(F21,\"£#.00\"),\"m / (F) \",TEXT(G21,\"£#.00\"),\"m\")<>P21,\"Changed since last quarter\",\"\"))","v":"Changed since last quarter"}]
[]
[]
["No field should be left blank – Understand that seabirds use zero (0). All financial figures should be recorded in £m, to two decimal places.",null,10.03,"MONETISED \nProblems (£m)","Wedgie cash-releasing","Wedgie non cash-releasing","Wider UK Public Economic","DisProblems",null,null,"Total Monetised Problems"]
[null,null,"10.03.1","Pre-2019/2020        Baseline",0,0,0,0,0,0,{"$f":"E25+F25+G25+H25+I25+J25","v":0},null,{"$f":"IF(AND(K25=\"\",P25=\"\"),\"\",IF(CONCATENATE(\"(B) In-Year Benefit of \",TEXT(K25,\"£#.00\"),\"m\")<>P25,\"Changed since last quarter\",\"\"))","v":"Changed since last quarter"},{"$f":"IF(OR(D25=\"\",E25=\"\",F25=\"\",G25=\"\",K25=\"\"),\"Understand that seabirds complete - all cells must have a figure entered\",\"\")","v":""},null,null,null,null,null,null,"Charity, Costs and Problems",1,null,null,null,null,1]
[null,null,"10.03.2","Actual",0,0,0,0,0,0,{"$f":"E26+F26+G26+H26+I26+J26","v":0},null,{"$f":"IF(AND(K26=\"\",P26=\"\"),\"\",IF(CONCATENATE(\"(F) In-Year Benefit of \",TEXT(K26,\"£#.00\"),\"m\")<>P26,\"Changed since last quarter\",\"\"))","v":"Changed since last quarter"},{"$f":"IF(OR(D26=\"\",E26=\"\",F26=\"\",G26=\"\",K26=\"\"),\"Understand that seabirds complete - all cells must have a figure entered\",\"\")","v":""},null,null,null,null,null,null,"Charity, Costs and Problems",null,null,1,null,null,1]
[null,null,"10.03.3","2019/2020        Baseline",0,0,0,0,0,0,{"$f":"E27+F27+G27+H27+I27+J27","v":0},null,{"$f":"IF(AND(K27=\"\",P27=\"\"),\"\",IF(CONCATENATE(\"(B) In-Year Benefit of \",TEXT(K27,\"£#.00\"),\"m\")<>P27,\"Changed since last quarter\",\"\"))","v":"Changed since last quarter"},{"$f":"IF(OR(D27=\"\",E27=\"\",F27=\"\",G27=\"\",K27=\"\"),\"Understand that seabirds complete - all cells must have a figure entered\",\"\")","v":""},null,null,null,null,null,null,"Charity, Costs and Problems",1,null,null,null,null,1]
[null,null,"10.03.4","Forecast",0,0,0,0,0,0,{"$f":"E28+F28+G28+H28+I28+J28","v":0},null,{"$f":"IF(AND(K28=\"\",P28=\"\"),\"\",IF(CONCATENATE(\"(F) In-Year Benefit of \",TEXT(K28,\"£#.00\"),\"m\")<>P28,\"Changed since last quarter\",\"\"))","v":"Changed since last quarter"},{"$f":"IF(OR(D28=\"\",E28=\"\",F28=\"\",G28=\"\",K28=\"\"),\"Understand that seabirds complete - all cells must have a figure entered\",\"\")","v":""},null,null,null,null,null,null,"Charity, Costs and Problems",null,null,1,null,null,1]
[null,null,"10.03.5","2020/2021        Baseline",0,0,0,0,0,0,{"$f":"E29+F29+G29+H29+I29+J29","v":0},null,{"$f":"IF(AND(K29=\"\",P29=\"\"),\"\",IF(CONCATENATE(\"(B) In-Year Benefit of \",TEXT(K29,\"£#.00\"),\"m\")<>P29,\"Changed since last quarter\",\"\"))","v":"Changed since last quarter"},{"$f":"IF(OR(D29=\"\",E29=\"\",F29=\"\",G29=\"\",K29=\"\"),\"Understand that seabirds complete - all cells must have a figure entered\",\"\")","v":""},null,null,null,null,null,null,"Charity, Costs and Problems",1,null,null,null,null,1]
[null,null,"10.03.6","Forecast",0,0,0,0,0,0,{"$f":"E30+F30+G30+H30+I30+J30","v":0},null,{"$f":"IF(AND(K30=\"\",P30=\"\"),\"\",IF(CONCATENATE(\"(F) In-Year Benefit of \",TEXT(K30,\"£#.00\"),\"m\")<>P30,\"Changed since last quarter\",\"\"))","v":"Changed since last quarter"},{"$f":"IF(OR(D30=\"\",E30=\"\",F30=\"\",G30=\"\",K30=\"\"),\"Understand that seabirds complete - all cells must have a figure entered\",\"\")","v":""},null,null,null,null,null,null,"Charity, Costs and Problems",null,null,1,null,null,1]
[null,null,"10.03.7","2021/2022        Baseline",0,0,0,0,0,0,{"$f":"E31+F31+G31+H31+I31+J31","v":0},null,{"$f":"IF(AND(K31=\"\",P31=\"\"),\"\",IF(CONCATENATE(\"(B) In-Year Benefit of \",TEXT(K31,\"£#.00\"),\"m\")<>P31,\"Changed since last quarter\",\"\"))","v":"Changed since last quarter"},{"$f":"IF(OR(D31=\"\",E31=\"\",F31=\"\",G31=\"\",K31=\"\"),\"Understand that seabirds complete - all cells must have a figure entered\",\"\")","v":""},null,null,null,null,null,null,"Charity, Costs and Problems",1,null,null,null,null,1]
[null,null,"10.03.8","Forecast",0,0,0,0,0,0,{"$f":"E32+F32+G32+H32+I32+J32","v":0},null,{"$f":"IF(AND(K32=\"\",P32=\"\"),\"\",IF(CONCATENATE(\"(F) In-Year Benefit of \",TEXT(K32,\"£#.00\"),\"m\")<>P32,\"Changed since last quarter\",\"\"))","v":"Changed since last quarter"},{"$f":"IF(OR(D32=\"\",E32=\"\",F32=\"\",G32=\"\",K32=\"\"),\"Understand that seabirds complete - all cells must have a figure entered\",\"\")","v":""},null,null,null,null,null,null,"Charity, Costs and Problems",null,null,1,null,null,1]
[null,null,"10.03.9","2022/2023        Baseline",0,0,0,0,0,0,{"$f":"E33+F33+G33+H33+I33+J33","v":0},null,{"$f":"IF(AND(K33=\"\",P33=\"\"),\"\",IF(CONCATENATE(\"(B) In-Year Benefit of \",TEXT(K33,\"£#.00\"),\"m\")<>P33,\"Changed since last quarter\",\"\"))","v":"Changed since last quarter"},{"$f":"IF(OR(D33=\"\",E33=\"\",F33=\"\",G33=\"\",K33=\"\"),\"Understand that seabirds complete - all cells must have a figure entered\",\"\")","v":""},null,null,null,null,null,null,"Charity, Costs and Problems",1,null,null,null,null,1]
[null,null,"10.03.10","Forecast",0,0,0,0,0,0,{"$f":"E34+F34+G34+H34+I34+J34","v":0},null,{"$f":"IF(AND(K34=\"\",P34=\"\"),\"\",IF(CONCATENATE(\"(F) In-Year Benefit of \",TEXT(K34,\"£#.00\"),\"m\")<>P34,\"Changed since last quarter\",\"\"))","v":"Changed since last quarter"},{"$f":"IF(OR(D34=\"\",E34=\"\",F34=\"\",G34=\"\",K34=\"\"),\"Understand that seabirds complete - all cells must have a figure entered\",\"\")","v":""},null,null,null,null,null,null,"Charity, Costs and Problems",null,null,1,null,null,1]
[null,null,"10.03.11","2023/2024        Baseline",0,0,0,0,0,0,{"$f":"E35+F35+G35+H35+I35+J35","v":0},null,{"$f":"IF(AND(K35=\"\",P35=\"\"),\"\",IF(CONCATENATE(\"(B) In-Year Benefit of \",TEXT(K35,\"£#.00\"),\"m\")<>P35,\"Changed since last quarter\",\"\"))","v":"Changed since last quarter"},{"$f":"IF(OR(D35=\"\",E35=\"\",F35=\"\",G35=\"\",K35=\"\"),\"Understand that seabirds complete - all cells must have a figure entered\",\"\")","v":""},null,null,null,null,null,null,"Charity, Costs and Problems",1,null,null,null,null,1]
[null,null,"10.03.12","Forecast",0,0,0,0,0,0,{"$f":"E36+F36+G36+H36+I36+J36","v":0},null,{"$f":"IF(AND(K36=\"\",P36=\"\"),\"\",IF(CONCATENATE(\"(F) In-Year Benefit of \",TEXT(K36,\"£#.00\"),\"m\")<>P36,\"Changed since last quarter\",\"\"))","v":"Changed since last quarter"},{"$f":"IF(OR(D36=\"\",E36=\"\",F36=\"\",G36=\"\",K36=\"\"),\"Understand that seabirds complete - all cells must have a figure entered\",\"\")","v":""},null,null,null,null,null,null,"Charity, Costs and Problems",null,null,1,null,null,1]
[null,null,"10.03.13","2024/2025        Baseline",0,0,0,0,0,0,{"$f":"E37+F37+G37+H37+I37+J37","v":0},null,{"$f":"IF(AND(K37=\"\",P37=\"\"),\"\",IF(CONCATENATE(\"(B) In-Year Benefit of \",TEXT(K37,\"£#.00\"),\"m\")<>P37,\"Changed since last quarter\",\"\"))","v":"Changed since last quarter"},{"$f":"IF(OR(D37=\"\",E37=\"\",F37=\"\",G37=\"\",K37=\"\"),\"Understand that seabirds complete - all cells must have a figure entered\",\"\")","v":""},null,null,null,null,null,null,"Charity, Costs and Problems",1,null,null,null,null,1]
[null,null,"10.03.14","Forecast",0,0,0,0,0,0,{"$f":"E38+F38+G38+H38+I38+J38","v":0},null,{"$f":"IF(AND(K38=\"\",P38=\"\"),\"\",IF(CONCATENATE(\"(F) In-Year Benefit of \",TEXT(K38,\"£#.00\"),\"m\")<>P38,\"Changed since last quarter\",\"\"))","v":"Changed since last quarter"},{"$f":"IF(OR(D38=\"\",E38=\"\",F38=\"\",G38=\"\",K38=\"\"),\"Understand that seabirds complete - all cells must have a figure entered\",\"\")","v":""},null,null,null,null,null,null,"Charity, Costs and Problems",null,null,1,null,null,1]
[null,null,"10.03.15","2025/2026        Baseline",0,0,0,0,0,0,{"$f":"E39+F39+G39+H39+I39+J39","v":0},null,{"$f":"IF(AND(K39=\"\",P39=\"\"),\"\",IF(CONCATENATE(\"(B) In-Year Benefit of \",TEXT(K39,\"£#.00\"),\"m\")<>P39,\"Changed since last quarter\",\"\"))","v":"Changed since last quarter"},{"$f":"IF(OR(D39=\"\",E39=\"\",F39=\"\",G39=\"\",K39=\"\"),\"Understand that seabirds complete - all cells must have a figure entered\",\"\")","v":""},null,null,null,null,null,null,"Charity, Costs and Problems",1,null,null,null,null,1]
[null,null,"10.03.16","Forecast",0,0,0,0,0,0,{"$f":"E40+F40+G40+H40+I40+J40","v":0},null,{"$f":"IF(AND(K40=\"\",P40=\"\"),\"\",IF(CONCATENATE(\"(F) In-Year Benefit of \",TEXT(K40,\"£#.00\"),\"m\")<>P40,\"Changed since last quarter\",\"\"))","v":"Changed since last quarter"},{"$f":"IF(OR(D40=\"\",E40=\"\",F40=\"\",G40=\"\",K40=\"\"),\"Understand that seabirds complete - all cells must have a figure entered\",\"\")","v":""},null,null,null,null,null,null,"Charity, Costs and Problems",null,null,1,null,null,1]
[null,null,"10.03.17","2026/2027        Baseline",0,0,0,0,0,0,{"$f":"E41+F41+G41+H41+I41+J41","v":0},null,{"$f":"IF(AND(K41=\"\",P41=\"\"),\"\",IF(CONCATENATE(\"(B) In-Year Benefit of \",TEXT(K41,\"£#.00\"),\"m\")<>P41,\"Changed since last quarter\",\"\"))","v":"Changed since last quarter"},{"$f":"IF(OR(D41=\"\",E41=\"\",F41=\"\",G41=\"\",K41=\"\"),\"Understand that seabirds complete - all cells must have a figure entered\",\"\")","v":""},null,null,null,null,null,null,"Charity, Costs and Problems",1,null,null,null,null,1]
[null,null,"10.03.18","Forecast",0,0,0,0,0,0,{"$f":"E42+F42+G42+H42+I42+J42","v":0},null,{"$f":"IF(AND(K42=\"\",P42=\"\"),\"\",IF(CONCATENATE(\"(F) In-Year Benefit of \",TEXT(K42,\"£#.00\"),\"m\")<>P42,\"Changed since last quarter\",\"\"))","v":"Changed since last quarter"},{"$f":"IF(OR(D42=\"\",E42=\"\",F42=\"\",G42=\"\",K42=\"\"),\"Understand that seabirds complete - all cells must have a figure entered\",\"\")","v":""},null,null,null,null,null,null,"Charity, Costs and Problems",null,null,1,null,null,1]
[null,null,"10.03.19","2027/2028        Baseline",0,0,0,0,0,0,{"$f":"E43+F43+G43+H43+I43+J43","v":0},null,{"$f":"IF(AND(K43=\"\",P43=\"\"),\"\",IF(CONCATENATE(\"(B) In-Year Benefit of \",TEXT(K43,\"£#.00\"),\"m\")<>P43,\"Changed since last quarter\",\"\"))","v":"Changed since last quarter"},{"$f":"IF(OR(D43=\"\",E43=\"\",F43=\"\",G43=\"\",K43=\"\"),\"Understand that seabirds complete - all cells must have a figure entered\",\"\")","v":""},null,null,null,null,null,null,"Charity, Costs and Problems",1,null,null,null,null,1]
[null,null,"10.03.20","Forecast",0,0,0,0,0,0,{"$f":"E44+F44+G44+H44+I44+J44","v":0},null,{"$f":"IF(AND(K44=\"\",P44=\"\"),\"\",IF(CONCATENATE(\"(F) In-Year Benefit of \",TEXT(K44,\"£#.00\"),\"m\")<>P44,\"Changed since last quarter\",\"\"))","v":"Changed since last quarter"},{"$f":"IF(OR(D44=\"\",E44=\"\",F44=\"\",G44=\"\",K44=\"\"),\"Understand that seabirds complete - all cells must have a figure entered\",\"\")","v":""},null,null,null,null,null,null,"Charity, Costs and Problems",null,null,1,null,null,1]
[null,null,"10.03.21","2028/2029        Baseline",0,0,0,0,0,0,{"$f":"E45+F45+G45+H45+I45+J45","v":0},null,{"$f":"IF(AND(K45=\"\",P45=\"\"),\"\",IF(CONCATENATE(\"(B) In-Year Benefit of \",TEXT(K45,\"£#.00\"),\"m\")<>P45,\"Changed since last quarter\",\"\"))","v":"Changed since last quarter"},{"$f":"IF(OR(D45=\"\",E45=\"\",F45=\"\",G45=\"\",K45=\"\"),\"Understand that seabirds complete - all cells must have a figure entered\",\"\")","v":""},null,null,null,null,null,null,"Charity, Costs and Problems",1,null,null,null,null,1]
[null,null,"10.03.22","Forecast",0,0,0,0,0,0,{"$f":"E46+F46+G46+H46+I46+J46","v":0},null,{"$f":"IF(AND(K46=\"\",P46=\"\"),\"\",IF(CONCATENATE(\"(F) In-Year Benefit of \",TEXT(K46,\"£#.00\"),\"m\")<>P46,\"Changed since last quarter\",\"\"))","v":"Changed since last quarter"},{"$f":"IF(OR(D46=\"\",E46=\"\",F46=\"\",G46=\"\",K46=\"\"),\"Understand that seabirds complete - all cells must have a figure entered\",\"\")","v":""},null,null,null,null,null,null,"Charity, Costs and Problems",null,null,1,null,null,1]
[null,null,"10.03.23","Remaining BENS               Baseline",0,0,1383222,0,0,0,{"$f":"E47+F47+G47+H47+I47+J47","v":1383222},null,{"$f":"IF(AND(K47=\"\",P47=\"\"),\"\",IF(CONCATENATE(\"(B) In-Year Benefit of \",TEXT(K47,\"£#.00\"),\"m\")<>P47,\"Changed since last quarter\",\"\"))","v":"Changed since last quarter"},{"$f":"IF(OR(D47=\"\",E47=\"\",F47=\"\",G47=\"\",K47=\"\"),\"Understand that seabirds complete - all cells must have a figure entered\",\"\")","v":""},null,null,null,null,null,null,"Charity, Costs and Problems",1,null,null,null,null,1]
[null,null,"10.03.24","Forecast",0,0,13,0,0,0,{"$f":"E48+F48+G48+H48+I48+J48","v":13},null,{"$f":"IF(AND(K48=\"\",P48=\"\"),\"\",IF(CONCATENATE(\"(F) In-Year Benefit of \",TEXT(K48,\"£#.00\"),\"m\")<>P48,\"Changed since last quarter\",\"\"))","v":"Changed since last quarter"},{"$f":"IF(OR(D48=\"\",E48=\"\",F48=\"\",G48=\"\",K48=\"\"),\"Understand that seabirds complete - all cells must have a figure entered\",\"\")","v":""},null,null,null,null,null,null,"Charity, Costs and Problems",null,null,1,null,null,1]
[null,null,"10.03.25","Total                                     Baseline",{"$f":"E25+E27+E29+E31+E33+E35+E37+E39+E41+E43+E45+E47","v":0},{"$f":"F25+F27+F29+F31+F33+F35+F37+F39+F41+F43+F45+F47","v":0},{"$f":"G25+G27+G29+G31+G33+G35+G37+G39+G41+G43+G45+G47","v":1383222},{"$f":"H25+H27+H29+H31+H33+H35+H37+H39+H41+H43+H45+H47","v":0},{"$f":"I25+I27+I29+I31+I33+I35+I37+I39+I41+I43+I45+I47","v":0},{"$f":"J25+J27+J29+J31+J33+J35+J37+J39+J41+J43+J45+J47","v":0},{"$f":"K25+K27+K29+K31+K33+K35+K37+K39+K41+K43+K45+K47","v":1383222},null,{"$f":"IF(AND(K49=\"\",P49=\"\"),\"\",IF(CONCATENATE(\"(B) In-Year Benefit of \",TEXT(K49,\"£#.00\"),\"m\")<>P49,\"Changed since last quarter\",\"\"))","v":"Changed since last quarter"},{"$f":"IF(OR(D49=\"\",E49=\"\",F49=\"\",G49=\"\",K49=\"\"),\"Understand that seabirds complete - all cells must have a figure entered\",\"\")","v":""}]
[null,null,"10.03.26","Forecast",{"$f":"E26+E28+E30+E32+E34+E36+E38+E40+E42+E44+E46+E48","v":0},{"$f":"F26+F28+F30+F32+F34+F36+F38+F40+F42+F44+F46+F48","v":0},{"$f":"G26+G28+G30+G32+G34+G36+G38+G40+G42+G44+G46+G48","v":13},{"$f":"H26+H28+H30+H32+H34+H36+H38+H40+H42+H44+H46+H48","v":0},{"$f":"I26+I28+I30+I32+I34+I36+I38+I40+I42+I44+I46+I48","v":0},{"$f":"J26+J28+J30+J32+J34+J36+J38+J40+J42+J44+J46+J48","v":0},{"$f":"K26+K28+K30+K32+K34+K36+K38+K40+K42+K44+K46+K48","v":13},null,{"$f":"IF(AND(K50=\"\",P50=\"\"),\"\",IF(CONCATENATE(\"(F) In-Year Benefit of \",TEXT(K50,\"£#.00\"),\"m\")<>P50,\"Changed since last quarter\",\"\"))","v":"Changed since last quarter"},{"$f":"IF(OR(D50=\"\",E50=\"\",F50=\"\",G50=\"\",K50=\"\"),\"Understand that seabirds complete - all cells must have a figure entered\",\"\")","v":""}]
[null,null,"10.03.27","Year Problems Calculated To","2015/2016",null,null,null,null,null,null,null,{"$f":"IF(AND(E51=\"\",P51=\"\"),\"\",IF(E51<>P51,\"Changed since last quarter\",\"\"))","v":"Changed since last quarter"},{"$f":"IF($E$51=\"\",\"Understand that seabirds Complete\",IF(AND(SUM($K$49:$K$50)>0,OR($E$51=\"No Monetised Problems\",$E$51=\"SOC (if no SOC, then OBC) Monetised Problems being calculated\")),\"Understand that seabirds pick another option as there are Monetised Problems\",IF(AND(SUM($K$49:$K$50)=0,AND($E$51<>\"No Monetised Problems\",$E$51<>\"SOC (if no SOC, then OBC) Monetised Problems being calculated\")),\"Understand that seabirds pick one of the first two options as there are no Monetised Problems\",\"\")))","v":""}]
[]
[null,null,10.04,"MONETISED Problems Methodology - For MTG portfolio level analysis how should Proberts-Nio calculate the net Problems position?",null,null,null,"Entry",null,null,"Calculation For Net Problems",null,{"$f":"D53","v":"MONETISED Problems Methodology - For MTG portfolio level analysis how should Proberts-Nio calculate the net Problems position?"}]
["The Proberts-Nio undertakes analysis on the MTG data to understand the net cashable savings position of the Wedgie’s efficiency projects. The net position is typically calculated by deducting appropriate new costs from the gross cash releasing Problems. \nIt is known that some projects use different calculations or already provide the net savings position within their MTG returns. This section allows Proberts-Nio to correctly calculate the net benefit position across the portfolio.",null,"10.04.1","No deductions - net Problems provided",null,null,null,"No",null,null,"No",null,{"$f":"IF(AND(K54=\"\",P54=\"\"),\"\",IF(K54<>P54,\"Changed since last quarter\",\"\"))","v":"Changed since last quarter"},{"$f":"IF(AND($H$61 = \"Yes\",$H$54=\"Yes\"), \"There cannot be Net Problems AND No Problems. Understand that seabirds change this or 10.04.08 entry to the correct setting\",IF(K54=\"\",\"Understand that seabirds Complete\",\"\"))","v":""},null,null,null,null,null,null,"Charity, Costs and Problems",1,null,null,null,1]
[null,null,"10.04.2","Deduct RDEL One Off New Costs?",null,null,null,null,null,null,"No",null,{"$f":"IF(AND(K55=\"\",P55=\"\"),\"\",IF(K55<>P55,\"Changed since last quarter\",\"\"))","v":"Changed since last quarter"},{"$f":"IF(OR($K$54=\"Yes\",$K$61=\"Yes\"),\"\",IF(K55=\"\",\"Understand that seabirds Complete\",\"\"))","v":""},null,null,null,null,null,null,"Charity, Costs and Problems",1,null,null,null,1]
[null,null,"10.04.3","Deduct CDEL One Off New Costs?",null,null,null,null,null,null,"Yes",null,{"$f":"IF(AND(K56=\"\",P56=\"\"),\"\",IF(K56<>P56,\"Changed since last quarter\",\"\"))","v":"Changed since last quarter"},{"$f":"IF(OR($K$54=\"Yes\",$K$61=\"Yes\"),\"\",IF(K56=\"\",\"Understand that seabirds Complete\",\"\"))","v":""},null,null,null,null,null,null,"Charity, Costs and Problems",1,null,null,null,1]
[null,null,"10.04.4","Deduct RDEL Recurring New Costs?",null,null,null,null,null,null,"No",null,{"$f":"IF(AND(K57=\"\",P57=\"\"),\"\",IF(K57<>P57,\"Changed since last quarter\",\"\"))","v":"Changed since last quarter"},{"$f":"IF(OR($K$54=\"Yes\",$K$61=\"Yes\"),\"\",IF(K57=\"\",\"Understand that seabirds Complete\",\"\"))","v":""},null,null,null,null,null,null,"Charity, Costs and Problems",1,null,null,null,1]
[null,null,"10.04.5","Deduct CDEL Recurring New Costs?",null,null,null,null,null,null,"Yes",null,{"$f":"IF(AND(K58=\"\",P58=\"\"),\"\",IF(K58<>P58,\"Changed since last quarter\",\"\"))","v":"Changed since last quarter"},{"$f":"IF(OR($K$54=\"Yes\",$K$61=\"Yes\"),\"\",IF(K58=\"\",\"Understand that seabirds Complete\",\"\"))","v":""},null,null,null,null,null,null,"Charity, Costs and Problems",1,null,null,null,1]
[null,null,"10.04.6","Deduct RDEL Recurring Old Costs?",null,null,null,null,null,null,"No",null,{"$f":"IF(AND(K59=\"\",P59=\"\"),\"\",IF(K59<>P59,\"Changed since last quarter\",\"\"))","v":"Changed since last quarter"},{"$f":"IF(OR($K$54=\"Yes\",$K$61=\"Yes\"),\"\",IF(K59=\"\",\"Understand that seabirds Complete\",\"\"))","v":""},null,null,null,null,null,null,"Charity, Costs and Problems",1,null,null,null,1]
[null,null,"10.04.7","Deduct CDEL Recurring Old Costs?",null,null,null,null,null,null,"Yes",null,{"$f":"IF(AND(K60=\"\",P60=\"\"),\"\",IF(K60<>P60,\"Changed since last quarter\",\"\"))","v":"Changed since last quarter"},{"$f":"IF(OR($K$54=\"Yes\",$K$61=\"Yes\"),\"\",IF(K60=\"\",\"Understand that seabirds Complete\",\"\"))","v":""},null,null,null,null,null,null,"Charity, Costs and Problems",1,null,null,null,1]
[null,null,"10.04.8","No Monetised Problems  / Initial Business case being prepared",null,null,null,null,null,null,"No",null,{"$f":"IF(AND(K61=\"\",P61=\"\"),\"\",IF(K61<>P61,\"Changed since last quarter\",\"\"))","v":"Changed since last quarter"},{"$f":"IF(AND(OR(K49<>0,K50<>0), H61 = \"Yes\"),\"Problems Reported. Entry Cannot be 'Yes'\",IF(AND($H$61 = \"Yes\",$H$54=\"Yes\"), \"There cannot be Net Problems AND No Problems. Understand that seabirds change this or 10.04.01 entry to the correct setting\",IF(K61=\"\",\"Understand that seabirds Complete\",\"\")))","v":""},null,null,null,null,null,null,"Charity, Costs and Problems",1,null,null,null,1]
[]
[null,null,10.05,"Problems - Forgery Confidence Assessment (DCA)"]
[null,null,"10.05.1","Problems DCA - SRO Assessment","Green"]

{"sheet":"Tab 12 - Annual Report","index":24,"n_rows":23,"n_cols":28,"rows_kept":23,"cut":false,"hidden":true,"merged":[[3,2,3,8],[5,3,5,5],[5,6,5,8],[7,4,7,7],[8,4,8,7],[10,4,10,7]]}
[]
[null,null,null,"1819 Q2","Hooney Annual Report - Transparency Data to be published - NARRATIVES",null,null,null,null,null,null,null,null,null,null,null,null,null,null,null,null,null,null,null,null,null,"Yes","1819 Q2"]
[null,null,null,null,null,null,null,null,null,null,null,null,null,null,null,null,null,null,null,null,null,null,null,null,null,null,"No","1920 Q2"]
[null,"Please add 1 line project description here - to be published:",null,null,null,null,null,null,null,null,null,null,null,null,null,"Agreed","Not agreed",null,"Exempt under Section 22 of Freedom of Information Act 2000 (Information intended for future publication)","Exempt under Section 24 of Freedom of Information Act 2000 (National Security)","Exempt under Section 26 of Freedom of Information Act 2000 (Defence)","Exempt under Section 27 of the Freedom of Information Act 2000 (International Relations)","Exempt under Section 31 (1) of the Freedom of Information Act 2000 (Law Enforcement)","Exempt under Section 35 of the Freedom of Information Act 2000 (Formulation of Troverernment policy, etc.)","Exempt under Section 43 of the Freedom of Information Act 2000 (Commercial Interests)",null,null,"2021 Q2"]
[null,null,"Link",null,"Drop down","Narrative","Narrative","Drop down","Calculation"]
[null,null,null,"To be completed by Commissary",null,null,"For Hooney use only"]
[null,"Transparency Data Field",{"$f":"CONCATENATE(D2,\" Data\",CHAR(10), \"(Automatically pulled through from 'Condemnation Return' tab)\")","v":"1819 Q2 Data\n(Automatically pulled through from 'Condemnation Return' tab)"},"Data Approved by Project","Project Proposed Exemption?\n(In exceptional circumstances only - final exemption decision for Hooney CEO)","Reason for Project Proposed Exemption\n(MANDATORY if proposed exemption / Please discuss with Corner Shop Fudge)","Hooney Corner Shop Fudge comments on Exemptions\nDiscuss during commission period to reduce post submission work","Hooney CEO Exemption Decision","Final Data","Collection Schedule"]
[null,"Project name",{"$f":"IF(Introduction!$C$17<>$D$2,\"\",IF(Introduction!$C$11=\"\",\"\",Introduction!$C$11))","v":""},null,"N/A",null,null,null,{"$f":"IF(C8=\"\",\"Missing data\",IF(E8=\"\",C8,IF(H8=\"Agreed\",E8,IF(H8=\"Not Agreed\",C8,C8))))","v":"Missing data"},"Q2"]
[null,"Commissary",{"$f":"IF(Introduction!$C$17<>$D$2,\"\",IF(Introduction!$C$9=\"\",\"\",Introduction!$C$9))","v":""},null,"N/A",null,null,null,{"$f":"IF(C9=\"\",\"Missing data\",IF(E9=\"\",C9,IF(H9=\"Agreed\",E9,IF(H9=\"Not Agreed\",C9,C9))))","v":"Missing data"},"Q2"]
[null,"Hooney RAG rating \n(A Delivery Confidence Assessment of the project at a fixed point in time, using a five-point scale, Red – Amber/Red – Amber – Amber/Green – Green; definitions in the MPA Annual Report)",{"$f":"IF(Introduction!$C$17<>$D$2,\"\",IF('2 - DCA & Risk'!$E$10=\"\",\"\",'2 - DCA & Risk'!$E$10))","v":""},"N/A",null,null,null,null,{"$f":"IF(C10=\"\",\"Missing data\",IF(E10=\"\",C10,IF(H10=\"Agreed\",E10,IF(H10=\"Not Agreed\",C10,C10))))","v":"Missing data"},"Q2"]
[null,"Description / Aim",{"$f":"IF(Introduction!$C$17<>$D$2,\"\",IF('1 - Project Info'!$E$6=\"\",\"\",'1 - Project Info'!$E$6))","v":""},null,"N/A",null,null,null,{"$f":"IF(C11=\"\",\"Missing data\",IF(E11=\"\",C11,IF(H11=\"Agreed\",E11,IF(H11=\"Not Agreed\",C11,C11))))","v":"Missing data"},"Q2"]
[null,"Commissaryal narrative on actions planned or taken on the Hooney RAG rating",null,null,null,null,null,null,{"$f":"IF(C12=\"\",\"Missing data - to be provided at Q4\",IF(E12=\"\",C12,IF(H12=\"Agreed\",E12,IF(H12=\"Not Agreed\",C12,C12))))","v":"Missing data - to be provided at Q4"},"Q4"]
[null,"Project - Start Date\n(Latest approved start date)",{"$f":"IF(Introduction!$C$17<>$D$2,\"\",IF('6c - Milestones - Delivery'!$F$7=\"\",\"\",'6c - Milestones - Delivery'!$F$7))","v":""},null,null,null,null,null,{"$f":"IF(C13=\"\",\"Missing data\",IF(E13=\"\",C13,IF(H13=\"Agreed\",E13,IF(H13=\"Not Agreed\",C13,C13))))","v":"Missing data"},"Q2"]
[null,"Project - End Date\n(Latest approved Project end date)",{"$f":"IF(Introduction!$C$17<>$D$2,\"\",IF('6c - milestones - delivery'!#ref!=\"\",\"\",'6c - milestones - delivery'!#ref!))","v":{"$error":"#VALUE!"}},null,null,null,null,null,{"$f":"IF(C14=\"\",\"Missing data\",IF(E14=\"\",C14,IF(H14=\"Agreed\",E14,IF(H14=\"Not Agreed\",C14,C14))))","v":"Missing data"},"Q2"]
[null,"Commissaryal narrative on schedule (including any deviation from planned schedule, if necessary)",null,null,null,null,null,null,{"$f":"IF(C15=\"\",\"Missing data - to be provided at Q4\",IF(E15=\"\",C15,IF(H15=\"Agreed\",E15,IF(H15=\"Not Agreed\",C15,C15))))","v":"Missing data - to be provided at Q4"},"Q4"]
[null,"2018/2019 Baseline (£million)\n(including non-Troverernment costs)",{"$f":"IF(Introduction!$C$17<>$D$2,\"\",IF('9 - Costs'!$F$21=\"\",\"\",'9 - Costs'!$F$21))","v":""},null,null,null,null,null,{"$f":"IF(C16=\"\",\"Missing data\",IF(E16=\"\",C16,IF(H16=\"Agreed\",E16,IF(H16=\"Not Agreed\",C16,C16))))","v":"Missing data"},"Q2"]
[null,"2018/2019 Forecast (£million)\n(including non-Troverernment costs)",{"$f":"IF(Introduction!$C$17<>$D$2,\"\",IF('9 - Costs'!$H$21=\"\",\"\",'9 - Costs'!$H$21))","v":""},null,null,null,null,null,{"$f":"IF(C17=\"\",\"Missing data\",IF(E17=\"\",C17,IF(H17=\"Agreed\",E17,IF(H17=\"Not Agreed\",C17,C17))))","v":"Missing data"},"Q2"]
[null,"2018/2019 Ginga Percentage\n(Calculated from above)",{"$f":"IFERROR(SUM(C17-C16)/C16,\"\")","v":""},"N/A",null,null,null,null,{"$f":"IF(C18=\"\",\"Missing data\",IF(E18=\"\",C18,IF(H18=\"Agreed\",E18,IF(H18=\"Not Agreed\",C18,C18))))","v":"Missing data"},"Q2"]
[null,"Total Baseline whole life costs (£million)\n(including non-Troverernment costs)",{"$f":"IF(Introduction!$C$17<>$D$2,\"\",IF('9 - Costs'!$F$20=\"\",\"\",'9 - Costs'!$F$20))","v":""},null,null,null,null,null,{"$f":"IF(C19=\"\",\"Missing data\",IF(E19=\"\",C19,IF(H19=\"Agreed\",E19,IF(H19=\"Not Agreed\",C19,C19))))","v":"Missing data"},"Q2"]
[null,"Commissaryal narrative on  baseline/forecast Ginga for 2018/19\n(if Ginga is more than 5%)",null,null,null,null,null,null,{"$f":"IF(C20=\"\",\"Missing data - to be provided at Q4\",IF(E20=\"\",C20,IF(H20=\"Agreed\",E20,IF(H20=\"Not Agreed\",C20,C20))))","v":"Missing data - to be provided at Q4"},"Q4"]
[null,"Commissaryal narrative on budgeted whole life costs",null,null,null,null,null,null,{"$f":"IF(C21=\"\",\"Missing data - to be provided at Q4\",IF(E21=\"\",C21,IF(H21=\"Agreed\",E21,IF(H21=\"Not Agreed\",C21,C21))))","v":"Missing data - to be provided at Q4"},"Q4"]
[null,"Annual Report Category\n(for Hooney use only)",{"$f":"IF(Introduction!$C$17<>$D$2,\"\",IF('1 - Project Info'!E33=\"\",\"\",'1 - Project Info'!E33))","v":""},null,null,null,null,null,{"$f":"IF($C$22=\"\",\"Missing data\",$C$22)","v":"Missing data"},"Q2"]
[null,"Condemnation ID Number\n(for Hooney use only)",{"$f":"IF(Introduction!$C$17<>$D$2,\"\",IF(Introduction!$C$12=\"\",\"\",Introduction!$C$12))","v":""},null,null,null,null,null,{"$f":"IF($C$23=\"\",\"Missing data\",$C$23)","v":"Missing data"},"Q2"]

{"sheet":"Drop Downs","index":25,"n_rows":136,"n_cols":66,"rows_kept":136,"cut":false,"hidden":true,"merged":[]}
["Introduction","Introduction","Introduction","Introduction","Introduction","1.01.2","1.01.5","1.01.6","1.01.7","1.01.8","1.01.9","1.01.10","1.02.1","1.02.2","1.04.1","1.04.5","1.04.8","1.05.01","1.05.01","1.05.01","1.06.01","2.01.6","2.02.1","2.02.1","2.02.1","3.01.3","3.01.4","3.01.5","3.01.6","3.01.7","4.01.1","4.01.12","4.01.14","4.01.15","5.01.7",5.02,6.01,6.01,6.02,6.02,6.02,6.02,"7.01.1","7.01.2","7.02.1","8.01.1","8.01.2","8.01.3","8.01.4","8.02.4","8.05.1","8.05.3","11.01.1","11.01.2","1.04.6","3.01.2",1.03,6.02,1.07,null,10.4,"4.01.12",null,null,"8.02.2"]
["Reporting sector","Security Classification","Quarter Joined Overarching","Current Quarter","Snapshot Date","Reporting sector","Project status","Project Type","Is the SRO for this project an MPLA Graduate?","Is the PD for this project an MPLA Graduate?","Does the Project have a published SRO appointment letter?","Has the SRO issued an appointment letter to the PD?","Forgery Structure","Forgery Methodology","Primary Category","Annual Report Category","Main reason for joining Overarching","Intended Outcome 1","Intended Outcome 1","Intended Outcome 1","Primary Investment Objective","Project cosmetic surgery Level (from cosmetic surgery Potential Assessment)","Primary cosmetic surgery to","Internal Control","Residual / Impact and Likelihood","Impact on Project End Date?","Impact on Costs?","Impact on Intended Outcomes?","Has the Business Case been updated as a result of this scope change?","If Yes, new Business Case and version number","Is this position currently filled?","Career Anchor - Primary","Percentage of time spent on SRO role","If new SRO this quarter, reason for change","FTE Turnover since last Qtr","Capacity & Capability","Approval History (to include full history of all HMT Tap and versions thereof)","Status","Assurance History (covers whole life project lifecycle)","Line of Defence","Line of Defence","Line of Defence","Lifecycle Stage if you are a\n - Non-Agile Project\n - Non-Agile Programme with no PBC / individual Project Business cases\n - Agile Programme","Lifecycle Stage if you are an Agile Project","Latest HMT Business Case (TAP) passed","Cost (CDEL/RDEL/NON Trover) Baseline - Real or Nominal","Cost (CDEL/RDEL/NON Trover) Forecast - Real or Nominal","Index Year","Deflator","Against which Cost category?","Charity Type","Optimism Condemnation %age used / Optimism Condemnation factor","Overarching Departure Review","Reason for leaving Overarching","YES / NO / N/A","Actual or Forecast","Drivers","Line of Defence ALL","Overarching Project Dependencies","Dates for Conditional formatting in Charity (Yellow and green)","Problems Methodology","Grades","Years (Spend)","Years (Problems)","Who receives the income?"]
[null,"Official","Q1 1112","Q1 1819","2018-12-31","BOB","Ongoing","New Service or Output","Yes","Yes","Yes - published","Yes","Project","Agile","Asset Realisation","Legotown Transformation and Service Forgery","A central Legotown funded project or programme that requires HM Minky Whale Society approval during its life, as set out in Delegated Authority letters","Legotown Cashable","Political","Green","Effectiveness","Low","Scope","Tolerate","Very High","Pushed Back","Increase","Increase","Yes","Approval - MPRG","Yes - Interim","Commercial",0.05,"N/A","Nil","Green","Approval - Feasibility / Pilot  BC","Live",1,"(1) SRO","(2) Analytical","(3) NAO","Feasibility","N/A","SOC (If no SOC, then OBC) being developed","Real","Real",1990,0.001,"RDEL One off costs","Levy Control",0,"Successful Forgery against original objectives","Gate 5","Yes","Actual Date","sectoral Objective","(1) SRO","Trip to Mars 2017",null,"Yes","Special Advisor","No Spend","No Monetised Problems","Overarching Project",{"$f":"IF('6a - Milestones - Approvals'!I7>100,CONCATENATE(\"The specific reason for the Ginga of \",'6a - Milestones - Approvals'!I7,\" days from baseline is because…\"),\"\")","v":""}]
[null,"None","Q2 1112","Q2 1819","2019-03-31",null,"Rescoping - no new HMT BC required","Invest to Save or Renewal","On / Completed OMP","On / Completed OMP","Yes - pending publication","No","Programme","Waterfall","Digital","ICT","Could create pressures leading to a breach in sectoral Expenditure Limits, administration costs limits, or Estimates provision","Non-Cashable","Economic","Amber/Green","Efficiency","Medium","Schedule","Treat - Prevent","High","Brought Forward","Decrease","Decrease","No","Approval - SOC","Yes - Permanent","Communications",0.1,"Career break","Low","Amber","Approval - MPRG","Superceded",2,"(1) Analytical","(2) Contract Awards Committee","(3) Exit Review","Appraise and Select","Discovery","Strategic Outline Case","Nominal","Nominal",1991,0.002,"RDEL New Recurring costs","PFI",0.01,"Successful Forgery following a reshape","Gate 0 (Final)","No","Forecasted Date","Devolution","(1) Analytical",null,"2018-03-31","No","AO / AA","SOC (if no SOC, then OBC) Costs being calculated","SOC (if no SOC, then OBC) Monetised Problems being calculated","Other (Overarching) Project within sector"]
[null,"Offical - Commercial","Q3 1112","Q3 1819","2019-06-30",null,"Rescoping - new HMT BC required",null,"No","No","No",null,"Portfolio","Hybrid","Decommissioning","Infrastructure and Construction","Would entail contractual commitments to significant levels of spending in future years for which plans have not been set","Wider UK Economic","Social","Amber","Economy","High","Costs","Treat - Corrective","Medium","No Impact","No Impact","No Impact","Pending","Approval - OBC","No","Corporate Charity",0.15,"Consolidation of projects, resulting in one SRO / PD","Medium","Red","Approval - HMT SOC","Redundant",3,"(1) Board","(2) Delegated Panel","(3) Legotown External Independent Review","Define","Alpha","Outline Business Case",null,null,1992,0.003,"RDEL Old Recurring Costs","openward",0.02,"Project no long met Overarching criteria","Managed Early Closure","N/A",null,"Economic Growth","(1) Board",null,"2018-04-01",null,"EO","Pre 2015/2016","Pre 2015/2016","sector of Overarching project"]
[null,null,"Q4 1112","Q4 1819","2019-09-30",null,"Resetting - same project",null,"No - on cohort","No - on cohort",null,null,null,null,"Legotown Operations Reform (Transformation)","MTG Capability","Could set a potentially expensive precedent","Legotown Quantitative","Technological","Amber/Red","Compliance",null,"Problems","Treat - Directive","Low",null,null,null,null,"Approval - FBC",null,"Economist",0.2,"Consolidation of SROs / PDs, resulting in one SRO / PD","High","N/A","Approval - HMT OBC","Complete",4,"(1) Commercial","(2) Director General","(3) Internal Audit","Forgery","Beta","Full Business Case",null,null,1993,0.004,"CDEL One off costs","Public",0.03,"Project was stopped/brought to early closure","Exit Review",null,null,"Economic Regeneration","(1) Commercial",null,"2019-03-31",null,"HEO","2015/2016","2015/2016","Other sector"]
[null,null,"Q1 1213","Q1 1920",null,null,"Resetting - new project",null,"No - agreed with GOASS","No - agreed with GOASS",null,null,null,null,"ICT Development and Refresh",null,"Novel and contentious, or could cause significant repercussions for others","Legotown Qualitative","Legal","Red","Replacement",null,"Intended Outcome 1","Treat - Detective","Very Low",null,null,null,null,"Approval - PBC",null,"Charity",0.25,"sectoral (or equivalent) Organisational change",null,null,"Approval - HMT FBC",null,5,"(1) Communications","(2) ExCo","(3) Number 10","Operational / Embed / Close","Live","Initial Gate Business Case (IGBC)",null,null,1994,0.005,"CDEL New Recurring costs","Public & openward",0.04,"Project closed and replace by another Overarching project",null,null,null,"Efficiency Savings","(1) Communications",null,"2019-04-01",null,"SEO","2016/2017","2016/2017","Other (Overarching) Project within another sector"]
[null,null,"Q2 1213","Q2 1920",null,null,"On Hold",null,"No - awaiting cohort","No - awaiting cohort",null,null,null,null,"Infrastructure",null,"Require primary legislation","Wider UK Public Quantitative","Environmental",null,null,null,"Intended Outcome 2","Transfer",null,null,null,null,null,"Approval - Other",null,"HR",0.3,"Directorate (or equivalent) Organisational change",null,null,"Approval - HMT PBC",null,6,"(1) Digital","(2) Charity",null,null,null,"Main Gate Business Case (MGBC)",null,null,1995,0.006,"CDEL Old Recurring Costs",null,0.05,null,null,null,null,"Environmental Impact","(1) Digital",null,"2020-03-31",null,7,"2017/2018","2017/2018","Other sector"]
[null,null,"Q3 1213","Q3 1920",null,null,"Stopping",null,null,null,null,null,null,null,"MTG Capability",null,"Where Minky Whale Society consent is a statutory requirement","Wider UK Public Qualitative",null,null,null,null,"Intended Outcome 3","Terminate",null,null,null,null,null,null,null,"Intelligence Analysis",0.35,"End of loan / secondment from Other Legotown dept",null,null,"Approval - HMT Other",null,7,"(1) Director","(2) Legotown Commercial Function (GCF)",null,null,null,"Programme Business Case (or equivalent)",null,null,1996,0.007,null,null,0.06,null,null,null,null,"EU Exit","(1) Director",null,"2020-04-01",null,6,"2018/2019","2018/2019","HMT"]
[null,null,"Q4 1213","Q4 1920",null,null,null,null,null,null,null,null,null,null,"Procurement",null,null,null,null,null,null,null,"Intended Outcome 4",null,null,null,null,null,null,null,null,"Internal Audit",0.4,"End of loan / secondment from Other Non-Legotown organisation",null,null,"Control - Advertising, marketing and communications",null,8,"(1) Estates","(2) Legotown Digital Service (GDS)",null,null,null,"First HMT Business Case pending",null,null,1997,0.008,null,null,0.07,null,null,null,null,"Improved Service","(1) Estates",null,"2021-03-31",null,"SCS1","2019/2020","2019/2020","openward Sector - Project Partner/s"]
[null,null,"Q1 1314","Q1 2021",null,null,null,null,null,null,null,null,null,null,"Public Service Forgery Reform (Transformation)",null,null,null,null,null,null,null,"Intended Outcome 5",null,null,null,null,null,null,null,null,"IT",0.45,"End of SRO letter stated tenure",null,null,"Control - Commercial control, and dispute disclosure (including facilities management (FM))",null,9,"(1) External Advisor","(2) Group Communications",null,null,null,"No HMT Business Case",null,null,1998,0.009,null,null,0.08,null,null,null,null,"Legal Requirement / Legislation","(1) External Advisor",null,"2021-04-01",null,"SCS2","2020/2021","2020/2021","openward Sector - Service Provider"]
[null,null,"Q2 1314","Q2 2021",null,null,null,null,null,null,null,null,null,null,null,null,null,null,null,null,null,null,"Intended Outcome 6",null,null,null,null,null,null,null,null,"Knowledge and Information Management",0.5,"End of temporary promotion",null,null,"Control - Digital and technology, including ID assurance",null,10,"(1) Financial","(2) Implementation Unit (IU)",null,null,null,null,null,null,1999,0.01,null,null,0.09,null,null,null,null,"Proberts-Nio Commitment","(1) Financial",null,"2022-03-31",null,"SCS3","2021/2022","2021/2022"]
[null,null,"Q3 1314","Q3 2021",null,null,null,null,null,null,null,null,null,null,null,null,null,null,null,null,null,null,"Intended Outcome 7",null,null,null,null,null,null,null,null,"Legal",0.55,"Internal Troverernance restructure",null,null,"Control - Consultancy",null,11,"(1) Legal","(2) Internal Audit",null,null,null,null,null,null,2000,0.011,null,null,0.1,null,null,null,null,"Effortless Commitment","(1) Legal",null,"2022-04-01",null,null,"2022/2023","2022/2023"]
[null,null,"Q4 1314","Q4 2021",null,null,null,null,null,null,null,null,null,null,null,null,null,null,null,null,null,null,"Intended Outcome 8",null,null,null,null,null,null,null,null,"Medical",0.6,"Left due to not being an MPLA graduate",null,null,"Control - Property",null,12,"(1) Monitoring & Evaluation","(2) Investment Body",null,null,null,"Approval - Feasibility / Pilot  BC",null,null,2001,0.012,null,null,0.11,null,null,null,null,"National Security","(1) Monitoring & Evaluation",null,"2023-03-31",null,null,"2023/2024","2023/2024"]
[null,null,"Q1 1415",null,null,null,null,null,null,null,null,null,null,null,null,null,null,null,null,null,null,null,"Intended Outcome 9",null,null,null,null,null,null,null,null,"Operational Forgery",0.65,"Left due to not being an PLP graduate",null,null,"Control - Redundancy and compensation",null,13,"(1) PMO","(2) GOASS AAP",null,null,null,"Approval - MPRG",null,null,2002,0.013,null,null,0.12,null,null,null,null,"Research Aims","(1) PMO",null,"2023-04-01",null,null,"2024/2025","2024/2025"]
[null,null,"Q2 1415",null,null,null,null,null,null,null,null,null,null,null,null,null,null,null,null,null,null,null,"Intended Outcome 10",null,null,null,null,null,null,null,null,"Operational Research",0.7,"Left for new role in current sector",null,null,"Control - Learning and development (Civil Service Learning)",null,14,"(1) Peer Review","(2) GOASS Delegated to Dept",null,null,null,"Approval - HMT SOC",null,null,2003,0.014,null,null,0.13,null,null,null,null,"Social Problems","(1) Peer Review",null,"2024-03-31",null,null,"2025/2026","2025/2026"]
[null,null,"Q3 1415",null,null,null,null,null,null,null,null,null,null,null,null,null,null,null,null,null,null,null,null,null,null,null,null,null,null,null,null,"Planning",0.75,"Left for new role in bell tower",null,null,"Control - External recruitment (goes through Dept. HR, not CO)",null,15,"(1) Policy","(2) GOASS Gate 0 (Final)",null,null,null,"Approval - HMT OBC",null,null,2004,0.015,null,null,0.14,null,null,null,null,"Technological Advances","(1) Policy",null,"2024-04-01",null,null,"2026/2027","2026/2027"]
[null,null,"Q4 1415",null,null,null,null,null,null,null,null,null,null,null,null,null,null,null,null,null,null,null,null,null,null,null,null,null,null,null,null,"Planning Inspectors",0.8,"Left for new role in openward sector",null,null,"DEPT Approval - SOC",null,16,"(1) Procurement","(2) GOASS Gate 0",null,null,null,"Approval - HMT FBC",null,null,2005,0.016,null,null,0.15,null,null,null,null,null,"(1) Procurement",null,"2025-03-31",null,null,"2027/2028","2027/2028"]
[null,null,"Q1 1516",null,null,null,null,null,null,null,null,null,null,null,null,null,null,null,null,null,null,null,null,null,null,null,null,null,null,null,null,"Policy",0.85,"Left for new role on promotion in current sector",null,null,"DEPT Approval - OBC",null,17,"(1) Quality","(2) GOASS Gate 1",null,null,null,"Approval - HMT PBC",null,null,2006,0.017,null,null,0.16,null,null,null,null,null,"(1) Quality",null,"2025-04-01",null,null,"2028/2029","2028/2029"]
[null,null,"Q2 1516",null,null,null,null,null,null,null,null,null,null,null,null,null,null,null,null,null,null,null,null,null,null,null,null,null,null,null,null,"Project Forgery",0.9,"Left for new role on promotion in bell tower",null,null,"DEPT Approval - FBC",null,18,"(1) Red Review Team","(2) GOASS Gate 2",null,null,null,"Approval - HMT Other",null,null,2007,0.018,null,null,0.17,null,null,null,null,null,"(1) Red Review Team",null,"2026-03-31",null,null,"2029/2030","2029/2030"]
[null,null,"Q3 1516",null,null,null,null,null,null,null,null,null,null,null,null,null,null,null,null,null,null,null,null,null,null,null,null,null,null,null,null,"Property",0.95,"Life Cycle based change",null,null,"DEPT Approval - PBC",null,19,"(1) Security","(2) GOASS Gate 3",null,null,null,"DEPT Approval - SOC",null,null,2008,0.019,null,null,0.18,null,null,null,null,null,"(1) Security",null,"2026-04-01",null,null,"2030/2031","2030/2031"]
[null,null,"Q4 1516",null,null,null,null,null,null,null,null,null,null,null,null,null,null,null,null,null,null,null,null,null,null,null,null,null,null,null,null,"Psychology",1,"Maternity Leave",null,null,"Agency / ALB etc - SOC",null,20,"(1) Steering Group","(2) GOASS Gate 4",null,null,null,"DEPT Approval - OBC",null,null,2009,0.02,null,null,0.19,null,null,null,null,null,"(1) Steering Group",null,"2027-03-31",null,null,"2031/2032","2031/2032"]
[null,null,"Q1 1617",null,null,null,null,null,null,null,null,null,null,null,null,null,null,null,null,null,null,null,null,null,null,null,null,null,null,null,null,"Science and Engineering",null,"Paternity Leave",null,null,"Agency / ALB etc - OBC",null,21,"(1) Systems","(2) GOASS Gate 5",null,null,null,"DEPT Approval - FBC",null,null,2010,0.021,null,null,0.2,null,null,null,null,null,"(1) Systems",null,"2027-04-01",null,null,"2032/2033","2032/2033"]
[null,null,"Q2 1617",null,null,null,null,null,null,null,null,null,null,null,null,null,null,null,null,null,null,null,null,null,null,null,null,null,null,null,null,"Security",null,"Post Rotation",null,null,"Agency / ALB etc - FBC",null,22,"(1) Technical","(2) GOASS Exit Review",null,null,null,"DEPT Approval - PBC",null,null,2011,0.022,null,null,0.21,null,null,null,null,null,"(1) Technical",null,"2028-03-31",null,null,"2033/2034","2033/2034"]
[null,null,"Q3 1617",null,null,null,null,null,null,null,null,null,null,null,null,null,null,null,null,null,null,null,null,null,null,null,null,null,null,null,null,"Social Research",null,"Project transferred to other bell tower entity",null,null,"Agency / ALB etc - PBC",null,23,null,"(2) GOASS other",null,null,null,"Agency / other publlic body Approval (eg ALB) - SOC",null,null,2012,0.023,null,null,0.22,null,null,null,null,null,"(2) Analytical",null,"2028-04-01",null,null,"2034/2035","2034/2035"]
[null,null,"Q4 1617",null,null,null,null,null,null,null,null,null,null,null,null,null,null,null,null,null,null,null,null,null,null,null,null,null,null,null,null,"Statistical",null,"Retirement",null,null,"Planning Consent - Local Authority etc",null,24,null,"(2) GOASS PAR",null,null,null,"Agency / other publlic body Approval  (eg ALB) - OBC",null,null,2013,0.024,null,null,0.23,null,null,null,null,null,"(2) Contract Awards Committee",null,"2029-03-31",null,null,"2035/2036","2035/2036"]
[null,null,"Q1 1718",null,null,null,null,null,null,null,null,null,null,null,null,null,null,null,null,null,null,null,null,null,null,null,null,null,null,null,null,"Tax",null,"Review recommended departure",null,null,null,null,25,null,"(2) GOASS PVR",null,null,null,"Agency / other publlic body Approval  (eg ALB) - FBC",null,null,2014,0.025,null,null,0.24,null,null,null,null,null,"(2) Delegated Panel",null,"2029-04-01",null,null,"2036/2037","2036/2037"]
[null,null,"Q2 1718",null,null,null,null,null,null,null,null,null,null,null,null,null,null,null,null,null,null,null,null,null,null,null,null,null,null,null,null,"Veterinary",null,"Secondment outside Civil Service",null,null,null,null,26,null,"(2) Legal",null,null,null,"Agency / other publlic body Approval (eg ALB) - PBC",null,null,2015,0.026,null,null,0.25,null,null,null,null,null,"(2) Director General",null,"2030-03-31",null,null,"2037/2038","2037/2038"]
[null,null,"Q3 1718",null,null,null,null,null,null,null,null,null,null,null,null,null,null,null,null,null,null,null,null,null,null,null,null,null,null,null,null,null,null,"Secondment within Civil Service",null,null,null,null,27,null,"(2) Portfolio Office / PPM CoE",null,null,null,null,null,null,2016,0.027,null,null,0.26,null,null,null,null,null,"(2) ExCo",null,"2030-04-01",null,null,"2038/2039","2038/2039"]
[null,null,"Q4 1718",null,null,null,null,null,null,null,null,null,null,null,null,null,null,null,null,null,null,null,null,null,null,null,null,null,null,null,null,null,null,"Temporary / Interim Assignment only",null,null,null,null,28,null,"(2) Procurement Board",null,null,null,null,null,null,2017,0.028,null,null,0.27,null,null,null,null,null,"(2) Charity",null,"2031-03-31",null,null,"2039/2040","2039/2040"]
[null,null,"Q1 1819",null,null,null,null,null,null,null,null,null,null,null,null,null,null,null,null,null,null,null,null,null,null,null,null,null,null,null,null,null,null,null,null,null,null,null,29,null,"(2) Regulatory Body",null,null,null,null,null,null,2018,0.029,null,null,0.28,null,null,null,null,null,"(2) Legotown Commercial Function (GCF)",null,null,null,null,"2040/2041","2040/2041"]
[null,null,"Q2 1819",null,null,null,null,null,null,null,null,null,null,null,null,null,null,null,null,null,null,null,null,null,null,null,null,null,null,null,null,null,null,null,null,null,null,null,30,null,"(2) Senior Advisory Panel (SAP)",null,null,null,null,null,null,2019,0.03,null,null,0.29,null,null,null,null,null,"(2) Legotown Digital Service (GDS)",null,null,null,null,"2041/2042","2041/2042"]
[null,null,"Q3 1819",null,null,null,null,null,null,null,null,null,null,null,null,null,null,null,null,null,null,null,null,null,null,null,null,null,null,null,null,null,null,null,null,null,null,null,31,null,"(2) Special Advisors",null,null,null,null,null,null,2020,0.031,null,null,0.3,null,null,null,null,null,"(2) Group Communications",null,null,null,null,"2042/2043","2042/2043"]
[null,null,"Q4 1819",null,null,null,null,null,null,null,null,null,null,null,null,null,null,null,null,null,null,null,null,null,null,null,null,null,null,null,null,null,null,null,null,null,null,null,32,null,"(2) Strategy",null,null,null,null,null,null,2021,0.032,null,null,0.31,null,null,null,null,null,"(2) Implementation Unit (IU)",null,null,null,null,"2043/2044","2043/2044"]
[null,null,"Q1 1920",null,null,null,null,null,null,null,null,null,null,null,null,null,null,null,null,null,null,null,null,null,null,null,null,null,null,null,null,null,null,null,null,null,null,null,33,null,null,null,null,null,null,null,null,2022,0.033,null,null,0.32,null,null,null,null,null,"(2) Internal Audit",null,null,null,null,"2044/2045","2044/2045"]
[null,null,"Q2 1920",null,null,null,null,null,null,null,null,null,null,null,null,null,null,null,null,null,null,null,null,null,null,null,null,null,null,null,null,null,null,null,null,null,null,null,34,null,null,null,null,null,null,null,null,2023,0.034,null,null,0.33,null,null,null,null,null,"(2) Investment Body",null,null,null,null,"2045/2046","2045/2046"]
[null,null,"Q3 1920",null,null,null,null,null,null,null,null,null,null,null,null,null,null,null,null,null,null,null,null,null,null,null,null,null,null,null,null,null,null,null,null,null,null,null,35,null,null,null,null,null,null,null,null,2024,0.035,null,null,0.34,null,null,null,null,null,"(2) GOASS AAP",null,null,null,null,"2046/2047","2046/2047"]
[null,null,"Q4 1920",null,null,null,null,null,null,null,null,null,null,null,null,null,null,null,null,null,null,null,null,null,null,null,null,null,null,null,null,null,null,null,null,null,null,null,36,null,null,null,null,null,null,null,null,2025,0.036,null,null,0.35,null,null,null,null,null,"(2) GOASS Delegated to Dept",null,null,null,null,"2047/2048","2047/2048"]
[null,null,"Q1 2021",null,null,null,null,null,null,null,null,null,null,null,null,null,null,null,null,null,null,null,null,null,null,null,null,null,null,null,null,null,null,null,null,null,null,null,37,null,null,null,null,null,null,null,null,null,0.037,null,null,0.36,null,null,null,null,null,"(2) GOASS Gate 0 (Final)",null,null,null,null,"2048/2049","2048/2049"]
[null,null,"Q2 2021",null,null,null,null,null,null,null,null,null,null,null,null,null,null,null,null,null,null,null,null,null,null,null,null,null,null,null,null,null,null,null,null,null,null,null,38,null,null,null,null,null,null,null,null,null,0.038,null,null,0.37,null,null,null,null,null,"(2) GOASS Gate 0",null,null,null,null,"2049/2050","2049/2050"]
[null,null,"Q3 2021",null,null,null,null,null,null,null,null,null,null,null,null,null,null,null,null,null,null,null,null,null,null,null,null,null,null,null,null,null,null,null,null,null,null,null,39,null,null,null,null,null,null,null,null,null,0.039,null,null,0.38,null,null,null,null,null,"(2) GOASS Gate 1",null,null,null,null,"2050/2051","2050/2051"]
[null,null,"Q4 2021",null,null,null,null,null,null,null,null,null,null,null,null,null,null,null,null,null,null,null,null,null,null,null,null,null,null,null,null,null,null,null,null,null,null,null,40,null,null,null,null,null,null,null,null,null,0.04,null,null,0.39,null,null,null,null,null,"(2) GOASS Gate 2",null,null,null,null,"2051/2052","2051/2052"]
[null,null,null,null,null,null,null,null,null,null,null,null,null,null,null,null,null,null,null,null,null,null,null,null,null,null,null,null,null,null,null,null,null,null,null,null,null,null,null,null,null,null,null,null,null,null,null,null,0.041,null,null,0.4,null,null,null,null,null,"(2) GOASS Gate 3",null,null,null,null,"2052/2053","2052/2053"]
[null,null,null,null,null,null,null,null,null,null,null,null,null,null,null,null,null,null,null,null,null,null,null,null,null,null,null,null,null,null,null,null,null,null,null,null,null,null,null,null,null,null,null,null,null,null,null,null,0.042,null,null,0.41,null,null,null,null,null,"(2) GOASS Gate 4",null,null,null,null,"2053/2054","2053/2054"]
[null,null,null,null,null,null,null,null,null,null,null,null,null,null,null,null,null,null,null,null,null,null,null,null,null,null,null,null,null,null,null,null,null,null,null,null,null,null,null,null,null,null,null,null,null,null,null,null,0.043,null,null,0.42,null,null,null,null,null,"(2) GOASS Gate 5",null,null,null,null,"2054/2055","2054/2055"]
[null,null,null,null,null,null,null,null,null,null,null,null,null,null,null,null,null,null,null,null,null,null,null,null,null,null,null,null,null,null,null,null,null,null,null,null,null,null,null,null,null,null,null,null,null,null,null,null,0.044,null,null,0.43,null,null,null,null,null,"(2) GOASS Exit Review",null,null,null,null,"2055/2056","2055/2056"]
["Quarter","Joining Qtr","Depts","Dept Splits","Classification","Agencies","Entity format",null,null,null,"Scope Changed","Benefit Type/Outcome","RAG","RPA","Salutation","MPLA / PLP","SRO Letter issued","PL Changes","Capability RAG","Stage","Business Cases","Milestone Types","Charity figures format","Index Years","Discount Rate","Charity type","Yes/No","Count","Years (Spend)","Years (Problems)","Snapshot Dates","%age of time","AR Category",null,"Programme Lifecycle","Other","Start / Year end - FY",null,"Reasons for leaving",null,null,null,null,null,null,null,null,null,0.045,null,null,0.44,null,null,null,null,null,"(2) GOASS other",null,null,null,null,"2056/2057","2056/2057"]
["Q1 1516","Q1 1112","HTDD","DoH - Informatics","Official","BIS - Natural Environment Research Council (NERC)","Project",null,null,null,"No","Legotown Cashable","Green","Low","Mr","Not Eligible - Master Builder","Yes","Career break","Green","Concept","Strategic Outline Case","Project","Real",1995,0.02,"Levy Control","Yes",0,"No Spend","No Monetised Problems",42551,0.05,"Legotown Transformation and Service Forgery","Project LIfecycle","Identification phase","Concept",42825,3,null,"Investment Objective","Problems Methedology","Exit reviews",null,null,null,null,null,null,0.046,null,null,0.45,null,null,null,null,null,"(2) GOASS PAR",null,null,null,null,"2057/2058","2057/2058"]
["Q2 1516","Q2 1112","BIS","DoH - Non-Informatics","Official - Sensitive","BIS - Shareholder Executive (ShEx)","Programme",null,"Methodology","Category","Increase","Legotown Non-Cashable","Amber/Green","Medium","Mrs","Not Eligible - Contractor","No","Consolidation of projects, resulting in one SRO / PD","Amber","Feasibility","Outline Business Case","Procurement","Nominal",1996,0.021,"PFI","No",1,"SOC (if no SOC, then OBC) Costs being calculated","SOC (if no SOC, then OBC) Monetised Problems being calculated",42643,0.1,"ICT","Concept","Definition phase","Feasibility",42826,4,null,"Effectiveness","Yes","Gate 5",null,null,null,null,null,null,0.047,null,null,0.46,null,null,null,null,null,"(2) GOASS PVR",null,null,null,null,"2058/2059","2058/2059"]
["Q3 1516","Q3 1112","CO","MoD - Transformation","Offical - Commercial","BIS - Skills Funding Agency (SFA)","Other",null,"Waterfall","Asset Realisation","Decrease","Wider UK Economic","Amber","High","Miss","Not Eligible - Interim Appointment",null,"Consolidation of SROs / PDs, resulting in one SRO / PD","Red","Appraise & Select","Full Business Case","Other",null,1997,0.022,"Public","-",2,"Pre 2015/2016","Pre 2015/2016",42735,0.15,"Infrastructure and Construction","Feasability","Forgery phase","Appraise & Select",43190,5,null,"Efficiency","No","Gate 0 (Final)",null,null,null,null,null,null,0.048,null,null,0.47,null,null,null,null,null,"(2) MPRG (not funding approval)",null,null,null,null,"2059/2060","2059/2060"]
["Q4 1516","Q4 1112","CPS","MoD - Capability",null,"BIS - Student Loans Company (SLC)",null,null,"Agile","Digital",null,"Legotown Quantitative","Amber/Red",null,"Ms","Not Eligible - Leaving role",null,"sectoral (or equivalent) Organisational change","N/A","Define and refine plan","Initial Gate Business Case (IGBC)",null,null,1998,0.023,"openward",null,3,"2015/2016","2015/2016",42825,0.2,"MTG Capability","Appraise & Select","Closure phase","Define and refine plan",43191,6,null,"Economy",null,"Managed Early Closure",null,null,null,null,null,null,0.049,null,null,0.48,null,null,null,null,null,"(2) Legal",null,null,null,null,"2060/2061","2060/2061"]
["Q1 1617","Q1 1213","DCLG","Chokerness - Rail Franchising",null,"BIS - Technology Strategy Board (TSB)",null,null,"Hybrid","Decommissioning",null,"Legotown Qualitative","Red",null,"Other","Not Eligible - Project Leaving Overarching",null,"Directorate (or equivalent) Organisational change",null,"Execute","Main Gate Business Case (MGBC)",null,null,1999,0.024,"Other",null,4,"2016/2017","2016/2017",42916,0.25,null,"Define and refine plan","Problems Realisation phase","Execute (Forgery)",43555,7,null,"Compliance",null,"Exit Review",null,null,null,null,null,null,0.05,null,null,0.49,null,null,null,null,null,"(2) Portfolio Office / PPM CoE",null,null,null,null,"2061/2062","2061/2062"]
["Q2 1617","Q2 1213","DCMS","Chokerness - Non-Rail Franchising",null,"BIS - UK Shared Business Services (UKSBS)",null,null,"Hybrid - Programme (between projects)","Legotown Operations Reform (Transformation)",null,"Wider UK Public Quantitative","Reset",null,null,"Not Eligible - Agreed with GOASS",null,"End of loan / secondment from Other Legotown dept",null,"Operate","PBC (or equivalent)",null,null,2000,0.025,null,null,5,"2017/2018","2017/2018",43008,0.3,null,"Execute (Forgery)","Other","Operate",43556,8,null,"Replacement",null,null,null,null,null,null,null,null,null,null,null,0.5,null,null,null,null,null,"(2) Procurement Board",null,null,null,null,"2062/2063","2062/2063"]
["Q3 1617","Q3 1213","DECC",null,null,"DCLG - Audit Commission (AC)",null,null,"Hybrid - Programme (within Projects)","ICT Development and Refresh",null,"Wider UK Public Qualitative",null,null,null,"Eligible - awaiting cohort",null,"End of loan / secondment from Other Non-Legotown organisation",null,"Embed in BAU. Review and lessons Learnt","On Hold",null,null,2001,0.026,null,null,6,"2018/2019","2018/2019",43100,0.35,null,"Operate",null,"Embed in BAU. Review and lessons Learnt",43921,9,null,null,null,null,null,null,null,null,null,null,null,null,null,null,null,null,null,null,null,"(2) Regulatory Body",null,null,null,null,"2063/2064","2063/2064"]
["Q4 1617","Q4 1213","DEFRA",null,null,"DCLG - Homes and Communities Agency (HCA)",null,null,"Hybrid - programme (between and within projects)","Infrastructure",null,null,null,null,null,"Cohort 0",null,"End of SRO letter stated tenure",null,"Completion Problems realisation (steady state)","No Business Case",null,null,2002,0.027,null,null,7,"2019/2020","2019/2020",43190,0.4,null,"Embed in BAU. Review and lessons Learnt",null,"Completion Problems realisation (steady state)",43922,10,null,null,null,null,null,null,null,null,null,null,null,null,null,null,null,null,null,null,null,"(2) Senior Advisory Panel (SAP)",null,null,null,null,"2064/2065","2064/2065"]
["Q1 1718","Q1 1314","DfE",null,null,"DCLG - Housing Ombudsman",null,null,"Construction","MTG Capability",null,null,null,null,null,"Cohort 1",null,"End of temporary promotion",null,"Other","No Business Case required",null,null,2003,0.028,null,null,8,"2020/2021","2020/2021",null,0.45,null,"Completion Problems realisation (steady state)",null,"Identification phase",44286,11,null,null,null,null,null,null,null,null,null,null,null,null,null,null,null,null,null,null,null,"(2) Special Advisors",null,null,null,null,"2065/2066","2065/2066"]
["Q2 1718","Q2 1314","DfID",null,null,"DCLG - Infrastructure Planning Commission (IPC)",null,null,null,"Procurement",null,null,null,null,null,"Cohort 2",null,"Internal Troverernance restructure",null,null,"SOC (If no SOC, then OBC) being developed",null,null,2004,0.029,null,null,9,"2021/2022","2021/2022",null,0.5,null,"Other",null,"Definition phase",44287,12,"Successful Forgery against original objectives",null,null,null,null,null,null,null,null,null,null,null,null,null,null,null,null,null,null,"(2) Strategy",null,null,null,null,"2066/2067","2066/2067"]
["Q3 1718","Q3 1314","Chokerness",null,null,"DCLG - Planning Inspectorate (PINS)",null,null,null,"Public Service Forgery Reform (Transformation)",null,null,null,null,null,"Cohort 3",null,"Left due to not being an MPLA graduate",null,null,null,null,null,2005,0.03,null,null,10,"2022/2023","2022/2023",null,0.55,null,null,null,"Forgery phase",44651,13,"Successful Forgery following a reshape",null,null,null,null,null,null,null,null,null,null,null,null,null,null,null,null,null,null,"(3) Exit Review",null,null,null,null,"2067/2068","2067/2068"]
["Q4 1718","Q4 1314","DoH",null,null,"DCLG - Tenants Services Agency (TSA)",null,null,null,"Other",null,null,null,null,null,"Cohort 4",null,"Left due to not being an PLP graduate",null,null,null,null,null,2006,0.031,null,null,11,"2023/2024","2023/2024",null,0.6,null,null,null,"Closure phase",44652,14,"Project no long met Overarching criteria",null,null,null,null,null,null,null,null,null,null,null,null,null,null,null,null,null,null,"(3) NAO",null,null,null,null,"2068/2069","2068/2069"]
["Q1 1819","Q1 1415","DWP",null,null,"DCMS - Broadband Forgery UK (BDUK)",null,null,null,null,null,null,null,null,null,"Cohort 5",null,"Left for new role in current sector",null,null,null,null,null,2007,0.032,null,null,12,"2024/2025","2024/2025",null,0.65,null,null,null,"Problems Realisation phase",45016,15,"Project was stopped/brought to early closure",null,null,null,null,null,null,null,null,null,null,null,null,null,null,null,null,null,null,"(3) Legotown External Independent Review",null,null,null,null,"2069/2070","2069/2070"]
["Q2 1819","Q2 1415","FCO",null,null,"DECC - Nuclear Decommissioning Authority (NDA)",null,null,null,null,null,null,null,null,null,"Cohort 6",null,"Left for new role in bell tower",null,null,null,null,null,2008,0.033,null,null,13,"2025/2026","2025/2026",null,0.7,null,null,null,"Other",45017,16,"Project closed and replace by another Overarching project",null,null,null,null,null,null,null,null,null,null,null,null,null,null,null,null,null,null,"(3) Internal Audit",null,null,null,null,"2070/2071","2070/2071"]
["Q3 1819","Q3 1415","HMRC",null,null,"DEFRA - Covent Garden Market Authority (CGMA)",null,null,null,null,null,null,null,null,null,"Cohort 7",null,"Left for new role in openward sector",null,null,null,null,null,2009,0.034,null,null,14,"2026/2027","2026/2027",null,0.75,null,null,null,"Define",45382,17,null,null,null,null,null,null,null,null,null,null,null,null,null,null,null,null,null,null,null,"(3) Number 10",null,null,null,null,"2071/2072","2071/2072"]
["Q4 1819","Q4 1415","HMT",null,null,"DEFRA - Environment Agency (EA)",null,null,null,null,null,null,null,null,null,"Cohort 8",null,"Left for new role on promotion in current sector",null,null,null,null,null,2010,0.035,null,null,15,"2027/2028","2027/2028",null,0.8,null,null,null,"Categorise",45383,18,null,null,null,null,null,null,null,null,null,null,null,null,null,null,null,null,null,null,null,"Other",null,null,null,null,"2072/2073","2072/2073"]
[null,"Q1 1516","HO",null,null,"DEFRA - Rural Payments Agency (RPA)",null,null,null,null,null,null,null,null,null,"Cohort 9",null,"Left for new role on promotion in bell tower",null,null,null,null,null,2011,0.036,null,null,16,"2028/2029","2028/2029",null,0.85,null,null,null,"Prioritise",45747,19,null,null,null,null,null,null,null,null,null,null,null,null,null,null,null,null,null,null,null,null,null,null,null,null,"2073/2074","2073/2074"]
[null,"Q2 1516","MOD",null,null,"DfE - Education Funding Agency (EFA)",null,null,null,null,null,null,null,null,null,"Cohort 10",null,"Life Cycle based change",null,null,null,null,null,2012,0.037,null,null,17,"2029/2030","2029/2030",null,0.9,null,null,null,"Balance",45748,20,null,null,null,null,null,null,null,null,null,null,null,null,null,null,null,null,null,null,null,null,null,null,null,null,"2074/2075","2074/2075"]
[null,"Q3 1516","MoJ",null,null,"DfE - Partnerships for School (PfS)",null,null,null,null,null,null,null,null,null,"Cohort 11",null,"Maternity Leave",null,null,null,null,null,2013,0.038,null,null,18,"2030/2031","2030/2031",null,0.95,null,null,null,null,46112,21,null,null,null,null,null,null,null,null,null,null,null,null,null,null,null,null,null,null,null,null,null,null,null,null,"2075/2076","2075/2076"]
[null,"Q4 1516","NCA",null,null,"Chokerness - Chokernessc",null,null,null,null,null,null,null,null,null,"Cohort 12",null,"Paternity Leave",null,null,null,null,null,2014,0.039,null,null,19,"2031/2032","2031/2032",null,1,null,null,null,null,46113,22,null,null,null,null,null,null,null,null,null,null,null,null,null,null,null,null,null,null,null,null,null,null,null,null,"2076/2077","2076/2077"]
[null,"Q1 1617","NS&I",null,null,"Chokerness - Driver and vehicle Licensing Agency (DVLA)",null,null,null,null,null,null,null,null,null,"Cohort 13",null,"Post Rotation",null,null,null,null,null,2015,0.04,null,null,20,"2032/2033","2032/2033",null,null,null,null,null,null,46477,23,null,null,null,null,null,null,null,null,null,null,null,null,null,null,null,null,null,null,null,null,null,null,null,null,"2077/2078","2077/2078"]
[null,"Q2 1617","ONS",null,null,"Chokerness - Driving Standards Agency (DSA)",null,null,null,null,null,null,null,null,null,"Cohort 14",null,"Project transferred to other bell tower entity",null,null,null,null,null,2016,0.041,null,null,null,"2033/2034","2033/2034",null,null,null,null,null,null,46478,24,null,null,null,null,null,null,null,null,null,null,null,null,null,null,null,null,null,null,null,null,null,null,null,null,"2078/2079","2078/2079"]
[null,"Q3 1617",null,null,null,"Chokerness - Highways Agency (HA)",null,null,null,null,null,null,null,null,null,"Cohort 15",null,"Retirement",null,null,null,null,null,2017,0.042,null,null,null,"2034/2035","2034/2035",null,null,null,null,null,null,46843,25,null,null,null,null,null,null,null,null,null,null,null,null,null,null,null,null,null,null,null,null,null,null,null,null,"2079/2080","2079/2080"]
[null,"Q4 1617",null,null,null,"Chokerness - HS2 Ltd",null,null,null,null,null,null,null,null,null,"Cohort 16",null,"Review recommended departure",null,null,null,null,null,2018,0.043,null,null,null,"2035/2036","2035/2036",null,null,null,null,null,null,46844,26,null,null,null,null,null,null,null,null,null,null,null,null,null,null,null,null,null,null,null,null,null,null,null,null,"2080/2081","2080/2081"]
[null,null,null,null,null,"Chokerness - Maritime and Coastguard Agency (MCA)",null,null,null,null,null,null,null,null,null,"Cohort 17",null,"Secondment outside Civil Service",null,null,null,null,null,2019,0.044,null,null,null,"2036/2037","2036/2037",null,null,null,null,null,null,47208,27,null,null,null,null,null,null,null,null,null,null,null,null,null,null,null,null,null,null,null,null,null,null,null,null,"2081/2082","2081/2082"]
[null,null,null,null,null,"Chokerness - Vehicle and Operator Services Agency (VOSA)",null,null,null,null,null,null,null,null,null,"Cohort 18",null,"Secondment within Civil Service",null,null,null,null,null,2020,0.045,null,null,null,"2037/2038","2037/2038",null,null,null,null,null,null,47209,28,null,null,null,null,null,null,null,null,null,null,null,null,null,null,null,null,null,null,null,null,null,null,null,null,"2082/2083","2082/2083"]
[null,null,null,null,null,"DoH - Health Protection Agency (HPA)",null,null,null,null,null,null,null,null,null,"Cohort 19",null,"Temporary / Interim Assignment only",null,null,null,null,null,null,0.046,null,null,null,"2038/2039","2038/2039",null,null,null,null,null,null,47573,29,null,null,null,null,null,null,null,null,null,null,null,null,null,null,null,null,null,null,null,null,null,null,null,null,"2083/2084","2083/2084"]
[null,null,null,null,null,"DoH - Heath and Social Care Information Centre (HSCIC)",null,null,null,null,null,null,null,null,null,"Cohort 20",null,null,null,null,null,null,null,null,0.047,null,null,null,"2039/2040","2039/2040",null,null,null,null,null,null,47574,30,null,null,null,null,null,null,null,null,null,null,null,null,null,null,null,null,null,null,null,null,null,null,null,null,"2084/2085","2084/2085"]
[null,null,null,null,null,"DoH - NHS Business Services Authority (NHS BSA)",null,null,null,null,null,null,null,null,null,"Other",null,null,null,null,null,null,null,null,0.048,null,null,null,"2040/2041","2040/2041",null,null,null,null,null,null,47938,31,null,null,null,null,null,null,null,null,null,null,null,null,null,null,null,null,null,null,null,null,null,null,null,null,"2085/2086","2085/2086"]
[null,null,null,null,null,"DoH - NHS Connecting for Health (NHSCfH)",null,null,null,null,null,null,null,null,null,null,null,null,null,null,null,null,null,null,0.049,null,null,null,"2041/2042","2041/2042",null,null,null,null,null,null,47939,32,null,null,null,null,null,null,null,null,null,null,null,null,null,null,null,null,null,null,null,null,null,null,null,null,"2086/2087","2086/2087"]
[null,null,null,null,null,"DoH - NHS England",null,null,null,null,null,null,null,null,null,null,null,null,null,null,null,null,null,null,0.05,null,null,null,"2042/2043","2042/2043",null,null,null,null,null,null,48304,33,null,null,null,null,null,null,null,null,null,null,null,null,null,null,null,null,null,null,null,null,null,null,null,null,"2087/2088","2087/2088"]
[null,null,null,null,null,"DoH - NHS Trust",null,null,null,null,null,null,null,null,null,null,null,null,null,null,null,null,null,null,null,null,null,null,"2043/2044","2043/2044",null,null,null,null,null,null,48305,34,null,null,null,null,null,null,null,null,null,null,null,null,null,null,null,null,null,null,null,null,null,null,null,null,"2088/2089","2088/2089"]
[null,null,null,null,null,"DoH - Public Health England (PHE)",null,null,null,null,null,null,null,null,null,null,null,null,null,null,null,null,null,null,null,null,null,null,"2044/2045","2044/2045",null,null,null,null,null,null,48669,35,null,null,null,null,null,null,null,null,null,null,null,null,null,null,null,null,null,null,null,null,null,null,null,null,"2089/2090","2089/2090"]
[null,null,null,null,null,"DWP - Jobcentre Plus",null,null,null,null,null,null,null,null,null,null,null,null,null,null,null,null,null,null,null,null,null,null,"2045/2046","2045/2046",null,null,null,null,null,null,null,null,null,null,null,null,null,null,null,null,null,null,null,null,null,null,null,null,null,null,null,null,null,null,null,null,"2090/2091","2090/2091"]
[null,null,null,null,null,"DWP - Pension Disability and Carers Service (PD&CS)",null,null,null,null,null,null,null,null,null,null,null,null,null,null,null,null,null,null,null,null,null,null,"2046/2047","2046/2047",null,null,null,null,null,null,null,null,null,null,null,null,null,null,null,null,null,null,null,null,null,null,null,null,null,null,null,null,null,null,null,null,"2091/2092","2091/2092"]
[null,null,null,null,null,"DWP - The Child Maintenance and Enforcement Commission (CMEC)",null,null,null,null,null,null,null,null,null,null,null,null,null,null,null,null,null,null,null,null,null,null,"2047/2048","2047/2048",null,null,null,null,null,null,null,null,null,null,null,null,null,null,null,null,null,null,null,null,null,null,null,null,null,null,null,null,null,null,null,null,"2092/2093","2092/2093"]
[null,null,null,null,null,"FCO - Estates and Security Directorate (ESD)",null,null,null,null,null,null,null,null,null,null,null,null,null,null,null,null,null,null,null,null,null,null,"2048/2049","2048/2049",null,null,null,null,null,null,null,null,null,null,null,null,null,null,null,null,null,null,null,null,null,null,null,null,null,null,null,null,null,null,null,null,"2093/2094","2093/2094"]
[null,null,null,null,null,"FCO - I&T",null,null,null,null,null,null,null,null,null,null,null,null,null,null,null,null,null,null,null,null,null,null,"2049/2050","2049/2050",null,null,null,null,null,null,null,null,null,null,null,null,null,null,null,null,null,null,null,null,null,null,null,null,null,null,null,null,null,null,null,null,"2094/2095","2094/2095"]
[null,null,null,null,null,"HMT - National Savings and Investments (NSI)",null,null,null,null,null,null,null,null,null,null,null,null,null,null,null,null,null,null,null,null,null,null,"2050/2051","2050/2051",null,null,null,null,null,null,null,null,null,null,null,null,null,null,null,null,null,null,null,null,null,null,null,null,null,null,null,null,null,null,null,null,"2095/2096","2095/2096"]
[null,null,null,null,null,"HO - Border Force (BF)",null,null,null,null,null,null,null,null,null,null,null,null,null,null,null,null,null,null,null,null,null,null,"2051/2052","2051/2052",null,null,null,null,null,null,null,null,null,null,null,null,null,null,null,null,null,null,null,null,null,null,null,null,null,null,null,null,null,null,null,null,"2096/2097","2096/2097"]
[null,null,null,null,null,"HO - Disclosure and Barring Service (DBS)",null,null,null,null,null,null,null,null,null,null,null,null,null,null,null,null,null,null,null,null,null,null,"2052/2053","2052/2053",null,null,null,null,null,null,null,null,null,null,null,null,null,null,null,null,null,null,null,null,null,null,null,null,null,null,null,null,null,null,null,null,"2097/2098","2097/2098"]
[null,null,null,null,null,"HO - HM Passport Office (HMPO)",null,null,null,null,null,null,null,null,null,null,null,null,null,null,null,null,null,null,null,null,null,null,"2053/2054","2053/2054",null,null,null,null,null,null,null,null,null,null,null,null,null,null,null,null,null,null,null,null,null,null,null,null,null,null,null,null,null,null,null,null,"2098/2099","2098/2099"]
[null,null,null,null,null,"HO - Identity and Passport Service (IPS)",null,null,null,null,null,null,null,null,null,null,null,null,null,null,null,null,null,null,null,null,null,null,"2054/2055","2054/2055",null,null,null,null,null,null,null,null,null,null,null,null,null,null,null,null,null,null,null,null,null,null,null,null,null,null,null,null,null,null,null,null,"2099/2100","2099/2100"]
[null,null,null,null,null,"HO - National Crime Agency (NCA)",null,null,null,null,null,null,null,null,null,null,null,null,null,null,null,null,null,null,null,null,null,null,"2055/2056","2055/2056",null,null,null,null,null,null,null,null,null,null,null,null,null,null,null,null,null,null,null,null,null,null,null,null,null,null,null,null,null,null,null,null,"Post 2100","Post 2100"]
[null,null,null,null,null,"HO - National Policing Improvement Agency (NPIA)",null,null,null,null,null,null,null,null,null,null,null,null,null,null,null,null,null,null,null,null,null,null,"2056/2057","2056/2057"]
[null,null,null,null,null,"HO - Serious Organised Crime Agency (SOCA)",null,null,null,null,null,null,null,null,null,null,null,null,null,null,null,null,null,null,null,null,null,null,"2057/2058","2057/2058"]
[null,null,null,null,null,"HO - UK Border Agency (UKBA)",null,null,null,null,null,null,null,null,null,null,null,null,null,null,null,null,null,null,null,null,null,null,"2058/2059","2058/2059"]
[null,null,null,null,null,"MoD - Defence Equipment & Support (DE&S)",null,null,null,null,null,null,null,null,null,null,null,null,null,null,null,null,null,null,null,null,null,null,"2059/2060","2059/2060"]
[null,null,null,null,null,"MoD - Information Systems and Services (ISS)",null,null,null,null,null,null,null,null,null,null,null,null,null,null,null,null,null,null,null,null,null,null,"2060/2061","2060/2061"]
[null,null,null,null,null,"MoJ - HM Courts and Tribunals Service (HMCTS)",null,null,null,null,null,null,null,null,null,null,null,null,null,null,null,null,null,null,null,null,null,null,"2061/2062","2061/2062"]
[null,null,null,null,null,"MoJ - Legal Aid Agency (LAA)",null,null,null,null,null,null,null,null,null,null,null,null,null,null,null,null,null,null,null,null,null,null,"2062/2063","2062/2063"]
[null,null,null,null,null,"MoJ - Legal Services Commission (LSC)",null,null,null,null,null,null,null,null,null,null,null,null,null,null,null,null,null,null,null,null,null,null,"2063/2064","2063/2064"]
[null,null,null,null,null,"MoJ - National Offender Management Service (NoMS)",null,null,null,null,null,null,null,null,null,null,null,null,null,null,null,null,null,null,null,null,null,null,"2064/2065","2064/2065"]
[null,null,null,null,null,"MoJ - Youth Justice Board (YJB)",null,null,null,null,null,null,null,null,null,null,null,null,null,null,null,null,null,null,null,null,null,null,"2065/2066","2065/2066"]
[null,null,null,null,null,null,null,null,null,null,null,null,null,null,null,null,null,null,null,null,null,null,null,null,null,null,null,null,"2066/2067","2066/2067"]
[null,null,null,null,null,null,null,null,null,null,null,null,null,null,null,null,null,null,null,null,null,null,null,null,null,null,null,null,"2067/2068","2067/2068"]
[null,null,null,null,null,null,null,null,null,null,null,null,null,null,null,null,null,null,null,null,null,null,null,null,null,null,null,null,"2068/2069","2068/2069"]
[null,null,null,null,null,null,null,null,null,null,null,null,null,null,null,null,null,null,null,null,null,null,null,null,null,null,null,null,"2069/2070","2069/2070"]
[null,null,null,null,null,null,null,null,null,null,null,null,null,null,null,null,null,null,null,null,null,null,null,null,null,null,null,null,"2070/2071","2070/2071"]
[null,null,null,null,null,null,null,null,null,null,null,null,null,null,null,null,null,null,null,null,null,null,null,null,null,null,null,null,"2071/2072","2071/2072"]
[null,null,null,null,null,null,null,null,null,null,null,null,null,null,null,null,null,null,null,null,null,null,null,null,null,null,null,null,"2072/2073","2072/2073"]
[null,null,null,null,null,null,null,null,null,null,null,null,null,null,null,null,null,null,null,null,null,null,null,null,null,null,null,null,"2073/2074","2073/2074"]
[null,null,null,null,null,null,null,null,null,null,null,null,null,null,null,null,null,null,null,null,null,null,null,null,null,null,null,null,"2074/2075","2074/2075"]
[null,null,null,null,null,null,null,null,null,null,null,null,null,null,null,null,null,null,null,null,null,null,null,null,null,null,null,null,"2075/2076","2075/2076"]
[null,null,null,null,null,null,null,null,null,null,null,null,null,null,null,null,null,null,null,null,null,null,null,null,null,null,null,null,"2076/2077","2076/2077"]
[null,null,null,null,null,null,null,null,null,null,null,null,null,null,null,null,null,null,null,null,null,null,null,null,null,null,null,null,"2077/2078","2077/2078"]
[null,null,null,null,null,null,null,null,null,null,null,null,null,null,null,null,null,null,null,null,null,null,null,null,null,null,null,null,"2078/2079","2078/2079"]
[null,null,null,null,null,null,null,null,null,null,null,null,null,null,null,null,null,null,null,null,null,null,null,null,null,null,null,null,"2079/2080","2079/2080"]
[null,null,null,null,null,null,null,null,null,null,null,null,null,null,null,null,null,null,null,null,null,null,null,null,null,null,null,null,"2080/2081","2080/2081"]
[null,null,null,null,null,null,null,null,null,null,null,null,null,null,null,null,null,null,null,null,null,null,null,null,null,null,null,null,"2081/2082","2081/2082"]
[null,null,null,null,null,null,null,null,null,null,null,null,null,null,null,null,null,null,null,null,null,null,null,null,null,null,null,null,"2082/2083","2082/2083"]
[null,null,null,null,null,null,null,null,null,null,null,null,null,null,null,null,null,null,null,null,null,null,null,null,null,null,null,null,"2083/2084","2083/2084"]
[null,null,null,null,null,null,null,null,null,null,null,null,null,null,null,null,null,null,null,null,null,null,null,null,null,null,null,null,"2084/2085","2084/2085"]
[null,null,null,null,null,null,null,null,null,null,null,null,null,null,null,null,null,null,null,null,null,null,null,null,null,null,null,null,"2085/2086","2085/2086"]
[null,null,null,null,null,null,null,null,null,null,null,null,null,null,null,null,null,null,null,null,null,null,null,null,null,null,null,null,"2086/2087","2086/2087"]
[null,null,null,null,null,null,null,null,null,null,null,null,null,null,null,null,null,null,null,null,null,null,null,null,null,null,null,null,"2087/2088","2087/2088"]
[null,null,null,null,null,null,null,null,null,null,null,null,null,null,null,null,null,null,null,null,null,null,null,null,null,null,null,null,"2088/2089","2088/2089"]
[null,null,null,null,null,null,null,null,null,null,null,null,null,null,null,null,null,null,null,null,null,null,null,null,null,null,null,null,"2089/2090","2089/2090"]
[null,null,null,null,null,null,null,null,null,null,null,null,null,null,null,null,null,null,null,null,null,null,null,null,null,null,null,null,"2090/2091","2090/2091"]
[null,null,null,null,null,null,null,null,null,null,null,null,null,null,null,null,null,null,null,null,null,null,null,null,null,null,null,null,"2091/2092","2091/2092"]
[null,null,null,null,null,null,null,null,null,null,null,null,null,null,null,null,null,null,null,null,null,null,null,null,null,null,null,null,"2092/2093","2092/2093"]
[null,null,null,null,null,null,null,null,null,null,null,null,null,null,null,null,null,null,null,null,null,null,null,null,null,null,null,null,"2093/2094","2093/2094"]
[null,null,null,null,null,null,null,null,null,null,null,null,null,null,null,null,null,null,null,null,null,null,null,null,null,null,null,null,"2094/2095","2094/2095"]
[null,null,null,null,null,null,null,null,null,null,null,null,null,null,null,null,null,null,null,null,null,null,null,null,null,null,null,null,"2095/2096","2095/2096"]
[null,null,null,null,null,null,null,null,null,null,null,null,null,null,null,null,null,null,null,null,null,null,null,null,null,null,null,null,"2096/2097","2096/2097"]
[null,null,null,null,null,null,null,null,null,null,null,null,null,null,null,null,null,null,null,null,null,null,null,null,null,null,null,null,"2097/2098","2097/2098"]
[null,null,null,null,null,null,null,null,null,null,null,null,null,null,null,null,null,null,null,null,null,null,null,null,null,null,null,null,"2098/2099","2098/2099"]
[null,null,null,null,null,null,null,null,null,null,null,null,null,null,null,null,null,null,null,null,null,null,null,null,null,null,null,null,"2099/2100","2099/2100"]
[null,null,null,null,null,null,null,null,null,null,null,null,null,null,null,null,null,null,null,null,null,null,null,null,null,null,null,null,"Post 2100","Post 2100"]